{"text_format":"1","workbook":"xlsx","n_sheets":19,"sheets":["Application info","Physical Data","Physical Stats","PSA charts","Exempt Samples","Trace metal data","Metals Calcs","Organotins data","Organotin calcs","PAH data","PAH calcs","PCB data","PCB calcs","Organochlorine data","Organochlorine calcs","BDE data","BDE calcs","PR details","Import"],"not_rendered":{"charts":36,"images":0,"macros":1,"external_links":0,"defined_names":1,"comments":0,"pivot_tables":0},"unopened":[],"bounds":{"document_bytes":16777216,"sheet_cells":100000,"rows_first":2000,"rows_last":500,"rows_between":2000,"halvings":0,"cell_chars":16384,"cell_head_chars":4096},"cells_cut":0,"cells_raw":0,"read":"whole","date_system":"1900"}

{"sheet":"Application info","index":0,"n_rows":100,"n_cols":17,"rows_kept":100,"cut":false,"hidden":false,"merged":[[35,2,37,3],[4,1,4,8],[5,16,6,16],[5,10,6,10],[5,12,5,13],[25,5,30,6],[24,5,24,6],[5,15,6,15],[5,14,6,14],[15,2,15,3],[16,2,16,3],[17,2,17,3],[19,2,19,3],[18,2,18,3],[5,11,6,11]]}
[]
[null,"Applicant Information"]
[]
[null,"Instructions:",null,null,null,null,null,null,null,"Sample numbers and locations"]
[null,"1. All applicants and laboratories should refer to the most recent guidance on sediment analysis in support of marine licence applications"]
[null,null,"Sediment analysis guidance",null,null,null,null,null,null,null,"Sample ID","Excluded sample (MMO use)","Sample location (decimal degrees, WGS84)",null,"Location name (as per sampling plan)","Sampling depth (m)","Dredge area"]
[null,"2. Full information must be provided under each relevant sheet of the workbook. Grey highlighted cells indicate where information can be entered.",null,null,null,null,null,null,null,null,null,null,"Position latitude","Position longitude"]
[null,"3. Where information cannot be provided, the applicant should consult with the MMO prior to submission.",null,null,null,null,null,null,null,null,1,null,447989.69,521067.69]
[null,"4. Worksheets are protected to prevent accidental amendments to calculated values.  If amendments are required please consult with the MMO.",null,null,null,null,null,null,null,null,2,null,448036.92,521464.24]
[null,"5. Sample IDs used through the data output worksheets should correspond to Sample IDs provided on this worksheet.",null,null,null,null,null,null,null,null,3,null,448355.59,522031.58]
[null,"6 Where more than 6 dredge areas or 30 samples are required, please contact MMO.",null,null,null,null,null,null,null,null,4,null,449008.89,521899.85]
[null,"7. Macros must be enabled to use this workbook",null,null,null,null,null,null,null,null,5,null,449537.63,521471.02]
[null,null,null,null,null,null,null,null,null,null,6,null,450316.52,521211.43]
[null,"Marine licence applicant information:",null,null,null,null,null,null,null,null,7,null,450867.66,520857.37]
[null,null,null,null,null,null,null,null,null,null,8,null,451613.64,520969.67]
[null,null,"Applicant:",null,"PD Ports",null,null,null,null,null,9,null,452656.67,521937.69]
[null,null,"Application number:",null,null,null,null,null,null,null,10,null,453369.58,522755.71]
[null,null,"Application title:",null,"Mid licence sampling - year 9",null,null,null,null,null,11,null,453549.82,522946.45]
[null,null,"Date sampled:",null,null,null,null,null,null,null,12,null,453536.02,523138.98]
[null,null,"Sampling location:",null,null,null,null,null,null,null,13,null,453871.64,523201.16]
[null,null,null,null,null,null,null,null,null,null,15,null,454396.91,523900.38]
[null,null,null,null,null,null,null,null,null,null,17,null,454717.22,524583.93999999994]
[null,"Dredge area tonnages:",null,null,null,null,null,null,null,null,18,null,454597.05,524901.31999999995]
[null,null,null,null,null,null,null,null,null,null,19,null,454670.14,525204.81999999995]
[null,null,"Dredge Area","Dredging tonnages","% total dredged material","Total dredged material",null,null,null,null,20,null,453981.46,525672.42000000004]
[null,null,"Area i",null,{"$f":"IF(D26=\"\",\"\",(D26/$F$26))","v":""},{"$f":"SUM(D26:D31)","v":0},null,null,null,null,21,null,454718.5,526036.57999999996]
[null,null,"Area ii",null,"",null,null,null,null,null,22,null,453203.84,526573.12]
[null,null,"Area iii",null,"",null,null,null,null,null,23,null,453837.7,526498.41]
[null,null,"Area iv",null,"",null,null,null,null,null,24,null,454554.39,526555.54]
[null,null,"Area v",null,"",null,null,null,null,null,25,null,455105.7,527781.65]
[null,null,"Area vi",null,""]
[]
[]
[]
[]
[null,null,"MMO use only"]
[]
[]
[]
[]
[]
[]
[]
[]
[]
[]
[]
[]
[]
[]
[]
[]
[]
[]
[]
[]
[]
[]
[]
[]
[]
[]
[]
[]
[]
[]
[]
[]
[]
[]
[]
[]
[]
[]
[]
[]
[]
[]
[]
[]
[]
[]
[]
[]
[]
[]
[]
[]
[]
[]
[]
[]
[]
[]
[]
[]
[]
[]
[null,null,null,null,null,null,null,null,null,null,null,null,null,null,null,null,"Do not delete"]
[null,null,null,null,null,null,null,null,null,null,null,null,null,null,null,null,"y"]

{"sheet":"Physical Data","index":1,"n_rows":200,"n_cols":56,"rows_kept":200,"cut":false,"hidden":false,"merged":[[42,7,43,10],[39,7,41,10],[5,14,5,55],[5,13,7,13],[5,9,7,9],[5,7,7,7],[5,8,7,8],[5,10,7,10],[5,12,7,12],[5,11,7,11]]}
[]
[null,"Physical characteristics data"]
[]
[null,"Instructions:",null,null,null,null,null,"Physical characteristics analysis outputs:"]
[null,"1. Record the laboratory/contractor responsible for analysis"]
[null,"2. Record the date the samples were analysed.",null,null,null,null,null,"Laboratory sample number","Dredge Area","Sample ID(s)","Visual appearance*","Exempt from chemical analysis▫","Total Solids (% total sediments)","Organic matter (total organic carbon)","Particle size distribution (% at 0.5 phi intervals)"]
[null,"3. Enter full dataset for each sample in the analysis results table",null,null,null,null,null,null,null,null,null,null,null,null,-5.5,-5,-4.5,-4,-3.5,-3,-2.5,-2,-1.5,-1,-0.5,0,0.5,1,1.5,2,2.5,3,3.5,4,4.5,5,5.5,6,6.5,7,7.5,8,8.5,9,9.5,10,10.5,11,11.5,12,12.5,13,13.5,14,14.5,">14.5"]
[null,"4. Where copying and pasting entries please use paste values only",null,null,null,null,null,null,null,null,null,null,null,null,"45mm","31.5mm","22.4mm","16mm","11.2mm","8mm","5.6mm","4mm","2.8mm","2mm","1.4mm","1mm","707µm","500µm","353.6µm","250µm","176.8µm","125µm","88.39µm","63µm","44.2µm","31.3µm","22.1µm","15.6µm","11µm","7.8µm","5.5µm","3.9µm","2.75µm","1.95µm","1.38µm","0.98µm","0.69µm","0.49µm","0.34µm","0.24µm","0.17µm","0.12µm","0.09µm","0.06µm","0.04µm","<0.04µm"]
[null,"5. Where entering multiple Sample IDs please use the pop-up form",null,null,null,null,null,"MAR02481.001",null,1,"Black Mud with an Anoxic Odour.",null,null,null,0,0,0,0,0,0,0,0,0,0,0,0,0,0,0,0.1676,3.0240999999999998,6.9779333399999999,8.9878333300000008,10.12846667,11.087366660000001,11.518533339999999,10.64116666,9.8249333399999994,8.2378666599999999,6.0851666699999996,4.3562066699999997,2.8487133299999998,1.7712399999999999,1.07895667,0.71486665999999999,0.54298000000000002,0.45941334,0.40604332999999998,0.35290232999999999,0.28928934000000001,0.21324333000000001,0.15207366999999999,9.2055899999999996E-2,3.661437E-2,4.4332900000000003E-3,0]
[null,null,"IDs should be separated by a comma",null,null,null,null,"MAR02481.002",null,2,"Black Mud with an Anoxic Odour.",null,null,null,0,0,0,0,0,0,0,0,0,0,0,0,0,0,0,7.7600000000000002E-2,2.0664333400000001,4.7758333300000002,6.1278666700000004,7.1153666600000003,8.1823666700000004,9.2080000000000002,9.2726000000000006,10.258266669999999,10.14316666,8.6099666700000004,6.9942000000000002,5.1111000000000004,3.42412333,2.1392500000000001,1.3947000000000001,1.0302800000000001,0.87906333999999997,0.81655,0.74999333000000001,0.62811066999999998,0.44874799999999998,0.30343300000000001,0.17257943000000001,6.3223429999999997E-2,7.17689E-3,0]
[null,null,null,null,null,null,null,"MAR02481.003",null,3,"Black Mud with an Anoxic Odour.",null,null,null,0,0,0,0,0,0,0,0,0,0,0,0,0,0,0,7.8E-2,2.5728,6.0441666700000001,6.4387333299999998,7.2300666700000003,8.1606666699999995,8.6353333299999999,8.3325333300000004,8.8058999999999994,8.6664333399999993,7.3912666600000003,6.37993334,5.1795,3.9779,2.8983666600000002,2.10588,1.5580233400000001,1.27285333,1.18279,1.11058667,0.90677733000000005,0.57572667,0.31700366000000002,0.13687763999999999,3.791191E-2,3.9686399999999998E-3,0]
[null,null,null,null,null,null,null,"MAR02481.004",null,4,"Black Mud with an Anoxic Odour.",null,null,null,0,0,0,0,0,0,0,0,0,0,0,0,0,0,0,3.2433339999999998E-2,1.6743333300000001,3.8606333300000002,4.4100999999999999,5.1260666700000002,6.58116667,8.1188000000000002,8.7256333300000009,10.654566669999999,11.2653,9.9837000000000007,8.3675333300000005,6.2574666700000003,4.2537000000000003,2.6769133300000001,1.7502333299999999,1.2900400000000001,1.08624334,0.98856666000000004,0.89399667000000005,0.74975999999999998,0.54891433000000001,0.38204934000000002,0.22467846,8.6811230000000003E-2,1.0357399999999999E-2,0]
[null,"Analysis information:",null,null,null,null,null,"MAR02481.005",null,5,"Black Mud with an Anoxic Odour.",null,null,null,0,0,0,0,0,0,0,0,0,0,0,0,0,0,0,2.4799999999999999E-2,1.5760000000000001,5.0426333400000001,4.9872333299999996,5.9394,6.1773333299999997,7.8783666700000001,8.4799666699999996,9.8348333300000004,10.66946667,9.6416333299999994,8.1811666699999996,6.1901999999999999,4.2766999999999999,2.75549,1.8410899999999999,1.3625866600000001,1.1387,1.0327900000000001,0.93432000000000004,0.77928666999999996,0.56129867,0.38172732999999998,0.21942229999999999,8.3570950000000005E-2,9.9816599999999998E-3,0]
[null,null,null,null,null,null,null,"MAR02481.006",null,6,"Black Mud with an Anoxic Odour.",null,null,null,0,0,0,0,0,0,0,0,0,0,0,0,0,0,0,9.573334E-2,2.9305666600000002,5.4682000000000004,4.5466666699999996,5.52173333,5.9134000000000002,7.1675666700000003,7.3802666700000001,8.7346000000000004,9.1365666599999997,8.1283333399999993,7.2941333300000002,6.0764333300000004,4.7372666700000003,3.5655999999999999,2.7569666700000002,2.18354333,1.87148333,1.7792866700000001,1.68498667,1.38212666,0.87775833999999997,0.48737533,0.21365423,5.9637849999999999E-2,6.1128900000000002E-3,0]
[null,null,"Laboratory/contractor:","Ocean Ecology Ltd",null,null,null,"MAR02481.007",null,7,"Black Mud with an Anoxic Odour.",null,null,null,0,0,0,0,0,0,0,0,0,0,0,0,0,0,0,0,3.3366670000000001E-2,1.6580333300000001,3.7448000000000001,4.2320000000000002,4.9473000000000003,7.1453666699999996,8.0556666700000008,10.43953333,12.05973333,11.345733340000001,9.8677666599999991,7.5787333400000003,5.2657999999999996,3.37863333,2.2343266700000002,1.6455900000000001,1.38724333,1.27780333,1.17039,0.98008667000000005,0.701044,0.47187433000000001,0.26766533999999997,9.9814459999999994E-2,1.1692289999999999E-2,0]
[null,null,"Date of analysis:","2024-10-25",null,null,null,"MAR02481.008",null,8,"Black Mud with an Anoxic Odour.",null,null,null,0,0,0,0,0,0,0,0,0,0,0,0,0,0,1.7333400000000001E-3,1.1724000000000001,5.5940000000000003,4.8884999999999996,4.5088333299999999,4.7872666700000002,5.3619000000000003,6.6721333300000003,7.0578333300000002,8.75533334,9.4742666599999996,8.5541,7.5569333399999996,6.0930333299999999,4.5599666699999997,3.3008333300000001,2.5143,2.00298,1.68266333,1.5082500000000001,1.35054334,1.0940799999999999,0.732491,0.45362799999999998,0.23411825999999999,7.9087610000000003E-2,8.7895899999999999E-3,0]
[null,null,null,null,null,null,null,"MAR02481.009",null,9,"Black Mud with an Anoxic Odour.",null,null,null,0,0,0,0,0,0,0,0,0,0,0,0,0,0,0,0,0,8.8433339999999999E-2,1.76716666,3.7852999999999999,5.6314000000000002,6.7264666699999998,7.2495333300000002,9.5109666700000002,10.519666669999999,9.5161333300000006,8.4251000000000005,6.8583333299999998,5.3067333400000001,4.2321999999999997,3.7409333299999998,3.4040333299999999,3.0473233400000002,2.7251133300000001,2.3847733299999998,1.94850334,1.39334,0.95548133000000002,0.55322632999999999,0.20621790000000001,2.3614820000000002E-2,0]
[null,null,null,null,null,null,null,"MAR02481.010",null,10,"Black Mud with Organic Matter and Shell Fragments and an Anoxic Odour.",null,null,null,0,0,0,0,0,0,4.6001E-2,0.386411,0.80732300000000001,0.391011,0.170205,0.14490400000000001,0,0,0,0,0,0,0.140871,3.5685500000000001,7.2422789999999999,7.3461509999999999,7.7032319999999999,9.7552760000000003,10.442373999999999,9.3775060000000003,8.2833860000000001,6.7157280000000004,5.1489209999999996,4.0255470000000004,3.477948,3.1168469999999999,2.7548379999999999,2.4242710000000001,2.087367,1.69048,1.2132860000000001,0.83830499999999997,0.49106100000000003,0.18779799999999999,2.2117000000000001E-2,0]
[null,null,null,null,null,null,null,"MAR02481.011",null,11,"Black Mud with an Anoxic Odour.",null,null,null,0,0,0,0,0,0,0,0,0,0,0,0,0,0,0,0,0,3.8899999999999997E-2,2.8124666700000001,6.5242666700000003,7.37613333,8.2647999999999993,8.4453999999999994,9.7842666699999992,9.8577999999999992,8.6765666600000007,7.7244000000000002,6.4239666700000004,5.0401333299999997,3.8290000000000002,3.03276667,2.50393,2.1483966699999999,1.92188666,1.7155233400000001,1.43835,1.0611633300000001,0.74533167,0.442054,0.17192532999999999,2.0567220000000001E-2,0]
[null,null,"Dredge Areas",null,null,null,null,"MAR02481.012",null,12,"Black Mud with an Anoxic Odour.",null,null,null,0,0,0,0,0,0,0,0,0,0,0,0,0,0,0,0,0.19853334,2.6532,3.40913333,4.4970666699999997,6.0753000000000004,7.64176666,8.0198,9.5498333399999993,9.7114666599999993,8.4616333400000006,7.6194666599999996,6.4272333399999999,5.0698999999999996,3.9168666600000002,3.202,2.7018666699999998,2.3642366699999999,2.1863866600000001,2.0142500000000001,1.69145334,1.19296,0.78819766000000002,0.43582067000000002,0.15447067,1.715303E-2,0]
[null,null,{"$f":"'Application info'!$C$26","v":"Area i"},null,null,null,null,"MAR02481.013",null,13,"Black Mud with an Anoxic Odour.",null,null,null,0,0,0,0,0,0,0,0,0,0,0,0,0,0,0,0,6.9900000000000004E-2,3.2714333400000002,5.0750666600000001,5.2807000000000004,5.99653334,7.4962666599999999,8.0121666699999992,9.7459333299999997,10.5159,9.7101000000000006,8.5975000000000001,6.8095666699999997,4.9069333300000002,3.3136000000000001,2.3559933399999999,1.85295666,1.58342,1.4120866700000001,1.24285,1.0257000000000001,0.75003567000000004,0.52621865999999995,0.31269999999999998,0.12185989999999999,1.457546E-2,0]
[null,null,{"$f":"'Application info'!$C$27","v":"Area ii"},null,null,null,null,"MAR02481.014",null,15,"Black Mud with Organic Matter and Shell Fragments and an Anoxic Odour.",null,null,null,0,0,0,0,0,0,0,0,0,0,0,0,0,0,3.1333400000000001E-3,1.79583333,7.9363000000000001,6.4545333300000003,4.8798000000000004,5.4371333399999999,5.8387000000000002,6.9034333300000004,6.7140000000000004,7.6218333300000003,8.0167999999999999,7.2450666699999999,6.4556333300000004,5.2874333399999998,3.99736666,2.7242999999999999,1.7398333399999999,1.3280533299999999,1.7066699999999999,2.4599600000000001,2.71927333,1.932088,0.70824704000000005,9.4348009999999996E-2,2.2694999999999999E-4,0,0,0]
[null,null,{"$f":"'Application info'!$C$28","v":"Area iii"},null,null,null,null,"MAR02481.015",null,17,"Black Mud with an Anoxic Odour.",null,null,null,0,0,0,0,0,0.47965799999999997,3.4883999999999998E-2,0.31395800000000001,0.237649,0.25945099999999999,0.31831900000000002,0.26817299999999999,0,0,3.1999999999999999E-5,0.18198500000000001,2.366927,4.6910220000000002,6.2253780000000001,7.1104909999999997,7.954243,8.9544779999999999,8.2889839999999992,8.5031750000000006,8.4459569999999999,7.5404419999999996,6.6205410000000002,5.2883110000000002,3.8912450000000001,2.6938010000000001,1.9480390000000001,1.5406770000000001,1.312975,1.1638820000000001,1.0215529999999999,0.84989199999999998,0.63482499999999997,0.45754400000000001,0.27847899999999998,0.109918,1.3106E-2,0]
[null,null,{"$f":"'Application info'!$C$29","v":"Area iv"},null,null,null,null,"MAR02481.016",null,18,"Black Mud with Organic Matter and Shell Fragments and an Anoxic Odour.",null,null,null,0,0,0,0,0,0,0,2.3036000000000001E-2,0.14685100000000001,0.210199,0.13533400000000001,0.109419,0,0,0,0.195968,3.0010309999999998,5.1937430000000004,6.065296,7.6934930000000001,8.2747039999999998,9.4006249999999998,8.9181919999999995,9.0802390000000006,9.0233310000000007,7.8805829999999997,6.6171930000000003,5.0057919999999996,3.470323,2.2490790000000001,1.5359590000000001,1.1866460000000001,1.014643,0.90418799999999999,0.79437199999999997,0.66380899999999998,0.50349100000000002,0.36938900000000002,0.229016,9.2753000000000002E-2,1.1299E-2,0]
[null,null,{"$f":"'Application info'!$C$30","v":"Area v"},null,null,null,null,"MAR02481.017",null,19,"Black Mud with an Anoxic Odour.",null,null,null,0,0,0,0,0,0,0,0,0,0,0,0,1.6667E-4,0.2021,0.77259999999999995,0.95216666999999999,4.1844000000000001,7.7146333299999998,8.8366000000000007,8.2165333300000007,7.7666666700000002,8.1621666699999995,7.0591999999999997,7.1105,6.6539333300000001,5.7190000000000003,5.2377000000000002,4.5110000000000001,3.5852666700000002,2.7108666600000002,2.13586667,1.7572566700000001,1.5089600000000001,1.3606633299999999,1.2230566700000001,1.0162599999999999,0.72409133000000003,0.48836267,0.27704699999999999,0.1014028,1.152981E-2,0]
[null,null,{"$f":"'Application info'!$C$31","v":"Area vi"},null,null,null,null,"MAR02481.018",null,20,"Black Mud with an Anoxic Odour.",null,null,null,0,0,0,0,0,0,0,0,0,0,0,0,0,0,0,4.4299999999999999E-2,1.5613999999999999,4.7157999999999998,6.6769999999999996,7.6254999999999997,9.04076667,9.5361666700000001,8.6252999999999993,8.4537666599999994,7.6611000000000002,6.5201333400000001,5.9201333299999996,5.0857666699999999,4.06176666,3.0591666700000002,2.3567300000000002,1.8921333300000001,1.6047,1.44155667,1.29596333,1.08125334,0.77812099999999995,0.53048766000000003,0.30451699999999998,0.11338034,1.308727E-2,0]
[null,null,null,null,null,null,null,"MAR02481.019",null,21,"Black Mud with Shell Fragments and an Anoxic Odour.",null,null,null,0,0,0,0,0.21959699999999999,8.3294999999999994E-2,0.33822999999999998,0.191832,0.18173600000000001,0.15397,0.17163900000000001,0.13377800000000001,0,0,2.3000000000000001E-4,0.29140700000000003,2.2994970000000001,4.4705149999999998,6.350587,6.7939860000000003,7.7035450000000001,8.3855409999999999,7.9505169999999996,8.7056190000000004,8.8523569999999996,7.956461,7.002631,5.5763699999999998,4.0582830000000003,2.765984,1.971533,1.5401739999999999,1.3070029999999999,1.1667369999999999,1.035258,0.86382899999999996,0.63813399999999998,0.45237100000000002,0.27050299999999999,0.10456600000000001,1.2283000000000001E-2,0]
[null,null,null,null,null,null,null,"MAR02481.020",null,22,"Black Mud with Shell Fragments and an Anoxic Odour.",null,null,null,0,0,0,0,0,0,0.14949000000000001,0,3.5173999999999997E-2,4.3968E-2,5.2761000000000002E-2,7.4745000000000006E-2,0,0,0,8.1309000000000006E-2,2.4114140000000002,5.3671499999999996,5.8914429999999998,7.3099730000000003,8.091647,8.5581119999999995,8.0580669999999994,8.5837540000000008,8.7248490000000007,7.9283960000000002,6.9862630000000001,5.529604,3.9875479999999999,2.693613,1.923861,1.53329,1.32698,1.189316,1.0492630000000001,0.87501300000000004,0.65473400000000004,0.47338599999999997,0.28850100000000001,0.113057,1.3313999999999999E-2,0]
[null,null,null,null,null,null,null,"MAR02481.021",null,23,"Black Mud with Shell Fragments and an Anoxic Odour.",null,null,null,0,0,0,0,0,0.22389100000000001,0.25032300000000002,0.199014,0.37781599999999999,0.34982999999999997,0.42757000000000001,0.32184299999999999,0,0,0,0,0,0,0,0.25548599999999999,5.1000249999999996,5.6027110000000002,5.773263,8.2271380000000001,8.8038319999999999,8.3501349999999999,8.1920439999999992,7.3700400000000004,6.1429390000000001,5.2571060000000003,4.8187389999999999,4.365761,4.1439349999999999,4.2816099999999997,4.2608240000000004,3.504165,2.079186,0.98140899999999998,0.30031099999999999,3.6912E-2,2.14E-3,0]
[null,null,null,null,null,null,null,"MAR02481.022",null,24,"Odourless Black Mud .",null,null,null,0,0,0,0,0,1.449E-3,0,1.1596E-2,6.3777E-2,4.9283E-2,8.6969000000000005E-2,0.13190299999999999,0.38237700000000002,4.1568250000000004,4.4635639999999999,3.0654330000000001,13.716866,20.520206999999999,11.948548000000001,5.3277770000000002,4.2496049999999999,4.1587529999999999,3.813313,4.1140059999999998,4.3589929999999999,3.8968910000000001,3.2181489999999999,2.3435920000000001,1.5538400000000001,0.97626400000000002,0.67264999999999997,0.54317499999999996,0.480213,0.42974699999999999,0.373197,0.309948,0.237872,0.17777899999999999,0.11250599999999999,4.7045999999999998E-2,5.8840000000000003E-3,0]
[null,null,null,null,null,null,null,"MAR02481.023",null,25,"Odourless Black Mud .",null,null,null,0,0,0,0,0,0,0,0,0,0,0,3.6666999999999998E-4,0.38369999999999999,4.1711999999999998,4.4790000000000001,3.07603333,13.7643,20.59116667,11.98986667,5.3461999999999996,4.2643000000000004,4.1731333299999998,3.8264999999999998,4.1282333299999996,4.3740666700000004,3.9103666700000002,3.22927666,2.3516966699999999,1.55921333,0.97963999999999996,0.67497666999999995,0.54505333,0.48187333999999998,0.43123333000000003,0.37448766999999999,0.31102000000000002,0.23869366,0.17839334000000001,0.11289465999999999,4.7208989999999999E-2,5.9035800000000003E-3,0]
[]
[]
[]
[]
[]
[]
[]
[]
[null,null,null,null,null,null,null,"* Visual appearance: Incude a description of what the material looks like and what it contains, e.g.  sandy material containing brick fragments, or black silt, or foreign man made matter caught in the sample."]
[]
[]
[null,null,null,null,null,null,null,"▫ Exempt from chemical analysis: enter 'y' where sediment samples contain glacial material or are too coarse and thus exempt from chemical analysis."]
[]
[]
[]
[]
[]
[]
[]
[]
[]
[]
[]
[]
[]
[]
[]
[]
[]
[]
[]
[]
[]
[]
[]
[]
[]
[]
[]
[]
[]
[]
[]
[]
[]
[]
[]
[]
[]
[]
[]
[]
[]
[]
[]
[]
[]
[]
[]
[]
[]
[]
[]
[]
[]
[]
[]
[]
[]
[]
[]
[]
[]
[]
[]
[]
[]
[]
[]
[]
[]
[]
[]
[]
[]
[]
[]
[]
[]
[]
[]
[]
[]
[]
[]
[]
[]
[]
[]
[]
[]
[]
[]
[]
[]
[]
[]
[]
[]
[]
[]
[]
[]
[]
[]
[]
[]
[]
[]
[]
[]
[]
[]
[]
[]
[]
[]
[]
[]
[]
[]
[]
[]
[]
[]
[]
[]
[]
[]
[]
[]
[]
[]
[]
[]
[]
[]
[]
[]
[]
[]
[]
[]
[]
[]
[]
[]
[]
[]
[]
[]
[]
[]
[]
[]
[]
[]
[]
["y"]

{"sheet":"Physical Stats","index":2,"n_rows":117,"n_cols":68,"rows_kept":117,"cut":false,"hidden":true,"merged":[[5,66,6,66],[5,67,6,67],[113,7,116,10],[99,7,107,9],[99,10,101,10],[99,11,99,15],[100,11,101,11],[100,13,101,13],[100,14,101,14],[100,15,101,15],[113,11,113,15],[114,11,115,11],[114,13,115,13],[114,14,115,14],[114,15,115,15],[45,7,47,7],[45,8,47,8],[45,9,47,9],[85,10,87,10],[85,11,85,15],[86,11,87,11],[86,13,87,13],[86,14,87,14],[45,10,47,10],[45,11,45,15],[46,11,47,11],[46,13,47,13],[46,14,47,14],[46,15,47,15],[86,15,87,15],[85,7,93,9],[6,60,7,60],[6,61,7,61],[6,62,7,62],[5,57,5,62],[39,7,39,11],[5,9,7,9],[5,7,7,7],[5,8,7,8],[5,11,7,11],[5,13,7,13],[5,14,7,14],[6,57,7,57],[6,58,7,58],[6,59,7,59],[5,12,7,12],[5,10,7,10]]}
[]
[null,"Physical characteristics summary"]
[]
[null,null,null,null,null,null,null,"Physical characteristics statistics:",null,null,null,null,null,null,null,null,null,null,null,null,null,null,null,null,null,null,null,null,null,null,null,null,null,null,null,null,null,null,null,null,null,null,null,null,null,null,null,null,null,null,null,null,null,null,null,null,null,null,null,null,null,null,null,null,null,"Lookup table"]
[]
[null,"Analysis information:",null,null,null,null,null,"Laboratory sample number","Dredge Area","Sample ID","Excluded (y if yes)","Visual appearance ","Exempt from chemical analysis","Total solids (% total sediments)","Organic matter (total organic carbon)",null,"Particle size distribution (% at 0.5 phi intervals)",null,null,null,null,null,null,null,null,null,null,null,null,null,null,null,null,null,null,null,null,null,null,null,null,null,null,null,null,null,null,null,null,null,null,null,null,null,null,null,null,"Particle size summary statistics",null,null,null,null,null,null,null,null,"Sample ID","Total Solids (%)"]
[null,null,null,null,null,null,null,null,null,null,null,null,null,null,null,-5.5,-5,-4.5,-4,-3.5,-3,-2.5,-2,-1.5,-1,-0.5,0,0.5,1,1.5,2,2.5,3,3.5,4,4.5,5,5.5,6,6.5,7,7.5,8,8.5,9,9.5,10,10.5,11,11.5,12,12.5,13,13.5,14,14.5,">14.5","Gravel (%)","Sand (%)","Very coarse and coarse sand (%)","Medium sand (%)","Fine sand and very fine sand (%)","Silt/Clay (%)"]
[null,null,"Applicant:",{"$f":"IF('Application info'!E16=\"\",\"\",'Application info'!E16)","v":"PD Ports"},null,null,null,null,null,null,null,null,null,null,null,"45mm","31.5mm","22.4mm","16mm","11.2mm","8mm","5.6mm","4mm","2.8mm","2mm","1.4mm","1mm","707µm","500µm","353.6µm","250µm","176.8µm","125µm","88.39µm","63µm","44.2µm","31.3µm","22.1µm","15.6µm","11µm","7.8µm","5.5µm","3.9µm","2.75µm","1.95µm","1.38µm","0.98µm","0.69µm","0.49µm","0.34µm","0.24µm","0.17µm","0.12µm","0.09µm","0.06µm","0.04µm","<0.04µm",null,null,null,null,null,null,null,null,null,{"$f":"IF(J9=\"\",\"\",J9)","v":1},{"$f":"IF(K9=\"\",\"\",K9)","v":""}]
[null,null,"Application number:",{"$f":"IF('Application info'!E17=\"\",\"\",'Application info'!E17)","v":""},null,null,null,{"$f":"IF('Physical Data'!H9=\"\",\"\",'Physical Data'!H9)","v":"MAR02481.001"},{"$f":"IF('Physical Data'!I9=\"\",\"\",'Physical Data'!I9)","v":""},{"$f":"IF('Physical Data'!J9=\"\",\"\",'Physical Data'!J9)","v":1},{"$f":"IFERROR(IF(J9=\"\",\"\",(IF(VLOOKUP(J9,'Application info'!$K$8:$L$37,2,0)=\"y\",\"y\",\"\"))),\"Manual entry required\")","v":""},{"$f":"IF('Physical Data'!K9=\"\",\"\",'Physical Data'!K9)","v":"Black Mud with an Anoxic Odour."},{"$f":"IF('Physical Data'!L9=\"\",\"\",'Physical Data'!L9)","v":""},{"$f":"IF('Physical Data'!M9=\"\",\"\",'Physical Data'!M9)","v":""},{"$f":"IF('Physical Data'!N9=\"\",\"\",'Physical Data'!N9)","v":""},{"$f":"IF('Physical Data'!O9=\"\",\"\",'Physical Data'!O9)","v":0},{"$f":"IF('Physical Data'!P9=\"\",\"\",'Physical Data'!P9)","v":0},{"$f":"IF('Physical Data'!Q9=\"\",\"\",'Physical Data'!Q9)","v":0},{"$f":"IF('Physical Data'!R9=\"\",\"\",'Physical Data'!R9)","v":0},{"$f":"IF('Physical Data'!S9=\"\",\"\",'Physical Data'!S9)","v":0},{"$f":"IF('Physical Data'!T9=\"\",\"\",'Physical Data'!T9)","v":0},{"$f":"IF('Physical Data'!U9=\"\",\"\",'Physical Data'!U9)","v":0},{"$f":"IF('Physical Data'!V9=\"\",\"\",'Physical Data'!V9)","v":0},{"$f":"IF('Physical Data'!W9=\"\",\"\",'Physical Data'!W9)","v":0},{"$f":"IF('Physical Data'!X9=\"\",\"\",'Physical Data'!X9)","v":0},{"$f":"IF('Physical Data'!Y9=\"\",\"\",'Physical Data'!Y9)","v":0},{"$f":"IF('Physical Data'!Z9=\"\",\"\",'Physical Data'!Z9)","v":0},{"$f":"IF('Physical Data'!AA9=\"\",\"\",'Physical Data'!AA9)","v":0},{"$f":"IF('Physical Data'!AB9=\"\",\"\",'Physical Data'!AB9)","v":0},{"$f":"IF('Physical Data'!AC9=\"\",\"\",'Physical Data'!AC9)","v":0},{"$f":"IF('Physical Data'!AD9=\"\",\"\",'Physical Data'!AD9)","v":0.1676},{"$f":"IF('Physical Data'!AE9=\"\",\"\",'Physical Data'!AE9)","v":3.0240999999999998},{"$f":"IF('Physical Data'!AF9=\"\",\"\",'Physical Data'!AF9)","v":6.9779333399999999},{"$f":"IF('Physical Data'!AG9=\"\",\"\",'Physical Data'!AG9)","v":8.9878333300000008},{"$f":"IF('Physical Data'!AH9=\"\",\"\",'Physical Data'!AH9)","v":10.12846667},{"$f":"IF('Physical Data'!AI9=\"\",\"\",'Physical Data'!AI9)","v":11.087366660000001},{"$f":"IF('Physical Data'!AJ9=\"\",\"\",'Physical Data'!AJ9)","v":11.518533339999999},{"$f":"IF('Physical Data'!AK9=\"\",\"\",'Physical Data'!AK9)","v":10.64116666},{"$f":"IF('Physical Data'!AL9=\"\",\"\",'Physical Data'!AL9)","v":9.8249333399999994},{"$f":"IF('Physical Data'!AM9=\"\",\"\",'Physical Data'!AM9)","v":8.2378666599999999},{"$f":"IF('Physical Data'!AN9=\"\",\"\",'Physical Data'!AN9)","v":6.0851666699999996},{"$f":"IF('Physical Data'!AO9=\"\",\"\",'Physical Data'!AO9)","v":4.3562066699999997},{"$f":"IF('Physical Data'!AP9=\"\",\"\",'Physical Data'!AP9)","v":2.8487133299999998},{"$f":"IF('Physical Data'!AQ9=\"\",\"\",'Physical Data'!AQ9)","v":1.7712399999999999},{"$f":"IF('Physical Data'!AR9=\"\",\"\",'Physical Data'!AR9)","v":1.07895667},{"$f":"IF('Physical Data'!AS9=\"\",\"\",'Physical Data'!AS9)","v":0.71486665999999999},{"$f":"IF('Physical Data'!AT9=\"\",\"\",'Physical Data'!AT9)","v":0.54298000000000002},{"$f":"IF('Physical Data'!AU9=\"\",\"\",'Physical Data'!AU9)","v":0.45941334},{"$f":"IF('Physical Data'!AV9=\"\",\"\",'Physical Data'!AV9)","v":0.40604332999999998},{"$f":"IF('Physical Data'!AW9=\"\",\"\",'Physical Data'!AW9)","v":0.35290232999999999},{"$f":"IF('Physical Data'!AX9=\"\",\"\",'Physical Data'!AX9)","v":0.28928934000000001},{"$f":"IF('Physical Data'!AY9=\"\",\"\",'Physical Data'!AY9)","v":0.21324333000000001},{"$f":"IF('Physical Data'!AZ9=\"\",\"\",'Physical Data'!AZ9)","v":0.15207366999999999},{"$f":"IF('Physical Data'!BA9=\"\",\"\",'Physical Data'!BA9)","v":9.2055899999999996E-2},{"$f":"IF('Physical Data'!BB9=\"\",\"\",'Physical Data'!BB9)","v":3.661437E-2},{"$f":"IF('Physical Data'!BC9=\"\",\"\",'Physical Data'!BC9)","v":4.4332900000000003E-3},{"$f":"IF('Physical Data'!BD9=\"\",\"\",'Physical Data'!BD9)","v":0},{"$f":"IF(SUM(P9:BE9)<1,\"\",SUM(P9:Y9))","v":0},{"$f":"IF(SUM(P9:BE9)<1,\"\",SUM(Z9:AI9))","v":29.28593334},{"$f":"IF(SUM(P9:BE9)<1,\"\",SUM(Z9:AC9))","v":0},{"$f":"IF(SUM(P9:BE9)<1,\"\", SUM(AD9:AE9))","v":0.1676},{"$f":"IF(SUM(P9:BE9)<1,\"\",SUM(AF9:AI9))","v":29.11833334},{"$f":"IF(SUM(P9:BE9)<1,\"\",SUM(AJ9:BE9))","v":70.714065559999995},null,null,null,{"$f":"IF(J10=\"\",\"\",J10)","v":2},""]
[null,null,"Application title:",{"$f":"IF('Application info'!E18=\"\",\"\",'Application info'!E18)","v":"Mid licence sampling - year 9"},null,null,null,{"$f":"IF('Physical Data'!H10=\"\",\"\",'Physical Data'!H10)","v":"MAR02481.002"},{"$f":"IF('Physical Data'!I10=\"\",\"\",'Physical Data'!I10)","v":""},{"$f":"IF('Physical Data'!J10=\"\",\"\",'Physical Data'!J10)","v":2},{"$f":"IFERROR(IF(J10=\"\",\"\",(IF(VLOOKUP(J10,'Application info'!$K$8:$L$37,2,0)=\"y\",\"y\",\"\"))),\"Manual entry required\")","v":""},{"$f":"IF('Physical Data'!K10=\"\",\"\",'Physical Data'!K10)","v":"Black Mud with an Anoxic Odour."},{"$f":"IF('Physical Data'!L10=\"\",\"\",'Physical Data'!L10)","v":""},{"$f":"IF('Physical Data'!M10=\"\",\"\",'Physical Data'!M10)","v":""},{"$f":"IF('Physical Data'!N10=\"\",\"\",'Physical Data'!N10)","v":""},{"$f":"IF('Physical Data'!O10=\"\",\"\",'Physical Data'!O10)","v":0},{"$f":"IF('Physical Data'!P10=\"\",\"\",'Physical Data'!P10)","v":0},{"$f":"IF('Physical Data'!Q10=\"\",\"\",'Physical Data'!Q10)","v":0},{"$f":"IF('Physical Data'!R10=\"\",\"\",'Physical Data'!R10)","v":0},{"$f":"IF('Physical Data'!S10=\"\",\"\",'Physical Data'!S10)","v":0},{"$f":"IF('Physical Data'!T10=\"\",\"\",'Physical Data'!T10)","v":0},{"$f":"IF('Physical Data'!U10=\"\",\"\",'Physical Data'!U10)","v":0},{"$f":"IF('Physical Data'!V10=\"\",\"\",'Physical Data'!V10)","v":0},{"$f":"IF('Physical Data'!W10=\"\",\"\",'Physical Data'!W10)","v":0},{"$f":"IF('Physical Data'!X10=\"\",\"\",'Physical Data'!X10)","v":0},{"$f":"IF('Physical Data'!Y10=\"\",\"\",'Physical Data'!Y10)","v":0},{"$f":"IF('Physical Data'!Z10=\"\",\"\",'Physical Data'!Z10)","v":0},{"$f":"IF('Physical Data'!AA10=\"\",\"\",'Physical Data'!AA10)","v":0},{"$f":"IF('Physical Data'!AB10=\"\",\"\",'Physical Data'!AB10)","v":0},{"$f":"IF('Physical Data'!AC10=\"\",\"\",'Physical Data'!AC10)","v":0},{"$f":"IF('Physical Data'!AD10=\"\",\"\",'Physical Data'!AD10)","v":7.7600000000000002E-2},{"$f":"IF('Physical Data'!AE10=\"\",\"\",'Physical Data'!AE10)","v":2.0664333400000001},{"$f":"IF('Physical Data'!AF10=\"\",\"\",'Physical Data'!AF10)","v":4.7758333300000002},{"$f":"IF('Physical Data'!AG10=\"\",\"\",'Physical Data'!AG10)","v":6.1278666700000004},{"$f":"IF('Physical Data'!AH10=\"\",\"\",'Physical Data'!AH10)","v":7.1153666600000003},{"$f":"IF('Physical Data'!AI10=\"\",\"\",'Physical Data'!AI10)","v":8.1823666700000004},{"$f":"IF('Physical Data'!AJ10=\"\",\"\",'Physical Data'!AJ10)","v":9.2080000000000002},{"$f":"IF('Physical Data'!AK10=\"\",\"\",'Physical Data'!AK10)","v":9.2726000000000006},{"$f":"IF('Physical Data'!AL10=\"\",\"\",'Physical Data'!AL10)","v":10.258266669999999},{"$f":"IF('Physical Data'!AM10=\"\",\"\",'Physical Data'!AM10)","v":10.14316666},{"$f":"IF('Physical Data'!AN10=\"\",\"\",'Physical Data'!AN10)","v":8.6099666700000004},{"$f":"IF('Physical Data'!AO10=\"\",\"\",'Physical Data'!AO10)","v":6.9942000000000002},{"$f":"IF('Physical Data'!AP10=\"\",\"\",'Physical Data'!AP10)","v":5.1111000000000004},{"$f":"IF('Physical Data'!AQ10=\"\",\"\",'Physical Data'!AQ10)","v":3.42412333},{"$f":"IF('Physical Data'!AR10=\"\",\"\",'Physical Data'!AR10)","v":2.1392500000000001},{"$f":"IF('Physical Data'!AS10=\"\",\"\",'Physical Data'!AS10)","v":1.3947000000000001},{"$f":"IF('Physical Data'!AT10=\"\",\"\",'Physical Data'!AT10)","v":1.0302800000000001},{"$f":"IF('Physical Data'!AU10=\"\",\"\",'Physical Data'!AU10)","v":0.87906333999999997},{"$f":"IF('Physical Data'!AV10=\"\",\"\",'Physical Data'!AV10)","v":0.81655},{"$f":"IF('Physical Data'!AW10=\"\",\"\",'Physical Data'!AW10)","v":0.74999333000000001},{"$f":"IF('Physical Data'!AX10=\"\",\"\",'Physical Data'!AX10)","v":0.62811066999999998},{"$f":"IF('Physical Data'!AY10=\"\",\"\",'Physical Data'!AY10)","v":0.44874799999999998},{"$f":"IF('Physical Data'!AZ10=\"\",\"\",'Physical Data'!AZ10)","v":0.30343300000000001},{"$f":"IF('Physical Data'!BA10=\"\",\"\",'Physical Data'!BA10)","v":0.17257943000000001},{"$f":"IF('Physical Data'!BB10=\"\",\"\",'Physical Data'!BB10)","v":6.3223429999999997E-2},{"$f":"IF('Physical Data'!BC10=\"\",\"\",'Physical Data'!BC10)","v":7.17689E-3},{"$f":"IF('Physical Data'!BD10=\"\",\"\",'Physical Data'!BD10)","v":0},0,{"$f":"IF(SUM(P10:BE10)<1,\"\",SUM(Z10:AI10))","v":20.1631},0,7.7600000000000002E-2,20.0855,79.836898089999991,null,null,null,3,""]
[null,null,"Date sampled:",{"$f":"IF('Application info'!E19=\"\",\"\",'Application info'!E19)","v":""},null,null,null,{"$f":"IF('Physical Data'!H11=\"\",\"\",'Physical Data'!H11)","v":"MAR02481.003"},{"$f":"IF('Physical Data'!I11=\"\",\"\",'Physical Data'!I11)","v":""},{"$f":"IF('Physical Data'!J11=\"\",\"\",'Physical Data'!J11)","v":3},{"$f":"IFERROR(IF(J11=\"\",\"\",(IF(VLOOKUP(J11,'Application info'!$K$8:$L$37,2,0)=\"y\",\"y\",\"\"))),\"Manual entry required\")","v":""},{"$f":"IF('Physical Data'!K11=\"\",\"\",'Physical Data'!K11)","v":"Black Mud with an Anoxic Odour."},{"$f":"IF('Physical Data'!L11=\"\",\"\",'Physical Data'!L11)","v":""},{"$f":"IF('Physical Data'!M11=\"\",\"\",'Physical Data'!M11)","v":""},{"$f":"IF('Physical Data'!N11=\"\",\"\",'Physical Data'!N11)","v":""},{"$f":"IF('Physical Data'!O11=\"\",\"\",'Physical Data'!O11)","v":0},{"$f":"IF('Physical Data'!P11=\"\",\"\",'Physical Data'!P11)","v":0},{"$f":"IF('Physical Data'!Q11=\"\",\"\",'Physical Data'!Q11)","v":0},{"$f":"IF('Physical Data'!R11=\"\",\"\",'Physical Data'!R11)","v":0},{"$f":"IF('Physical Data'!S11=\"\",\"\",'Physical Data'!S11)","v":0},{"$f":"IF('Physical Data'!T11=\"\",\"\",'Physical Data'!T11)","v":0},{"$f":"IF('Physical Data'!U11=\"\",\"\",'Physical Data'!U11)","v":0},{"$f":"IF('Physical Data'!V11=\"\",\"\",'Physical Data'!V11)","v":0},{"$f":"IF('Physical Data'!W11=\"\",\"\",'Physical Data'!W11)","v":0},{"$f":"IF('Physical Data'!X11=\"\",\"\",'Physical Data'!X11)","v":0},{"$f":"IF('Physical Data'!Y11=\"\",\"\",'Physical Data'!Y11)","v":0},{"$f":"IF('Physical Data'!Z11=\"\",\"\",'Physical Data'!Z11)","v":0},{"$f":"IF('Physical Data'!AA11=\"\",\"\",'Physical Data'!AA11)","v":0},{"$f":"IF('Physical Data'!AB11=\"\",\"\",'Physical Data'!AB11)","v":0},{"$f":"IF('Physical Data'!AC11=\"\",\"\",'Physical Data'!AC11)","v":0},{"$f":"IF('Physical Data'!AD11=\"\",\"\",'Physical Data'!AD11)","v":7.8E-2},{"$f":"IF('Physical Data'!AE11=\"\",\"\",'Physical Data'!AE11)","v":2.5728},{"$f":"IF('Physical Data'!AF11=\"\",\"\",'Physical Data'!AF11)","v":6.0441666700000001},{"$f":"IF('Physical Data'!AG11=\"\",\"\",'Physical Data'!AG11)","v":6.4387333299999998},{"$f":"IF('Physical Data'!AH11=\"\",\"\",'Physical Data'!AH11)","v":7.2300666700000003},{"$f":"IF('Physical Data'!AI11=\"\",\"\",'Physical Data'!AI11)","v":8.1606666699999995},{"$f":"IF('Physical Data'!AJ11=\"\",\"\",'Physical Data'!AJ11)","v":8.6353333299999999},{"$f":"IF('Physical Data'!AK11=\"\",\"\",'Physical Data'!AK11)","v":8.3325333300000004},{"$f":"IF('Physical Data'!AL11=\"\",\"\",'Physical Data'!AL11)","v":8.8058999999999994},{"$f":"IF('Physical Data'!AM11=\"\",\"\",'Physical Data'!AM11)","v":8.6664333399999993},{"$f":"IF('Physical Data'!AN11=\"\",\"\",'Physical Data'!AN11)","v":7.3912666600000003},{"$f":"IF('Physical Data'!AO11=\"\",\"\",'Physical Data'!AO11)","v":6.37993334},{"$f":"IF('Physical Data'!AP11=\"\",\"\",'Physical Data'!AP11)","v":5.1795},{"$f":"IF('Physical Data'!AQ11=\"\",\"\",'Physical Data'!AQ11)","v":3.9779},{"$f":"IF('Physical Data'!AR11=\"\",\"\",'Physical Data'!AR11)","v":2.8983666600000002},{"$f":"IF('Physical Data'!AS11=\"\",\"\",'Physical Data'!AS11)","v":2.10588},{"$f":"IF('Physical Data'!AT11=\"\",\"\",'Physical Data'!AT11)","v":1.5580233400000001},{"$f":"IF('Physical Data'!AU11=\"\",\"\",'Physical Data'!AU11)","v":1.27285333},{"$f":"IF('Physical Data'!AV11=\"\",\"\",'Physical Data'!AV11)","v":1.18279},{"$f":"IF('Physical Data'!AW11=\"\",\"\",'Physical Data'!AW11)","v":1.11058667},{"$f":"IF('Physical Data'!AX11=\"\",\"\",'Physical Data'!AX11)","v":0.90677733000000005},{"$f":"IF('Physical Data'!AY11=\"\",\"\",'Physical Data'!AY11)","v":0.57572667},{"$f":"IF('Physical Data'!AZ11=\"\",\"\",'Physical Data'!AZ11)","v":0.31700366000000002},{"$f":"IF('Physical Data'!BA11=\"\",\"\",'Physical Data'!BA11)","v":0.13687763999999999},{"$f":"IF('Physical Data'!BB11=\"\",\"\",'Physical Data'!BB11)","v":3.791191E-2},{"$f":"IF('Physical Data'!BC11=\"\",\"\",'Physical Data'!BC11)","v":3.9686399999999998E-3},{"$f":"IF('Physical Data'!BD11=\"\",\"\",'Physical Data'!BD11)","v":0},0,22.36376667,0,7.8E-2,22.285766670000001,77.636232519999979,null,null,null,4,""]
[null,null,"Sampling location:",{"$f":"IF('Application info'!E20=\"\",\"\",'Application info'!E20)","v":""},null,null,null,{"$f":"IF('Physical Data'!H12=\"\",\"\",'Physical Data'!H12)","v":"MAR02481.004"},{"$f":"IF('Physical Data'!I12=\"\",\"\",'Physical Data'!I12)","v":""},{"$f":"IF('Physical Data'!J12=\"\",\"\",'Physical Data'!J12)","v":4},{"$f":"IFERROR(IF(J12=\"\",\"\",(IF(VLOOKUP(J12,'Application info'!$K$8:$L$37,2,0)=\"y\",\"y\",\"\"))),\"Manual entry required\")","v":""},{"$f":"IF('Physical Data'!K12=\"\",\"\",'Physical Data'!K12)","v":"Black Mud with an Anoxic Odour."},{"$f":"IF('Physical Data'!L12=\"\",\"\",'Physical Data'!L12)","v":""},{"$f":"IF('Physical Data'!M12=\"\",\"\",'Physical Data'!M12)","v":""},{"$f":"IF('Physical Data'!N12=\"\",\"\",'Physical Data'!N12)","v":""},{"$f":"IF('Physical Data'!O12=\"\",\"\",'Physical Data'!O12)","v":0},{"$f":"IF('Physical Data'!P12=\"\",\"\",'Physical Data'!P12)","v":0},{"$f":"IF('Physical Data'!Q12=\"\",\"\",'Physical Data'!Q12)","v":0},{"$f":"IF('Physical Data'!R12=\"\",\"\",'Physical Data'!R12)","v":0},{"$f":"IF('Physical Data'!S12=\"\",\"\",'Physical Data'!S12)","v":0},{"$f":"IF('Physical Data'!T12=\"\",\"\",'Physical Data'!T12)","v":0},{"$f":"IF('Physical Data'!U12=\"\",\"\",'Physical Data'!U12)","v":0},{"$f":"IF('Physical Data'!V12=\"\",\"\",'Physical Data'!V12)","v":0},{"$f":"IF('Physical Data'!W12=\"\",\"\",'Physical Data'!W12)","v":0},{"$f":"IF('Physical Data'!X12=\"\",\"\",'Physical Data'!X12)","v":0},{"$f":"IF('Physical Data'!Y12=\"\",\"\",'Physical Data'!Y12)","v":0},{"$f":"IF('Physical Data'!Z12=\"\",\"\",'Physical Data'!Z12)","v":0},{"$f":"IF('Physical Data'!AA12=\"\",\"\",'Physical Data'!AA12)","v":0},{"$f":"IF('Physical Data'!AB12=\"\",\"\",'Physical Data'!AB12)","v":0},{"$f":"IF('Physical Data'!AC12=\"\",\"\",'Physical Data'!AC12)","v":0},{"$f":"IF('Physical Data'!AD12=\"\",\"\",'Physical Data'!AD12)","v":3.2433339999999998E-2},{"$f":"IF('Physical Data'!AE12=\"\",\"\",'Physical Data'!AE12)","v":1.6743333300000001},{"$f":"IF('Physical Data'!AF12=\"\",\"\",'Physical Data'!AF12)","v":3.8606333300000002},{"$f":"IF('Physical Data'!AG12=\"\",\"\",'Physical Data'!AG12)","v":4.4100999999999999},{"$f":"IF('Physical Data'!AH12=\"\",\"\",'Physical Data'!AH12)","v":5.1260666700000002},{"$f":"IF('Physical Data'!AI12=\"\",\"\",'Physical Data'!AI12)","v":6.58116667},{"$f":"IF('Physical Data'!AJ12=\"\",\"\",'Physical Data'!AJ12)","v":8.1188000000000002},{"$f":"IF('Physical Data'!AK12=\"\",\"\",'Physical Data'!AK12)","v":8.7256333300000009},{"$f":"IF('Physical Data'!AL12=\"\",\"\",'Physical Data'!AL12)","v":10.654566669999999},{"$f":"IF('Physical Data'!AM12=\"\",\"\",'Physical Data'!AM12)","v":11.2653},{"$f":"IF('Physical Data'!AN12=\"\",\"\",'Physical Data'!AN12)","v":9.9837000000000007},{"$f":"IF('Physical Data'!AO12=\"\",\"\",'Physical Data'!AO12)","v":8.3675333300000005},{"$f":"IF('Physical Data'!AP12=\"\",\"\",'Physical Data'!AP12)","v":6.2574666700000003},{"$f":"IF('Physical Data'!AQ12=\"\",\"\",'Physical Data'!AQ12)","v":4.2537000000000003},{"$f":"IF('Physical Data'!AR12=\"\",\"\",'Physical Data'!AR12)","v":2.6769133300000001},{"$f":"IF('Physical Data'!AS12=\"\",\"\",'Physical Data'!AS12)","v":1.7502333299999999},{"$f":"IF('Physical Data'!AT12=\"\",\"\",'Physical Data'!AT12)","v":1.2900400000000001},{"$f":"IF('Physical Data'!AU12=\"\",\"\",'Physical Data'!AU12)","v":1.08624334},{"$f":"IF('Physical Data'!AV12=\"\",\"\",'Physical Data'!AV12)","v":0.98856666000000004},{"$f":"IF('Physical Data'!AW12=\"\",\"\",'Physical Data'!AW12)","v":0.89399667000000005},{"$f":"IF('Physical Data'!AX12=\"\",\"\",'Physical Data'!AX12)","v":0.74975999999999998},{"$f":"IF('Physical Data'!AY12=\"\",\"\",'Physical Data'!AY12)","v":0.54891433000000001},{"$f":"IF('Physical Data'!AZ12=\"\",\"\",'Physical Data'!AZ12)","v":0.38204934000000002},{"$f":"IF('Physical Data'!BA12=\"\",\"\",'Physical Data'!BA12)","v":0.22467846},{"$f":"IF('Physical Data'!BB12=\"\",\"\",'Physical Data'!BB12)","v":8.6811230000000003E-2},{"$f":"IF('Physical Data'!BC12=\"\",\"\",'Physical Data'!BC12)","v":1.0357399999999999E-2},{"$f":"IF('Physical Data'!BD12=\"\",\"\",'Physical Data'!BD12)","v":0},0,15.103566669999999,0,3.2433339999999998E-2,15.07113333,84.896430760000015,null,null,null,5,""]
[null,null,null,null,null,null,null,{"$f":"IF('Physical Data'!H13=\"\",\"\",'Physical Data'!H13)","v":"MAR02481.005"},{"$f":"IF('Physical Data'!I13=\"\",\"\",'Physical Data'!I13)","v":""},{"$f":"IF('Physical Data'!J13=\"\",\"\",'Physical Data'!J13)","v":5},{"$f":"IFERROR(IF(J13=\"\",\"\",(IF(VLOOKUP(J13,'Application info'!$K$8:$L$37,2,0)=\"y\",\"y\",\"\"))),\"Manual entry required\")","v":""},{"$f":"IF('Physical Data'!K13=\"\",\"\",'Physical Data'!K13)","v":"Black Mud with an Anoxic Odour."},{"$f":"IF('Physical Data'!L13=\"\",\"\",'Physical Data'!L13)","v":""},{"$f":"IF('Physical Data'!M13=\"\",\"\",'Physical Data'!M13)","v":""},{"$f":"IF('Physical Data'!N13=\"\",\"\",'Physical Data'!N13)","v":""},{"$f":"IF('Physical Data'!O13=\"\",\"\",'Physical Data'!O13)","v":0},{"$f":"IF('Physical Data'!P13=\"\",\"\",'Physical Data'!P13)","v":0},{"$f":"IF('Physical Data'!Q13=\"\",\"\",'Physical Data'!Q13)","v":0},{"$f":"IF('Physical Data'!R13=\"\",\"\",'Physical Data'!R13)","v":0},{"$f":"IF('Physical Data'!S13=\"\",\"\",'Physical Data'!S13)","v":0},{"$f":"IF('Physical Data'!T13=\"\",\"\",'Physical Data'!T13)","v":0},{"$f":"IF('Physical Data'!U13=\"\",\"\",'Physical Data'!U13)","v":0},{"$f":"IF('Physical Data'!V13=\"\",\"\",'Physical Data'!V13)","v":0},{"$f":"IF('Physical Data'!W13=\"\",\"\",'Physical Data'!W13)","v":0},{"$f":"IF('Physical Data'!X13=\"\",\"\",'Physical Data'!X13)","v":0},{"$f":"IF('Physical Data'!Y13=\"\",\"\",'Physical Data'!Y13)","v":0},{"$f":"IF('Physical Data'!Z13=\"\",\"\",'Physical Data'!Z13)","v":0},{"$f":"IF('Physical Data'!AA13=\"\",\"\",'Physical Data'!AA13)","v":0},{"$f":"IF('Physical Data'!AB13=\"\",\"\",'Physical Data'!AB13)","v":0},{"$f":"IF('Physical Data'!AC13=\"\",\"\",'Physical Data'!AC13)","v":0},{"$f":"IF('Physical Data'!AD13=\"\",\"\",'Physical Data'!AD13)","v":2.4799999999999999E-2},{"$f":"IF('Physical Data'!AE13=\"\",\"\",'Physical Data'!AE13)","v":1.5760000000000001},{"$f":"IF('Physical Data'!AF13=\"\",\"\",'Physical Data'!AF13)","v":5.0426333400000001},{"$f":"IF('Physical Data'!AG13=\"\",\"\",'Physical Data'!AG13)","v":4.9872333299999996},{"$f":"IF('Physical Data'!AH13=\"\",\"\",'Physical Data'!AH13)","v":5.9394},{"$f":"IF('Physical Data'!AI13=\"\",\"\",'Physical Data'!AI13)","v":6.1773333299999997},{"$f":"IF('Physical Data'!AJ13=\"\",\"\",'Physical Data'!AJ13)","v":7.8783666700000001},{"$f":"IF('Physical Data'!AK13=\"\",\"\",'Physical Data'!AK13)","v":8.4799666699999996},{"$f":"IF('Physical Data'!AL13=\"\",\"\",'Physical Data'!AL13)","v":9.8348333300000004},{"$f":"IF('Physical Data'!AM13=\"\",\"\",'Physical Data'!AM13)","v":10.66946667},{"$f":"IF('Physical Data'!AN13=\"\",\"\",'Physical Data'!AN13)","v":9.6416333299999994},{"$f":"IF('Physical Data'!AO13=\"\",\"\",'Physical Data'!AO13)","v":8.1811666699999996},{"$f":"IF('Physical Data'!AP13=\"\",\"\",'Physical Data'!AP13)","v":6.1901999999999999},{"$f":"IF('Physical Data'!AQ13=\"\",\"\",'Physical Data'!AQ13)","v":4.2766999999999999},{"$f":"IF('Physical Data'!AR13=\"\",\"\",'Physical Data'!AR13)","v":2.75549},{"$f":"IF('Physical Data'!AS13=\"\",\"\",'Physical Data'!AS13)","v":1.8410899999999999},{"$f":"IF('Physical Data'!AT13=\"\",\"\",'Physical Data'!AT13)","v":1.3625866600000001},{"$f":"IF('Physical Data'!AU13=\"\",\"\",'Physical Data'!AU13)","v":1.1387},{"$f":"IF('Physical Data'!AV13=\"\",\"\",'Physical Data'!AV13)","v":1.0327900000000001},{"$f":"IF('Physical Data'!AW13=\"\",\"\",'Physical Data'!AW13)","v":0.93432000000000004},{"$f":"IF('Physical Data'!AX13=\"\",\"\",'Physical Data'!AX13)","v":0.77928666999999996},{"$f":"IF('Physical Data'!AY13=\"\",\"\",'Physical Data'!AY13)","v":0.56129867},{"$f":"IF('Physical Data'!AZ13=\"\",\"\",'Physical Data'!AZ13)","v":0.38172732999999998},{"$f":"IF('Physical Data'!BA13=\"\",\"\",'Physical Data'!BA13)","v":0.21942229999999999},{"$f":"IF('Physical Data'!BB13=\"\",\"\",'Physical Data'!BB13)","v":8.3570950000000005E-2},{"$f":"IF('Physical Data'!BC13=\"\",\"\",'Physical Data'!BC13)","v":9.9816599999999998E-3},{"$f":"IF('Physical Data'!BD13=\"\",\"\",'Physical Data'!BD13)","v":0},0,17.570066669999999,0,2.4799999999999999E-2,17.54526667,82.42993091000001,null,null,null,6,""]
[null,null,"Laboratory/contractor:",{"$f":"IF('Physical Data'!D15=\"\",\"\",'Physical Data'!D15)","v":"Ocean Ecology Ltd"},null,null,null,{"$f":"IF('Physical Data'!H14=\"\",\"\",'Physical Data'!H14)","v":"MAR02481.006"},{"$f":"IF('Physical Data'!I14=\"\",\"\",'Physical Data'!I14)","v":""},{"$f":"IF('Physical Data'!J14=\"\",\"\",'Physical Data'!J14)","v":6},{"$f":"IFERROR(IF(J14=\"\",\"\",(IF(VLOOKUP(J14,'Application info'!$K$8:$L$37,2,0)=\"y\",\"y\",\"\"))),\"Manual entry required\")","v":""},{"$f":"IF('Physical Data'!K14=\"\",\"\",'Physical Data'!K14)","v":"Black Mud with an Anoxic Odour."},{"$f":"IF('Physical Data'!L14=\"\",\"\",'Physical Data'!L14)","v":""},{"$f":"IF('Physical Data'!M14=\"\",\"\",'Physical Data'!M14)","v":""},{"$f":"IF('Physical Data'!N14=\"\",\"\",'Physical Data'!N14)","v":""},{"$f":"IF('Physical Data'!O14=\"\",\"\",'Physical Data'!O14)","v":0},{"$f":"IF('Physical Data'!P14=\"\",\"\",'Physical Data'!P14)","v":0},{"$f":"IF('Physical Data'!Q14=\"\",\"\",'Physical Data'!Q14)","v":0},{"$f":"IF('Physical Data'!R14=\"\",\"\",'Physical Data'!R14)","v":0},{"$f":"IF('Physical Data'!S14=\"\",\"\",'Physical Data'!S14)","v":0},{"$f":"IF('Physical Data'!T14=\"\",\"\",'Physical Data'!T14)","v":0},{"$f":"IF('Physical Data'!U14=\"\",\"\",'Physical Data'!U14)","v":0},{"$f":"IF('Physical Data'!V14=\"\",\"\",'Physical Data'!V14)","v":0},{"$f":"IF('Physical Data'!W14=\"\",\"\",'Physical Data'!W14)","v":0},{"$f":"IF('Physical Data'!X14=\"\",\"\",'Physical Data'!X14)","v":0},{"$f":"IF('Physical Data'!Y14=\"\",\"\",'Physical Data'!Y14)","v":0},{"$f":"IF('Physical Data'!Z14=\"\",\"\",'Physical Data'!Z14)","v":0},{"$f":"IF('Physical Data'!AA14=\"\",\"\",'Physical Data'!AA14)","v":0},{"$f":"IF('Physical Data'!AB14=\"\",\"\",'Physical Data'!AB14)","v":0},{"$f":"IF('Physical Data'!AC14=\"\",\"\",'Physical Data'!AC14)","v":0},{"$f":"IF('Physical Data'!AD14=\"\",\"\",'Physical Data'!AD14)","v":9.573334E-2},{"$f":"IF('Physical Data'!AE14=\"\",\"\",'Physical Data'!AE14)","v":2.9305666600000002},{"$f":"IF('Physical Data'!AF14=\"\",\"\",'Physical Data'!AF14)","v":5.4682000000000004},{"$f":"IF('Physical Data'!AG14=\"\",\"\",'Physical Data'!AG14)","v":4.5466666699999996},{"$f":"IF('Physical Data'!AH14=\"\",\"\",'Physical Data'!AH14)","v":5.52173333},{"$f":"IF('Physical Data'!AI14=\"\",\"\",'Physical Data'!AI14)","v":5.9134000000000002},{"$f":"IF('Physical Data'!AJ14=\"\",\"\",'Physical Data'!AJ14)","v":7.1675666700000003},{"$f":"IF('Physical Data'!AK14=\"\",\"\",'Physical Data'!AK14)","v":7.3802666700000001},{"$f":"IF('Physical Data'!AL14=\"\",\"\",'Physical Data'!AL14)","v":8.7346000000000004},{"$f":"IF('Physical Data'!AM14=\"\",\"\",'Physical Data'!AM14)","v":9.1365666599999997},{"$f":"IF('Physical Data'!AN14=\"\",\"\",'Physical Data'!AN14)","v":8.1283333399999993},{"$f":"IF('Physical Data'!AO14=\"\",\"\",'Physical Data'!AO14)","v":7.2941333300000002},{"$f":"IF('Physical Data'!AP14=\"\",\"\",'Physical Data'!AP14)","v":6.0764333300000004},{"$f":"IF('Physical Data'!AQ14=\"\",\"\",'Physical Data'!AQ14)","v":4.7372666700000003},{"$f":"IF('Physical Data'!AR14=\"\",\"\",'Physical Data'!AR14)","v":3.5655999999999999},{"$f":"IF('Physical Data'!AS14=\"\",\"\",'Physical Data'!AS14)","v":2.7569666700000002},{"$f":"IF('Physical Data'!AT14=\"\",\"\",'Physical Data'!AT14)","v":2.18354333},{"$f":"IF('Physical Data'!AU14=\"\",\"\",'Physical Data'!AU14)","v":1.87148333},{"$f":"IF('Physical Data'!AV14=\"\",\"\",'Physical Data'!AV14)","v":1.7792866700000001},{"$f":"IF('Physical Data'!AW14=\"\",\"\",'Physical Data'!AW14)","v":1.68498667},{"$f":"IF('Physical Data'!AX14=\"\",\"\",'Physical Data'!AX14)","v":1.38212666},{"$f":"IF('Physical Data'!AY14=\"\",\"\",'Physical Data'!AY14)","v":0.87775833999999997},{"$f":"IF('Physical Data'!AZ14=\"\",\"\",'Physical Data'!AZ14)","v":0.48737533},{"$f":"IF('Physical Data'!BA14=\"\",\"\",'Physical Data'!BA14)","v":0.21365423},{"$f":"IF('Physical Data'!BB14=\"\",\"\",'Physical Data'!BB14)","v":5.9637849999999999E-2},{"$f":"IF('Physical Data'!BC14=\"\",\"\",'Physical Data'!BC14)","v":6.1128900000000002E-3},{"$f":"IF('Physical Data'!BD14=\"\",\"\",'Physical Data'!BD14)","v":0},0,18.562899999999999,0,9.573334E-2,18.46716666,81.437098640000016,null,null,null,7,""]
[null,null,"Date of analysis:",{"$f":"IF('Physical Data'!D16=\"\",\"\",'Physical Data'!D16)","v":"2024-10-25"},null,null,null,{"$f":"IF('Physical Data'!H15=\"\",\"\",'Physical Data'!H15)","v":"MAR02481.007"},{"$f":"IF('Physical Data'!I15=\"\",\"\",'Physical Data'!I15)","v":""},{"$f":"IF('Physical Data'!J15=\"\",\"\",'Physical Data'!J15)","v":7},{"$f":"IFERROR(IF(J15=\"\",\"\",(IF(VLOOKUP(J15,'Application info'!$K$8:$L$37,2,0)=\"y\",\"y\",\"\"))),\"Manual entry required\")","v":""},{"$f":"IF('Physical Data'!K15=\"\",\"\",'Physical Data'!K15)","v":"Black Mud with an Anoxic Odour."},{"$f":"IF('Physical Data'!L15=\"\",\"\",'Physical Data'!L15)","v":""},{"$f":"IF('Physical Data'!M15=\"\",\"\",'Physical Data'!M15)","v":""},{"$f":"IF('Physical Data'!N15=\"\",\"\",'Physical Data'!N15)","v":""},{"$f":"IF('Physical Data'!O15=\"\",\"\",'Physical Data'!O15)","v":0},{"$f":"IF('Physical Data'!P15=\"\",\"\",'Physical Data'!P15)","v":0},{"$f":"IF('Physical Data'!Q15=\"\",\"\",'Physical Data'!Q15)","v":0},{"$f":"IF('Physical Data'!R15=\"\",\"\",'Physical Data'!R15)","v":0},{"$f":"IF('Physical Data'!S15=\"\",\"\",'Physical Data'!S15)","v":0},{"$f":"IF('Physical Data'!T15=\"\",\"\",'Physical Data'!T15)","v":0},{"$f":"IF('Physical Data'!U15=\"\",\"\",'Physical Data'!U15)","v":0},{"$f":"IF('Physical Data'!V15=\"\",\"\",'Physical Data'!V15)","v":0},{"$f":"IF('Physical Data'!W15=\"\",\"\",'Physical Data'!W15)","v":0},{"$f":"IF('Physical Data'!X15=\"\",\"\",'Physical Data'!X15)","v":0},{"$f":"IF('Physical Data'!Y15=\"\",\"\",'Physical Data'!Y15)","v":0},{"$f":"IF('Physical Data'!Z15=\"\",\"\",'Physical Data'!Z15)","v":0},{"$f":"IF('Physical Data'!AA15=\"\",\"\",'Physical Data'!AA15)","v":0},{"$f":"IF('Physical Data'!AB15=\"\",\"\",'Physical Data'!AB15)","v":0},{"$f":"IF('Physical Data'!AC15=\"\",\"\",'Physical Data'!AC15)","v":0},{"$f":"IF('Physical Data'!AD15=\"\",\"\",'Physical Data'!AD15)","v":0},{"$f":"IF('Physical Data'!AE15=\"\",\"\",'Physical Data'!AE15)","v":3.3366670000000001E-2},{"$f":"IF('Physical Data'!AF15=\"\",\"\",'Physical Data'!AF15)","v":1.6580333300000001},{"$f":"IF('Physical Data'!AG15=\"\",\"\",'Physical Data'!AG15)","v":3.7448000000000001},{"$f":"IF('Physical Data'!AH15=\"\",\"\",'Physical Data'!AH15)","v":4.2320000000000002},{"$f":"IF('Physical Data'!AI15=\"\",\"\",'Physical Data'!AI15)","v":4.9473000000000003},{"$f":"IF('Physical Data'!AJ15=\"\",\"\",'Physical Data'!AJ15)","v":7.1453666699999996},{"$f":"IF('Physical Data'!AK15=\"\",\"\",'Physical Data'!AK15)","v":8.0556666700000008},{"$f":"IF('Physical Data'!AL15=\"\",\"\",'Physical Data'!AL15)","v":10.43953333},{"$f":"IF('Physical Data'!AM15=\"\",\"\",'Physical Data'!AM15)","v":12.05973333},{"$f":"IF('Physical Data'!AN15=\"\",\"\",'Physical Data'!AN15)","v":11.345733340000001},{"$f":"IF('Physical Data'!AO15=\"\",\"\",'Physical Data'!AO15)","v":9.8677666599999991},{"$f":"IF('Physical Data'!AP15=\"\",\"\",'Physical Data'!AP15)","v":7.5787333400000003},{"$f":"IF('Physical Data'!AQ15=\"\",\"\",'Physical Data'!AQ15)","v":5.2657999999999996},{"$f":"IF('Physical Data'!AR15=\"\",\"\",'Physical Data'!AR15)","v":3.37863333},{"$f":"IF('Physical Data'!AS15=\"\",\"\",'Physical Data'!AS15)","v":2.2343266700000002},{"$f":"IF('Physical Data'!AT15=\"\",\"\",'Physical Data'!AT15)","v":1.6455900000000001},{"$f":"IF('Physical Data'!AU15=\"\",\"\",'Physical Data'!AU15)","v":1.38724333},{"$f":"IF('Physical Data'!AV15=\"\",\"\",'Physical Data'!AV15)","v":1.27780333},{"$f":"IF('Physical Data'!AW15=\"\",\"\",'Physical Data'!AW15)","v":1.17039},{"$f":"IF('Physical Data'!AX15=\"\",\"\",'Physical Data'!AX15)","v":0.98008667000000005},{"$f":"IF('Physical Data'!AY15=\"\",\"\",'Physical Data'!AY15)","v":0.701044},{"$f":"IF('Physical Data'!AZ15=\"\",\"\",'Physical Data'!AZ15)","v":0.47187433000000001},{"$f":"IF('Physical Data'!BA15=\"\",\"\",'Physical Data'!BA15)","v":0.26766533999999997},{"$f":"IF('Physical Data'!BB15=\"\",\"\",'Physical Data'!BB15)","v":9.9814459999999994E-2},{"$f":"IF('Physical Data'!BC15=\"\",\"\",'Physical Data'!BC15)","v":1.1692289999999999E-2},{"$f":"IF('Physical Data'!BD15=\"\",\"\",'Physical Data'!BD15)","v":0},0,9.6682000000000006,0,0,9.6682000000000006,90.331797090000009,null,null,null,8,""]
[null,null,null,null,null,null,null,{"$f":"IF('Physical Data'!H16=\"\",\"\",'Physical Data'!H16)","v":"MAR02481.008"},{"$f":"IF('Physical Data'!I16=\"\",\"\",'Physical Data'!I16)","v":""},{"$f":"IF('Physical Data'!J16=\"\",\"\",'Physical Data'!J16)","v":8},{"$f":"IFERROR(IF(J16=\"\",\"\",(IF(VLOOKUP(J16,'Application info'!$K$8:$L$37,2,0)=\"y\",\"y\",\"\"))),\"Manual entry required\")","v":""},{"$f":"IF('Physical Data'!K16=\"\",\"\",'Physical Data'!K16)","v":"Black Mud with an Anoxic Odour."},{"$f":"IF('Physical Data'!L16=\"\",\"\",'Physical Data'!L16)","v":""},{"$f":"IF('Physical Data'!M16=\"\",\"\",'Physical Data'!M16)","v":""},{"$f":"IF('Physical Data'!N16=\"\",\"\",'Physical Data'!N16)","v":""},{"$f":"IF('Physical Data'!O16=\"\",\"\",'Physical Data'!O16)","v":0},{"$f":"IF('Physical Data'!P16=\"\",\"\",'Physical Data'!P16)","v":0},{"$f":"IF('Physical Data'!Q16=\"\",\"\",'Physical Data'!Q16)","v":0},{"$f":"IF('Physical Data'!R16=\"\",\"\",'Physical Data'!R16)","v":0},{"$f":"IF('Physical Data'!S16=\"\",\"\",'Physical Data'!S16)","v":0},{"$f":"IF('Physical Data'!T16=\"\",\"\",'Physical Data'!T16)","v":0},{"$f":"IF('Physical Data'!U16=\"\",\"\",'Physical Data'!U16)","v":0},{"$f":"IF('Physical Data'!V16=\"\",\"\",'Physical Data'!V16)","v":0},{"$f":"IF('Physical Data'!W16=\"\",\"\",'Physical Data'!W16)","v":0},{"$f":"IF('Physical Data'!X16=\"\",\"\",'Physical Data'!X16)","v":0},{"$f":"IF('Physical Data'!Y16=\"\",\"\",'Physical Data'!Y16)","v":0},{"$f":"IF('Physical Data'!Z16=\"\",\"\",'Physical Data'!Z16)","v":0},{"$f":"IF('Physical Data'!AA16=\"\",\"\",'Physical Data'!AA16)","v":0},{"$f":"IF('Physical Data'!AB16=\"\",\"\",'Physical Data'!AB16)","v":0},{"$f":"IF('Physical Data'!AC16=\"\",\"\",'Physical Data'!AC16)","v":1.7333400000000001E-3},{"$f":"IF('Physical Data'!AD16=\"\",\"\",'Physical Data'!AD16)","v":1.1724000000000001},{"$f":"IF('Physical Data'!AE16=\"\",\"\",'Physical Data'!AE16)","v":5.5940000000000003},{"$f":"IF('Physical Data'!AF16=\"\",\"\",'Physical Data'!AF16)","v":4.8884999999999996},{"$f":"IF('Physical Data'!AG16=\"\",\"\",'Physical Data'!AG16)","v":4.5088333299999999},{"$f":"IF('Physical Data'!AH16=\"\",\"\",'Physical Data'!AH16)","v":4.7872666700000002},{"$f":"IF('Physical Data'!AI16=\"\",\"\",'Physical Data'!AI16)","v":5.3619000000000003},{"$f":"IF('Physical Data'!AJ16=\"\",\"\",'Physical Data'!AJ16)","v":6.6721333300000003},{"$f":"IF('Physical Data'!AK16=\"\",\"\",'Physical Data'!AK16)","v":7.0578333300000002},{"$f":"IF('Physical Data'!AL16=\"\",\"\",'Physical Data'!AL16)","v":8.75533334},{"$f":"IF('Physical Data'!AM16=\"\",\"\",'Physical Data'!AM16)","v":9.4742666599999996},{"$f":"IF('Physical Data'!AN16=\"\",\"\",'Physical Data'!AN16)","v":8.5541},{"$f":"IF('Physical Data'!AO16=\"\",\"\",'Physical Data'!AO16)","v":7.5569333399999996},{"$f":"IF('Physical Data'!AP16=\"\",\"\",'Physical Data'!AP16)","v":6.0930333299999999},{"$f":"IF('Physical Data'!AQ16=\"\",\"\",'Physical Data'!AQ16)","v":4.5599666699999997},{"$f":"IF('Physical Data'!AR16=\"\",\"\",'Physical Data'!AR16)","v":3.3008333300000001},{"$f":"IF('Physical Data'!AS16=\"\",\"\",'Physical Data'!AS16)","v":2.5143},{"$f":"IF('Physical Data'!AT16=\"\",\"\",'Physical Data'!AT16)","v":2.00298},{"$f":"IF('Physical Data'!AU16=\"\",\"\",'Physical Data'!AU16)","v":1.68266333},{"$f":"IF('Physical Data'!AV16=\"\",\"\",'Physical Data'!AV16)","v":1.5082500000000001},{"$f":"IF('Physical Data'!AW16=\"\",\"\",'Physical Data'!AW16)","v":1.35054334},{"$f":"IF('Physical Data'!AX16=\"\",\"\",'Physical Data'!AX16)","v":1.0940799999999999},{"$f":"IF('Physical Data'!AY16=\"\",\"\",'Physical Data'!AY16)","v":0.732491},{"$f":"IF('Physical Data'!AZ16=\"\",\"\",'Physical Data'!AZ16)","v":0.45362799999999998},{"$f":"IF('Physical Data'!BA16=\"\",\"\",'Physical Data'!BA16)","v":0.23411825999999999},{"$f":"IF('Physical Data'!BB16=\"\",\"\",'Physical Data'!BB16)","v":7.9087610000000003E-2},{"$f":"IF('Physical Data'!BC16=\"\",\"\",'Physical Data'!BC16)","v":8.7895899999999999E-3},{"$f":"IF('Physical Data'!BD16=\"\",\"\",'Physical Data'!BD16)","v":0},0,20.952733340000002,0,1.17413334,19.778600000000001,79.047264460000008,null,null,null,9,""]
[null,null,null,null,null,null,null,{"$f":"IF('Physical Data'!H17=\"\",\"\",'Physical Data'!H17)","v":"MAR02481.009"},{"$f":"IF('Physical Data'!I17=\"\",\"\",'Physical Data'!I17)","v":""},{"$f":"IF('Physical Data'!J17=\"\",\"\",'Physical Data'!J17)","v":9},{"$f":"IFERROR(IF(J17=\"\",\"\",(IF(VLOOKUP(J17,'Application info'!$K$8:$L$37,2,0)=\"y\",\"y\",\"\"))),\"Manual entry required\")","v":""},{"$f":"IF('Physical Data'!K17=\"\",\"\",'Physical Data'!K17)","v":"Black Mud with an Anoxic Odour."},{"$f":"IF('Physical Data'!L17=\"\",\"\",'Physical Data'!L17)","v":""},{"$f":"IF('Physical Data'!M17=\"\",\"\",'Physical Data'!M17)","v":""},{"$f":"IF('Physical Data'!N17=\"\",\"\",'Physical Data'!N17)","v":""},{"$f":"IF('Physical Data'!O17=\"\",\"\",'Physical Data'!O17)","v":0},{"$f":"IF('Physical Data'!P17=\"\",\"\",'Physical Data'!P17)","v":0},{"$f":"IF('Physical Data'!Q17=\"\",\"\",'Physical Data'!Q17)","v":0},{"$f":"IF('Physical Data'!R17=\"\",\"\",'Physical Data'!R17)","v":0},{"$f":"IF('Physical Data'!S17=\"\",\"\",'Physical Data'!S17)","v":0},{"$f":"IF('Physical Data'!T17=\"\",\"\",'Physical Data'!T17)","v":0},{"$f":"IF('Physical Data'!U17=\"\",\"\",'Physical Data'!U17)","v":0},{"$f":"IF('Physical Data'!V17=\"\",\"\",'Physical Data'!V17)","v":0},{"$f":"IF('Physical Data'!W17=\"\",\"\",'Physical Data'!W17)","v":0},{"$f":"IF('Physical Data'!X17=\"\",\"\",'Physical Data'!X17)","v":0},{"$f":"IF('Physical Data'!Y17=\"\",\"\",'Physical Data'!Y17)","v":0},{"$f":"IF('Physical Data'!Z17=\"\",\"\",'Physical Data'!Z17)","v":0},{"$f":"IF('Physical Data'!AA17=\"\",\"\",'Physical Data'!AA17)","v":0},{"$f":"IF('Physical Data'!AB17=\"\",\"\",'Physical Data'!AB17)","v":0},{"$f":"IF('Physical Data'!AC17=\"\",\"\",'Physical Data'!AC17)","v":0},{"$f":"IF('Physical Data'!AD17=\"\",\"\",'Physical Data'!AD17)","v":0},{"$f":"IF('Physical Data'!AE17=\"\",\"\",'Physical Data'!AE17)","v":0},{"$f":"IF('Physical Data'!AF17=\"\",\"\",'Physical Data'!AF17)","v":8.8433339999999999E-2},{"$f":"IF('Physical Data'!AG17=\"\",\"\",'Physical Data'!AG17)","v":1.76716666},{"$f":"IF('Physical Data'!AH17=\"\",\"\",'Physical Data'!AH17)","v":3.7852999999999999},{"$f":"IF('Physical Data'!AI17=\"\",\"\",'Physical Data'!AI17)","v":5.6314000000000002},{"$f":"IF('Physical Data'!AJ17=\"\",\"\",'Physical Data'!AJ17)","v":6.7264666699999998},{"$f":"IF('Physical Data'!AK17=\"\",\"\",'Physical Data'!AK17)","v":7.2495333300000002},{"$f":"IF('Physical Data'!AL17=\"\",\"\",'Physical Data'!AL17)","v":9.5109666700000002},{"$f":"IF('Physical Data'!AM17=\"\",\"\",'Physical Data'!AM17)","v":10.519666669999999},{"$f":"IF('Physical Data'!AN17=\"\",\"\",'Physical Data'!AN17)","v":9.5161333300000006},{"$f":"IF('Physical Data'!AO17=\"\",\"\",'Physical Data'!AO17)","v":8.4251000000000005},{"$f":"IF('Physical Data'!AP17=\"\",\"\",'Physical Data'!AP17)","v":6.8583333299999998},{"$f":"IF('Physical Data'!AQ17=\"\",\"\",'Physical Data'!AQ17)","v":5.3067333400000001},{"$f":"IF('Physical Data'!AR17=\"\",\"\",'Physical Data'!AR17)","v":4.2321999999999997},{"$f":"IF('Physical Data'!AS17=\"\",\"\",'Physical Data'!AS17)","v":3.7409333299999998},{"$f":"IF('Physical Data'!AT17=\"\",\"\",'Physical Data'!AT17)","v":3.4040333299999999},{"$f":"IF('Physical Data'!AU17=\"\",\"\",'Physical Data'!AU17)","v":3.0473233400000002},{"$f":"IF('Physical Data'!AV17=\"\",\"\",'Physical Data'!AV17)","v":2.7251133300000001},{"$f":"IF('Physical Data'!AW17=\"\",\"\",'Physical Data'!AW17)","v":2.3847733299999998},{"$f":"IF('Physical Data'!AX17=\"\",\"\",'Physical Data'!AX17)","v":1.94850334},{"$f":"IF('Physical Data'!AY17=\"\",\"\",'Physical Data'!AY17)","v":1.39334},{"$f":"IF('Physical Data'!AZ17=\"\",\"\",'Physical Data'!AZ17)","v":0.95548133000000002},{"$f":"IF('Physical Data'!BA17=\"\",\"\",'Physical Data'!BA17)","v":0.55322632999999999},{"$f":"IF('Physical Data'!BB17=\"\",\"\",'Physical Data'!BB17)","v":0.20621790000000001},{"$f":"IF('Physical Data'!BC17=\"\",\"\",'Physical Data'!BC17)","v":2.3614820000000002E-2},{"$f":"IF('Physical Data'!BD17=\"\",\"\",'Physical Data'!BD17)","v":0},0,5.6409000000000002,0,0,5.6409000000000002,94.359093720000018,null,null,null,10,""]
[null,null,null,null,null,null,null,{"$f":"IF('Physical Data'!H18=\"\",\"\",'Physical Data'!H18)","v":"MAR02481.010"},{"$f":"IF('Physical Data'!I18=\"\",\"\",'Physical Data'!I18)","v":""},{"$f":"IF('Physical Data'!J18=\"\",\"\",'Physical Data'!J18)","v":10},{"$f":"IFERROR(IF(J18=\"\",\"\",(IF(VLOOKUP(J18,'Application info'!$K$8:$L$37,2,0)=\"y\",\"y\",\"\"))),\"Manual entry required\")","v":""},{"$f":"IF('Physical Data'!K18=\"\",\"\",'Physical Data'!K18)","v":"Black Mud with Organic Matter and Shell Fragments and an Anoxic Odour."},{"$f":"IF('Physical Data'!L18=\"\",\"\",'Physical Data'!L18)","v":""},{"$f":"IF('Physical Data'!M18=\"\",\"\",'Physical Data'!M18)","v":""},{"$f":"IF('Physical Data'!N18=\"\",\"\",'Physical Data'!N18)","v":""},{"$f":"IF('Physical Data'!O18=\"\",\"\",'Physical Data'!O18)","v":0},{"$f":"IF('Physical Data'!P18=\"\",\"\",'Physical Data'!P18)","v":0},{"$f":"IF('Physical Data'!Q18=\"\",\"\",'Physical Data'!Q18)","v":0},{"$f":"IF('Physical Data'!R18=\"\",\"\",'Physical Data'!R18)","v":0},{"$f":"IF('Physical Data'!S18=\"\",\"\",'Physical Data'!S18)","v":0},{"$f":"IF('Physical Data'!T18=\"\",\"\",'Physical Data'!T18)","v":0},{"$f":"IF('Physical Data'!U18=\"\",\"\",'Physical Data'!U18)","v":4.6001E-2},{"$f":"IF('Physical Data'!V18=\"\",\"\",'Physical Data'!V18)","v":0.386411},{"$f":"IF('Physical Data'!W18=\"\",\"\",'Physical Data'!W18)","v":0.80732300000000001},{"$f":"IF('Physical Data'!X18=\"\",\"\",'Physical Data'!X18)","v":0.391011},{"$f":"IF('Physical Data'!Y18=\"\",\"\",'Physical Data'!Y18)","v":0.170205},{"$f":"IF('Physical Data'!Z18=\"\",\"\",'Physical Data'!Z18)","v":0.14490400000000001},{"$f":"IF('Physical Data'!AA18=\"\",\"\",'Physical Data'!AA18)","v":0},{"$f":"IF('Physical Data'!AB18=\"\",\"\",'Physical Data'!AB18)","v":0},{"$f":"IF('Physical Data'!AC18=\"\",\"\",'Physical Data'!AC18)","v":0},{"$f":"IF('Physical Data'!AD18=\"\",\"\",'Physical Data'!AD18)","v":0},{"$f":"IF('Physical Data'!AE18=\"\",\"\",'Physical Data'!AE18)","v":0},{"$f":"IF('Physical Data'!AF18=\"\",\"\",'Physical Data'!AF18)","v":0},{"$f":"IF('Physical Data'!AG18=\"\",\"\",'Physical Data'!AG18)","v":0.140871},{"$f":"IF('Physical Data'!AH18=\"\",\"\",'Physical Data'!AH18)","v":3.5685500000000001},{"$f":"IF('Physical Data'!AI18=\"\",\"\",'Physical Data'!AI18)","v":7.2422789999999999},{"$f":"IF('Physical Data'!AJ18=\"\",\"\",'Physical Data'!AJ18)","v":7.3461509999999999},{"$f":"IF('Physical Data'!AK18=\"\",\"\",'Physical Data'!AK18)","v":7.7032319999999999},{"$f":"IF('Physical Data'!AL18=\"\",\"\",'Physical Data'!AL18)","v":9.7552760000000003},{"$f":"IF('Physical Data'!AM18=\"\",\"\",'Physical Data'!AM18)","v":10.442373999999999},{"$f":"IF('Physical Data'!AN18=\"\",\"\",'Physical Data'!AN18)","v":9.3775060000000003},{"$f":"IF('Physical Data'!AO18=\"\",\"\",'Physical Data'!AO18)","v":8.2833860000000001},{"$f":"IF('Physical Data'!AP18=\"\",\"\",'Physical Data'!AP18)","v":6.7157280000000004},{"$f":"IF('Physical Data'!AQ18=\"\",\"\",'Physical Data'!AQ18)","v":5.1489209999999996},{"$f":"IF('Physical Data'!AR18=\"\",\"\",'Physical Data'!AR18)","v":4.0255470000000004},{"$f":"IF('Physical Data'!AS18=\"\",\"\",'Physical Data'!AS18)","v":3.477948},{"$f":"IF('Physical Data'!AT18=\"\",\"\",'Physical Data'!AT18)","v":3.1168469999999999},{"$f":"IF('Physical Data'!AU18=\"\",\"\",'Physical Data'!AU18)","v":2.7548379999999999},{"$f":"IF('Physical Data'!AV18=\"\",\"\",'Physical Data'!AV18)","v":2.4242710000000001},{"$f":"IF('Physical Data'!AW18=\"\",\"\",'Physical Data'!AW18)","v":2.087367},{"$f":"IF('Physical Data'!AX18=\"\",\"\",'Physical Data'!AX18)","v":1.69048},{"$f":"IF('Physical Data'!AY18=\"\",\"\",'Physical Data'!AY18)","v":1.2132860000000001},{"$f":"IF('Physical Data'!AZ18=\"\",\"\",'Physical Data'!AZ18)","v":0.83830499999999997},{"$f":"IF('Physical Data'!BA18=\"\",\"\",'Physical Data'!BA18)","v":0.49106100000000003},{"$f":"IF('Physical Data'!BB18=\"\",\"\",'Physical Data'!BB18)","v":0.18779799999999999},{"$f":"IF('Physical Data'!BC18=\"\",\"\",'Physical Data'!BC18)","v":2.2117000000000001E-2},{"$f":"IF('Physical Data'!BD18=\"\",\"\",'Physical Data'!BD18)","v":0},1.630746,4.0245300000000004,0.31510899999999997,0,3.7094210000000003,94.344718000000015,null,null,null,11,""]
[null,null,null,null,null,null,null,{"$f":"IF('Physical Data'!H19=\"\",\"\",'Physical Data'!H19)","v":"MAR02481.011"},{"$f":"IF('Physical Data'!I19=\"\",\"\",'Physical Data'!I19)","v":""},{"$f":"IF('Physical Data'!J19=\"\",\"\",'Physical Data'!J19)","v":11},{"$f":"IFERROR(IF(J19=\"\",\"\",(IF(VLOOKUP(J19,'Application info'!$K$8:$L$37,2,0)=\"y\",\"y\",\"\"))),\"Manual entry required\")","v":""},{"$f":"IF('Physical Data'!K19=\"\",\"\",'Physical Data'!K19)","v":"Black Mud with an Anoxic Odour."},{"$f":"IF('Physical Data'!L19=\"\",\"\",'Physical Data'!L19)","v":""},{"$f":"IF('Physical Data'!M19=\"\",\"\",'Physical Data'!M19)","v":""},{"$f":"IF('Physical Data'!N19=\"\",\"\",'Physical Data'!N19)","v":""},{"$f":"IF('Physical Data'!O19=\"\",\"\",'Physical Data'!O19)","v":0},{"$f":"IF('Physical Data'!P19=\"\",\"\",'Physical Data'!P19)","v":0},{"$f":"IF('Physical Data'!Q19=\"\",\"\",'Physical Data'!Q19)","v":0},{"$f":"IF('Physical Data'!R19=\"\",\"\",'Physical Data'!R19)","v":0},{"$f":"IF('Physical Data'!S19=\"\",\"\",'Physical Data'!S19)","v":0},{"$f":"IF('Physical Data'!T19=\"\",\"\",'Physical Data'!T19)","v":0},{"$f":"IF('Physical Data'!U19=\"\",\"\",'Physical Data'!U19)","v":0},{"$f":"IF('Physical Data'!V19=\"\",\"\",'Physical Data'!V19)","v":0},{"$f":"IF('Physical Data'!W19=\"\",\"\",'Physical Data'!W19)","v":0},{"$f":"IF('Physical Data'!X19=\"\",\"\",'Physical Data'!X19)","v":0},{"$f":"IF('Physical Data'!Y19=\"\",\"\",'Physical Data'!Y19)","v":0},{"$f":"IF('Physical Data'!Z19=\"\",\"\",'Physical Data'!Z19)","v":0},{"$f":"IF('Physical Data'!AA19=\"\",\"\",'Physical Data'!AA19)","v":0},{"$f":"IF('Physical Data'!AB19=\"\",\"\",'Physical Data'!AB19)","v":0},{"$f":"IF('Physical Data'!AC19=\"\",\"\",'Physical Data'!AC19)","v":0},{"$f":"IF('Physical Data'!AD19=\"\",\"\",'Physical Data'!AD19)","v":0},{"$f":"IF('Physical Data'!AE19=\"\",\"\",'Physical Data'!AE19)","v":0},{"$f":"IF('Physical Data'!AF19=\"\",\"\",'Physical Data'!AF19)","v":3.8899999999999997E-2},{"$f":"IF('Physical Data'!AG19=\"\",\"\",'Physical Data'!AG19)","v":2.8124666700000001},{"$f":"IF('Physical Data'!AH19=\"\",\"\",'Physical Data'!AH19)","v":6.5242666700000003},{"$f":"IF('Physical Data'!AI19=\"\",\"\",'Physical Data'!AI19)","v":7.37613333},{"$f":"IF('Physical Data'!AJ19=\"\",\"\",'Physical Data'!AJ19)","v":8.2647999999999993},{"$f":"IF('Physical Data'!AK19=\"\",\"\",'Physical Data'!AK19)","v":8.4453999999999994},{"$f":"IF('Physical Data'!AL19=\"\",\"\",'Physical Data'!AL19)","v":9.7842666699999992},{"$f":"IF('Physical Data'!AM19=\"\",\"\",'Physical Data'!AM19)","v":9.8577999999999992},{"$f":"IF('Physical Data'!AN19=\"\",\"\",'Physical Data'!AN19)","v":8.6765666600000007},{"$f":"IF('Physical Data'!AO19=\"\",\"\",'Physical Data'!AO19)","v":7.7244000000000002},{"$f":"IF('Physical Data'!AP19=\"\",\"\",'Physical Data'!AP19)","v":6.4239666700000004},{"$f":"IF('Physical Data'!AQ19=\"\",\"\",'Physical Data'!AQ19)","v":5.0401333299999997},{"$f":"IF('Physical Data'!AR19=\"\",\"\",'Physical Data'!AR19)","v":3.8290000000000002},{"$f":"IF('Physical Data'!AS19=\"\",\"\",'Physical Data'!AS19)","v":3.03276667},{"$f":"IF('Physical Data'!AT19=\"\",\"\",'Physical Data'!AT19)","v":2.50393},{"$f":"IF('Physical Data'!AU19=\"\",\"\",'Physical Data'!AU19)","v":2.1483966699999999},{"$f":"IF('Physical Data'!AV19=\"\",\"\",'Physical Data'!AV19)","v":1.92188666},{"$f":"IF('Physical Data'!AW19=\"\",\"\",'Physical Data'!AW19)","v":1.7155233400000001},{"$f":"IF('Physical Data'!AX19=\"\",\"\",'Physical Data'!AX19)","v":1.43835},{"$f":"IF('Physical Data'!AY19=\"\",\"\",'Physical Data'!AY19)","v":1.0611633300000001},{"$f":"IF('Physical Data'!AZ19=\"\",\"\",'Physical Data'!AZ19)","v":0.74533167},{"$f":"IF('Physical Data'!BA19=\"\",\"\",'Physical Data'!BA19)","v":0.442054},{"$f":"IF('Physical Data'!BB19=\"\",\"\",'Physical Data'!BB19)","v":0.17192532999999999},{"$f":"IF('Physical Data'!BC19=\"\",\"\",'Physical Data'!BC19)","v":2.0567220000000001E-2},{"$f":"IF('Physical Data'!BD19=\"\",\"\",'Physical Data'!BD19)","v":0},0,9.3756333400000003,0,0,9.3756333400000003,90.624361549999989,null,null,null,12,""]
[null,null,null,null,null,null,null,{"$f":"IF('Physical Data'!H20=\"\",\"\",'Physical Data'!H20)","v":"MAR02481.012"},{"$f":"IF('Physical Data'!I20=\"\",\"\",'Physical Data'!I20)","v":""},{"$f":"IF('Physical Data'!J20=\"\",\"\",'Physical Data'!J20)","v":12},{"$f":"IFERROR(IF(J20=\"\",\"\",(IF(VLOOKUP(J20,'Application info'!$K$8:$L$37,2,0)=\"y\",\"y\",\"\"))),\"Manual entry required\")","v":""},{"$f":"IF('Physical Data'!K20=\"\",\"\",'Physical Data'!K20)","v":"Black Mud with an Anoxic Odour."},{"$f":"IF('Physical Data'!L20=\"\",\"\",'Physical Data'!L20)","v":""},{"$f":"IF('Physical Data'!M20=\"\",\"\",'Physical Data'!M20)","v":""},{"$f":"IF('Physical Data'!N20=\"\",\"\",'Physical Data'!N20)","v":""},{"$f":"IF('Physical Data'!O20=\"\",\"\",'Physical Data'!O20)","v":0},{"$f":"IF('Physical Data'!P20=\"\",\"\",'Physical Data'!P20)","v":0},{"$f":"IF('Physical Data'!Q20=\"\",\"\",'Physical Data'!Q20)","v":0},{"$f":"IF('Physical Data'!R20=\"\",\"\",'Physical Data'!R20)","v":0},{"$f":"IF('Physical Data'!S20=\"\",\"\",'Physical Data'!S20)","v":0},{"$f":"IF('Physical Data'!T20=\"\",\"\",'Physical Data'!T20)","v":0},{"$f":"IF('Physical Data'!U20=\"\",\"\",'Physical Data'!U20)","v":0},{"$f":"IF('Physical Data'!V20=\"\",\"\",'Physical Data'!V20)","v":0},{"$f":"IF('Physical Data'!W20=\"\",\"\",'Physical Data'!W20)","v":0},{"$f":"IF('Physical Data'!X20=\"\",\"\",'Physical Data'!X20)","v":0},{"$f":"IF('Physical Data'!Y20=\"\",\"\",'Physical Data'!Y20)","v":0},{"$f":"IF('Physical Data'!Z20=\"\",\"\",'Physical Data'!Z20)","v":0},{"$f":"IF('Physical Data'!AA20=\"\",\"\",'Physical Data'!AA20)","v":0},{"$f":"IF('Physical Data'!AB20=\"\",\"\",'Physical Data'!AB20)","v":0},{"$f":"IF('Physical Data'!AC20=\"\",\"\",'Physical Data'!AC20)","v":0},{"$f":"IF('Physical Data'!AD20=\"\",\"\",'Physical Data'!AD20)","v":0},{"$f":"IF('Physical Data'!AE20=\"\",\"\",'Physical Data'!AE20)","v":0.19853334},{"$f":"IF('Physical Data'!AF20=\"\",\"\",'Physical Data'!AF20)","v":2.6532},{"$f":"IF('Physical Data'!AG20=\"\",\"\",'Physical Data'!AG20)","v":3.40913333},{"$f":"IF('Physical Data'!AH20=\"\",\"\",'Physical Data'!AH20)","v":4.4970666699999997},{"$f":"IF('Physical Data'!AI20=\"\",\"\",'Physical Data'!AI20)","v":6.0753000000000004},{"$f":"IF('Physical Data'!AJ20=\"\",\"\",'Physical Data'!AJ20)","v":7.64176666},{"$f":"IF('Physical Data'!AK20=\"\",\"\",'Physical Data'!AK20)","v":8.0198},{"$f":"IF('Physical Data'!AL20=\"\",\"\",'Physical Data'!AL20)","v":9.5498333399999993},{"$f":"IF('Physical Data'!AM20=\"\",\"\",'Physical Data'!AM20)","v":9.7114666599999993},{"$f":"IF('Physical Data'!AN20=\"\",\"\",'Physical Data'!AN20)","v":8.4616333400000006},{"$f":"IF('Physical Data'!AO20=\"\",\"\",'Physical Data'!AO20)","v":7.6194666599999996},{"$f":"IF('Physical Data'!AP20=\"\",\"\",'Physical Data'!AP20)","v":6.4272333399999999},{"$f":"IF('Physical Data'!AQ20=\"\",\"\",'Physical Data'!AQ20)","v":5.0698999999999996},{"$f":"IF('Physical Data'!AR20=\"\",\"\",'Physical Data'!AR20)","v":3.9168666600000002},{"$f":"IF('Physical Data'!AS20=\"\",\"\",'Physical Data'!AS20)","v":3.202},{"$f":"IF('Physical Data'!AT20=\"\",\"\",'Physical Data'!AT20)","v":2.7018666699999998},{"$f":"IF('Physical Data'!AU20=\"\",\"\",'Physical Data'!AU20)","v":2.3642366699999999},{"$f":"IF('Physical Data'!AV20=\"\",\"\",'Physical Data'!AV20)","v":2.1863866600000001},{"$f":"IF('Physical Data'!AW20=\"\",\"\",'Physical Data'!AW20)","v":2.0142500000000001},{"$f":"IF('Physical Data'!AX20=\"\",\"\",'Physical Data'!AX20)","v":1.69145334},{"$f":"IF('Physical Data'!AY20=\"\",\"\",'Physical Data'!AY20)","v":1.19296},{"$f":"IF('Physical Data'!AZ20=\"\",\"\",'Physical Data'!AZ20)","v":0.78819766000000002},{"$f":"IF('Physical Data'!BA20=\"\",\"\",'Physical Data'!BA20)","v":0.43582067000000002},{"$f":"IF('Physical Data'!BB20=\"\",\"\",'Physical Data'!BB20)","v":0.15447067},{"$f":"IF('Physical Data'!BC20=\"\",\"\",'Physical Data'!BC20)","v":1.715303E-2},{"$f":"IF('Physical Data'!BD20=\"\",\"\",'Physical Data'!BD20)","v":0},0,10.757933340000001,0,0,10.757933340000001,89.242062029999971,null,null,null,13,""]
[null,null,null,null,null,null,null,{"$f":"IF('Physical Data'!H21=\"\",\"\",'Physical Data'!H21)","v":"MAR02481.013"},{"$f":"IF('Physical Data'!I21=\"\",\"\",'Physical Data'!I21)","v":""},{"$f":"IF('Physical Data'!J21=\"\",\"\",'Physical Data'!J21)","v":13},{"$f":"IFERROR(IF(J21=\"\",\"\",(IF(VLOOKUP(J21,'Application info'!$K$8:$L$37,2,0)=\"y\",\"y\",\"\"))),\"Manual entry required\")","v":""},{"$f":"IF('Physical Data'!K21=\"\",\"\",'Physical Data'!K21)","v":"Black Mud with an Anoxic Odour."},{"$f":"IF('Physical Data'!L21=\"\",\"\",'Physical Data'!L21)","v":""},{"$f":"IF('Physical Data'!M21=\"\",\"\",'Physical Data'!M21)","v":""},{"$f":"IF('Physical Data'!N21=\"\",\"\",'Physical Data'!N21)","v":""},{"$f":"IF('Physical Data'!O21=\"\",\"\",'Physical Data'!O21)","v":0},{"$f":"IF('Physical Data'!P21=\"\",\"\",'Physical Data'!P21)","v":0},{"$f":"IF('Physical Data'!Q21=\"\",\"\",'Physical Data'!Q21)","v":0},{"$f":"IF('Physical Data'!R21=\"\",\"\",'Physical Data'!R21)","v":0},{"$f":"IF('Physical Data'!S21=\"\",\"\",'Physical Data'!S21)","v":0},{"$f":"IF('Physical Data'!T21=\"\",\"\",'Physical Data'!T21)","v":0},{"$f":"IF('Physical Data'!U21=\"\",\"\",'Physical Data'!U21)","v":0},{"$f":"IF('Physical Data'!V21=\"\",\"\",'Physical Data'!V21)","v":0},{"$f":"IF('Physical Data'!W21=\"\",\"\",'Physical Data'!W21)","v":0},{"$f":"IF('Physical Data'!X21=\"\",\"\",'Physical Data'!X21)","v":0},{"$f":"IF('Physical Data'!Y21=\"\",\"\",'Physical Data'!Y21)","v":0},{"$f":"IF('Physical Data'!Z21=\"\",\"\",'Physical Data'!Z21)","v":0},{"$f":"IF('Physical Data'!AA21=\"\",\"\",'Physical Data'!AA21)","v":0},{"$f":"IF('Physical Data'!AB21=\"\",\"\",'Physical Data'!AB21)","v":0},{"$f":"IF('Physical Data'!AC21=\"\",\"\",'Physical Data'!AC21)","v":0},{"$f":"IF('Physical Data'!AD21=\"\",\"\",'Physical Data'!AD21)","v":0},{"$f":"IF('Physical Data'!AE21=\"\",\"\",'Physical Data'!AE21)","v":6.9900000000000004E-2},{"$f":"IF('Physical Data'!AF21=\"\",\"\",'Physical Data'!AF21)","v":3.2714333400000002},{"$f":"IF('Physical Data'!AG21=\"\",\"\",'Physical Data'!AG21)","v":5.0750666600000001},{"$f":"IF('Physical Data'!AH21=\"\",\"\",'Physical Data'!AH21)","v":5.2807000000000004},{"$f":"IF('Physical Data'!AI21=\"\",\"\",'Physical Data'!AI21)","v":5.99653334},{"$f":"IF('Physical Data'!AJ21=\"\",\"\",'Physical Data'!AJ21)","v":7.4962666599999999},{"$f":"IF('Physical Data'!AK21=\"\",\"\",'Physical Data'!AK21)","v":8.0121666699999992},{"$f":"IF('Physical Data'!AL21=\"\",\"\",'Physical Data'!AL21)","v":9.7459333299999997},{"$f":"IF('Physical Data'!AM21=\"\",\"\",'Physical Data'!AM21)","v":10.5159},{"$f":"IF('Physical Data'!AN21=\"\",\"\",'Physical Data'!AN21)","v":9.7101000000000006},{"$f":"IF('Physical Data'!AO21=\"\",\"\",'Physical Data'!AO21)","v":8.5975000000000001},{"$f":"IF('Physical Data'!AP21=\"\",\"\",'Physical Data'!AP21)","v":6.8095666699999997},{"$f":"IF('Physical Data'!AQ21=\"\",\"\",'Physical Data'!AQ21)","v":4.9069333300000002},{"$f":"IF('Physical Data'!AR21=\"\",\"\",'Physical Data'!AR21)","v":3.3136000000000001},{"$f":"IF('Physical Data'!AS21=\"\",\"\",'Physical Data'!AS21)","v":2.3559933399999999},{"$f":"IF('Physical Data'!AT21=\"\",\"\",'Physical Data'!AT21)","v":1.85295666},{"$f":"IF('Physical Data'!AU21=\"\",\"\",'Physical Data'!AU21)","v":1.58342},{"$f":"IF('Physical Data'!AV21=\"\",\"\",'Physical Data'!AV21)","v":1.4120866700000001},{"$f":"IF('Physical Data'!AW21=\"\",\"\",'Physical Data'!AW21)","v":1.24285},{"$f":"IF('Physical Data'!AX21=\"\",\"\",'Physical Data'!AX21)","v":1.0257000000000001},{"$f":"IF('Physical Data'!AY21=\"\",\"\",'Physical Data'!AY21)","v":0.75003567000000004},{"$f":"IF('Physical Data'!AZ21=\"\",\"\",'Physical Data'!AZ21)","v":0.52621865999999995},{"$f":"IF('Physical Data'!BA21=\"\",\"\",'Physical Data'!BA21)","v":0.31269999999999998},{"$f":"IF('Physical Data'!BB21=\"\",\"\",'Physical Data'!BB21)","v":0.12185989999999999},{"$f":"IF('Physical Data'!BC21=\"\",\"\",'Physical Data'!BC21)","v":1.457546E-2},{"$f":"IF('Physical Data'!BD21=\"\",\"\",'Physical Data'!BD21)","v":0},0,13.697099999999999,0,0,13.697099999999999,86.302896360000005,null,null,null,15,""]
[null,null,null,null,null,null,null,{"$f":"IF('Physical Data'!H22=\"\",\"\",'Physical Data'!H22)","v":"MAR02481.014"},{"$f":"IF('Physical Data'!I22=\"\",\"\",'Physical Data'!I22)","v":""},{"$f":"IF('Physical Data'!J22=\"\",\"\",'Physical Data'!J22)","v":15},{"$f":"IFERROR(IF(J22=\"\",\"\",(IF(VLOOKUP(J22,'Application info'!$K$8:$L$37,2,0)=\"y\",\"y\",\"\"))),\"Manual entry required\")","v":""},{"$f":"IF('Physical Data'!K22=\"\",\"\",'Physical Data'!K22)","v":"Black Mud with Organic Matter and Shell Fragments and an Anoxic Odour."},{"$f":"IF('Physical Data'!L22=\"\",\"\",'Physical Data'!L22)","v":""},{"$f":"IF('Physical Data'!M22=\"\",\"\",'Physical Data'!M22)","v":""},{"$f":"IF('Physical Data'!N22=\"\",\"\",'Physical Data'!N22)","v":""},{"$f":"IF('Physical Data'!O22=\"\",\"\",'Physical Data'!O22)","v":0},{"$f":"IF('Physical Data'!P22=\"\",\"\",'Physical Data'!P22)","v":0},{"$f":"IF('Physical Data'!Q22=\"\",\"\",'Physical Data'!Q22)","v":0},{"$f":"IF('Physical Data'!R22=\"\",\"\",'Physical Data'!R22)","v":0},{"$f":"IF('Physical Data'!S22=\"\",\"\",'Physical Data'!S22)","v":0},{"$f":"IF('Physical Data'!T22=\"\",\"\",'Physical Data'!T22)","v":0},{"$f":"IF('Physical Data'!U22=\"\",\"\",'Physical Data'!U22)","v":0},{"$f":"IF('Physical Data'!V22=\"\",\"\",'Physical Data'!V22)","v":0},{"$f":"IF('Physical Data'!W22=\"\",\"\",'Physical Data'!W22)","v":0},{"$f":"IF('Physical Data'!X22=\"\",\"\",'Physical Data'!X22)","v":0},{"$f":"IF('Physical Data'!Y22=\"\",\"\",'Physical Data'!Y22)","v":0},{"$f":"IF('Physical Data'!Z22=\"\",\"\",'Physical Data'!Z22)","v":0},{"$f":"IF('Physical Data'!AA22=\"\",\"\",'Physical Data'!AA22)","v":0},{"$f":"IF('Physical Data'!AB22=\"\",\"\",'Physical Data'!AB22)","v":0},{"$f":"IF('Physical Data'!AC22=\"\",\"\",'Physical Data'!AC22)","v":3.1333400000000001E-3},{"$f":"IF('Physical Data'!AD22=\"\",\"\",'Physical Data'!AD22)","v":1.79583333},{"$f":"IF('Physical Data'!AE22=\"\",\"\",'Physical Data'!AE22)","v":7.9363000000000001},{"$f":"IF('Physical Data'!AF22=\"\",\"\",'Physical Data'!AF22)","v":6.4545333300000003},{"$f":"IF('Physical Data'!AG22=\"\",\"\",'Physical Data'!AG22)","v":4.8798000000000004},{"$f":"IF('Physical Data'!AH22=\"\",\"\",'Physical Data'!AH22)","v":5.4371333399999999},{"$f":"IF('Physical Data'!AI22=\"\",\"\",'Physical Data'!AI22)","v":5.8387000000000002},{"$f":"IF('Physical Data'!AJ22=\"\",\"\",'Physical Data'!AJ22)","v":6.9034333300000004},{"$f":"IF('Physical Data'!AK22=\"\",\"\",'Physical Data'!AK22)","v":6.7140000000000004},{"$f":"IF('Physical Data'!AL22=\"\",\"\",'Physical Data'!AL22)","v":7.6218333300000003},{"$f":"IF('Physical Data'!AM22=\"\",\"\",'Physical Data'!AM22)","v":8.0167999999999999},{"$f":"IF('Physical Data'!AN22=\"\",\"\",'Physical Data'!AN22)","v":7.2450666699999999},{"$f":"IF('Physical Data'!AO22=\"\",\"\",'Physical Data'!AO22)","v":6.4556333300000004},{"$f":"IF('Physical Data'!AP22=\"\",\"\",'Physical Data'!AP22)","v":5.2874333399999998},{"$f":"IF('Physical Data'!AQ22=\"\",\"\",'Physical Data'!AQ22)","v":3.99736666},{"$f":"IF('Physical Data'!AR22=\"\",\"\",'Physical Data'!AR22)","v":2.7242999999999999},{"$f":"IF('Physical Data'!AS22=\"\",\"\",'Physical Data'!AS22)","v":1.7398333399999999},{"$f":"IF('Physical Data'!AT22=\"\",\"\",'Physical Data'!AT22)","v":1.3280533299999999},{"$f":"IF('Physical Data'!AU22=\"\",\"\",'Physical Data'!AU22)","v":1.7066699999999999},{"$f":"IF('Physical Data'!AV22=\"\",\"\",'Physical Data'!AV22)","v":2.4599600000000001},{"$f":"IF('Physical Data'!AW22=\"\",\"\",'Physical Data'!AW22)","v":2.71927333},{"$f":"IF('Physical Data'!AX22=\"\",\"\",'Physical Data'!AX22)","v":1.932088},{"$f":"IF('Physical Data'!AY22=\"\",\"\",'Physical Data'!AY22)","v":0.70824704000000005},{"$f":"IF('Physical Data'!AZ22=\"\",\"\",'Physical Data'!AZ22)","v":9.4348009999999996E-2},{"$f":"IF('Physical Data'!BA22=\"\",\"\",'Physical Data'!BA22)","v":2.2694999999999999E-4},{"$f":"IF('Physical Data'!BB22=\"\",\"\",'Physical Data'!BB22)","v":0},{"$f":"IF('Physical Data'!BC22=\"\",\"\",'Physical Data'!BC22)","v":0},{"$f":"IF('Physical Data'!BD22=\"\",\"\",'Physical Data'!BD22)","v":0},0,26.506733339999997,0,1.79896667,24.707766669999998,73.493266660000003,null,null,null,17,""]
[null,null,null,null,null,null,null,{"$f":"IF('Physical Data'!H23=\"\",\"\",'Physical Data'!H23)","v":"MAR02481.015"},{"$f":"IF('Physical Data'!I23=\"\",\"\",'Physical Data'!I23)","v":""},{"$f":"IF('Physical Data'!J23=\"\",\"\",'Physical Data'!J23)","v":17},{"$f":"IFERROR(IF(J23=\"\",\"\",(IF(VLOOKUP(J23,'Application info'!$K$8:$L$37,2,0)=\"y\",\"y\",\"\"))),\"Manual entry required\")","v":""},{"$f":"IF('Physical Data'!K23=\"\",\"\",'Physical Data'!K23)","v":"Black Mud with an Anoxic Odour."},{"$f":"IF('Physical Data'!L23=\"\",\"\",'Physical Data'!L23)","v":""},{"$f":"IF('Physical Data'!M23=\"\",\"\",'Physical Data'!M23)","v":""},{"$f":"IF('Physical Data'!N23=\"\",\"\",'Physical Data'!N23)","v":""},{"$f":"IF('Physical Data'!O23=\"\",\"\",'Physical Data'!O23)","v":0},{"$f":"IF('Physical Data'!P23=\"\",\"\",'Physical Data'!P23)","v":0},{"$f":"IF('Physical Data'!Q23=\"\",\"\",'Physical Data'!Q23)","v":0},{"$f":"IF('Physical Data'!R23=\"\",\"\",'Physical Data'!R23)","v":0},{"$f":"IF('Physical Data'!S23=\"\",\"\",'Physical Data'!S23)","v":0},{"$f":"IF('Physical Data'!T23=\"\",\"\",'Physical Data'!T23)","v":0.47965799999999997},{"$f":"IF('Physical Data'!U23=\"\",\"\",'Physical Data'!U23)","v":3.4883999999999998E-2},{"$f":"IF('Physical Data'!V23=\"\",\"\",'Physical Data'!V23)","v":0.31395800000000001},{"$f":"IF('Physical Data'!W23=\"\",\"\",'Physical Data'!W23)","v":0.237649},{"$f":"IF('Physical Data'!X23=\"\",\"\",'Physical Data'!X23)","v":0.25945099999999999},{"$f":"IF('Physical Data'!Y23=\"\",\"\",'Physical Data'!Y23)","v":0.31831900000000002},{"$f":"IF('Physical Data'!Z23=\"\",\"\",'Physical Data'!Z23)","v":0.26817299999999999},{"$f":"IF('Physical Data'!AA23=\"\",\"\",'Physical Data'!AA23)","v":0},{"$f":"IF('Physical Data'!AB23=\"\",\"\",'Physical Data'!AB23)","v":0},{"$f":"IF('Physical Data'!AC23=\"\",\"\",'Physical Data'!AC23)","v":3.1999999999999999E-5},{"$f":"IF('Physical Data'!AD23=\"\",\"\",'Physical Data'!AD23)","v":0.18198500000000001},{"$f":"IF('Physical Data'!AE23=\"\",\"\",'Physical Data'!AE23)","v":2.366927},{"$f":"IF('Physical Data'!AF23=\"\",\"\",'Physical Data'!AF23)","v":4.6910220000000002},{"$f":"IF('Physical Data'!AG23=\"\",\"\",'Physical Data'!AG23)","v":6.2253780000000001},{"$f":"IF('Physical Data'!AH23=\"\",\"\",'Physical Data'!AH23)","v":7.1104909999999997},{"$f":"IF('Physical Data'!AI23=\"\",\"\",'Physical Data'!AI23)","v":7.954243},{"$f":"IF('Physical Data'!AJ23=\"\",\"\",'Physical Data'!AJ23)","v":8.9544779999999999},{"$f":"IF('Physical Data'!AK23=\"\",\"\",'Physical Data'!AK23)","v":8.2889839999999992},{"$f":"IF('Physical Data'!AL23=\"\",\"\",'Physical Data'!AL23)","v":8.5031750000000006},{"$f":"IF('Physical Data'!AM23=\"\",\"\",'Physical Data'!AM23)","v":8.4459569999999999},{"$f":"IF('Physical Data'!AN23=\"\",\"\",'Physical Data'!AN23)","v":7.5404419999999996},{"$f":"IF('Physical Data'!AO23=\"\",\"\",'Physical Data'!AO23)","v":6.6205410000000002},{"$f":"IF('Physical Data'!AP23=\"\",\"\",'Physical Data'!AP23)","v":5.2883110000000002},{"$f":"IF('Physical Data'!AQ23=\"\",\"\",'Physical Data'!AQ23)","v":3.8912450000000001},{"$f":"IF('Physical Data'!AR23=\"\",\"\",'Physical Data'!AR23)","v":2.6938010000000001},{"$f":"IF('Physical Data'!AS23=\"\",\"\",'Physical Data'!AS23)","v":1.9480390000000001},{"$f":"IF('Physical Data'!AT23=\"\",\"\",'Physical Data'!AT23)","v":1.5406770000000001},{"$f":"IF('Physical Data'!AU23=\"\",\"\",'Physical Data'!AU23)","v":1.312975},{"$f":"IF('Physical Data'!AV23=\"\",\"\",'Physical Data'!AV23)","v":1.1638820000000001},{"$f":"IF('Physical Data'!AW23=\"\",\"\",'Physical Data'!AW23)","v":1.0215529999999999},{"$f":"IF('Physical Data'!AX23=\"\",\"\",'Physical Data'!AX23)","v":0.84989199999999998},{"$f":"IF('Physical Data'!AY23=\"\",\"\",'Physical Data'!AY23)","v":0.63482499999999997},{"$f":"IF('Physical Data'!AZ23=\"\",\"\",'Physical Data'!AZ23)","v":0.45754400000000001},{"$f":"IF('Physical Data'!BA23=\"\",\"\",'Physical Data'!BA23)","v":0.27847899999999998},{"$f":"IF('Physical Data'!BB23=\"\",\"\",'Physical Data'!BB23)","v":0.109918},{"$f":"IF('Physical Data'!BC23=\"\",\"\",'Physical Data'!BC23)","v":1.3106E-2},{"$f":"IF('Physical Data'!BD23=\"\",\"\",'Physical Data'!BD23)","v":0},1.3256000000000001,21.162327000000001,0.58649200000000001,0.18201700000000001,20.393818,77.512066999999973,null,null,null,18,""]
[null,null,null,null,null,null,null,{"$f":"IF('Physical Data'!H24=\"\",\"\",'Physical Data'!H24)","v":"MAR02481.016"},{"$f":"IF('Physical Data'!I24=\"\",\"\",'Physical Data'!I24)","v":""},{"$f":"IF('Physical Data'!J24=\"\",\"\",'Physical Data'!J24)","v":18},{"$f":"IFERROR(IF(J24=\"\",\"\",(IF(VLOOKUP(J24,'Application info'!$K$8:$L$37,2,0)=\"y\",\"y\",\"\"))),\"Manual entry required\")","v":""},{"$f":"IF('Physical Data'!K24=\"\",\"\",'Physical Data'!K24)","v":"Black Mud with Organic Matter and Shell Fragments and an Anoxic Odour."},{"$f":"IF('Physical Data'!L24=\"\",\"\",'Physical Data'!L24)","v":""},{"$f":"IF('Physical Data'!M24=\"\",\"\",'Physical Data'!M24)","v":""},{"$f":"IF('Physical Data'!N24=\"\",\"\",'Physical Data'!N24)","v":""},{"$f":"IF('Physical Data'!O24=\"\",\"\",'Physical Data'!O24)","v":0},{"$f":"IF('Physical Data'!P24=\"\",\"\",'Physical Data'!P24)","v":0},{"$f":"IF('Physical Data'!Q24=\"\",\"\",'Physical Data'!Q24)","v":0},{"$f":"IF('Physical Data'!R24=\"\",\"\",'Physical Data'!R24)","v":0},{"$f":"IF('Physical Data'!S24=\"\",\"\",'Physical Data'!S24)","v":0},{"$f":"IF('Physical Data'!T24=\"\",\"\",'Physical Data'!T24)","v":0},{"$f":"IF('Physical Data'!U24=\"\",\"\",'Physical Data'!U24)","v":0},{"$f":"IF('Physical Data'!V24=\"\",\"\",'Physical Data'!V24)","v":2.3036000000000001E-2},{"$f":"IF('Physical Data'!W24=\"\",\"\",'Physical Data'!W24)","v":0.14685100000000001},{"$f":"IF('Physical Data'!X24=\"\",\"\",'Physical Data'!X24)","v":0.210199},{"$f":"IF('Physical Data'!Y24=\"\",\"\",'Physical Data'!Y24)","v":0.13533400000000001},{"$f":"IF('Physical Data'!Z24=\"\",\"\",'Physical Data'!Z24)","v":0.109419},{"$f":"IF('Physical Data'!AA24=\"\",\"\",'Physical Data'!AA24)","v":0},{"$f":"IF('Physical Data'!AB24=\"\",\"\",'Physical Data'!AB24)","v":0},{"$f":"IF('Physical Data'!AC24=\"\",\"\",'Physical Data'!AC24)","v":0},{"$f":"IF('Physical Data'!AD24=\"\",\"\",'Physical Data'!AD24)","v":0.195968},{"$f":"IF('Physical Data'!AE24=\"\",\"\",'Physical Data'!AE24)","v":3.0010309999999998},{"$f":"IF('Physical Data'!AF24=\"\",\"\",'Physical Data'!AF24)","v":5.1937430000000004},{"$f":"IF('Physical Data'!AG24=\"\",\"\",'Physical Data'!AG24)","v":6.065296},{"$f":"IF('Physical Data'!AH24=\"\",\"\",'Physical Data'!AH24)","v":7.6934930000000001},{"$f":"IF('Physical Data'!AI24=\"\",\"\",'Physical Data'!AI24)","v":8.2747039999999998},{"$f":"IF('Physical Data'!AJ24=\"\",\"\",'Physical Data'!AJ24)","v":9.4006249999999998},{"$f":"IF('Physical Data'!AK24=\"\",\"\",'Physical Data'!AK24)","v":8.9181919999999995},{"$f":"IF('Physical Data'!AL24=\"\",\"\",'Physical Data'!AL24)","v":9.0802390000000006},{"$f":"IF('Physical Data'!AM24=\"\",\"\",'Physical Data'!AM24)","v":9.0233310000000007},{"$f":"IF('Physical Data'!AN24=\"\",\"\",'Physical Data'!AN24)","v":7.8805829999999997},{"$f":"IF('Physical Data'!AO24=\"\",\"\",'Physical Data'!AO24)","v":6.6171930000000003},{"$f":"IF('Physical Data'!AP24=\"\",\"\",'Physical Data'!AP24)","v":5.0057919999999996},{"$f":"IF('Physical Data'!AQ24=\"\",\"\",'Physical Data'!AQ24)","v":3.470323},{"$f":"IF('Physical Data'!AR24=\"\",\"\",'Physical Data'!AR24)","v":2.2490790000000001},{"$f":"IF('Physical Data'!AS24=\"\",\"\",'Physical Data'!AS24)","v":1.5359590000000001},{"$f":"IF('Physical Data'!AT24=\"\",\"\",'Physical Data'!AT24)","v":1.1866460000000001},{"$f":"IF('Physical Data'!AU24=\"\",\"\",'Physical Data'!AU24)","v":1.014643},{"$f":"IF('Physical Data'!AV24=\"\",\"\",'Physical Data'!AV24)","v":0.90418799999999999},{"$f":"IF('Physical Data'!AW24=\"\",\"\",'Physical Data'!AW24)","v":0.79437199999999997},{"$f":"IF('Physical Data'!AX24=\"\",\"\",'Physical Data'!AX24)","v":0.66380899999999998},{"$f":"IF('Physical Data'!AY24=\"\",\"\",'Physical Data'!AY24)","v":0.50349100000000002},{"$f":"IF('Physical Data'!AZ24=\"\",\"\",'Physical Data'!AZ24)","v":0.36938900000000002},{"$f":"IF('Physical Data'!BA24=\"\",\"\",'Physical Data'!BA24)","v":0.229016},{"$f":"IF('Physical Data'!BB24=\"\",\"\",'Physical Data'!BB24)","v":9.2753000000000002E-2},{"$f":"IF('Physical Data'!BC24=\"\",\"\",'Physical Data'!BC24)","v":1.1299E-2},{"$f":"IF('Physical Data'!BD24=\"\",\"\",'Physical Data'!BD24)","v":0},0.38008600000000003,22.394283999999999,0.244753,0.195968,21.953563000000003,77.225625999999991,null,null,null,19,""]
[null,null,null,null,null,null,null,{"$f":"IF('Physical Data'!H25=\"\",\"\",'Physical Data'!H25)","v":"MAR02481.017"},{"$f":"IF('Physical Data'!I25=\"\",\"\",'Physical Data'!I25)","v":""},{"$f":"IF('Physical Data'!J25=\"\",\"\",'Physical Data'!J25)","v":19},{"$f":"IFERROR(IF(J25=\"\",\"\",(IF(VLOOKUP(J25,'Application info'!$K$8:$L$37,2,0)=\"y\",\"y\",\"\"))),\"Manual entry required\")","v":""},{"$f":"IF('Physical Data'!K25=\"\",\"\",'Physical Data'!K25)","v":"Black Mud with an Anoxic Odour."},{"$f":"IF('Physical Data'!L25=\"\",\"\",'Physical Data'!L25)","v":""},{"$f":"IF('Physical Data'!M25=\"\",\"\",'Physical Data'!M25)","v":""},{"$f":"IF('Physical Data'!N25=\"\",\"\",'Physical Data'!N25)","v":""},{"$f":"IF('Physical Data'!O25=\"\",\"\",'Physical Data'!O25)","v":0},{"$f":"IF('Physical Data'!P25=\"\",\"\",'Physical Data'!P25)","v":0},{"$f":"IF('Physical Data'!Q25=\"\",\"\",'Physical Data'!Q25)","v":0},{"$f":"IF('Physical Data'!R25=\"\",\"\",'Physical Data'!R25)","v":0},{"$f":"IF('Physical Data'!S25=\"\",\"\",'Physical Data'!S25)","v":0},{"$f":"IF('Physical Data'!T25=\"\",\"\",'Physical Data'!T25)","v":0},{"$f":"IF('Physical Data'!U25=\"\",\"\",'Physical Data'!U25)","v":0},{"$f":"IF('Physical Data'!V25=\"\",\"\",'Physical Data'!V25)","v":0},{"$f":"IF('Physical Data'!W25=\"\",\"\",'Physical Data'!W25)","v":0},{"$f":"IF('Physical Data'!X25=\"\",\"\",'Physical Data'!X25)","v":0},{"$f":"IF('Physical Data'!Y25=\"\",\"\",'Physical Data'!Y25)","v":0},{"$f":"IF('Physical Data'!Z25=\"\",\"\",'Physical Data'!Z25)","v":0},{"$f":"IF('Physical Data'!AA25=\"\",\"\",'Physical Data'!AA25)","v":1.6667E-4},{"$f":"IF('Physical Data'!AB25=\"\",\"\",'Physical Data'!AB25)","v":0.2021},{"$f":"IF('Physical Data'!AC25=\"\",\"\",'Physical Data'!AC25)","v":0.77259999999999995},{"$f":"IF('Physical Data'!AD25=\"\",\"\",'Physical Data'!AD25)","v":0.95216666999999999},{"$f":"IF('Physical Data'!AE25=\"\",\"\",'Physical Data'!AE25)","v":4.1844000000000001},{"$f":"IF('Physical Data'!AF25=\"\",\"\",'Physical Data'!AF25)","v":7.7146333299999998},{"$f":"IF('Physical Data'!AG25=\"\",\"\",'Physical Data'!AG25)","v":8.8366000000000007},{"$f":"IF('Physical Data'!AH25=\"\",\"\",'Physical Data'!AH25)","v":8.2165333300000007},{"$f":"IF('Physical Data'!AI25=\"\",\"\",'Physical Data'!AI25)","v":7.7666666700000002},{"$f":"IF('Physical Data'!AJ25=\"\",\"\",'Physical Data'!AJ25)","v":8.1621666699999995},{"$f":"IF('Physical Data'!AK25=\"\",\"\",'Physical Data'!AK25)","v":7.0591999999999997},{"$f":"IF('Physical Data'!AL25=\"\",\"\",'Physical Data'!AL25)","v":7.1105},{"$f":"IF('Physical Data'!AM25=\"\",\"\",'Physical Data'!AM25)","v":6.6539333300000001},{"$f":"IF('Physical Data'!AN25=\"\",\"\",'Physical Data'!AN25)","v":5.7190000000000003},{"$f":"IF('Physical Data'!AO25=\"\",\"\",'Physical Data'!AO25)","v":5.2377000000000002},{"$f":"IF('Physical Data'!AP25=\"\",\"\",'Physical Data'!AP25)","v":4.5110000000000001},{"$f":"IF('Physical Data'!AQ25=\"\",\"\",'Physical Data'!AQ25)","v":3.5852666700000002},{"$f":"IF('Physical Data'!AR25=\"\",\"\",'Physical Data'!AR25)","v":2.7108666600000002},{"$f":"IF('Physical Data'!AS25=\"\",\"\",'Physical Data'!AS25)","v":2.13586667},{"$f":"IF('Physical Data'!AT25=\"\",\"\",'Physical Data'!AT25)","v":1.7572566700000001},{"$f":"IF('Physical Data'!AU25=\"\",\"\",'Physical Data'!AU25)","v":1.5089600000000001},{"$f":"IF('Physical Data'!AV25=\"\",\"\",'Physical Data'!AV25)","v":1.3606633299999999},{"$f":"IF('Physical Data'!AW25=\"\",\"\",'Physical Data'!AW25)","v":1.2230566700000001},{"$f":"IF('Physical Data'!AX25=\"\",\"\",'Physical Data'!AX25)","v":1.0162599999999999},{"$f":"IF('Physical Data'!AY25=\"\",\"\",'Physical Data'!AY25)","v":0.72409133000000003},{"$f":"IF('Physical Data'!AZ25=\"\",\"\",'Physical Data'!AZ25)","v":0.48836267},{"$f":"IF('Physical Data'!BA25=\"\",\"\",'Physical Data'!BA25)","v":0.27704699999999999},{"$f":"IF('Physical Data'!BB25=\"\",\"\",'Physical Data'!BB25)","v":0.1014028},{"$f":"IF('Physical Data'!BC25=\"\",\"\",'Physical Data'!BC25)","v":1.152981E-2},{"$f":"IF('Physical Data'!BD25=\"\",\"\",'Physical Data'!BD25)","v":0},0,30.879200000000001,0.20226667000000001,1.7247666699999999,28.95216666,69.120796949999999,null,null,null,20,""]
[null,null,null,null,null,null,null,{"$f":"IF('Physical Data'!H26=\"\",\"\",'Physical Data'!H26)","v":"MAR02481.018"},{"$f":"IF('Physical Data'!I26=\"\",\"\",'Physical Data'!I26)","v":""},{"$f":"IF('Physical Data'!J26=\"\",\"\",'Physical Data'!J26)","v":20},{"$f":"IFERROR(IF(J26=\"\",\"\",(IF(VLOOKUP(J26,'Application info'!$K$8:$L$37,2,0)=\"y\",\"y\",\"\"))),\"Manual entry required\")","v":""},{"$f":"IF('Physical Data'!K26=\"\",\"\",'Physical Data'!K26)","v":"Black Mud with an Anoxic Odour."},{"$f":"IF('Physical Data'!L26=\"\",\"\",'Physical Data'!L26)","v":""},{"$f":"IF('Physical Data'!M26=\"\",\"\",'Physical Data'!M26)","v":""},{"$f":"IF('Physical Data'!N26=\"\",\"\",'Physical Data'!N26)","v":""},{"$f":"IF('Physical Data'!O26=\"\",\"\",'Physical Data'!O26)","v":0},{"$f":"IF('Physical Data'!P26=\"\",\"\",'Physical Data'!P26)","v":0},{"$f":"IF('Physical Data'!Q26=\"\",\"\",'Physical Data'!Q26)","v":0},{"$f":"IF('Physical Data'!R26=\"\",\"\",'Physical Data'!R26)","v":0},{"$f":"IF('Physical Data'!S26=\"\",\"\",'Physical Data'!S26)","v":0},{"$f":"IF('Physical Data'!T26=\"\",\"\",'Physical Data'!T26)","v":0},{"$f":"IF('Physical Data'!U26=\"\",\"\",'Physical Data'!U26)","v":0},{"$f":"IF('Physical Data'!V26=\"\",\"\",'Physical Data'!V26)","v":0},{"$f":"IF('Physical Data'!W26=\"\",\"\",'Physical Data'!W26)","v":0},{"$f":"IF('Physical Data'!X26=\"\",\"\",'Physical Data'!X26)","v":0},{"$f":"IF('Physical Data'!Y26=\"\",\"\",'Physical Data'!Y26)","v":0},{"$f":"IF('Physical Data'!Z26=\"\",\"\",'Physical Data'!Z26)","v":0},{"$f":"IF('Physical Data'!AA26=\"\",\"\",'Physical Data'!AA26)","v":0},{"$f":"IF('Physical Data'!AB26=\"\",\"\",'Physical Data'!AB26)","v":0},{"$f":"IF('Physical Data'!AC26=\"\",\"\",'Physical Data'!AC26)","v":0},{"$f":"IF('Physical Data'!AD26=\"\",\"\",'Physical Data'!AD26)","v":4.4299999999999999E-2},{"$f":"IF('Physical Data'!AE26=\"\",\"\",'Physical Data'!AE26)","v":1.5613999999999999},{"$f":"IF('Physical Data'!AF26=\"\",\"\",'Physical Data'!AF26)","v":4.7157999999999998},{"$f":"IF('Physical Data'!AG26=\"\",\"\",'Physical Data'!AG26)","v":6.6769999999999996},{"$f":"IF('Physical Data'!AH26=\"\",\"\",'Physical Data'!AH26)","v":7.6254999999999997},{"$f":"IF('Physical Data'!AI26=\"\",\"\",'Physical Data'!AI26)","v":9.04076667},{"$f":"IF('Physical Data'!AJ26=\"\",\"\",'Physical Data'!AJ26)","v":9.5361666700000001},{"$f":"IF('Physical Data'!AK26=\"\",\"\",'Physical Data'!AK26)","v":8.6252999999999993},{"$f":"IF('Physical Data'!AL26=\"\",\"\",'Physical Data'!AL26)","v":8.4537666599999994},{"$f":"IF('Physical Data'!AM26=\"\",\"\",'Physical Data'!AM26)","v":7.6611000000000002},{"$f":"IF('Physical Data'!AN26=\"\",\"\",'Physical Data'!AN26)","v":6.5201333400000001},{"$f":"IF('Physical Data'!AO26=\"\",\"\",'Physical Data'!AO26)","v":5.9201333299999996},{"$f":"IF('Physical Data'!AP26=\"\",\"\",'Physical Data'!AP26)","v":5.0857666699999999},{"$f":"IF('Physical Data'!AQ26=\"\",\"\",'Physical Data'!AQ26)","v":4.06176666},{"$f":"IF('Physical Data'!AR26=\"\",\"\",'Physical Data'!AR26)","v":3.0591666700000002},{"$f":"IF('Physical Data'!AS26=\"\",\"\",'Physical Data'!AS26)","v":2.3567300000000002},{"$f":"IF('Physical Data'!AT26=\"\",\"\",'Physical Data'!AT26)","v":1.8921333300000001},{"$f":"IF('Physical Data'!AU26=\"\",\"\",'Physical Data'!AU26)","v":1.6047},{"$f":"IF('Physical Data'!AV26=\"\",\"\",'Physical Data'!AV26)","v":1.44155667},{"$f":"IF('Physical Data'!AW26=\"\",\"\",'Physical Data'!AW26)","v":1.29596333},{"$f":"IF('Physical Data'!AX26=\"\",\"\",'Physical Data'!AX26)","v":1.08125334},{"$f":"IF('Physical Data'!AY26=\"\",\"\",'Physical Data'!AY26)","v":0.77812099999999995},{"$f":"IF('Physical Data'!AZ26=\"\",\"\",'Physical Data'!AZ26)","v":0.53048766000000003},{"$f":"IF('Physical Data'!BA26=\"\",\"\",'Physical Data'!BA26)","v":0.30451699999999998},{"$f":"IF('Physical Data'!BB26=\"\",\"\",'Physical Data'!BB26)","v":0.11338034},{"$f":"IF('Physical Data'!BC26=\"\",\"\",'Physical Data'!BC26)","v":1.308727E-2},{"$f":"IF('Physical Data'!BD26=\"\",\"\",'Physical Data'!BD26)","v":0},0,20.623999999999999,0,4.4299999999999999E-2,20.579699999999999,79.375996610000016,null,null,null,21,""]
[null,null,null,null,null,null,null,{"$f":"IF('Physical Data'!H27=\"\",\"\",'Physical Data'!H27)","v":"MAR02481.019"},{"$f":"IF('Physical Data'!I27=\"\",\"\",'Physical Data'!I27)","v":""},{"$f":"IF('Physical Data'!J27=\"\",\"\",'Physical Data'!J27)","v":21},{"$f":"IFERROR(IF(J27=\"\",\"\",(IF(VLOOKUP(J27,'Application info'!$K$8:$L$37,2,0)=\"y\",\"y\",\"\"))),\"Manual entry required\")","v":""},{"$f":"IF('Physical Data'!K27=\"\",\"\",'Physical Data'!K27)","v":"Black Mud with Shell Fragments and an Anoxic Odour."},{"$f":"IF('Physical Data'!L27=\"\",\"\",'Physical Data'!L27)","v":""},{"$f":"IF('Physical Data'!M27=\"\",\"\",'Physical Data'!M27)","v":""},{"$f":"IF('Physical Data'!N27=\"\",\"\",'Physical Data'!N27)","v":""},{"$f":"IF('Physical Data'!O27=\"\",\"\",'Physical Data'!O27)","v":0},{"$f":"IF('Physical Data'!P27=\"\",\"\",'Physical Data'!P27)","v":0},{"$f":"IF('Physical Data'!Q27=\"\",\"\",'Physical Data'!Q27)","v":0},{"$f":"IF('Physical Data'!R27=\"\",\"\",'Physical Data'!R27)","v":0},{"$f":"IF('Physical Data'!S27=\"\",\"\",'Physical Data'!S27)","v":0.21959699999999999},{"$f":"IF('Physical Data'!T27=\"\",\"\",'Physical Data'!T27)","v":8.3294999999999994E-2},{"$f":"IF('Physical Data'!U27=\"\",\"\",'Physical Data'!U27)","v":0.33822999999999998},{"$f":"IF('Physical Data'!V27=\"\",\"\",'Physical Data'!V27)","v":0.191832},{"$f":"IF('Physical Data'!W27=\"\",\"\",'Physical Data'!W27)","v":0.18173600000000001},{"$f":"IF('Physical Data'!X27=\"\",\"\",'Physical Data'!X27)","v":0.15397},{"$f":"IF('Physical Data'!Y27=\"\",\"\",'Physical Data'!Y27)","v":0.17163900000000001},{"$f":"IF('Physical Data'!Z27=\"\",\"\",'Physical Data'!Z27)","v":0.13377800000000001},{"$f":"IF('Physical Data'!AA27=\"\",\"\",'Physical Data'!AA27)","v":0},{"$f":"IF('Physical Data'!AB27=\"\",\"\",'Physical Data'!AB27)","v":0},{"$f":"IF('Physical Data'!AC27=\"\",\"\",'Physical Data'!AC27)","v":2.3000000000000001E-4},{"$f":"IF('Physical Data'!AD27=\"\",\"\",'Physical Data'!AD27)","v":0.29140700000000003},{"$f":"IF('Physical Data'!AE27=\"\",\"\",'Physical Data'!AE27)","v":2.2994970000000001},{"$f":"IF('Physical Data'!AF27=\"\",\"\",'Physical Data'!AF27)","v":4.4705149999999998},{"$f":"IF('Physical Data'!AG27=\"\",\"\",'Physical Data'!AG27)","v":6.350587},{"$f":"IF('Physical Data'!AH27=\"\",\"\",'Physical Data'!AH27)","v":6.7939860000000003},{"$f":"IF('Physical Data'!AI27=\"\",\"\",'Physical Data'!AI27)","v":7.7035450000000001},{"$f":"IF('Physical Data'!AJ27=\"\",\"\",'Physical Data'!AJ27)","v":8.3855409999999999},{"$f":"IF('Physical Data'!AK27=\"\",\"\",'Physical Data'!AK27)","v":7.9505169999999996},{"$f":"IF('Physical Data'!AL27=\"\",\"\",'Physical Data'!AL27)","v":8.7056190000000004},{"$f":"IF('Physical Data'!AM27=\"\",\"\",'Physical Data'!AM27)","v":8.8523569999999996},{"$f":"IF('Physical Data'!AN27=\"\",\"\",'Physical Data'!AN27)","v":7.956461},{"$f":"IF('Physical Data'!AO27=\"\",\"\",'Physical Data'!AO27)","v":7.002631},{"$f":"IF('Physical Data'!AP27=\"\",\"\",'Physical Data'!AP27)","v":5.5763699999999998},{"$f":"IF('Physical Data'!AQ27=\"\",\"\",'Physical Data'!AQ27)","v":4.0582830000000003},{"$f":"IF('Physical Data'!AR27=\"\",\"\",'Physical Data'!AR27)","v":2.765984},{"$f":"IF('Physical Data'!AS27=\"\",\"\",'Physical Data'!AS27)","v":1.971533},{"$f":"IF('Physical Data'!AT27=\"\",\"\",'Physical Data'!AT27)","v":1.5401739999999999},{"$f":"IF('Physical Data'!AU27=\"\",\"\",'Physical Data'!AU27)","v":1.3070029999999999},{"$f":"IF('Physical Data'!AV27=\"\",\"\",'Physical Data'!AV27)","v":1.1667369999999999},{"$f":"IF('Physical Data'!AW27=\"\",\"\",'Physical Data'!AW27)","v":1.035258},{"$f":"IF('Physical Data'!AX27=\"\",\"\",'Physical Data'!AX27)","v":0.86382899999999996},{"$f":"IF('Physical Data'!AY27=\"\",\"\",'Physical Data'!AY27)","v":0.63813399999999998},{"$f":"IF('Physical Data'!AZ27=\"\",\"\",'Physical Data'!AZ27)","v":0.45237100000000002},{"$f":"IF('Physical Data'!BA27=\"\",\"\",'Physical Data'!BA27)","v":0.27050299999999999},{"$f":"IF('Physical Data'!BB27=\"\",\"\",'Physical Data'!BB27)","v":0.10456600000000001},{"$f":"IF('Physical Data'!BC27=\"\",\"\",'Physical Data'!BC27)","v":1.2283000000000001E-2},{"$f":"IF('Physical Data'!BD27=\"\",\"\",'Physical Data'!BD27)","v":0},1.1686599999999998,20.511638999999999,0.30541700000000005,0.29163700000000004,19.914584999999999,78.319698999999972,null,null,null,22,""]
[null,null,null,null,null,null,null,{"$f":"IF('Physical Data'!H28=\"\",\"\",'Physical Data'!H28)","v":"MAR02481.020"},{"$f":"IF('Physical Data'!I28=\"\",\"\",'Physical Data'!I28)","v":""},{"$f":"IF('Physical Data'!J28=\"\",\"\",'Physical Data'!J28)","v":22},{"$f":"IFERROR(IF(J28=\"\",\"\",(IF(VLOOKUP(J28,'Application info'!$K$8:$L$37,2,0)=\"y\",\"y\",\"\"))),\"Manual entry required\")","v":""},{"$f":"IF('Physical Data'!K28=\"\",\"\",'Physical Data'!K28)","v":"Black Mud with Shell Fragments and an Anoxic Odour."},{"$f":"IF('Physical Data'!L28=\"\",\"\",'Physical Data'!L28)","v":""},{"$f":"IF('Physical Data'!M28=\"\",\"\",'Physical Data'!M28)","v":""},{"$f":"IF('Physical Data'!N28=\"\",\"\",'Physical Data'!N28)","v":""},{"$f":"IF('Physical Data'!O28=\"\",\"\",'Physical Data'!O28)","v":0},{"$f":"IF('Physical Data'!P28=\"\",\"\",'Physical Data'!P28)","v":0},{"$f":"IF('Physical Data'!Q28=\"\",\"\",'Physical Data'!Q28)","v":0},{"$f":"IF('Physical Data'!R28=\"\",\"\",'Physical Data'!R28)","v":0},{"$f":"IF('Physical Data'!S28=\"\",\"\",'Physical Data'!S28)","v":0},{"$f":"IF('Physical Data'!T28=\"\",\"\",'Physical Data'!T28)","v":0},{"$f":"IF('Physical Data'!U28=\"\",\"\",'Physical Data'!U28)","v":0.14949000000000001},{"$f":"IF('Physical Data'!V28=\"\",\"\",'Physical Data'!V28)","v":0},{"$f":"IF('Physical Data'!W28=\"\",\"\",'Physical Data'!W28)","v":3.5173999999999997E-2},{"$f":"IF('Physical Data'!X28=\"\",\"\",'Physical Data'!X28)","v":4.3968E-2},{"$f":"IF('Physical Data'!Y28=\"\",\"\",'Physical Data'!Y28)","v":5.2761000000000002E-2},{"$f":"IF('Physical Data'!Z28=\"\",\"\",'Physical Data'!Z28)","v":7.4745000000000006E-2},{"$f":"IF('Physical Data'!AA28=\"\",\"\",'Physical Data'!AA28)","v":0},{"$f":"IF('Physical Data'!AB28=\"\",\"\",'Physical Data'!AB28)","v":0},{"$f":"IF('Physical Data'!AC28=\"\",\"\",'Physical Data'!AC28)","v":0},{"$f":"IF('Physical Data'!AD28=\"\",\"\",'Physical Data'!AD28)","v":8.1309000000000006E-2},{"$f":"IF('Physical Data'!AE28=\"\",\"\",'Physical Data'!AE28)","v":2.4114140000000002},{"$f":"IF('Physical Data'!AF28=\"\",\"\",'Physical Data'!AF28)","v":5.3671499999999996},{"$f":"IF('Physical Data'!AG28=\"\",\"\",'Physical Data'!AG28)","v":5.8914429999999998},{"$f":"IF('Physical Data'!AH28=\"\",\"\",'Physical Data'!AH28)","v":7.3099730000000003},{"$f":"IF('Physical Data'!AI28=\"\",\"\",'Physical Data'!AI28)","v":8.091647},{"$f":"IF('Physical Data'!AJ28=\"\",\"\",'Physical Data'!AJ28)","v":8.5581119999999995},{"$f":"IF('Physical Data'!AK28=\"\",\"\",'Physical Data'!AK28)","v":8.0580669999999994},{"$f":"IF('Physical Data'!AL28=\"\",\"\",'Physical Data'!AL28)","v":8.5837540000000008},{"$f":"IF('Physical Data'!AM28=\"\",\"\",'Physical Data'!AM28)","v":8.7248490000000007},{"$f":"IF('Physical Data'!AN28=\"\",\"\",'Physical Data'!AN28)","v":7.9283960000000002},{"$f":"IF('Physical Data'!AO28=\"\",\"\",'Physical Data'!AO28)","v":6.9862630000000001},{"$f":"IF('Physical Data'!AP28=\"\",\"\",'Physical Data'!AP28)","v":5.529604},{"$f":"IF('Physical Data'!AQ28=\"\",\"\",'Physical Data'!AQ28)","v":3.9875479999999999},{"$f":"IF('Physical Data'!AR28=\"\",\"\",'Physical Data'!AR28)","v":2.693613},{"$f":"IF('Physical Data'!AS28=\"\",\"\",'Physical Data'!AS28)","v":1.923861},{"$f":"IF('Physical Data'!AT28=\"\",\"\",'Physical Data'!AT28)","v":1.53329},{"$f":"IF('Physical Data'!AU28=\"\",\"\",'Physical Data'!AU28)","v":1.32698},{"$f":"IF('Physical Data'!AV28=\"\",\"\",'Physical Data'!AV28)","v":1.189316},{"$f":"IF('Physical Data'!AW28=\"\",\"\",'Physical Data'!AW28)","v":1.0492630000000001},{"$f":"IF('Physical Data'!AX28=\"\",\"\",'Physical Data'!AX28)","v":0.87501300000000004},{"$f":"IF('Physical Data'!AY28=\"\",\"\",'Physical Data'!AY28)","v":0.65473400000000004},{"$f":"IF('Physical Data'!AZ28=\"\",\"\",'Physical Data'!AZ28)","v":0.47338599999999997},{"$f":"IF('Physical Data'!BA28=\"\",\"\",'Physical Data'!BA28)","v":0.28850100000000001},{"$f":"IF('Physical Data'!BB28=\"\",\"\",'Physical Data'!BB28)","v":0.113057},{"$f":"IF('Physical Data'!BC28=\"\",\"\",'Physical Data'!BC28)","v":1.3313999999999999E-2},{"$f":"IF('Physical Data'!BD28=\"\",\"\",'Physical Data'!BD28)","v":0},0.228632,21.188794999999999,0.12750600000000001,8.1309000000000006E-2,20.979979999999998,78.582567999999995,null,null,null,23,""]
[null,null,null,null,null,null,null,{"$f":"IF('Physical Data'!H29=\"\",\"\",'Physical Data'!H29)","v":"MAR02481.021"},{"$f":"IF('Physical Data'!I29=\"\",\"\",'Physical Data'!I29)","v":""},{"$f":"IF('Physical Data'!J29=\"\",\"\",'Physical Data'!J29)","v":23},{"$f":"IFERROR(IF(J29=\"\",\"\",(IF(VLOOKUP(J29,'Application info'!$K$8:$L$37,2,0)=\"y\",\"y\",\"\"))),\"Manual entry required\")","v":""},{"$f":"IF('Physical Data'!K29=\"\",\"\",'Physical Data'!K29)","v":"Black Mud with Shell Fragments and an Anoxic Odour."},{"$f":"IF('Physical Data'!L29=\"\",\"\",'Physical Data'!L29)","v":""},{"$f":"IF('Physical Data'!M29=\"\",\"\",'Physical Data'!M29)","v":""},{"$f":"IF('Physical Data'!N29=\"\",\"\",'Physical Data'!N29)","v":""},{"$f":"IF('Physical Data'!O29=\"\",\"\",'Physical Data'!O29)","v":0},{"$f":"IF('Physical Data'!P29=\"\",\"\",'Physical Data'!P29)","v":0},{"$f":"IF('Physical Data'!Q29=\"\",\"\",'Physical Data'!Q29)","v":0},{"$f":"IF('Physical Data'!R29=\"\",\"\",'Physical Data'!R29)","v":0},{"$f":"IF('Physical Data'!S29=\"\",\"\",'Physical Data'!S29)","v":0},{"$f":"IF('Physical Data'!T29=\"\",\"\",'Physical Data'!T29)","v":0.22389100000000001},{"$f":"IF('Physical Data'!U29=\"\",\"\",'Physical Data'!U29)","v":0.25032300000000002},{"$f":"IF('Physical Data'!V29=\"\",\"\",'Physical Data'!V29)","v":0.199014},{"$f":"IF('Physical Data'!W29=\"\",\"\",'Physical Data'!W29)","v":0.37781599999999999},{"$f":"IF('Physical Data'!X29=\"\",\"\",'Physical Data'!X29)","v":0.34982999999999997},{"$f":"IF('Physical Data'!Y29=\"\",\"\",'Physical Data'!Y29)","v":0.42757000000000001},{"$f":"IF('Physical Data'!Z29=\"\",\"\",'Physical Data'!Z29)","v":0.32184299999999999},{"$f":"IF('Physical Data'!AA29=\"\",\"\",'Physical Data'!AA29)","v":0},{"$f":"IF('Physical Data'!AB29=\"\",\"\",'Physical Data'!AB29)","v":0},{"$f":"IF('Physical Data'!AC29=\"\",\"\",'Physical Data'!AC29)","v":0},{"$f":"IF('Physical Data'!AD29=\"\",\"\",'Physical Data'!AD29)","v":0},{"$f":"IF('Physical Data'!AE29=\"\",\"\",'Physical Data'!AE29)","v":0},{"$f":"IF('Physical Data'!AF29=\"\",\"\",'Physical Data'!AF29)","v":0},{"$f":"IF('Physical Data'!AG29=\"\",\"\",'Physical Data'!AG29)","v":0},{"$f":"IF('Physical Data'!AH29=\"\",\"\",'Physical Data'!AH29)","v":0.25548599999999999},{"$f":"IF('Physical Data'!AI29=\"\",\"\",'Physical Data'!AI29)","v":5.1000249999999996},{"$f":"IF('Physical Data'!AJ29=\"\",\"\",'Physical Data'!AJ29)","v":5.6027110000000002},{"$f":"IF('Physical Data'!AK29=\"\",\"\",'Physical Data'!AK29)","v":5.773263},{"$f":"IF('Physical Data'!AL29=\"\",\"\",'Physical Data'!AL29)","v":8.2271380000000001},{"$f":"IF('Physical Data'!AM29=\"\",\"\",'Physical Data'!AM29)","v":8.8038319999999999},{"$f":"IF('Physical Data'!AN29=\"\",\"\",'Physical Data'!AN29)","v":8.3501349999999999},{"$f":"IF('Physical Data'!AO29=\"\",\"\",'Physical Data'!AO29)","v":8.1920439999999992},{"$f":"IF('Physical Data'!AP29=\"\",\"\",'Physical Data'!AP29)","v":7.3700400000000004},{"$f":"IF('Physical Data'!AQ29=\"\",\"\",'Physical Data'!AQ29)","v":6.1429390000000001},{"$f":"IF('Physical Data'!AR29=\"\",\"\",'Physical Data'!AR29)","v":5.2571060000000003},{"$f":"IF('Physical Data'!AS29=\"\",\"\",'Physical Data'!AS29)","v":4.8187389999999999},{"$f":"IF('Physical Data'!AT29=\"\",\"\",'Physical Data'!AT29)","v":4.365761},{"$f":"IF('Physical Data'!AU29=\"\",\"\",'Physical Data'!AU29)","v":4.1439349999999999},{"$f":"IF('Physical Data'!AV29=\"\",\"\",'Physical Data'!AV29)","v":4.2816099999999997},{"$f":"IF('Physical Data'!AW29=\"\",\"\",'Physical Data'!AW29)","v":4.2608240000000004},{"$f":"IF('Physical Data'!AX29=\"\",\"\",'Physical Data'!AX29)","v":3.504165},{"$f":"IF('Physical Data'!AY29=\"\",\"\",'Physical Data'!AY29)","v":2.079186},{"$f":"IF('Physical Data'!AZ29=\"\",\"\",'Physical Data'!AZ29)","v":0.98140899999999998},{"$f":"IF('Physical Data'!BA29=\"\",\"\",'Physical Data'!BA29)","v":0.30031099999999999},{"$f":"IF('Physical Data'!BB29=\"\",\"\",'Physical Data'!BB29)","v":3.6912E-2},{"$f":"IF('Physical Data'!BC29=\"\",\"\",'Physical Data'!BC29)","v":2.14E-3},{"$f":"IF('Physical Data'!BD29=\"\",\"\",'Physical Data'!BD29)","v":0},1.400874,1.004899,0.749413,0,0.25548599999999999,97.59422499999998,null,null,null,24,""]
[null,null,null,null,null,null,null,{"$f":"IF('Physical Data'!H30=\"\",\"\",'Physical Data'!H30)","v":"MAR02481.022"},{"$f":"IF('Physical Data'!I30=\"\",\"\",'Physical Data'!I30)","v":""},{"$f":"IF('Physical Data'!J30=\"\",\"\",'Physical Data'!J30)","v":24},{"$f":"IFERROR(IF(J30=\"\",\"\",(IF(VLOOKUP(J30,'Application info'!$K$8:$L$37,2,0)=\"y\",\"y\",\"\"))),\"Manual entry required\")","v":""},{"$f":"IF('Physical Data'!K30=\"\",\"\",'Physical Data'!K30)","v":"Odourless Black Mud ."},{"$f":"IF('Physical Data'!L30=\"\",\"\",'Physical Data'!L30)","v":""},{"$f":"IF('Physical Data'!M30=\"\",\"\",'Physical Data'!M30)","v":""},{"$f":"IF('Physical Data'!N30=\"\",\"\",'Physical Data'!N30)","v":""},{"$f":"IF('Physical Data'!O30=\"\",\"\",'Physical Data'!O30)","v":0},{"$f":"IF('Physical Data'!P30=\"\",\"\",'Physical Data'!P30)","v":0},{"$f":"IF('Physical Data'!Q30=\"\",\"\",'Physical Data'!Q30)","v":0},{"$f":"IF('Physical Data'!R30=\"\",\"\",'Physical Data'!R30)","v":0},{"$f":"IF('Physical Data'!S30=\"\",\"\",'Physical Data'!S30)","v":0},{"$f":"IF('Physical Data'!T30=\"\",\"\",'Physical Data'!T30)","v":1.449E-3},{"$f":"IF('Physical Data'!U30=\"\",\"\",'Physical Data'!U30)","v":0},{"$f":"IF('Physical Data'!V30=\"\",\"\",'Physical Data'!V30)","v":1.1596E-2},{"$f":"IF('Physical Data'!W30=\"\",\"\",'Physical Data'!W30)","v":6.3777E-2},{"$f":"IF('Physical Data'!X30=\"\",\"\",'Physical Data'!X30)","v":4.9283E-2},{"$f":"IF('Physical Data'!Y30=\"\",\"\",'Physical Data'!Y30)","v":8.6969000000000005E-2},{"$f":"IF('Physical Data'!Z30=\"\",\"\",'Physical Data'!Z30)","v":0.13190299999999999},{"$f":"IF('Physical Data'!AA30=\"\",\"\",'Physical Data'!AA30)","v":0.38237700000000002},{"$f":"IF('Physical Data'!AB30=\"\",\"\",'Physical Data'!AB30)","v":4.1568250000000004},{"$f":"IF('Physical Data'!AC30=\"\",\"\",'Physical Data'!AC30)","v":4.4635639999999999},{"$f":"IF('Physical Data'!AD30=\"\",\"\",'Physical Data'!AD30)","v":3.0654330000000001},{"$f":"IF('Physical Data'!AE30=\"\",\"\",'Physical Data'!AE30)","v":13.716866},{"$f":"IF('Physical Data'!AF30=\"\",\"\",'Physical Data'!AF30)","v":20.520206999999999},{"$f":"IF('Physical Data'!AG30=\"\",\"\",'Physical Data'!AG30)","v":11.948548000000001},{"$f":"IF('Physical Data'!AH30=\"\",\"\",'Physical Data'!AH30)","v":5.3277770000000002},{"$f":"IF('Physical Data'!AI30=\"\",\"\",'Physical Data'!AI30)","v":4.2496049999999999},{"$f":"IF('Physical Data'!AJ30=\"\",\"\",'Physical Data'!AJ30)","v":4.1587529999999999},{"$f":"IF('Physical Data'!AK30=\"\",\"\",'Physical Data'!AK30)","v":3.813313},{"$f":"IF('Physical Data'!AL30=\"\",\"\",'Physical Data'!AL30)","v":4.1140059999999998},{"$f":"IF('Physical Data'!AM30=\"\",\"\",'Physical Data'!AM30)","v":4.3589929999999999},{"$f":"IF('Physical Data'!AN30=\"\",\"\",'Physical Data'!AN30)","v":3.8968910000000001},{"$f":"IF('Physical Data'!AO30=\"\",\"\",'Physical Data'!AO30)","v":3.2181489999999999},{"$f":"IF('Physical Data'!AP30=\"\",\"\",'Physical Data'!AP30)","v":2.3435920000000001},{"$f":"IF('Physical Data'!AQ30=\"\",\"\",'Physical Data'!AQ30)","v":1.5538400000000001},{"$f":"IF('Physical Data'!AR30=\"\",\"\",'Physical Data'!AR30)","v":0.97626400000000002},{"$f":"IF('Physical Data'!AS30=\"\",\"\",'Physical Data'!AS30)","v":0.67264999999999997},{"$f":"IF('Physical Data'!AT30=\"\",\"\",'Physical Data'!AT30)","v":0.54317499999999996},{"$f":"IF('Physical Data'!AU30=\"\",\"\",'Physical Data'!AU30)","v":0.480213},{"$f":"IF('Physical Data'!AV30=\"\",\"\",'Physical Data'!AV30)","v":0.42974699999999999},{"$f":"IF('Physical Data'!AW30=\"\",\"\",'Physical Data'!AW30)","v":0.373197},{"$f":"IF('Physical Data'!AX30=\"\",\"\",'Physical Data'!AX30)","v":0.309948},{"$f":"IF('Physical Data'!AY30=\"\",\"\",'Physical Data'!AY30)","v":0.237872},{"$f":"IF('Physical Data'!AZ30=\"\",\"\",'Physical Data'!AZ30)","v":0.17777899999999999},{"$f":"IF('Physical Data'!BA30=\"\",\"\",'Physical Data'!BA30)","v":0.11250599999999999},{"$f":"IF('Physical Data'!BB30=\"\",\"\",'Physical Data'!BB30)","v":4.7045999999999998E-2},{"$f":"IF('Physical Data'!BC30=\"\",\"\",'Physical Data'!BC30)","v":5.8840000000000003E-3},{"$f":"IF('Physical Data'!BD30=\"\",\"\",'Physical Data'!BD30)","v":0},0.12610499999999999,63.800469,4.7580740000000006,7.5289970000000004,51.513397999999995,36.073423000000005,null,null,null,25,""]
[null,null,null,null,null,null,null,{"$f":"IF('Physical Data'!H31=\"\",\"\",'Physical Data'!H31)","v":"MAR02481.023"},{"$f":"IF('Physical Data'!I31=\"\",\"\",'Physical Data'!I31)","v":""},{"$f":"IF('Physical Data'!J31=\"\",\"\",'Physical Data'!J31)","v":25},{"$f":"IFERROR(IF(J31=\"\",\"\",(IF(VLOOKUP(J31,'Application info'!$K$8:$L$37,2,0)=\"y\",\"y\",\"\"))),\"Manual entry required\")","v":""},{"$f":"IF('Physical Data'!K31=\"\",\"\",'Physical Data'!K31)","v":"Odourless Black Mud ."},{"$f":"IF('Physical Data'!L31=\"\",\"\",'Physical Data'!L31)","v":""},{"$f":"IF('Physical Data'!M31=\"\",\"\",'Physical Data'!M31)","v":""},{"$f":"IF('Physical Data'!N31=\"\",\"\",'Physical Data'!N31)","v":""},{"$f":"IF('Physical Data'!O31=\"\",\"\",'Physical Data'!O31)","v":0},{"$f":"IF('Physical Data'!P31=\"\",\"\",'Physical Data'!P31)","v":0},{"$f":"IF('Physical Data'!Q31=\"\",\"\",'Physical Data'!Q31)","v":0},{"$f":"IF('Physical Data'!R31=\"\",\"\",'Physical Data'!R31)","v":0},{"$f":"IF('Physical Data'!S31=\"\",\"\",'Physical Data'!S31)","v":0},{"$f":"IF('Physical Data'!T31=\"\",\"\",'Physical Data'!T31)","v":0},{"$f":"IF('Physical Data'!U31=\"\",\"\",'Physical Data'!U31)","v":0},{"$f":"IF('Physical Data'!V31=\"\",\"\",'Physical Data'!V31)","v":0},{"$f":"IF('Physical Data'!W31=\"\",\"\",'Physical Data'!W31)","v":0},{"$f":"IF('Physical Data'!X31=\"\",\"\",'Physical Data'!X31)","v":0},{"$f":"IF('Physical Data'!Y31=\"\",\"\",'Physical Data'!Y31)","v":0},{"$f":"IF('Physical Data'!Z31=\"\",\"\",'Physical Data'!Z31)","v":3.6666999999999998E-4},{"$f":"IF('Physical Data'!AA31=\"\",\"\",'Physical Data'!AA31)","v":0.38369999999999999},{"$f":"IF('Physical Data'!AB31=\"\",\"\",'Physical Data'!AB31)","v":4.1711999999999998},{"$f":"IF('Physical Data'!AC31=\"\",\"\",'Physical Data'!AC31)","v":4.4790000000000001},{"$f":"IF('Physical Data'!AD31=\"\",\"\",'Physical Data'!AD31)","v":3.07603333},{"$f":"IF('Physical Data'!AE31=\"\",\"\",'Physical Data'!AE31)","v":13.7643},{"$f":"IF('Physical Data'!AF31=\"\",\"\",'Physical Data'!AF31)","v":20.59116667},{"$f":"IF('Physical Data'!AG31=\"\",\"\",'Physical Data'!AG31)","v":11.98986667},{"$f":"IF('Physical Data'!AH31=\"\",\"\",'Physical Data'!AH31)","v":5.3461999999999996},{"$f":"IF('Physical Data'!AI31=\"\",\"\",'Physical Data'!AI31)","v":4.2643000000000004},{"$f":"IF('Physical Data'!AJ31=\"\",\"\",'Physical Data'!AJ31)","v":4.1731333299999998},{"$f":"IF('Physical Data'!AK31=\"\",\"\",'Physical Data'!AK31)","v":3.8264999999999998},{"$f":"IF('Physical Data'!AL31=\"\",\"\",'Physical Data'!AL31)","v":4.1282333299999996},{"$f":"IF('Physical Data'!AM31=\"\",\"\",'Physical Data'!AM31)","v":4.3740666700000004},{"$f":"IF('Physical Data'!AN31=\"\",\"\",'Physical Data'!AN31)","v":3.9103666700000002},{"$f":"IF('Physical Data'!AO31=\"\",\"\",'Physical Data'!AO31)","v":3.22927666},{"$f":"IF('Physical Data'!AP31=\"\",\"\",'Physical Data'!AP31)","v":2.3516966699999999},{"$f":"IF('Physical Data'!AQ31=\"\",\"\",'Physical Data'!AQ31)","v":1.55921333},{"$f":"IF('Physical Data'!AR31=\"\",\"\",'Physical Data'!AR31)","v":0.97963999999999996},{"$f":"IF('Physical Data'!AS31=\"\",\"\",'Physical Data'!AS31)","v":0.67497666999999995},{"$f":"IF('Physical Data'!AT31=\"\",\"\",'Physical Data'!AT31)","v":0.54505333},{"$f":"IF('Physical Data'!AU31=\"\",\"\",'Physical Data'!AU31)","v":0.48187333999999998},{"$f":"IF('Physical Data'!AV31=\"\",\"\",'Physical Data'!AV31)","v":0.43123333000000003},{"$f":"IF('Physical Data'!AW31=\"\",\"\",'Physical Data'!AW31)","v":0.37448766999999999},{"$f":"IF('Physical Data'!AX31=\"\",\"\",'Physical Data'!AX31)","v":0.31102000000000002},{"$f":"IF('Physical Data'!AY31=\"\",\"\",'Physical Data'!AY31)","v":0.23869366},{"$f":"IF('Physical Data'!AZ31=\"\",\"\",'Physical Data'!AZ31)","v":0.17839334000000001},{"$f":"IF('Physical Data'!BA31=\"\",\"\",'Physical Data'!BA31)","v":0.11289465999999999},{"$f":"IF('Physical Data'!BB31=\"\",\"\",'Physical Data'!BB31)","v":4.7208989999999999E-2},{"$f":"IF('Physical Data'!BC31=\"\",\"\",'Physical Data'!BC31)","v":5.9035800000000003E-3},{"$f":"IF('Physical Data'!BD31=\"\",\"\",'Physical Data'!BD31)","v":0},0,63.801833340000002,4.55526667,7.5550333300000005,51.691533339999992,36.198165230000008,null,null,null,"",""]
[null,null,null,null,null,null,null,{"$f":"IF('Physical Data'!H32=\"\",\"\",'Physical Data'!H32)","v":""},{"$f":"IF('Physical Data'!I32=\"\",\"\",'Physical Data'!I32)","v":""},{"$f":"IF('Physical Data'!J32=\"\",\"\",'Physical Data'!J32)","v":""},{"$f":"IFERROR(IF(J32=\"\",\"\",(IF(VLOOKUP(J32,'Application info'!$K$8:$L$37,2,0)=\"y\",\"y\",\"\"))),\"Manual entry required\")","v":""},{"$f":"IF('Physical Data'!K32=\"\",\"\",'Physical Data'!K32)","v":""},{"$f":"IF('Physical Data'!L32=\"\",\"\",'Physical Data'!L32)","v":""},{"$f":"IF('Physical Data'!M32=\"\",\"\",'Physical Data'!M32)","v":""},{"$f":"IF('Physical Data'!N32=\"\",\"\",'Physical Data'!N32)","v":""},{"$f":"IF('Physical Data'!O32=\"\",\"\",'Physical Data'!O32)","v":""},{"$f":"IF('Physical Data'!P32=\"\",\"\",'Physical Data'!P32)","v":""},{"$f":"IF('Physical Data'!Q32=\"\",\"\",'Physical Data'!Q32)","v":""},{"$f":"IF('Physical Data'!R32=\"\",\"\",'Physical Data'!R32)","v":""},{"$f":"IF('Physical Data'!S32=\"\",\"\",'Physical Data'!S32)","v":""},{"$f":"IF('Physical Data'!T32=\"\",\"\",'Physical Data'!T32)","v":""},{"$f":"IF('Physical Data'!U32=\"\",\"\",'Physical Data'!U32)","v":""},{"$f":"IF('Physical Data'!V32=\"\",\"\",'Physical Data'!V32)","v":""},{"$f":"IF('Physical Data'!W32=\"\",\"\",'Physical Data'!W32)","v":""},{"$f":"IF('Physical Data'!X32=\"\",\"\",'Physical Data'!X32)","v":""},{"$f":"IF('Physical Data'!Y32=\"\",\"\",'Physical Data'!Y32)","v":""},{"$f":"IF('Physical Data'!Z32=\"\",\"\",'Physical Data'!Z32)","v":""},{"$f":"IF('Physical Data'!AA32=\"\",\"\",'Physical Data'!AA32)","v":""},{"$f":"IF('Physical Data'!AB32=\"\",\"\",'Physical Data'!AB32)","v":""},{"$f":"IF('Physical Data'!AC32=\"\",\"\",'Physical Data'!AC32)","v":""},{"$f":"IF('Physical Data'!AD32=\"\",\"\",'Physical Data'!AD32)","v":""},{"$f":"IF('Physical Data'!AE32=\"\",\"\",'Physical Data'!AE32)","v":""},{"$f":"IF('Physical Data'!AF32=\"\",\"\",'Physical Data'!AF32)","v":""},{"$f":"IF('Physical Data'!AG32=\"\",\"\",'Physical Data'!AG32)","v":""},{"$f":"IF('Physical Data'!AH32=\"\",\"\",'Physical Data'!AH32)","v":""},{"$f":"IF('Physical Data'!AI32=\"\",\"\",'Physical Data'!AI32)","v":""},{"$f":"IF('Physical Data'!AJ32=\"\",\"\",'Physical Data'!AJ32)","v":""},{"$f":"IF('Physical Data'!AK32=\"\",\"\",'Physical Data'!AK32)","v":""},{"$f":"IF('Physical Data'!AL32=\"\",\"\",'Physical Data'!AL32)","v":""},{"$f":"IF('Physical Data'!AM32=\"\",\"\",'Physical Data'!AM32)","v":""},{"$f":"IF('Physical Data'!AN32=\"\",\"\",'Physical Data'!AN32)","v":""},{"$f":"IF('Physical Data'!AO32=\"\",\"\",'Physical Data'!AO32)","v":""},{"$f":"IF('Physical Data'!AP32=\"\",\"\",'Physical Data'!AP32)","v":""},{"$f":"IF('Physical Data'!AQ32=\"\",\"\",'Physical Data'!AQ32)","v":""},{"$f":"IF('Physical Data'!AR32=\"\",\"\",'Physical Data'!AR32)","v":""},{"$f":"IF('Physical Data'!AS32=\"\",\"\",'Physical Data'!AS32)","v":""},{"$f":"IF('Physical Data'!AT32=\"\",\"\",'Physical Data'!AT32)","v":""},{"$f":"IF('Physical Data'!AU32=\"\",\"\",'Physical Data'!AU32)","v":""},{"$f":"IF('Physical Data'!AV32=\"\",\"\",'Physical Data'!AV32)","v":""},{"$f":"IF('Physical Data'!AW32=\"\",\"\",'Physical Data'!AW32)","v":""},{"$f":"IF('Physical Data'!AX32=\"\",\"\",'Physical Data'!AX32)","v":""},{"$f":"IF('Physical Data'!AY32=\"\",\"\",'Physical Data'!AY32)","v":""},{"$f":"IF('Physical Data'!AZ32=\"\",\"\",'Physical Data'!AZ32)","v":""},{"$f":"IF('Physical Data'!BA32=\"\",\"\",'Physical Data'!BA32)","v":""},{"$f":"IF('Physical Data'!BB32=\"\",\"\",'Physical Data'!BB32)","v":""},{"$f":"IF('Physical Data'!BC32=\"\",\"\",'Physical Data'!BC32)","v":""},{"$f":"IF('Physical Data'!BD32=\"\",\"\",'Physical Data'!BD32)","v":""},"","","","","","",null,null,null,"",""]
[null,null,null,null,null,null,null,{"$f":"IF('Physical Data'!H33=\"\",\"\",'Physical Data'!H33)","v":""},{"$f":"IF('Physical Data'!I33=\"\",\"\",'Physical Data'!I33)","v":""},{"$f":"IF('Physical Data'!J33=\"\",\"\",'Physical Data'!J33)","v":""},{"$f":"IFERROR(IF(J33=\"\",\"\",(IF(VLOOKUP(J33,'Application info'!$K$8:$L$37,2,0)=\"y\",\"y\",\"\"))),\"Manual entry required\")","v":""},{"$f":"IF('Physical Data'!K33=\"\",\"\",'Physical Data'!K33)","v":""},{"$f":"IF('Physical Data'!L33=\"\",\"\",'Physical Data'!L33)","v":""},{"$f":"IF('Physical Data'!M33=\"\",\"\",'Physical Data'!M33)","v":""},{"$f":"IF('Physical Data'!N33=\"\",\"\",'Physical Data'!N33)","v":""},{"$f":"IF('Physical Data'!O33=\"\",\"\",'Physical Data'!O33)","v":""},{"$f":"IF('Physical Data'!P33=\"\",\"\",'Physical Data'!P33)","v":""},{"$f":"IF('Physical Data'!Q33=\"\",\"\",'Physical Data'!Q33)","v":""},{"$f":"IF('Physical Data'!R33=\"\",\"\",'Physical Data'!R33)","v":""},{"$f":"IF('Physical Data'!S33=\"\",\"\",'Physical Data'!S33)","v":""},{"$f":"IF('Physical Data'!T33=\"\",\"\",'Physical Data'!T33)","v":""},{"$f":"IF('Physical Data'!U33=\"\",\"\",'Physical Data'!U33)","v":""},{"$f":"IF('Physical Data'!V33=\"\",\"\",'Physical Data'!V33)","v":""},{"$f":"IF('Physical Data'!W33=\"\",\"\",'Physical Data'!W33)","v":""},{"$f":"IF('Physical Data'!X33=\"\",\"\",'Physical Data'!X33)","v":""},{"$f":"IF('Physical Data'!Y33=\"\",\"\",'Physical Data'!Y33)","v":""},{"$f":"IF('Physical Data'!Z33=\"\",\"\",'Physical Data'!Z33)","v":""},{"$f":"IF('Physical Data'!AA33=\"\",\"\",'Physical Data'!AA33)","v":""},{"$f":"IF('Physical Data'!AB33=\"\",\"\",'Physical Data'!AB33)","v":""},{"$f":"IF('Physical Data'!AC33=\"\",\"\",'Physical Data'!AC33)","v":""},{"$f":"IF('Physical Data'!AD33=\"\",\"\",'Physical Data'!AD33)","v":""},{"$f":"IF('Physical Data'!AE33=\"\",\"\",'Physical Data'!AE33)","v":""},{"$f":"IF('Physical Data'!AF33=\"\",\"\",'Physical Data'!AF33)","v":""},{"$f":"IF('Physical Data'!AG33=\"\",\"\",'Physical Data'!AG33)","v":""},{"$f":"IF('Physical Data'!AH33=\"\",\"\",'Physical Data'!AH33)","v":""},{"$f":"IF('Physical Data'!AI33=\"\",\"\",'Physical Data'!AI33)","v":""},{"$f":"IF('Physical Data'!AJ33=\"\",\"\",'Physical Data'!AJ33)","v":""},{"$f":"IF('Physical Data'!AK33=\"\",\"\",'Physical Data'!AK33)","v":""},{"$f":"IF('Physical Data'!AL33=\"\",\"\",'Physical Data'!AL33)","v":""},{"$f":"IF('Physical Data'!AM33=\"\",\"\",'Physical Data'!AM33)","v":""},{"$f":"IF('Physical Data'!AN33=\"\",\"\",'Physical Data'!AN33)","v":""},{"$f":"IF('Physical Data'!AO33=\"\",\"\",'Physical Data'!AO33)","v":""},{"$f":"IF('Physical Data'!AP33=\"\",\"\",'Physical Data'!AP33)","v":""},{"$f":"IF('Physical Data'!AQ33=\"\",\"\",'Physical Data'!AQ33)","v":""},{"$f":"IF('Physical Data'!AR33=\"\",\"\",'Physical Data'!AR33)","v":""},{"$f":"IF('Physical Data'!AS33=\"\",\"\",'Physical Data'!AS33)","v":""},{"$f":"IF('Physical Data'!AT33=\"\",\"\",'Physical Data'!AT33)","v":""},{"$f":"IF('Physical Data'!AU33=\"\",\"\",'Physical Data'!AU33)","v":""},{"$f":"IF('Physical Data'!AV33=\"\",\"\",'Physical Data'!AV33)","v":""},{"$f":"IF('Physical Data'!AW33=\"\",\"\",'Physical Data'!AW33)","v":""},{"$f":"IF('Physical Data'!AX33=\"\",\"\",'Physical Data'!AX33)","v":""},{"$f":"IF('Physical Data'!AY33=\"\",\"\",'Physical Data'!AY33)","v":""},{"$f":"IF('Physical Data'!AZ33=\"\",\"\",'Physical Data'!AZ33)","v":""},{"$f":"IF('Physical Data'!BA33=\"\",\"\",'Physical Data'!BA33)","v":""},{"$f":"IF('Physical Data'!BB33=\"\",\"\",'Physical Data'!BB33)","v":""},{"$f":"IF('Physical Data'!BC33=\"\",\"\",'Physical Data'!BC33)","v":""},{"$f":"IF('Physical Data'!BD33=\"\",\"\",'Physical Data'!BD33)","v":""},"","","","","","",null,null,null,"",""]
[null,null,null,null,null,null,null,{"$f":"IF('Physical Data'!H34=\"\",\"\",'Physical Data'!H34)","v":""},{"$f":"IF('Physical Data'!I34=\"\",\"\",'Physical Data'!I34)","v":""},{"$f":"IF('Physical Data'!J34=\"\",\"\",'Physical Data'!J34)","v":""},{"$f":"IFERROR(IF(J34=\"\",\"\",(IF(VLOOKUP(J34,'Application info'!$K$8:$L$37,2,0)=\"y\",\"y\",\"\"))),\"Manual entry required\")","v":""},{"$f":"IF('Physical Data'!K34=\"\",\"\",'Physical Data'!K34)","v":""},{"$f":"IF('Physical Data'!L34=\"\",\"\",'Physical Data'!L34)","v":""},{"$f":"IF('Physical Data'!M34=\"\",\"\",'Physical Data'!M34)","v":""},{"$f":"IF('Physical Data'!N34=\"\",\"\",'Physical Data'!N34)","v":""},{"$f":"IF('Physical Data'!O34=\"\",\"\",'Physical Data'!O34)","v":""},{"$f":"IF('Physical Data'!P34=\"\",\"\",'Physical Data'!P34)","v":""},{"$f":"IF('Physical Data'!Q34=\"\",\"\",'Physical Data'!Q34)","v":""},{"$f":"IF('Physical Data'!R34=\"\",\"\",'Physical Data'!R34)","v":""},{"$f":"IF('Physical Data'!S34=\"\",\"\",'Physical Data'!S34)","v":""},{"$f":"IF('Physical Data'!T34=\"\",\"\",'Physical Data'!T34)","v":""},{"$f":"IF('Physical Data'!U34=\"\",\"\",'Physical Data'!U34)","v":""},{"$f":"IF('Physical Data'!V34=\"\",\"\",'Physical Data'!V34)","v":""},{"$f":"IF('Physical Data'!W34=\"\",\"\",'Physical Data'!W34)","v":""},{"$f":"IF('Physical Data'!X34=\"\",\"\",'Physical Data'!X34)","v":""},{"$f":"IF('Physical Data'!Y34=\"\",\"\",'Physical Data'!Y34)","v":""},{"$f":"IF('Physical Data'!Z34=\"\",\"\",'Physical Data'!Z34)","v":""},{"$f":"IF('Physical Data'!AA34=\"\",\"\",'Physical Data'!AA34)","v":""},{"$f":"IF('Physical Data'!AB34=\"\",\"\",'Physical Data'!AB34)","v":""},{"$f":"IF('Physical Data'!AC34=\"\",\"\",'Physical Data'!AC34)","v":""},{"$f":"IF('Physical Data'!AD34=\"\",\"\",'Physical Data'!AD34)","v":""},{"$f":"IF('Physical Data'!AE34=\"\",\"\",'Physical Data'!AE34)","v":""},{"$f":"IF('Physical Data'!AF34=\"\",\"\",'Physical Data'!AF34)","v":""},{"$f":"IF('Physical Data'!AG34=\"\",\"\",'Physical Data'!AG34)","v":""},{"$f":"IF('Physical Data'!AH34=\"\",\"\",'Physical Data'!AH34)","v":""},{"$f":"IF('Physical Data'!AI34=\"\",\"\",'Physical Data'!AI34)","v":""},{"$f":"IF('Physical Data'!AJ34=\"\",\"\",'Physical Data'!AJ34)","v":""},{"$f":"IF('Physical Data'!AK34=\"\",\"\",'Physical Data'!AK34)","v":""},{"$f":"IF('Physical Data'!AL34=\"\",\"\",'Physical Data'!AL34)","v":""},{"$f":"IF('Physical Data'!AM34=\"\",\"\",'Physical Data'!AM34)","v":""},{"$f":"IF('Physical Data'!AN34=\"\",\"\",'Physical Data'!AN34)","v":""},{"$f":"IF('Physical Data'!AO34=\"\",\"\",'Physical Data'!AO34)","v":""},{"$f":"IF('Physical Data'!AP34=\"\",\"\",'Physical Data'!AP34)","v":""},{"$f":"IF('Physical Data'!AQ34=\"\",\"\",'Physical Data'!AQ34)","v":""},{"$f":"IF('Physical Data'!AR34=\"\",\"\",'Physical Data'!AR34)","v":""},{"$f":"IF('Physical Data'!AS34=\"\",\"\",'Physical Data'!AS34)","v":""},{"$f":"IF('Physical Data'!AT34=\"\",\"\",'Physical Data'!AT34)","v":""},{"$f":"IF('Physical Data'!AU34=\"\",\"\",'Physical Data'!AU34)","v":""},{"$f":"IF('Physical Data'!AV34=\"\",\"\",'Physical Data'!AV34)","v":""},{"$f":"IF('Physical Data'!AW34=\"\",\"\",'Physical Data'!AW34)","v":""},{"$f":"IF('Physical Data'!AX34=\"\",\"\",'Physical Data'!AX34)","v":""},{"$f":"IF('Physical Data'!AY34=\"\",\"\",'Physical Data'!AY34)","v":""},{"$f":"IF('Physical Data'!AZ34=\"\",\"\",'Physical Data'!AZ34)","v":""},{"$f":"IF('Physical Data'!BA34=\"\",\"\",'Physical Data'!BA34)","v":""},{"$f":"IF('Physical Data'!BB34=\"\",\"\",'Physical Data'!BB34)","v":""},{"$f":"IF('Physical Data'!BC34=\"\",\"\",'Physical Data'!BC34)","v":""},{"$f":"IF('Physical Data'!BD34=\"\",\"\",'Physical Data'!BD34)","v":""},"","","","","","",null,null,null,"",""]
[null,null,null,null,null,null,null,{"$f":"IF('Physical Data'!H35=\"\",\"\",'Physical Data'!H35)","v":""},{"$f":"IF('Physical Data'!I35=\"\",\"\",'Physical Data'!I35)","v":""},{"$f":"IF('Physical Data'!J35=\"\",\"\",'Physical Data'!J35)","v":""},{"$f":"IFERROR(IF(J35=\"\",\"\",(IF(VLOOKUP(J35,'Application info'!$K$8:$L$37,2,0)=\"y\",\"y\",\"\"))),\"Manual entry required\")","v":""},{"$f":"IF('Physical Data'!K35=\"\",\"\",'Physical Data'!K35)","v":""},{"$f":"IF('Physical Data'!L35=\"\",\"\",'Physical Data'!L35)","v":""},{"$f":"IF('Physical Data'!M35=\"\",\"\",'Physical Data'!M35)","v":""},{"$f":"IF('Physical Data'!N35=\"\",\"\",'Physical Data'!N35)","v":""},{"$f":"IF('Physical Data'!O35=\"\",\"\",'Physical Data'!O35)","v":""},{"$f":"IF('Physical Data'!P35=\"\",\"\",'Physical Data'!P35)","v":""},{"$f":"IF('Physical Data'!Q35=\"\",\"\",'Physical Data'!Q35)","v":""},{"$f":"IF('Physical Data'!R35=\"\",\"\",'Physical Data'!R35)","v":""},{"$f":"IF('Physical Data'!S35=\"\",\"\",'Physical Data'!S35)","v":""},{"$f":"IF('Physical Data'!T35=\"\",\"\",'Physical Data'!T35)","v":""},{"$f":"IF('Physical Data'!U35=\"\",\"\",'Physical Data'!U35)","v":""},{"$f":"IF('Physical Data'!V35=\"\",\"\",'Physical Data'!V35)","v":""},{"$f":"IF('Physical Data'!W35=\"\",\"\",'Physical Data'!W35)","v":""},{"$f":"IF('Physical Data'!X35=\"\",\"\",'Physical Data'!X35)","v":""},{"$f":"IF('Physical Data'!Y35=\"\",\"\",'Physical Data'!Y35)","v":""},{"$f":"IF('Physical Data'!Z35=\"\",\"\",'Physical Data'!Z35)","v":""},{"$f":"IF('Physical Data'!AA35=\"\",\"\",'Physical Data'!AA35)","v":""},{"$f":"IF('Physical Data'!AB35=\"\",\"\",'Physical Data'!AB35)","v":""},{"$f":"IF('Physical Data'!AC35=\"\",\"\",'Physical Data'!AC35)","v":""},{"$f":"IF('Physical Data'!AD35=\"\",\"\",'Physical Data'!AD35)","v":""},{"$f":"IF('Physical Data'!AE35=\"\",\"\",'Physical Data'!AE35)","v":""},{"$f":"IF('Physical Data'!AF35=\"\",\"\",'Physical Data'!AF35)","v":""},{"$f":"IF('Physical Data'!AG35=\"\",\"\",'Physical Data'!AG35)","v":""},{"$f":"IF('Physical Data'!AH35=\"\",\"\",'Physical Data'!AH35)","v":""},{"$f":"IF('Physical Data'!AI35=\"\",\"\",'Physical Data'!AI35)","v":""},{"$f":"IF('Physical Data'!AJ35=\"\",\"\",'Physical Data'!AJ35)","v":""},{"$f":"IF('Physical Data'!AK35=\"\",\"\",'Physical Data'!AK35)","v":""},{"$f":"IF('Physical Data'!AL35=\"\",\"\",'Physical Data'!AL35)","v":""},{"$f":"IF('Physical Data'!AM35=\"\",\"\",'Physical Data'!AM35)","v":""},{"$f":"IF('Physical Data'!AN35=\"\",\"\",'Physical Data'!AN35)","v":""},{"$f":"IF('Physical Data'!AO35=\"\",\"\",'Physical Data'!AO35)","v":""},{"$f":"IF('Physical Data'!AP35=\"\",\"\",'Physical Data'!AP35)","v":""},{"$f":"IF('Physical Data'!AQ35=\"\",\"\",'Physical Data'!AQ35)","v":""},{"$f":"IF('Physical Data'!AR35=\"\",\"\",'Physical Data'!AR35)","v":""},{"$f":"IF('Physical Data'!AS35=\"\",\"\",'Physical Data'!AS35)","v":""},{"$f":"IF('Physical Data'!AT35=\"\",\"\",'Physical Data'!AT35)","v":""},{"$f":"IF('Physical Data'!AU35=\"\",\"\",'Physical Data'!AU35)","v":""},{"$f":"IF('Physical Data'!AV35=\"\",\"\",'Physical Data'!AV35)","v":""},{"$f":"IF('Physical Data'!AW35=\"\",\"\",'Physical Data'!AW35)","v":""},{"$f":"IF('Physical Data'!AX35=\"\",\"\",'Physical Data'!AX35)","v":""},{"$f":"IF('Physical Data'!AY35=\"\",\"\",'Physical Data'!AY35)","v":""},{"$f":"IF('Physical Data'!AZ35=\"\",\"\",'Physical Data'!AZ35)","v":""},{"$f":"IF('Physical Data'!BA35=\"\",\"\",'Physical Data'!BA35)","v":""},{"$f":"IF('Physical Data'!BB35=\"\",\"\",'Physical Data'!BB35)","v":""},{"$f":"IF('Physical Data'!BC35=\"\",\"\",'Physical Data'!BC35)","v":""},{"$f":"IF('Physical Data'!BD35=\"\",\"\",'Physical Data'!BD35)","v":""},"","","","","","",null,null,null,"",""]
[null,null,null,null,null,null,null,{"$f":"IF('Physical Data'!H36=\"\",\"\",'Physical Data'!H36)","v":""},{"$f":"IF('Physical Data'!I36=\"\",\"\",'Physical Data'!I36)","v":""},{"$f":"IF('Physical Data'!J36=\"\",\"\",'Physical Data'!J36)","v":""},{"$f":"IFERROR(IF(J36=\"\",\"\",(IF(VLOOKUP(J36,'Application info'!$K$8:$L$37,2,0)=\"y\",\"y\",\"\"))),\"Manual entry required\")","v":""},{"$f":"IF('Physical Data'!K36=\"\",\"\",'Physical Data'!K36)","v":""},{"$f":"IF('Physical Data'!L36=\"\",\"\",'Physical Data'!L36)","v":""},{"$f":"IF('Physical Data'!M36=\"\",\"\",'Physical Data'!M36)","v":""},{"$f":"IF('Physical Data'!N36=\"\",\"\",'Physical Data'!N36)","v":""},{"$f":"IF('Physical Data'!O36=\"\",\"\",'Physical Data'!O36)","v":""},{"$f":"IF('Physical Data'!P36=\"\",\"\",'Physical Data'!P36)","v":""},{"$f":"IF('Physical Data'!Q36=\"\",\"\",'Physical Data'!Q36)","v":""},{"$f":"IF('Physical Data'!R36=\"\",\"\",'Physical Data'!R36)","v":""},{"$f":"IF('Physical Data'!S36=\"\",\"\",'Physical Data'!S36)","v":""},{"$f":"IF('Physical Data'!T36=\"\",\"\",'Physical Data'!T36)","v":""},{"$f":"IF('Physical Data'!U36=\"\",\"\",'Physical Data'!U36)","v":""},{"$f":"IF('Physical Data'!V36=\"\",\"\",'Physical Data'!V36)","v":""},{"$f":"IF('Physical Data'!W36=\"\",\"\",'Physical Data'!W36)","v":""},{"$f":"IF('Physical Data'!X36=\"\",\"\",'Physical Data'!X36)","v":""},{"$f":"IF('Physical Data'!Y36=\"\",\"\",'Physical Data'!Y36)","v":""},{"$f":"IF('Physical Data'!Z36=\"\",\"\",'Physical Data'!Z36)","v":""},{"$f":"IF('Physical Data'!AA36=\"\",\"\",'Physical Data'!AA36)","v":""},{"$f":"IF('Physical Data'!AB36=\"\",\"\",'Physical Data'!AB36)","v":""},{"$f":"IF('Physical Data'!AC36=\"\",\"\",'Physical Data'!AC36)","v":""},{"$f":"IF('Physical Data'!AD36=\"\",\"\",'Physical Data'!AD36)","v":""},{"$f":"IF('Physical Data'!AE36=\"\",\"\",'Physical Data'!AE36)","v":""},{"$f":"IF('Physical Data'!AF36=\"\",\"\",'Physical Data'!AF36)","v":""},{"$f":"IF('Physical Data'!AG36=\"\",\"\",'Physical Data'!AG36)","v":""},{"$f":"IF('Physical Data'!AH36=\"\",\"\",'Physical Data'!AH36)","v":""},{"$f":"IF('Physical Data'!AI36=\"\",\"\",'Physical Data'!AI36)","v":""},{"$f":"IF('Physical Data'!AJ36=\"\",\"\",'Physical Data'!AJ36)","v":""},{"$f":"IF('Physical Data'!AK36=\"\",\"\",'Physical Data'!AK36)","v":""},{"$f":"IF('Physical Data'!AL36=\"\",\"\",'Physical Data'!AL36)","v":""},{"$f":"IF('Physical Data'!AM36=\"\",\"\",'Physical Data'!AM36)","v":""},{"$f":"IF('Physical Data'!AN36=\"\",\"\",'Physical Data'!AN36)","v":""},{"$f":"IF('Physical Data'!AO36=\"\",\"\",'Physical Data'!AO36)","v":""},{"$f":"IF('Physical Data'!AP36=\"\",\"\",'Physical Data'!AP36)","v":""},{"$f":"IF('Physical Data'!AQ36=\"\",\"\",'Physical Data'!AQ36)","v":""},{"$f":"IF('Physical Data'!AR36=\"\",\"\",'Physical Data'!AR36)","v":""},{"$f":"IF('Physical Data'!AS36=\"\",\"\",'Physical Data'!AS36)","v":""},{"$f":"IF('Physical Data'!AT36=\"\",\"\",'Physical Data'!AT36)","v":""},{"$f":"IF('Physical Data'!AU36=\"\",\"\",'Physical Data'!AU36)","v":""},{"$f":"IF('Physical Data'!AV36=\"\",\"\",'Physical Data'!AV36)","v":""},{"$f":"IF('Physical Data'!AW36=\"\",\"\",'Physical Data'!AW36)","v":""},{"$f":"IF('Physical Data'!AX36=\"\",\"\",'Physical Data'!AX36)","v":""},{"$f":"IF('Physical Data'!AY36=\"\",\"\",'Physical Data'!AY36)","v":""},{"$f":"IF('Physical Data'!AZ36=\"\",\"\",'Physical Data'!AZ36)","v":""},{"$f":"IF('Physical Data'!BA36=\"\",\"\",'Physical Data'!BA36)","v":""},{"$f":"IF('Physical Data'!BB36=\"\",\"\",'Physical Data'!BB36)","v":""},{"$f":"IF('Physical Data'!BC36=\"\",\"\",'Physical Data'!BC36)","v":""},{"$f":"IF('Physical Data'!BD36=\"\",\"\",'Physical Data'!BD36)","v":""},"","","","","","",null,null,null,"",""]
[null,null,null,null,null,null,null,{"$f":"IF('Physical Data'!H37=\"\",\"\",'Physical Data'!H37)","v":""},{"$f":"IF('Physical Data'!I37=\"\",\"\",'Physical Data'!I37)","v":""},{"$f":"IF('Physical Data'!J37=\"\",\"\",'Physical Data'!J37)","v":""},{"$f":"IFERROR(IF(J37=\"\",\"\",(IF(VLOOKUP(J37,'Application info'!$K$8:$L$37,2,0)=\"y\",\"y\",\"\"))),\"Manual entry required\")","v":""},{"$f":"IF('Physical Data'!K37=\"\",\"\",'Physical Data'!K37)","v":""},{"$f":"IF('Physical Data'!L37=\"\",\"\",'Physical Data'!L37)","v":""},{"$f":"IF('Physical Data'!M37=\"\",\"\",'Physical Data'!M37)","v":""},{"$f":"IF('Physical Data'!N37=\"\",\"\",'Physical Data'!N37)","v":""},{"$f":"IF('Physical Data'!O37=\"\",\"\",'Physical Data'!O37)","v":""},{"$f":"IF('Physical Data'!P37=\"\",\"\",'Physical Data'!P37)","v":""},{"$f":"IF('Physical Data'!Q37=\"\",\"\",'Physical Data'!Q37)","v":""},{"$f":"IF('Physical Data'!R37=\"\",\"\",'Physical Data'!R37)","v":""},{"$f":"IF('Physical Data'!S37=\"\",\"\",'Physical Data'!S37)","v":""},{"$f":"IF('Physical Data'!T37=\"\",\"\",'Physical Data'!T37)","v":""},{"$f":"IF('Physical Data'!U37=\"\",\"\",'Physical Data'!U37)","v":""},{"$f":"IF('Physical Data'!V37=\"\",\"\",'Physical Data'!V37)","v":""},{"$f":"IF('Physical Data'!W37=\"\",\"\",'Physical Data'!W37)","v":""},{"$f":"IF('Physical Data'!X37=\"\",\"\",'Physical Data'!X37)","v":""},{"$f":"IF('Physical Data'!Y37=\"\",\"\",'Physical Data'!Y37)","v":""},{"$f":"IF('Physical Data'!Z37=\"\",\"\",'Physical Data'!Z37)","v":""},{"$f":"IF('Physical Data'!AA37=\"\",\"\",'Physical Data'!AA37)","v":""},{"$f":"IF('Physical Data'!AB37=\"\",\"\",'Physical Data'!AB37)","v":""},{"$f":"IF('Physical Data'!AC37=\"\",\"\",'Physical Data'!AC37)","v":""},{"$f":"IF('Physical Data'!AD37=\"\",\"\",'Physical Data'!AD37)","v":""},{"$f":"IF('Physical Data'!AE37=\"\",\"\",'Physical Data'!AE37)","v":""},{"$f":"IF('Physical Data'!AF37=\"\",\"\",'Physical Data'!AF37)","v":""},{"$f":"IF('Physical Data'!AG37=\"\",\"\",'Physical Data'!AG37)","v":""},{"$f":"IF('Physical Data'!AH37=\"\",\"\",'Physical Data'!AH37)","v":""},{"$f":"IF('Physical Data'!AI37=\"\",\"\",'Physical Data'!AI37)","v":""},{"$f":"IF('Physical Data'!AJ37=\"\",\"\",'Physical Data'!AJ37)","v":""},{"$f":"IF('Physical Data'!AK37=\"\",\"\",'Physical Data'!AK37)","v":""},{"$f":"IF('Physical Data'!AL37=\"\",\"\",'Physical Data'!AL37)","v":""},{"$f":"IF('Physical Data'!AM37=\"\",\"\",'Physical Data'!AM37)","v":""},{"$f":"IF('Physical Data'!AN37=\"\",\"\",'Physical Data'!AN37)","v":""},{"$f":"IF('Physical Data'!AO37=\"\",\"\",'Physical Data'!AO37)","v":""},{"$f":"IF('Physical Data'!AP37=\"\",\"\",'Physical Data'!AP37)","v":""},{"$f":"IF('Physical Data'!AQ37=\"\",\"\",'Physical Data'!AQ37)","v":""},{"$f":"IF('Physical Data'!AR37=\"\",\"\",'Physical Data'!AR37)","v":""},{"$f":"IF('Physical Data'!AS37=\"\",\"\",'Physical Data'!AS37)","v":""},{"$f":"IF('Physical Data'!AT37=\"\",\"\",'Physical Data'!AT37)","v":""},{"$f":"IF('Physical Data'!AU37=\"\",\"\",'Physical Data'!AU37)","v":""},{"$f":"IF('Physical Data'!AV37=\"\",\"\",'Physical Data'!AV37)","v":""},{"$f":"IF('Physical Data'!AW37=\"\",\"\",'Physical Data'!AW37)","v":""},{"$f":"IF('Physical Data'!AX37=\"\",\"\",'Physical Data'!AX37)","v":""},{"$f":"IF('Physical Data'!AY37=\"\",\"\",'Physical Data'!AY37)","v":""},{"$f":"IF('Physical Data'!AZ37=\"\",\"\",'Physical Data'!AZ37)","v":""},{"$f":"IF('Physical Data'!BA37=\"\",\"\",'Physical Data'!BA37)","v":""},{"$f":"IF('Physical Data'!BB37=\"\",\"\",'Physical Data'!BB37)","v":""},{"$f":"IF('Physical Data'!BC37=\"\",\"\",'Physical Data'!BC37)","v":""},{"$f":"IF('Physical Data'!BD37=\"\",\"\",'Physical Data'!BD37)","v":""},"","","","","","",null,null,null,"",""]
[null,null,null,null,null,null,null,{"$f":"IF('Physical Data'!H38=\"\",\"\",'Physical Data'!H38)","v":""},{"$f":"IF('Physical Data'!I38=\"\",\"\",'Physical Data'!I38)","v":""},{"$f":"IF('Physical Data'!J38=\"\",\"\",'Physical Data'!J38)","v":""},{"$f":"IFERROR(IF(J38=\"\",\"\",(IF(VLOOKUP(J38,'Application info'!$K$8:$L$37,2,0)=\"y\",\"y\",\"\"))),\"Manual entry required\")","v":""},{"$f":"IF('Physical Data'!K38=\"\",\"\",'Physical Data'!K38)","v":""},{"$f":"IF('Physical Data'!L38=\"\",\"\",'Physical Data'!L38)","v":""},{"$f":"IF('Physical Data'!M38=\"\",\"\",'Physical Data'!M38)","v":""},{"$f":"IF('Physical Data'!N38=\"\",\"\",'Physical Data'!N38)","v":""},{"$f":"IF('Physical Data'!O38=\"\",\"\",'Physical Data'!O38)","v":""},{"$f":"IF('Physical Data'!P38=\"\",\"\",'Physical Data'!P38)","v":""},{"$f":"IF('Physical Data'!Q38=\"\",\"\",'Physical Data'!Q38)","v":""},{"$f":"IF('Physical Data'!R38=\"\",\"\",'Physical Data'!R38)","v":""},{"$f":"IF('Physical Data'!S38=\"\",\"\",'Physical Data'!S38)","v":""},{"$f":"IF('Physical Data'!T38=\"\",\"\",'Physical Data'!T38)","v":""},{"$f":"IF('Physical Data'!U38=\"\",\"\",'Physical Data'!U38)","v":""},{"$f":"IF('Physical Data'!V38=\"\",\"\",'Physical Data'!V38)","v":""},{"$f":"IF('Physical Data'!W38=\"\",\"\",'Physical Data'!W38)","v":""},{"$f":"IF('Physical Data'!X38=\"\",\"\",'Physical Data'!X38)","v":""},{"$f":"IF('Physical Data'!Y38=\"\",\"\",'Physical Data'!Y38)","v":""},{"$f":"IF('Physical Data'!Z38=\"\",\"\",'Physical Data'!Z38)","v":""},{"$f":"IF('Physical Data'!AA38=\"\",\"\",'Physical Data'!AA38)","v":""},{"$f":"IF('Physical Data'!AB38=\"\",\"\",'Physical Data'!AB38)","v":""},{"$f":"IF('Physical Data'!AC38=\"\",\"\",'Physical Data'!AC38)","v":""},{"$f":"IF('Physical Data'!AD38=\"\",\"\",'Physical Data'!AD38)","v":""},{"$f":"IF('Physical Data'!AE38=\"\",\"\",'Physical Data'!AE38)","v":""},{"$f":"IF('Physical Data'!AF38=\"\",\"\",'Physical Data'!AF38)","v":""},{"$f":"IF('Physical Data'!AG38=\"\",\"\",'Physical Data'!AG38)","v":""},{"$f":"IF('Physical Data'!AH38=\"\",\"\",'Physical Data'!AH38)","v":""},{"$f":"IF('Physical Data'!AI38=\"\",\"\",'Physical Data'!AI38)","v":""},{"$f":"IF('Physical Data'!AJ38=\"\",\"\",'Physical Data'!AJ38)","v":""},{"$f":"IF('Physical Data'!AK38=\"\",\"\",'Physical Data'!AK38)","v":""},{"$f":"IF('Physical Data'!AL38=\"\",\"\",'Physical Data'!AL38)","v":""},{"$f":"IF('Physical Data'!AM38=\"\",\"\",'Physical Data'!AM38)","v":""},{"$f":"IF('Physical Data'!AN38=\"\",\"\",'Physical Data'!AN38)","v":""},{"$f":"IF('Physical Data'!AO38=\"\",\"\",'Physical Data'!AO38)","v":""},{"$f":"IF('Physical Data'!AP38=\"\",\"\",'Physical Data'!AP38)","v":""},{"$f":"IF('Physical Data'!AQ38=\"\",\"\",'Physical Data'!AQ38)","v":""},{"$f":"IF('Physical Data'!AR38=\"\",\"\",'Physical Data'!AR38)","v":""},{"$f":"IF('Physical Data'!AS38=\"\",\"\",'Physical Data'!AS38)","v":""},{"$f":"IF('Physical Data'!AT38=\"\",\"\",'Physical Data'!AT38)","v":""},{"$f":"IF('Physical Data'!AU38=\"\",\"\",'Physical Data'!AU38)","v":""},{"$f":"IF('Physical Data'!AV38=\"\",\"\",'Physical Data'!AV38)","v":""},{"$f":"IF('Physical Data'!AW38=\"\",\"\",'Physical Data'!AW38)","v":""},{"$f":"IF('Physical Data'!AX38=\"\",\"\",'Physical Data'!AX38)","v":""},{"$f":"IF('Physical Data'!AY38=\"\",\"\",'Physical Data'!AY38)","v":""},{"$f":"IF('Physical Data'!AZ38=\"\",\"\",'Physical Data'!AZ38)","v":""},{"$f":"IF('Physical Data'!BA38=\"\",\"\",'Physical Data'!BA38)","v":""},{"$f":"IF('Physical Data'!BB38=\"\",\"\",'Physical Data'!BB38)","v":""},{"$f":"IF('Physical Data'!BC38=\"\",\"\",'Physical Data'!BC38)","v":""},{"$f":"IF('Physical Data'!BD38=\"\",\"\",'Physical Data'!BD38)","v":""},"","","","","","",null,null,null,"",""]
[]
[null,null,null,null,null,null,null,"Averages:  ",null,null,null,null,null,{"$f":"IF(COUNT(N9:N38)<1,\"\", AVERAGE(N9:N38))","v":""},"",0,0,0,0,9.5476956521739122E-3,3.4273608695652172E-2,3.5605565217391312E-2,4.8949869565217394E-2,8.044895652173914E-2,6.3378782608695644E-2,5.9252043478260873E-2,5.1527463913043484E-2,3.3314942173913044E-2,0.37087500000000001,0.42262142086956522,0.49273921782608693,3.0861812321739133,5.4124639282608697,5.4704908543478261,5.8631662034782623,6.826841217826086,7.7241161304347816,7.6697015069565229,8.7035872613043477,8.9397924482608691,7.9317093052173906,6.9185778400000029,5.5182440734782601,4.0890047386956523,2.922655535217392,2.2130518413043481,1.8012120282608697,1.5897317547826086,1.4995964191304347,1.3843361165217392,1.1309252765217388,0.75945236391304338,0.47852907217391288,0.25956152913043473,9.3703814782608696E-2,1.0829862608695652E-2,0,0.27220447826086952,21.262632306521748,0.5149694495652174,0.91536063869565221,19.832302218260871,78.465160136521732]
[]
[]
[]
[null,null,null,null,null,null,"Removal of excluded areas"]
[]
[null,null,null,null,null,null,null,"Laboratory sample number","Dredge Area","Sample ID(s)","Excluded (y if yes)","Particle size summary statistics"]
[null,null,null,null,null,null,null,null,null,null,null,"Total solids (%)",null,"Gravel (%)","Sand (%)","Silt/Clay (%)"]
[]
[null,null,null,null,null,null,null,{"$f":"IF(H9=\"\",\"\",H9)","v":"MAR02481.001"},{"$f":"IF($K9=\"y\",\"\",I9)","v":""},{"$f":"IF($K9=\"y\",\"\",J9)","v":1},{"$f":"IF(K9=\"\",\"\",K9)","v":""},{"$f":"IF($K9=\"y\",\"\",N9)","v":""},null,{"$f":"IF($K9=\"y\",\"\",BF9)","v":0},{"$f":"IF($K9=\"y\",\"\",BG9)","v":29.28593334},{"$f":"IF($K9=\"y\",\"\",BK9)","v":70.714065559999995}]
[null,null,null,null,null,null,null,{"$f":"IF(H10=\"\",\"\",H10)","v":"MAR02481.002"},{"$f":"IF($K10=\"y\",\"\",I10)","v":""},2,"",{"$f":"IF($K10=\"y\",\"\",N10)","v":""},null,{"$f":"IF($K10=\"y\",\"\",BF10)","v":0},{"$f":"IF($K10=\"y\",\"\",BG10)","v":20.1631},{"$f":"IF($K10=\"y\",\"\",BK10)","v":79.836898089999991}]
[null,null,null,null,null,null,null,{"$f":"IF(H11=\"\",\"\",H11)","v":"MAR02481.003"},"",3,"","",null,0,22.36376667,77.636232519999979]
[null,null,null,null,null,null,null,{"$f":"IF(H12=\"\",\"\",H12)","v":"MAR02481.004"},"",4,"","",null,0,15.103566669999999,84.896430760000015]
[null,null,null,null,null,null,null,{"$f":"IF(H13=\"\",\"\",H13)","v":"MAR02481.005"},"",5,"","",null,0,17.570066669999999,82.42993091000001]
[null,null,null,null,null,null,null,{"$f":"IF(H14=\"\",\"\",H14)","v":"MAR02481.006"},"",6,"","",null,0,18.562899999999999,81.437098640000016]
[null,null,null,null,null,null,null,{"$f":"IF(H15=\"\",\"\",H15)","v":"MAR02481.007"},"",7,"","",null,0,9.6682000000000006,90.331797090000009]
[null,null,null,null,null,null,null,{"$f":"IF(H16=\"\",\"\",H16)","v":"MAR02481.008"},"",8,"","",null,0,20.952733340000002,79.047264460000008]
[null,null,null,null,null,null,null,{"$f":"IF(H17=\"\",\"\",H17)","v":"MAR02481.009"},"",9,"","",null,0,5.6409000000000002,94.359093720000018]
[null,null,null,null,null,null,null,{"$f":"IF(H18=\"\",\"\",H18)","v":"MAR02481.010"},"",10,"","",null,1.630746,4.0245300000000004,94.344718000000015]
[null,null,null,null,null,null,null,{"$f":"IF(H19=\"\",\"\",H19)","v":"MAR02481.011"},"",11,"","",null,0,9.3756333400000003,90.624361549999989]
[null,null,null,null,null,null,null,{"$f":"IF(H20=\"\",\"\",H20)","v":"MAR02481.012"},"",12,"","",null,0,10.757933340000001,89.242062029999971]
[null,null,null,null,null,null,null,{"$f":"IF(H21=\"\",\"\",H21)","v":"MAR02481.013"},"",13,"","",null,0,13.697099999999999,86.302896360000005]
[null,null,null,null,null,null,null,{"$f":"IF(H22=\"\",\"\",H22)","v":"MAR02481.014"},"",15,"","",null,0,26.506733339999997,73.493266660000003]
[null,null,null,null,null,null,null,{"$f":"IF(H23=\"\",\"\",H23)","v":"MAR02481.015"},"",17,"","",null,1.3256000000000001,21.162327000000001,77.512066999999973]
[null,null,null,null,null,null,null,{"$f":"IF(H24=\"\",\"\",H24)","v":"MAR02481.016"},"",18,"","",null,0.38008600000000003,22.394283999999999,77.225625999999991]
[null,null,null,null,null,null,null,{"$f":"IF(H25=\"\",\"\",H25)","v":"MAR02481.017"},"",19,"","",null,0,30.879200000000001,69.120796949999999]
[null,null,null,null,null,null,null,{"$f":"IF(H26=\"\",\"\",H26)","v":"MAR02481.018"},"",20,"","",null,0,20.623999999999999,79.375996610000016]
[null,null,null,null,null,null,null,{"$f":"IF(H27=\"\",\"\",H27)","v":"MAR02481.019"},"",21,"","",null,1.1686599999999998,20.511638999999999,78.319698999999972]
[null,null,null,null,null,null,null,{"$f":"IF(H28=\"\",\"\",H28)","v":"MAR02481.020"},"",22,"","",null,0.228632,21.188794999999999,78.582567999999995]
[null,null,null,null,null,null,null,{"$f":"IF(H29=\"\",\"\",H29)","v":"MAR02481.021"},"",23,"","",null,1.400874,1.004899,97.59422499999998]
[null,null,null,null,null,null,null,{"$f":"IF(H30=\"\",\"\",H30)","v":"MAR02481.022"},"",24,"","",null,0.12610499999999999,63.800469,36.073423000000005]
[null,null,null,null,null,null,null,{"$f":"IF(H31=\"\",\"\",H31)","v":"MAR02481.023"},"",25,"","",null,0,63.801833340000002,36.198165230000008]
[null,null,null,null,null,null,null,{"$f":"IF(H32=\"\",\"\",H32)","v":""},"","","","",null,"","",""]
[null,null,null,null,null,null,null,{"$f":"IF(H33=\"\",\"\",H33)","v":""},"","","","",null,"","",""]
[null,null,null,null,null,null,null,{"$f":"IF(H34=\"\",\"\",H34)","v":""},"","","","",null,"","",""]
[null,null,null,null,null,null,null,{"$f":"IF(H35=\"\",\"\",H35)","v":""},"","","","",null,"","",""]
[null,null,null,null,null,null,null,{"$f":"IF(H36=\"\",\"\",H36)","v":""},"","","","",null,"","",""]
[null,null,null,null,null,null,null,{"$f":"IF(H37=\"\",\"\",H37)","v":""},"","","","",null,"","",""]
[null,null,null,null,null,null,null,{"$f":"IF(H38=\"\",\"\",H38)","v":""},"","","","",null,"","",""]
[]
[null,null,null,null,null,null,null,"Averages:  ",null,null,null,{"$f":"IF(COUNT(L49:L78)<1,\"\", AVERAGE(L49:L78))","v":""},null,0.27220447826086952,21.262632306521748,78.465160136521732]
[]
[]
[]
[null,null,null,null,null,null,"Average of dredge areas"]
[]
[null,null,null,null,null,null,null,null,null,null,"Dredge area","Particle size summary statistics"]
[null,null,null,null,null,null,null,null,null,null,null,"Total solids (%)",null,"Gravel (%)","Sand (%)","Silt/Clay (%)"]
[]
[null,null,null,null,null,null,null,null,null,null,"Area i",{"$f":"IF(COUNTIF($I$49:$I$78,\"Area i\")<1,\"\",AVERAGEIF($I$49:$I$78,\"Area i\",L$49:L$78))","v":""},null,{"$f":"IF(COUNTIF($I$49:$I$78,\"Area i\")<1,\"\",AVERAGEIF($I$49:$I$78,\"Area i\",N$49:N$78))","v":""},{"$f":"IF(COUNTIF($I$49:$I$78,\"Area i\")<1,\"\",AVERAGEIF($I$49:$I$78,\"Area i\",O$49:O$78))","v":""},""]
[null,null,null,null,null,null,null,null,null,null,"Area ii",{"$f":"IF(COUNTIF($I$49:$I$78,\"Area ii\")<1,\"\",AVERAGEIF($I$49:$I$78,\"Area ii\",L$49:L$78))","v":""},null,{"$f":"IF(COUNTIF($I$49:$I$78,\"Area ii\")<1,\"\",AVERAGEIF($I$49:$I$78,\"Area ii\",N$49:N$78))","v":""},{"$f":"IF(COUNTIF($I$49:$I$78,\"Area ii\")<1,\"\",AVERAGEIF($I$49:$I$78,\"Area ii\",O$49:O$78))","v":""},""]
[null,null,null,null,null,null,null,null,null,null,"Area iii",{"$f":"IF(COUNTIF($I$49:$I$78,\"Area iii\")<1,\"\",AVERAGEIF($I$49:$I$78,\"Area iii\",L$49:L$78))","v":""},null,{"$f":"IF(COUNTIF($I$49:$I$78,\"Area iii\")<1,\"\",AVERAGEIF($I$49:$I$78,\"Area iii\",N$49:N$78))","v":""},{"$f":"IF(COUNTIF($I$49:$I$78,\"Area iii\")<1,\"\",AVERAGEIF($I$49:$I$78,\"Area iii\",O$49:O$78))","v":""},""]
[null,null,null,null,null,null,null,null,null,null,"Area iv",{"$f":"IF(COUNTIF($I$49:$I$78,\"Area iv\")<1,\"\",AVERAGEIF($I$49:$I$78,\"Area iv\",L$49:L$78))","v":""},null,{"$f":"IF(COUNTIF($I$49:$I$78,\"Area iv\")<1,\"\",AVERAGEIF($I$49:$I$78,\"Area iv\",N$49:N$78))","v":""},{"$f":"IF(COUNTIF($I$49:$I$78,\"Area iv\")<1,\"\",AVERAGEIF($I$49:$I$78,\"Area iv\",O$49:O$78))","v":""},""]
[null,null,null,null,null,null,null,null,null,null,"Area v",{"$f":"IF(COUNTIF($I$49:$I$78,\"Area v\")<1,\"\",AVERAGEIF($I$49:$I$78,\"Area v\",L$49:L$78))","v":""},null,{"$f":"IF(COUNTIF($I$49:$I$78,\"Area v\")<1,\"\",AVERAGEIF($I$49:$I$78,\"Area v\",N$49:N$78))","v":""},{"$f":"IF(COUNTIF($I$49:$I$78,\"Area v\")<1,\"\",AVERAGEIF($I$49:$I$78,\"Area v\",O$49:O$78))","v":""},""]
[null,null,null,null,null,null,null,null,null,null,"Area vi",{"$f":"IF(COUNTIF($I$49:$I$78,\"Area vi\")<1,\"\",AVERAGEIF($I$49:$I$78,\"Area vi\",L$49:L$78))","v":""},null,{"$f":"IF(COUNTIF($I$49:$I$78,\"Area vi\")<1,\"\",AVERAGEIF($I$49:$I$78,\"Area vi\",N$49:N$78))","v":""},{"$f":"IF(COUNTIF($I$49:$I$78,\"Area vi\")<1,\"\",AVERAGEIF($I$49:$I$78,\"Area vi\",O$49:O$78))","v":""},""]
[]
[]
[]
[null,null,null,null,null,null,"PR weightings (dredge area averages multiplied by proportion of total tonnages)"]
[]
[null,null,null,null,null,null,null,null,null,null,"Dredge area","Particle size summary statistics"]
[null,null,null,null,null,null,null,null,null,null,null,"Total solids (%)",null,"Gravel (%)","Sand (%)","Silt/Clay (%)"]
[]
[null,null,null,null,null,null,null,null,null,null,"Area i",{"$f":"IF(L89=\"\",\"\",L89*'PR details'!$G4)","v":""},null,{"$f":"IF(N89=\"\",\"\",N89*'PR details'!$G4)","v":""},{"$f":"IF(O89=\"\",\"\",O89*'PR details'!$G4)","v":""},{"$f":"IF(P89=\"\",\"\",P89*'PR details'!$G4)","v":""}]
[null,null,null,null,null,null,null,null,null,null,"Area ii",{"$f":"IF(L90=\"\",\"\",L90*'PR details'!$G5)","v":""},null,{"$f":"IF(N90=\"\",\"\",N90*'PR details'!$G5)","v":""},{"$f":"IF(O90=\"\",\"\",O90*'PR details'!$G5)","v":""},{"$f":"IF(P90=\"\",\"\",P90*'PR details'!$G5)","v":""}]
[null,null,null,null,null,null,null,null,null,null,"Area iii",{"$f":"IF(L91=\"\",\"\",L91*'PR details'!$G6)","v":""},null,{"$f":"IF(N91=\"\",\"\",N91*'PR details'!$G6)","v":""},{"$f":"IF(O91=\"\",\"\",O91*'PR details'!$G6)","v":""},{"$f":"IF(P91=\"\",\"\",P91*'PR details'!$G6)","v":""}]
[null,null,null,null,null,null,null,null,null,null,"Area iv",{"$f":"IF(L92=\"\",\"\",L92*'PR details'!$G7)","v":""},null,{"$f":"IF(N92=\"\",\"\",N92*'PR details'!$G7)","v":""},{"$f":"IF(O92=\"\",\"\",O92*'PR details'!$G7)","v":""},{"$f":"IF(P92=\"\",\"\",P92*'PR details'!$G7)","v":""}]
[null,null,null,null,null,null,null,null,null,null,"Area v",{"$f":"IF(L93=\"\",\"\",L93*'PR details'!$G8)","v":""},null,{"$f":"IF(N93=\"\",\"\",N93*'PR details'!$G8)","v":""},{"$f":"IF(O93=\"\",\"\",O93*'PR details'!$G8)","v":""},{"$f":"IF(P93=\"\",\"\",P93*'PR details'!$G8)","v":""}]
[null,null,null,null,null,null,null,null,null,null,"Area vi",{"$f":"IF(L94=\"\",\"\",L94*'PR details'!$G9)","v":""},null,{"$f":"IF(N94=\"\",\"\",N94*'PR details'!$G9)","v":""},{"$f":"IF(O94=\"\",\"\",O94*'PR details'!$G9)","v":""},{"$f":"IF(P94=\"\",\"\",P94*'PR details'!$G9)","v":""}]
[]
[]
[]
[null,null,null,null,null,null,"PR average"]
[]
[null,null,null,null,null,null,null,null,null,null,null,"Particle size summary statistics"]
[null,null,null,null,null,null,null,null,null,null,null,"Total solids (%)",null,"Gravel (%)","Sand (%)","Silt/Clay (%)"]
[]
[null,null,null,null,null,null,null,null,null,null,null,{"$f":"IF(COUNT(L103:L108)<1,\"\",SUM(L103:L108))","v":""},null,{"$f":"IF(COUNT(N103:N108)<1,\"\",SUM(N103:N108))","v":""},{"$f":"IF(COUNT(O103:O108)<1,\"\",SUM(O103:O108))","v":""},{"$f":"IF(COUNT(P103:P108)<1,\"\",SUM(P103:P108))","v":""}]

{"sheet":"PSA charts","index":3,"n_rows":610,"n_cols":90,"rows_kept":610,"cut":false,"hidden":true,"merged":[]}
[]
[]
[]
[]
[]
[]
[]
[]
[]
[]
[]
[]
[]
[]
[]
[]
[]
[]
[]
[]
[]
[]
[]
[]
[]
[]
[]
[]
[]
[]
[]
[]
[]
[]
[]
[]
[]
[]
[]
[]
[]
[]
[]
[]
[]
[]
[]
[]
[]
[]
[]
[]
[]
[]
[]
[]
[]
[]
[]
[]
[]
[]
[]
[]
[]
[]
[]
[]
[]
[]
[]
[]
[]
[]
[]
[]
[]
[]
[]
[]
[]
[]
[]
[]
[]
[]
[]
[]
[]
[]
[]
[]
[]
[]
[]
[]
[]
[]
[]
[]
[]
[]
[]
[]
[]
[]
[]
[]
[]
[]
[]
[]
[]
[]
[]
[]
[]
[]
[]
[]
[]
[]
[]
[]
[]
[]
[]
[]
[]
[]
[]
[]
[]
[]
[]
[]
[]
[]
[]
[]
[]
[]
[]
[]
[]
[]
[]
[]
[]
[]
[]
[]
[]
[]
[]
[]
[]
[]
[]
[]
[]
[]
[]
[]
[]
[]
[]
[]
[]
[]
[]
[]
[]
[]
[]
[]
[]
[]
[]
[]
[]
[]
[]
[]
[]
[]
[]
[]
[]
[]
[]
[]
[]
[]
[]
[]
[]
[]
[]
[]
[]
[]
[]
[]
[]
[]
[]
[]
[]
[]
[]
[]
[]
[]
[]
[]
[]
[]
[]
[]
[]
[]
[]
[]
[]
[]
[]
[]
[]
[]
[]
[]
[]
[]
[]
[]
[]
[]
[]
[]
[]
[]
[]
[]
[]
[]
[]
[]
[]
[]
[]
[]
[]
[]
[]
[]
[]
[]
[]
[]
[]
[]
[]
[]
[]
[]
[]
[]
[]
[]
[]
[]
[]
[]
[]
[]
[]
[]
[]
[]
[]
[]
[]
[]
[]
[]
[]
[]
[]
[]
[]
[]
[]
[]
[]
[]
[]
[]
[]
[]
[]
[]
[]
[]
[]
[]
[]
[]
[]
[]
[]
[]
[]
[]
[]
[]
[]
[]
[]
[]
[]
[]
[]
[]
[]
[]
[]
[]
[]
[]
[]
[]
[]
[]
[]
[]
[]
[]
[]
[]
[]
[]
[]
[]
[]
[]
[]
[]
[]
[]
[]
[]
[]
[]
[]
[]
[]
[]
[]
[]
[]
[]
[]
[]
[]
[]
[]
[]
[]
[]
[]
[]
[]
[]
[]
[]
[]
[]
[]
[]
[]
[]
[]
[]
[]
[]
[]
[]
[]
[]
[]
[]
[]
[]
[]
[]
[]
[]
[]
[]
[]
[]
[]
[]
[]
[]
[]
[]
[]
[]
[]
[]
[]
[]
[]
[]
[]
[]
[]
[]
[]
[]
[]
[]
[]
[]
[]
[]
[]
[]
[]
[]
[]
[]
[]
[]
[]
[]
[]
[]
[]
[]
[]
[]
[]
[]
[]
[]
[]
[]
[]
[]
[]
[]
[]
[]
[]
[]
[]
[]
[]
[]
[]
[]
[]
[]
[]
[]
[]
[]
[]
[]
[]
[]
[]
[]
[]
[]
[]
[]
[]
[]
[]
[]
[]
[]
[]
[]
[]
[]
[]
[]
[]
[]
[]
[]
[]
[]
[]
[]
[]
[]
[]
[]
[]
[]
[]
[]
[]
[]
[]
[]
[]
[]
[]
[]
[]
[]
[]
[]
[]
[]
[]
[]
[]
[]
[]
[]
[]
[]
[]
[]
[]
[]
[]
[]
[]
[]
[]
[]
[]
[]
[]
[]
[]
[]
[]
[]
[]
[]
[]
[]
[]
[]
[]
[]
[]
[]
[]
[]
[]
[]
[]
[]
[]
[]
[]
[]
[]
[]
[]
[]
[]
[]
[]
[]
[]
[null,"LSN",45000,31500,22400,16000,11200,8000,5600,4000,2800,2000,1400,1000,707,500,353.6,250,176.8,125,88.39,63,44.2,31.3,22.1,15.6,11,7.8,5.5,3.9,2.75,1.95,1.38,0.98,0.69,0.49,0.34,0.24000000000000002,0.17,0.12000000000000001,9.0000000000000011E-2,6.0000000000000005E-2,0.04,0]
["x-axis (phi)",null,-5.5,-5,-4.5,-4,-3.5,-3,-2.5,-2,-1.5,-1,-0.5,0,0.5,1,1.5,2,2.5,3,3.5,4,4.5,5,5.5,6,6.5,7,7.5,8,8.5,9,9.5,10,10.5,11,11.5,12,12.5,13,13.5,14,14.5,">14.5"]
[null,null,null,null,null,null,null,null,null,null,null,null,null,null,null,null,null,null,null,null,null,null,null,null,null,null,null,null,null,null,null,null,null,null,null,null,null,null,null,null,null,null,null,null,null,"Area",null,null,-5.5,-5,-4.5,-4,-3.5,-3,-2.5,-2,-1.5,-1,-0.5,0,0.5,1,1.5,2,2.5,3,3.5,4,4.5,5,5.5,6,6.5,7,7.5,8,8.5,9,9.5,10,10.5,11,11.5,12,12.5,13,13.5,14,14.5,">14.5"]
["y-axis",{"$f":"IF('Physical Data'!J9=\"\",\"\",'Physical Data'!J9)","v":1},{"$f":"'Physical Stats'!P9","v":0},{"$f":"'Physical Stats'!Q9","v":0},{"$f":"'Physical Stats'!R9","v":0},{"$f":"'Physical Stats'!S9","v":0},{"$f":"'Physical Stats'!T9","v":0},{"$f":"'Physical Stats'!U9","v":0},{"$f":"'Physical Stats'!V9","v":0},{"$f":"'Physical Stats'!W9","v":0},{"$f":"'Physical Stats'!X9","v":0},{"$f":"'Physical Stats'!Y9","v":0},{"$f":"'Physical Stats'!Z9","v":0},{"$f":"'Physical Stats'!AA9","v":0},{"$f":"'Physical Stats'!AB9","v":0},{"$f":"'Physical Stats'!AC9","v":0},{"$f":"'Physical Stats'!AD9","v":0},{"$f":"'Physical Stats'!AE9","v":0.1676},{"$f":"'Physical Stats'!AF9","v":3.0240999999999998},{"$f":"'Physical Stats'!AG9","v":6.9779333399999999},{"$f":"'Physical Stats'!AH9","v":8.9878333300000008},{"$f":"'Physical Stats'!AI9","v":10.12846667},{"$f":"'Physical Stats'!AJ9","v":11.087366660000001},{"$f":"'Physical Stats'!AK9","v":11.518533339999999},{"$f":"'Physical Stats'!AL9","v":10.64116666},{"$f":"'Physical Stats'!AM9","v":9.8249333399999994},{"$f":"'Physical Stats'!AN9","v":8.2378666599999999},{"$f":"'Physical Stats'!AO9","v":6.0851666699999996},{"$f":"'Physical Stats'!AP9","v":4.3562066699999997},{"$f":"'Physical Stats'!AQ9","v":2.8487133299999998},{"$f":"'Physical Stats'!AR9","v":1.7712399999999999},{"$f":"'Physical Stats'!AS9","v":1.07895667},{"$f":"'Physical Stats'!AT9","v":0.71486665999999999},{"$f":"'Physical Stats'!AU9","v":0.54298000000000002},{"$f":"'Physical Stats'!AV9","v":0.45941334},{"$f":"'Physical Stats'!AW9","v":0.40604332999999998},{"$f":"'Physical Stats'!AX9","v":0.35290232999999999},{"$f":"'Physical Stats'!AY9","v":0.28928934000000001},{"$f":"'Physical Stats'!AZ9","v":0.21324333000000001},{"$f":"'Physical Stats'!BA9","v":0.15207366999999999},{"$f":"'Physical Stats'!BB9","v":9.2055899999999996E-2},{"$f":"'Physical Stats'!BC9","v":3.661437E-2},{"$f":"'Physical Stats'!BD9","v":4.4332900000000003E-3},{"$f":"'Physical Stats'!BE9","v":0},null,{"$f":"'Physical Stats'!I9","v":""},null,"Area i",{"$f":"IF(COUNTIF($AT$581:$AT$610,\"Area i\")<1,\"\",AVERAGEIF($AT$581:$AT$610,\"Area i\",C581:C610))","v":""},"","","","","","","","","","","","","","","","","","","","","","","","","","","","","","","","","","","","","","","","",""]
[null,{"$f":"IF('Physical Data'!J10=\"\",\"\",'Physical Data'!J10)","v":2},{"$f":"'Physical Stats'!P10","v":0},{"$f":"'Physical Stats'!Q10","v":0},{"$f":"'Physical Stats'!R10","v":0},{"$f":"'Physical Stats'!S10","v":0},{"$f":"'Physical Stats'!T10","v":0},{"$f":"'Physical Stats'!U10","v":0},{"$f":"'Physical Stats'!V10","v":0},{"$f":"'Physical Stats'!W10","v":0},{"$f":"'Physical Stats'!X10","v":0},{"$f":"'Physical Stats'!Y10","v":0},{"$f":"'Physical Stats'!Z10","v":0},{"$f":"'Physical Stats'!AA10","v":0},{"$f":"'Physical Stats'!AB10","v":0},{"$f":"'Physical Stats'!AC10","v":0},{"$f":"'Physical Stats'!AD10","v":0},{"$f":"'Physical Stats'!AE10","v":7.7600000000000002E-2},{"$f":"'Physical Stats'!AF10","v":2.0664333400000001},{"$f":"'Physical Stats'!AG10","v":4.7758333300000002},{"$f":"'Physical Stats'!AH10","v":6.1278666700000004},{"$f":"'Physical Stats'!AI10","v":7.1153666600000003},{"$f":"'Physical Stats'!AJ10","v":8.1823666700000004},{"$f":"'Physical Stats'!AK10","v":9.2080000000000002},{"$f":"'Physical Stats'!AL10","v":9.2726000000000006},{"$f":"'Physical Stats'!AM10","v":10.258266669999999},{"$f":"'Physical Stats'!AN10","v":10.14316666},{"$f":"'Physical Stats'!AO10","v":8.6099666700000004},{"$f":"'Physical Stats'!AP10","v":6.9942000000000002},{"$f":"'Physical Stats'!AQ10","v":5.1111000000000004},{"$f":"'Physical Stats'!AR10","v":3.42412333},{"$f":"'Physical Stats'!AS10","v":2.1392500000000001},{"$f":"'Physical Stats'!AT10","v":1.3947000000000001},{"$f":"'Physical Stats'!AU10","v":1.0302800000000001},{"$f":"'Physical Stats'!AV10","v":0.87906333999999997},{"$f":"'Physical Stats'!AW10","v":0.81655},{"$f":"'Physical Stats'!AX10","v":0.74999333000000001},{"$f":"'Physical Stats'!AY10","v":0.62811066999999998},{"$f":"'Physical Stats'!AZ10","v":0.44874799999999998},{"$f":"'Physical Stats'!BA10","v":0.30343300000000001},{"$f":"'Physical Stats'!BB10","v":0.17257943000000001},{"$f":"'Physical Stats'!BC10","v":6.3223429999999997E-2},{"$f":"'Physical Stats'!BD10","v":7.17689E-3},{"$f":"'Physical Stats'!BE10","v":0},null,{"$f":"'Physical Stats'!I10","v":""},null,"Area ii",{"$f":"IF(COUNTIF($AT$581:$AT$610,\"Area ii\")<1,\"\",AVERAGEIF($AT$581:$AT$610,\"Area ii\",C581:C610))","v":""},"","","","","","","","","","","","","","","","","","","","","","","","","","","","","","","","","","","","","","","","",""]
[null,{"$f":"IF('Physical Data'!J11=\"\",\"\",'Physical Data'!J11)","v":3},{"$f":"'Physical Stats'!P11","v":0},{"$f":"'Physical Stats'!Q11","v":0},{"$f":"'Physical Stats'!R11","v":0},{"$f":"'Physical Stats'!S11","v":0},{"$f":"'Physical Stats'!T11","v":0},{"$f":"'Physical Stats'!U11","v":0},{"$f":"'Physical Stats'!V11","v":0},{"$f":"'Physical Stats'!W11","v":0},{"$f":"'Physical Stats'!X11","v":0},{"$f":"'Physical Stats'!Y11","v":0},{"$f":"'Physical Stats'!Z11","v":0},{"$f":"'Physical Stats'!AA11","v":0},{"$f":"'Physical Stats'!AB11","v":0},{"$f":"'Physical Stats'!AC11","v":0},{"$f":"'Physical Stats'!AD11","v":0},{"$f":"'Physical Stats'!AE11","v":7.8E-2},{"$f":"'Physical Stats'!AF11","v":2.5728},{"$f":"'Physical Stats'!AG11","v":6.0441666700000001},{"$f":"'Physical Stats'!AH11","v":6.4387333299999998},{"$f":"'Physical Stats'!AI11","v":7.2300666700000003},{"$f":"'Physical Stats'!AJ11","v":8.1606666699999995},{"$f":"'Physical Stats'!AK11","v":8.6353333299999999},{"$f":"'Physical Stats'!AL11","v":8.3325333300000004},{"$f":"'Physical Stats'!AM11","v":8.8058999999999994},{"$f":"'Physical Stats'!AN11","v":8.6664333399999993},{"$f":"'Physical Stats'!AO11","v":7.3912666600000003},{"$f":"'Physical Stats'!AP11","v":6.37993334},{"$f":"'Physical Stats'!AQ11","v":5.1795},{"$f":"'Physical Stats'!AR11","v":3.9779},{"$f":"'Physical Stats'!AS11","v":2.8983666600000002},{"$f":"'Physical Stats'!AT11","v":2.10588},{"$f":"'Physical Stats'!AU11","v":1.5580233400000001},{"$f":"'Physical Stats'!AV11","v":1.27285333},{"$f":"'Physical Stats'!AW11","v":1.18279},{"$f":"'Physical Stats'!AX11","v":1.11058667},{"$f":"'Physical Stats'!AY11","v":0.90677733000000005},{"$f":"'Physical Stats'!AZ11","v":0.57572667},{"$f":"'Physical Stats'!BA11","v":0.31700366000000002},{"$f":"'Physical Stats'!BB11","v":0.13687763999999999},{"$f":"'Physical Stats'!BC11","v":3.791191E-2},{"$f":"'Physical Stats'!BD11","v":3.9686399999999998E-3},{"$f":"'Physical Stats'!BE11","v":0},null,{"$f":"'Physical Stats'!I11","v":""},null,"Area iii",{"$f":"IF(COUNTIF($AT$581:$AT$610,\"Area iii\")<1,\"\",AVERAGEIF($AT$581:$AT$610,\"Area iii\",C581:C610))","v":""},"","","","","","","","","","","","","","","","","","","","","","","","","","","","","","","","","","","","","","","","",""]
[null,{"$f":"IF('Physical Data'!J12=\"\",\"\",'Physical Data'!J12)","v":4},{"$f":"'Physical Stats'!P12","v":0},{"$f":"'Physical Stats'!Q12","v":0},{"$f":"'Physical Stats'!R12","v":0},{"$f":"'Physical Stats'!S12","v":0},{"$f":"'Physical Stats'!T12","v":0},{"$f":"'Physical Stats'!U12","v":0},{"$f":"'Physical Stats'!V12","v":0},{"$f":"'Physical Stats'!W12","v":0},{"$f":"'Physical Stats'!X12","v":0},{"$f":"'Physical Stats'!Y12","v":0},{"$f":"'Physical Stats'!Z12","v":0},{"$f":"'Physical Stats'!AA12","v":0},{"$f":"'Physical Stats'!AB12","v":0},{"$f":"'Physical Stats'!AC12","v":0},{"$f":"'Physical Stats'!AD12","v":0},{"$f":"'Physical Stats'!AE12","v":3.2433339999999998E-2},{"$f":"'Physical Stats'!AF12","v":1.6743333300000001},{"$f":"'Physical Stats'!AG12","v":3.8606333300000002},{"$f":"'Physical Stats'!AH12","v":4.4100999999999999},{"$f":"'Physical Stats'!AI12","v":5.1260666700000002},{"$f":"'Physical Stats'!AJ12","v":6.58116667},{"$f":"'Physical Stats'!AK12","v":8.1188000000000002},{"$f":"'Physical Stats'!AL12","v":8.7256333300000009},{"$f":"'Physical Stats'!AM12","v":10.654566669999999},{"$f":"'Physical Stats'!AN12","v":11.2653},{"$f":"'Physical Stats'!AO12","v":9.9837000000000007},{"$f":"'Physical Stats'!AP12","v":8.3675333300000005},{"$f":"'Physical Stats'!AQ12","v":6.2574666700000003},{"$f":"'Physical Stats'!AR12","v":4.2537000000000003},{"$f":"'Physical Stats'!AS12","v":2.6769133300000001},{"$f":"'Physical Stats'!AT12","v":1.7502333299999999},{"$f":"'Physical Stats'!AU12","v":1.2900400000000001},{"$f":"'Physical Stats'!AV12","v":1.08624334},{"$f":"'Physical Stats'!AW12","v":0.98856666000000004},{"$f":"'Physical Stats'!AX12","v":0.89399667000000005},{"$f":"'Physical Stats'!AY12","v":0.74975999999999998},{"$f":"'Physical Stats'!AZ12","v":0.54891433000000001},{"$f":"'Physical Stats'!BA12","v":0.38204934000000002},{"$f":"'Physical Stats'!BB12","v":0.22467846},{"$f":"'Physical Stats'!BC12","v":8.6811230000000003E-2},{"$f":"'Physical Stats'!BD12","v":1.0357399999999999E-2},{"$f":"'Physical Stats'!BE12","v":0},null,{"$f":"'Physical Stats'!I12","v":""},null,"Area iv",{"$f":"IF(COUNTIF($AT$581:$AT$610,\"Area iv\")<1,\"\",AVERAGEIF($AT$581:$AT$610,\"Area iv\",C581:C610))","v":""},"","","","","","","","","","","","","","","","","","","","","","","","","","","","","","","","","","","","","","","","",""]
[null,{"$f":"IF('Physical Data'!J13=\"\",\"\",'Physical Data'!J13)","v":5},{"$f":"'Physical Stats'!P13","v":0},{"$f":"'Physical Stats'!Q13","v":0},{"$f":"'Physical Stats'!R13","v":0},{"$f":"'Physical Stats'!S13","v":0},{"$f":"'Physical Stats'!T13","v":0},{"$f":"'Physical Stats'!U13","v":0},{"$f":"'Physical Stats'!V13","v":0},{"$f":"'Physical Stats'!W13","v":0},{"$f":"'Physical Stats'!X13","v":0},{"$f":"'Physical Stats'!Y13","v":0},{"$f":"'Physical Stats'!Z13","v":0},{"$f":"'Physical Stats'!AA13","v":0},{"$f":"'Physical Stats'!AB13","v":0},{"$f":"'Physical Stats'!AC13","v":0},{"$f":"'Physical Stats'!AD13","v":0},{"$f":"'Physical Stats'!AE13","v":2.4799999999999999E-2},{"$f":"'Physical Stats'!AF13","v":1.5760000000000001},{"$f":"'Physical Stats'!AG13","v":5.0426333400000001},{"$f":"'Physical Stats'!AH13","v":4.9872333299999996},{"$f":"'Physical Stats'!AI13","v":5.9394},{"$f":"'Physical Stats'!AJ13","v":6.1773333299999997},{"$f":"'Physical Stats'!AK13","v":7.8783666700000001},{"$f":"'Physical Stats'!AL13","v":8.4799666699999996},{"$f":"'Physical Stats'!AM13","v":9.8348333300000004},{"$f":"'Physical Stats'!AN13","v":10.66946667},{"$f":"'Physical Stats'!AO13","v":9.6416333299999994},{"$f":"'Physical Stats'!AP13","v":8.1811666699999996},{"$f":"'Physical Stats'!AQ13","v":6.1901999999999999},{"$f":"'Physical Stats'!AR13","v":4.2766999999999999},{"$f":"'Physical Stats'!AS13","v":2.75549},{"$f":"'Physical Stats'!AT13","v":1.8410899999999999},{"$f":"'Physical Stats'!AU13","v":1.3625866600000001},{"$f":"'Physical Stats'!AV13","v":1.1387},{"$f":"'Physical Stats'!AW13","v":1.0327900000000001},{"$f":"'Physical Stats'!AX13","v":0.93432000000000004},{"$f":"'Physical Stats'!AY13","v":0.77928666999999996},{"$f":"'Physical Stats'!AZ13","v":0.56129867},{"$f":"'Physical Stats'!BA13","v":0.38172732999999998},{"$f":"'Physical Stats'!BB13","v":0.21942229999999999},{"$f":"'Physical Stats'!BC13","v":8.3570950000000005E-2},{"$f":"'Physical Stats'!BD13","v":9.9816599999999998E-3},{"$f":"'Physical Stats'!BE13","v":0},null,{"$f":"'Physical Stats'!I13","v":""},null,"Area v",{"$f":"IF(COUNTIF($AT$581:$AT$610,\"Area v\")<1,\"\",AVERAGEIF($AT$581:$AT$610,\"Area v\",C581:C610))","v":""},"","","","","","","","","","","","","","","","","","","","","","","","","","","","","","","","","","","","","","","","",""]
[null,{"$f":"IF('Physical Data'!J14=\"\",\"\",'Physical Data'!J14)","v":6},{"$f":"'Physical Stats'!P14","v":0},{"$f":"'Physical Stats'!Q14","v":0},{"$f":"'Physical Stats'!R14","v":0},{"$f":"'Physical Stats'!S14","v":0},{"$f":"'Physical Stats'!T14","v":0},{"$f":"'Physical Stats'!U14","v":0},{"$f":"'Physical Stats'!V14","v":0},{"$f":"'Physical Stats'!W14","v":0},{"$f":"'Physical Stats'!X14","v":0},{"$f":"'Physical Stats'!Y14","v":0},{"$f":"'Physical Stats'!Z14","v":0},{"$f":"'Physical Stats'!AA14","v":0},{"$f":"'Physical Stats'!AB14","v":0},{"$f":"'Physical Stats'!AC14","v":0},{"$f":"'Physical Stats'!AD14","v":0},{"$f":"'Physical Stats'!AE14","v":9.573334E-2},{"$f":"'Physical Stats'!AF14","v":2.9305666600000002},{"$f":"'Physical Stats'!AG14","v":5.4682000000000004},{"$f":"'Physical Stats'!AH14","v":4.5466666699999996},{"$f":"'Physical Stats'!AI14","v":5.52173333},{"$f":"'Physical Stats'!AJ14","v":5.9134000000000002},{"$f":"'Physical Stats'!AK14","v":7.1675666700000003},{"$f":"'Physical Stats'!AL14","v":7.3802666700000001},{"$f":"'Physical Stats'!AM14","v":8.7346000000000004},{"$f":"'Physical Stats'!AN14","v":9.1365666599999997},{"$f":"'Physical Stats'!AO14","v":8.1283333399999993},{"$f":"'Physical Stats'!AP14","v":7.2941333300000002},{"$f":"'Physical Stats'!AQ14","v":6.0764333300000004},{"$f":"'Physical Stats'!AR14","v":4.7372666700000003},{"$f":"'Physical Stats'!AS14","v":3.5655999999999999},{"$f":"'Physical Stats'!AT14","v":2.7569666700000002},{"$f":"'Physical Stats'!AU14","v":2.18354333},{"$f":"'Physical Stats'!AV14","v":1.87148333},{"$f":"'Physical Stats'!AW14","v":1.7792866700000001},{"$f":"'Physical Stats'!AX14","v":1.68498667},{"$f":"'Physical Stats'!AY14","v":1.38212666},{"$f":"'Physical Stats'!AZ14","v":0.87775833999999997},{"$f":"'Physical Stats'!BA14","v":0.48737533},{"$f":"'Physical Stats'!BB14","v":0.21365423},{"$f":"'Physical Stats'!BC14","v":5.9637849999999999E-2},{"$f":"'Physical Stats'!BD14","v":6.1128900000000002E-3},{"$f":"'Physical Stats'!BE14","v":0},null,{"$f":"'Physical Stats'!I14","v":""},null,"Area vi",{"$f":"IF(COUNTIF($AT$581:$AT$610,\"Area vi\")<1,\"\",AVERAGEIF($AT$581:$AT$610,\"Area vi\",C581:C610))","v":""},"","","","","","","","","","","","","","","","","","","","","","","","","","","","","","","","","","","","","","","","",""]
[null,{"$f":"IF('Physical Data'!J15=\"\",\"\",'Physical Data'!J15)","v":7},{"$f":"'Physical Stats'!P15","v":0},{"$f":"'Physical Stats'!Q15","v":0},{"$f":"'Physical Stats'!R15","v":0},{"$f":"'Physical Stats'!S15","v":0},{"$f":"'Physical Stats'!T15","v":0},{"$f":"'Physical Stats'!U15","v":0},{"$f":"'Physical Stats'!V15","v":0},{"$f":"'Physical Stats'!W15","v":0},{"$f":"'Physical Stats'!X15","v":0},{"$f":"'Physical Stats'!Y15","v":0},{"$f":"'Physical Stats'!Z15","v":0},{"$f":"'Physical Stats'!AA15","v":0},{"$f":"'Physical Stats'!AB15","v":0},{"$f":"'Physical Stats'!AC15","v":0},{"$f":"'Physical Stats'!AD15","v":0},{"$f":"'Physical Stats'!AE15","v":0},{"$f":"'Physical Stats'!AF15","v":3.3366670000000001E-2},{"$f":"'Physical Stats'!AG15","v":1.6580333300000001},{"$f":"'Physical Stats'!AH15","v":3.7448000000000001},{"$f":"'Physical Stats'!AI15","v":4.2320000000000002},{"$f":"'Physical Stats'!AJ15","v":4.9473000000000003},{"$f":"'Physical Stats'!AK15","v":7.1453666699999996},{"$f":"'Physical Stats'!AL15","v":8.0556666700000008},{"$f":"'Physical Stats'!AM15","v":10.43953333},{"$f":"'Physical Stats'!AN15","v":12.05973333},{"$f":"'Physical Stats'!AO15","v":11.345733340000001},{"$f":"'Physical Stats'!AP15","v":9.8677666599999991},{"$f":"'Physical Stats'!AQ15","v":7.5787333400000003},{"$f":"'Physical Stats'!AR15","v":5.2657999999999996},{"$f":"'Physical Stats'!AS15","v":3.37863333},{"$f":"'Physical Stats'!AT15","v":2.2343266700000002},{"$f":"'Physical Stats'!AU15","v":1.6455900000000001},{"$f":"'Physical Stats'!AV15","v":1.38724333},{"$f":"'Physical Stats'!AW15","v":1.27780333},{"$f":"'Physical Stats'!AX15","v":1.17039},{"$f":"'Physical Stats'!AY15","v":0.98008667000000005},{"$f":"'Physical Stats'!AZ15","v":0.701044},{"$f":"'Physical Stats'!BA15","v":0.47187433000000001},{"$f":"'Physical Stats'!BB15","v":0.26766533999999997},{"$f":"'Physical Stats'!BC15","v":9.9814459999999994E-2},{"$f":"'Physical Stats'!BD15","v":1.1692289999999999E-2},{"$f":"'Physical Stats'!BE15","v":0},null,{"$f":"'Physical Stats'!I15","v":""}]
[null,{"$f":"IF('Physical Data'!J16=\"\",\"\",'Physical Data'!J16)","v":8},{"$f":"'Physical Stats'!P16","v":0},{"$f":"'Physical Stats'!Q16","v":0},{"$f":"'Physical Stats'!R16","v":0},{"$f":"'Physical Stats'!S16","v":0},{"$f":"'Physical Stats'!T16","v":0},{"$f":"'Physical Stats'!U16","v":0},{"$f":"'Physical Stats'!V16","v":0},{"$f":"'Physical Stats'!W16","v":0},{"$f":"'Physical Stats'!X16","v":0},{"$f":"'Physical Stats'!Y16","v":0},{"$f":"'Physical Stats'!Z16","v":0},{"$f":"'Physical Stats'!AA16","v":0},{"$f":"'Physical Stats'!AB16","v":0},{"$f":"'Physical Stats'!AC16","v":0},{"$f":"'Physical Stats'!AD16","v":1.7333400000000001E-3},{"$f":"'Physical Stats'!AE16","v":1.1724000000000001},{"$f":"'Physical Stats'!AF16","v":5.5940000000000003},{"$f":"'Physical Stats'!AG16","v":4.8884999999999996},{"$f":"'Physical Stats'!AH16","v":4.5088333299999999},{"$f":"'Physical Stats'!AI16","v":4.7872666700000002},{"$f":"'Physical Stats'!AJ16","v":5.3619000000000003},{"$f":"'Physical Stats'!AK16","v":6.6721333300000003},{"$f":"'Physical Stats'!AL16","v":7.0578333300000002},{"$f":"'Physical Stats'!AM16","v":8.75533334},{"$f":"'Physical Stats'!AN16","v":9.4742666599999996},{"$f":"'Physical Stats'!AO16","v":8.5541},{"$f":"'Physical Stats'!AP16","v":7.5569333399999996},{"$f":"'Physical Stats'!AQ16","v":6.0930333299999999},{"$f":"'Physical Stats'!AR16","v":4.5599666699999997},{"$f":"'Physical Stats'!AS16","v":3.3008333300000001},{"$f":"'Physical Stats'!AT16","v":2.5143},{"$f":"'Physical Stats'!AU16","v":2.00298},{"$f":"'Physical Stats'!AV16","v":1.68266333},{"$f":"'Physical Stats'!AW16","v":1.5082500000000001},{"$f":"'Physical Stats'!AX16","v":1.35054334},{"$f":"'Physical Stats'!AY16","v":1.0940799999999999},{"$f":"'Physical Stats'!AZ16","v":0.732491},{"$f":"'Physical Stats'!BA16","v":0.45362799999999998},{"$f":"'Physical Stats'!BB16","v":0.23411825999999999},{"$f":"'Physical Stats'!BC16","v":7.9087610000000003E-2},{"$f":"'Physical Stats'!BD16","v":8.7895899999999999E-3},{"$f":"'Physical Stats'!BE16","v":0},null,{"$f":"'Physical Stats'!I16","v":""}]
[null,{"$f":"IF('Physical Data'!J17=\"\",\"\",'Physical Data'!J17)","v":9},{"$f":"'Physical Stats'!P17","v":0},{"$f":"'Physical Stats'!Q17","v":0},{"$f":"'Physical Stats'!R17","v":0},{"$f":"'Physical Stats'!S17","v":0},{"$f":"'Physical Stats'!T17","v":0},{"$f":"'Physical Stats'!U17","v":0},{"$f":"'Physical Stats'!V17","v":0},{"$f":"'Physical Stats'!W17","v":0},{"$f":"'Physical Stats'!X17","v":0},{"$f":"'Physical Stats'!Y17","v":0},{"$f":"'Physical Stats'!Z17","v":0},{"$f":"'Physical Stats'!AA17","v":0},{"$f":"'Physical Stats'!AB17","v":0},{"$f":"'Physical Stats'!AC17","v":0},{"$f":"'Physical Stats'!AD17","v":0},{"$f":"'Physical Stats'!AE17","v":0},{"$f":"'Physical Stats'!AF17","v":0},{"$f":"'Physical Stats'!AG17","v":8.8433339999999999E-2},{"$f":"'Physical Stats'!AH17","v":1.76716666},{"$f":"'Physical Stats'!AI17","v":3.7852999999999999},{"$f":"'Physical Stats'!AJ17","v":5.6314000000000002},{"$f":"'Physical Stats'!AK17","v":6.7264666699999998},{"$f":"'Physical Stats'!AL17","v":7.2495333300000002},{"$f":"'Physical Stats'!AM17","v":9.5109666700000002},{"$f":"'Physical Stats'!AN17","v":10.519666669999999},{"$f":"'Physical Stats'!AO17","v":9.5161333300000006},{"$f":"'Physical Stats'!AP17","v":8.4251000000000005},{"$f":"'Physical Stats'!AQ17","v":6.8583333299999998},{"$f":"'Physical Stats'!AR17","v":5.3067333400000001},{"$f":"'Physical Stats'!AS17","v":4.2321999999999997},{"$f":"'Physical Stats'!AT17","v":3.7409333299999998},{"$f":"'Physical Stats'!AU17","v":3.4040333299999999},{"$f":"'Physical Stats'!AV17","v":3.0473233400000002},{"$f":"'Physical Stats'!AW17","v":2.7251133300000001},{"$f":"'Physical Stats'!AX17","v":2.3847733299999998},{"$f":"'Physical Stats'!AY17","v":1.94850334},{"$f":"'Physical Stats'!AZ17","v":1.39334},{"$f":"'Physical Stats'!BA17","v":0.95548133000000002},{"$f":"'Physical Stats'!BB17","v":0.55322632999999999},{"$f":"'Physical Stats'!BC17","v":0.20621790000000001},{"$f":"'Physical Stats'!BD17","v":2.3614820000000002E-2},{"$f":"'Physical Stats'!BE17","v":0},null,{"$f":"'Physical Stats'!I17","v":""}]
[null,{"$f":"IF('Physical Data'!J18=\"\",\"\",'Physical Data'!J18)","v":10},{"$f":"'Physical Stats'!P18","v":0},{"$f":"'Physical Stats'!Q18","v":0},{"$f":"'Physical Stats'!R18","v":0},{"$f":"'Physical Stats'!S18","v":0},{"$f":"'Physical Stats'!T18","v":0},{"$f":"'Physical Stats'!U18","v":0},{"$f":"'Physical Stats'!V18","v":4.6001E-2},{"$f":"'Physical Stats'!W18","v":0.386411},{"$f":"'Physical Stats'!X18","v":0.80732300000000001},{"$f":"'Physical Stats'!Y18","v":0.391011},{"$f":"'Physical Stats'!Z18","v":0.170205},{"$f":"'Physical Stats'!AA18","v":0.14490400000000001},{"$f":"'Physical Stats'!AB18","v":0},{"$f":"'Physical Stats'!AC18","v":0},{"$f":"'Physical Stats'!AD18","v":0},{"$f":"'Physical Stats'!AE18","v":0},{"$f":"'Physical Stats'!AF18","v":0},{"$f":"'Physical Stats'!AG18","v":0},{"$f":"'Physical Stats'!AH18","v":0.140871},{"$f":"'Physical Stats'!AI18","v":3.5685500000000001},{"$f":"'Physical Stats'!AJ18","v":7.2422789999999999},{"$f":"'Physical Stats'!AK18","v":7.3461509999999999},{"$f":"'Physical Stats'!AL18","v":7.7032319999999999},{"$f":"'Physical Stats'!AM18","v":9.7552760000000003},{"$f":"'Physical Stats'!AN18","v":10.442373999999999},{"$f":"'Physical Stats'!AO18","v":9.3775060000000003},{"$f":"'Physical Stats'!AP18","v":8.2833860000000001},{"$f":"'Physical Stats'!AQ18","v":6.7157280000000004},{"$f":"'Physical Stats'!AR18","v":5.1489209999999996},{"$f":"'Physical Stats'!AS18","v":4.0255470000000004},{"$f":"'Physical Stats'!AT18","v":3.477948},{"$f":"'Physical Stats'!AU18","v":3.1168469999999999},{"$f":"'Physical Stats'!AV18","v":2.7548379999999999},{"$f":"'Physical Stats'!AW18","v":2.4242710000000001},{"$f":"'Physical Stats'!AX18","v":2.087367},{"$f":"'Physical Stats'!AY18","v":1.69048},{"$f":"'Physical Stats'!AZ18","v":1.2132860000000001},{"$f":"'Physical Stats'!BA18","v":0.83830499999999997},{"$f":"'Physical Stats'!BB18","v":0.49106100000000003},{"$f":"'Physical Stats'!BC18","v":0.18779799999999999},{"$f":"'Physical Stats'!BD18","v":2.2117000000000001E-2},{"$f":"'Physical Stats'!BE18","v":0},null,{"$f":"'Physical Stats'!I18","v":""}]
[null,{"$f":"IF('Physical Data'!J19=\"\",\"\",'Physical Data'!J19)","v":11},{"$f":"'Physical Stats'!P19","v":0},{"$f":"'Physical Stats'!Q19","v":0},{"$f":"'Physical Stats'!R19","v":0},{"$f":"'Physical Stats'!S19","v":0},{"$f":"'Physical Stats'!T19","v":0},{"$f":"'Physical Stats'!U19","v":0},{"$f":"'Physical Stats'!V19","v":0},{"$f":"'Physical Stats'!W19","v":0},{"$f":"'Physical Stats'!X19","v":0},{"$f":"'Physical Stats'!Y19","v":0},{"$f":"'Physical Stats'!Z19","v":0},{"$f":"'Physical Stats'!AA19","v":0},{"$f":"'Physical Stats'!AB19","v":0},{"$f":"'Physical Stats'!AC19","v":0},{"$f":"'Physical Stats'!AD19","v":0},{"$f":"'Physical Stats'!AE19","v":0},{"$f":"'Physical Stats'!AF19","v":0},{"$f":"'Physical Stats'!AG19","v":3.8899999999999997E-2},{"$f":"'Physical Stats'!AH19","v":2.8124666700000001},{"$f":"'Physical Stats'!AI19","v":6.5242666700000003},{"$f":"'Physical Stats'!AJ19","v":7.37613333},{"$f":"'Physical Stats'!AK19","v":8.2647999999999993},{"$f":"'Physical Stats'!AL19","v":8.4453999999999994},{"$f":"'Physical Stats'!AM19","v":9.7842666699999992},{"$f":"'Physical Stats'!AN19","v":9.8577999999999992},{"$f":"'Physical Stats'!AO19","v":8.6765666600000007},{"$f":"'Physical Stats'!AP19","v":7.7244000000000002},{"$f":"'Physical Stats'!AQ19","v":6.4239666700000004},{"$f":"'Physical Stats'!AR19","v":5.0401333299999997},{"$f":"'Physical Stats'!AS19","v":3.8290000000000002},{"$f":"'Physical Stats'!AT19","v":3.03276667},{"$f":"'Physical Stats'!AU19","v":2.50393},{"$f":"'Physical Stats'!AV19","v":2.1483966699999999},{"$f":"'Physical Stats'!AW19","v":1.92188666},{"$f":"'Physical Stats'!AX19","v":1.7155233400000001},{"$f":"'Physical Stats'!AY19","v":1.43835},{"$f":"'Physical Stats'!AZ19","v":1.0611633300000001},{"$f":"'Physical Stats'!BA19","v":0.74533167},{"$f":"'Physical Stats'!BB19","v":0.442054},{"$f":"'Physical Stats'!BC19","v":0.17192532999999999},{"$f":"'Physical Stats'!BD19","v":2.0567220000000001E-2},{"$f":"'Physical Stats'!BE19","v":0},null,{"$f":"'Physical Stats'!I19","v":""}]
[null,{"$f":"IF('Physical Data'!J20=\"\",\"\",'Physical Data'!J20)","v":12},{"$f":"'Physical Stats'!P20","v":0},{"$f":"'Physical Stats'!Q20","v":0},{"$f":"'Physical Stats'!R20","v":0},{"$f":"'Physical Stats'!S20","v":0},{"$f":"'Physical Stats'!T20","v":0},{"$f":"'Physical Stats'!U20","v":0},{"$f":"'Physical Stats'!V20","v":0},{"$f":"'Physical Stats'!W20","v":0},{"$f":"'Physical Stats'!X20","v":0},{"$f":"'Physical Stats'!Y20","v":0},{"$f":"'Physical Stats'!Z20","v":0},{"$f":"'Physical Stats'!AA20","v":0},{"$f":"'Physical Stats'!AB20","v":0},{"$f":"'Physical Stats'!AC20","v":0},{"$f":"'Physical Stats'!AD20","v":0},{"$f":"'Physical Stats'!AE20","v":0},{"$f":"'Physical Stats'!AF20","v":0.19853334},{"$f":"'Physical Stats'!AG20","v":2.6532},{"$f":"'Physical Stats'!AH20","v":3.40913333},{"$f":"'Physical Stats'!AI20","v":4.4970666699999997},{"$f":"'Physical Stats'!AJ20","v":6.0753000000000004},{"$f":"'Physical Stats'!AK20","v":7.64176666},{"$f":"'Physical Stats'!AL20","v":8.0198},{"$f":"'Physical Stats'!AM20","v":9.5498333399999993},{"$f":"'Physical Stats'!AN20","v":9.7114666599999993},{"$f":"'Physical Stats'!AO20","v":8.4616333400000006},{"$f":"'Physical Stats'!AP20","v":7.6194666599999996},{"$f":"'Physical Stats'!AQ20","v":6.4272333399999999},{"$f":"'Physical Stats'!AR20","v":5.0698999999999996},{"$f":"'Physical Stats'!AS20","v":3.9168666600000002},{"$f":"'Physical Stats'!AT20","v":3.202},{"$f":"'Physical Stats'!AU20","v":2.7018666699999998},{"$f":"'Physical Stats'!AV20","v":2.3642366699999999},{"$f":"'Physical Stats'!AW20","v":2.1863866600000001},{"$f":"'Physical Stats'!AX20","v":2.0142500000000001},{"$f":"'Physical Stats'!AY20","v":1.69145334},{"$f":"'Physical Stats'!AZ20","v":1.19296},{"$f":"'Physical Stats'!BA20","v":0.78819766000000002},{"$f":"'Physical Stats'!BB20","v":0.43582067000000002},{"$f":"'Physical Stats'!BC20","v":0.15447067},{"$f":"'Physical Stats'!BD20","v":1.715303E-2},{"$f":"'Physical Stats'!BE20","v":0},null,{"$f":"'Physical Stats'!I20","v":""}]
[null,{"$f":"IF('Physical Data'!J21=\"\",\"\",'Physical Data'!J21)","v":13},{"$f":"'Physical Stats'!P21","v":0},{"$f":"'Physical Stats'!Q21","v":0},{"$f":"'Physical Stats'!R21","v":0},{"$f":"'Physical Stats'!S21","v":0},{"$f":"'Physical Stats'!T21","v":0},{"$f":"'Physical Stats'!U21","v":0},{"$f":"'Physical Stats'!V21","v":0},{"$f":"'Physical Stats'!W21","v":0},{"$f":"'Physical Stats'!X21","v":0},{"$f":"'Physical Stats'!Y21","v":0},{"$f":"'Physical Stats'!Z21","v":0},{"$f":"'Physical Stats'!AA21","v":0},{"$f":"'Physical Stats'!AB21","v":0},{"$f":"'Physical Stats'!AC21","v":0},{"$f":"'Physical Stats'!AD21","v":0},{"$f":"'Physical Stats'!AE21","v":0},{"$f":"'Physical Stats'!AF21","v":6.9900000000000004E-2},{"$f":"'Physical Stats'!AG21","v":3.2714333400000002},{"$f":"'Physical Stats'!AH21","v":5.0750666600000001},{"$f":"'Physical Stats'!AI21","v":5.2807000000000004},{"$f":"'Physical Stats'!AJ21","v":5.99653334},{"$f":"'Physical Stats'!AK21","v":7.4962666599999999},{"$f":"'Physical Stats'!AL21","v":8.0121666699999992},{"$f":"'Physical Stats'!AM21","v":9.7459333299999997},{"$f":"'Physical Stats'!AN21","v":10.5159},{"$f":"'Physical Stats'!AO21","v":9.7101000000000006},{"$f":"'Physical Stats'!AP21","v":8.5975000000000001},{"$f":"'Physical Stats'!AQ21","v":6.8095666699999997},{"$f":"'Physical Stats'!AR21","v":4.9069333300000002},{"$f":"'Physical Stats'!AS21","v":3.3136000000000001},{"$f":"'Physical Stats'!AT21","v":2.3559933399999999},{"$f":"'Physical Stats'!AU21","v":1.85295666},{"$f":"'Physical Stats'!AV21","v":1.58342},{"$f":"'Physical Stats'!AW21","v":1.4120866700000001},{"$f":"'Physical Stats'!AX21","v":1.24285},{"$f":"'Physical Stats'!AY21","v":1.0257000000000001},{"$f":"'Physical Stats'!AZ21","v":0.75003567000000004},{"$f":"'Physical Stats'!BA21","v":0.52621865999999995},{"$f":"'Physical Stats'!BB21","v":0.31269999999999998},{"$f":"'Physical Stats'!BC21","v":0.12185989999999999},{"$f":"'Physical Stats'!BD21","v":1.457546E-2},{"$f":"'Physical Stats'!BE21","v":0},null,{"$f":"'Physical Stats'!I21","v":""}]
[null,{"$f":"IF('Physical Data'!J22=\"\",\"\",'Physical Data'!J22)","v":15},{"$f":"'Physical Stats'!P22","v":0},{"$f":"'Physical Stats'!Q22","v":0},{"$f":"'Physical Stats'!R22","v":0},{"$f":"'Physical Stats'!S22","v":0},{"$f":"'Physical Stats'!T22","v":0},{"$f":"'Physical Stats'!U22","v":0},{"$f":"'Physical Stats'!V22","v":0},{"$f":"'Physical Stats'!W22","v":0},{"$f":"'Physical Stats'!X22","v":0},{"$f":"'Physical Stats'!Y22","v":0},{"$f":"'Physical Stats'!Z22","v":0},{"$f":"'Physical Stats'!AA22","v":0},{"$f":"'Physical Stats'!AB22","v":0},{"$f":"'Physical Stats'!AC22","v":0},{"$f":"'Physical Stats'!AD22","v":3.1333400000000001E-3},{"$f":"'Physical Stats'!AE22","v":1.79583333},{"$f":"'Physical Stats'!AF22","v":7.9363000000000001},{"$f":"'Physical Stats'!AG22","v":6.4545333300000003},{"$f":"'Physical Stats'!AH22","v":4.8798000000000004},{"$f":"'Physical Stats'!AI22","v":5.4371333399999999},{"$f":"'Physical Stats'!AJ22","v":5.8387000000000002},{"$f":"'Physical Stats'!AK22","v":6.9034333300000004},{"$f":"'Physical Stats'!AL22","v":6.7140000000000004},{"$f":"'Physical Stats'!AM22","v":7.6218333300000003},{"$f":"'Physical Stats'!AN22","v":8.0167999999999999},{"$f":"'Physical Stats'!AO22","v":7.2450666699999999},{"$f":"'Physical Stats'!AP22","v":6.4556333300000004},{"$f":"'Physical Stats'!AQ22","v":5.2874333399999998},{"$f":"'Physical Stats'!AR22","v":3.99736666},{"$f":"'Physical Stats'!AS22","v":2.7242999999999999},{"$f":"'Physical Stats'!AT22","v":1.7398333399999999},{"$f":"'Physical Stats'!AU22","v":1.3280533299999999},{"$f":"'Physical Stats'!AV22","v":1.7066699999999999},{"$f":"'Physical Stats'!AW22","v":2.4599600000000001},{"$f":"'Physical Stats'!AX22","v":2.71927333},{"$f":"'Physical Stats'!AY22","v":1.932088},{"$f":"'Physical Stats'!AZ22","v":0.70824704000000005},{"$f":"'Physical Stats'!BA22","v":9.4348009999999996E-2},{"$f":"'Physical Stats'!BB22","v":2.2694999999999999E-4},{"$f":"'Physical Stats'!BC22","v":0},{"$f":"'Physical Stats'!BD22","v":0},{"$f":"'Physical Stats'!BE22","v":0},null,{"$f":"'Physical Stats'!I22","v":""}]
[null,{"$f":"IF('Physical Data'!J23=\"\",\"\",'Physical Data'!J23)","v":17},{"$f":"'Physical Stats'!P23","v":0},{"$f":"'Physical Stats'!Q23","v":0},{"$f":"'Physical Stats'!R23","v":0},{"$f":"'Physical Stats'!S23","v":0},{"$f":"'Physical Stats'!T23","v":0},{"$f":"'Physical Stats'!U23","v":0.47965799999999997},{"$f":"'Physical Stats'!V23","v":3.4883999999999998E-2},{"$f":"'Physical Stats'!W23","v":0.31395800000000001},{"$f":"'Physical Stats'!X23","v":0.237649},{"$f":"'Physical Stats'!Y23","v":0.25945099999999999},{"$f":"'Physical Stats'!Z23","v":0.31831900000000002},{"$f":"'Physical Stats'!AA23","v":0.26817299999999999},{"$f":"'Physical Stats'!AB23","v":0},{"$f":"'Physical Stats'!AC23","v":0},{"$f":"'Physical Stats'!AD23","v":3.1999999999999999E-5},{"$f":"'Physical Stats'!AE23","v":0.18198500000000001},{"$f":"'Physical Stats'!AF23","v":2.366927},{"$f":"'Physical Stats'!AG23","v":4.6910220000000002},{"$f":"'Physical Stats'!AH23","v":6.2253780000000001},{"$f":"'Physical Stats'!AI23","v":7.1104909999999997},{"$f":"'Physical Stats'!AJ23","v":7.954243},{"$f":"'Physical Stats'!AK23","v":8.9544779999999999},{"$f":"'Physical Stats'!AL23","v":8.2889839999999992},{"$f":"'Physical Stats'!AM23","v":8.5031750000000006},{"$f":"'Physical Stats'!AN23","v":8.4459569999999999},{"$f":"'Physical Stats'!AO23","v":7.5404419999999996},{"$f":"'Physical Stats'!AP23","v":6.6205410000000002},{"$f":"'Physical Stats'!AQ23","v":5.2883110000000002},{"$f":"'Physical Stats'!AR23","v":3.8912450000000001},{"$f":"'Physical Stats'!AS23","v":2.6938010000000001},{"$f":"'Physical Stats'!AT23","v":1.9480390000000001},{"$f":"'Physical Stats'!AU23","v":1.5406770000000001},{"$f":"'Physical Stats'!AV23","v":1.312975},{"$f":"'Physical Stats'!AW23","v":1.1638820000000001},{"$f":"'Physical Stats'!AX23","v":1.0215529999999999},{"$f":"'Physical Stats'!AY23","v":0.84989199999999998},{"$f":"'Physical Stats'!AZ23","v":0.63482499999999997},{"$f":"'Physical Stats'!BA23","v":0.45754400000000001},{"$f":"'Physical Stats'!BB23","v":0.27847899999999998},{"$f":"'Physical Stats'!BC23","v":0.109918},{"$f":"'Physical Stats'!BD23","v":1.3106E-2},{"$f":"'Physical Stats'!BE23","v":0},null,{"$f":"'Physical Stats'!I23","v":""}]
[null,{"$f":"IF('Physical Data'!J24=\"\",\"\",'Physical Data'!J24)","v":18},{"$f":"'Physical Stats'!P24","v":0},{"$f":"'Physical Stats'!Q24","v":0},{"$f":"'Physical Stats'!R24","v":0},{"$f":"'Physical Stats'!S24","v":0},{"$f":"'Physical Stats'!T24","v":0},{"$f":"'Physical Stats'!U24","v":0},{"$f":"'Physical Stats'!V24","v":0},{"$f":"'Physical Stats'!W24","v":2.3036000000000001E-2},{"$f":"'Physical Stats'!X24","v":0.14685100000000001},{"$f":"'Physical Stats'!Y24","v":0.210199},{"$f":"'Physical Stats'!Z24","v":0.13533400000000001},{"$f":"'Physical Stats'!AA24","v":0.109419},{"$f":"'Physical Stats'!AB24","v":0},{"$f":"'Physical Stats'!AC24","v":0},{"$f":"'Physical Stats'!AD24","v":0},{"$f":"'Physical Stats'!AE24","v":0.195968},{"$f":"'Physical Stats'!AF24","v":3.0010309999999998},{"$f":"'Physical Stats'!AG24","v":5.1937430000000004},{"$f":"'Physical Stats'!AH24","v":6.065296},{"$f":"'Physical Stats'!AI24","v":7.6934930000000001},{"$f":"'Physical Stats'!AJ24","v":8.2747039999999998},{"$f":"'Physical Stats'!AK24","v":9.4006249999999998},{"$f":"'Physical Stats'!AL24","v":8.9181919999999995},{"$f":"'Physical Stats'!AM24","v":9.0802390000000006},{"$f":"'Physical Stats'!AN24","v":9.0233310000000007},{"$f":"'Physical Stats'!AO24","v":7.8805829999999997},{"$f":"'Physical Stats'!AP24","v":6.6171930000000003},{"$f":"'Physical Stats'!AQ24","v":5.0057919999999996},{"$f":"'Physical Stats'!AR24","v":3.470323},{"$f":"'Physical Stats'!AS24","v":2.2490790000000001},{"$f":"'Physical Stats'!AT24","v":1.5359590000000001},{"$f":"'Physical Stats'!AU24","v":1.1866460000000001},{"$f":"'Physical Stats'!AV24","v":1.014643},{"$f":"'Physical Stats'!AW24","v":0.90418799999999999},{"$f":"'Physical Stats'!AX24","v":0.79437199999999997},{"$f":"'Physical Stats'!AY24","v":0.66380899999999998},{"$f":"'Physical Stats'!AZ24","v":0.50349100000000002},{"$f":"'Physical Stats'!BA24","v":0.36938900000000002},{"$f":"'Physical Stats'!BB24","v":0.229016},{"$f":"'Physical Stats'!BC24","v":9.2753000000000002E-2},{"$f":"'Physical Stats'!BD24","v":1.1299E-2},{"$f":"'Physical Stats'!BE24","v":0},null,{"$f":"'Physical Stats'!I24","v":""}]
[null,{"$f":"IF('Physical Data'!J25=\"\",\"\",'Physical Data'!J25)","v":19},{"$f":"'Physical Stats'!P25","v":0},{"$f":"'Physical Stats'!Q25","v":0},{"$f":"'Physical Stats'!R25","v":0},{"$f":"'Physical Stats'!S25","v":0},{"$f":"'Physical Stats'!T25","v":0},{"$f":"'Physical Stats'!U25","v":0},{"$f":"'Physical Stats'!V25","v":0},{"$f":"'Physical Stats'!W25","v":0},{"$f":"'Physical Stats'!X25","v":0},{"$f":"'Physical Stats'!Y25","v":0},{"$f":"'Physical Stats'!Z25","v":0},{"$f":"'Physical Stats'!AA25","v":0},{"$f":"'Physical Stats'!AB25","v":1.6667E-4},{"$f":"'Physical Stats'!AC25","v":0.2021},{"$f":"'Physical Stats'!AD25","v":0.77259999999999995},{"$f":"'Physical Stats'!AE25","v":0.95216666999999999},{"$f":"'Physical Stats'!AF25","v":4.1844000000000001},{"$f":"'Physical Stats'!AG25","v":7.7146333299999998},{"$f":"'Physical Stats'!AH25","v":8.8366000000000007},{"$f":"'Physical Stats'!AI25","v":8.2165333300000007},{"$f":"'Physical Stats'!AJ25","v":7.7666666700000002},{"$f":"'Physical Stats'!AK25","v":8.1621666699999995},{"$f":"'Physical Stats'!AL25","v":7.0591999999999997},{"$f":"'Physical Stats'!AM25","v":7.1105},{"$f":"'Physical Stats'!AN25","v":6.6539333300000001},{"$f":"'Physical Stats'!AO25","v":5.7190000000000003},{"$f":"'Physical Stats'!AP25","v":5.2377000000000002},{"$f":"'Physical Stats'!AQ25","v":4.5110000000000001},{"$f":"'Physical Stats'!AR25","v":3.5852666700000002},{"$f":"'Physical Stats'!AS25","v":2.7108666600000002},{"$f":"'Physical Stats'!AT25","v":2.13586667},{"$f":"'Physical Stats'!AU25","v":1.7572566700000001},{"$f":"'Physical Stats'!AV25","v":1.5089600000000001},{"$f":"'Physical Stats'!AW25","v":1.3606633299999999},{"$f":"'Physical Stats'!AX25","v":1.2230566700000001},{"$f":"'Physical Stats'!AY25","v":1.0162599999999999},{"$f":"'Physical Stats'!AZ25","v":0.72409133000000003},{"$f":"'Physical Stats'!BA25","v":0.48836267},{"$f":"'Physical Stats'!BB25","v":0.27704699999999999},{"$f":"'Physical Stats'!BC25","v":0.1014028},{"$f":"'Physical Stats'!BD25","v":1.152981E-2},{"$f":"'Physical Stats'!BE25","v":0},null,{"$f":"'Physical Stats'!I25","v":""}]
[null,{"$f":"IF('Physical Data'!J26=\"\",\"\",'Physical Data'!J26)","v":20},{"$f":"'Physical Stats'!P26","v":0},{"$f":"'Physical Stats'!Q26","v":0},{"$f":"'Physical Stats'!R26","v":0},{"$f":"'Physical Stats'!S26","v":0},{"$f":"'Physical Stats'!T26","v":0},{"$f":"'Physical Stats'!U26","v":0},{"$f":"'Physical Stats'!V26","v":0},{"$f":"'Physical Stats'!W26","v":0},{"$f":"'Physical Stats'!X26","v":0},{"$f":"'Physical Stats'!Y26","v":0},{"$f":"'Physical Stats'!Z26","v":0},{"$f":"'Physical Stats'!AA26","v":0},{"$f":"'Physical Stats'!AB26","v":0},{"$f":"'Physical Stats'!AC26","v":0},{"$f":"'Physical Stats'!AD26","v":0},{"$f":"'Physical Stats'!AE26","v":4.4299999999999999E-2},{"$f":"'Physical Stats'!AF26","v":1.5613999999999999},{"$f":"'Physical Stats'!AG26","v":4.7157999999999998},{"$f":"'Physical Stats'!AH26","v":6.6769999999999996},{"$f":"'Physical Stats'!AI26","v":7.6254999999999997},{"$f":"'Physical Stats'!AJ26","v":9.04076667},{"$f":"'Physical Stats'!AK26","v":9.5361666700000001},{"$f":"'Physical Stats'!AL26","v":8.6252999999999993},{"$f":"'Physical Stats'!AM26","v":8.4537666599999994},{"$f":"'Physical Stats'!AN26","v":7.6611000000000002},{"$f":"'Physical Stats'!AO26","v":6.5201333400000001},{"$f":"'Physical Stats'!AP26","v":5.9201333299999996},{"$f":"'Physical Stats'!AQ26","v":5.0857666699999999},{"$f":"'Physical Stats'!AR26","v":4.06176666},{"$f":"'Physical Stats'!AS26","v":3.0591666700000002},{"$f":"'Physical Stats'!AT26","v":2.3567300000000002},{"$f":"'Physical Stats'!AU26","v":1.8921333300000001},{"$f":"'Physical Stats'!AV26","v":1.6047},{"$f":"'Physical Stats'!AW26","v":1.44155667},{"$f":"'Physical Stats'!AX26","v":1.29596333},{"$f":"'Physical Stats'!AY26","v":1.08125334},{"$f":"'Physical Stats'!AZ26","v":0.77812099999999995},{"$f":"'Physical Stats'!BA26","v":0.53048766000000003},{"$f":"'Physical Stats'!BB26","v":0.30451699999999998},{"$f":"'Physical Stats'!BC26","v":0.11338034},{"$f":"'Physical Stats'!BD26","v":1.308727E-2},{"$f":"'Physical Stats'!BE26","v":0},null,{"$f":"'Physical Stats'!I26","v":""}]
[null,{"$f":"IF('Physical Data'!J27=\"\",\"\",'Physical Data'!J27)","v":21},{"$f":"'Physical Stats'!P27","v":0},{"$f":"'Physical Stats'!Q27","v":0},{"$f":"'Physical Stats'!R27","v":0},{"$f":"'Physical Stats'!S27","v":0},{"$f":"'Physical Stats'!T27","v":0.21959699999999999},{"$f":"'Physical Stats'!U27","v":8.3294999999999994E-2},{"$f":"'Physical Stats'!V27","v":0.33822999999999998},{"$f":"'Physical Stats'!W27","v":0.191832},{"$f":"'Physical Stats'!X27","v":0.18173600000000001},{"$f":"'Physical Stats'!Y27","v":0.15397},{"$f":"'Physical Stats'!Z27","v":0.17163900000000001},{"$f":"'Physical Stats'!AA27","v":0.13377800000000001},{"$f":"'Physical Stats'!AB27","v":0},{"$f":"'Physical Stats'!AC27","v":0},{"$f":"'Physical Stats'!AD27","v":2.3000000000000001E-4},{"$f":"'Physical Stats'!AE27","v":0.29140700000000003},{"$f":"'Physical Stats'!AF27","v":2.2994970000000001},{"$f":"'Physical Stats'!AG27","v":4.4705149999999998},{"$f":"'Physical Stats'!AH27","v":6.350587},{"$f":"'Physical Stats'!AI27","v":6.7939860000000003},{"$f":"'Physical Stats'!AJ27","v":7.7035450000000001},{"$f":"'Physical Stats'!AK27","v":8.3855409999999999},{"$f":"'Physical Stats'!AL27","v":7.9505169999999996},{"$f":"'Physical Stats'!AM27","v":8.7056190000000004},{"$f":"'Physical Stats'!AN27","v":8.8523569999999996},{"$f":"'Physical Stats'!AO27","v":7.956461},{"$f":"'Physical Stats'!AP27","v":7.002631},{"$f":"'Physical Stats'!AQ27","v":5.5763699999999998},{"$f":"'Physical Stats'!AR27","v":4.0582830000000003},{"$f":"'Physical Stats'!AS27","v":2.765984},{"$f":"'Physical Stats'!AT27","v":1.971533},{"$f":"'Physical Stats'!AU27","v":1.5401739999999999},{"$f":"'Physical Stats'!AV27","v":1.3070029999999999},{"$f":"'Physical Stats'!AW27","v":1.1667369999999999},{"$f":"'Physical Stats'!AX27","v":1.035258},{"$f":"'Physical Stats'!AY27","v":0.86382899999999996},{"$f":"'Physical Stats'!AZ27","v":0.63813399999999998},{"$f":"'Physical Stats'!BA27","v":0.45237100000000002},{"$f":"'Physical Stats'!BB27","v":0.27050299999999999},{"$f":"'Physical Stats'!BC27","v":0.10456600000000001},{"$f":"'Physical Stats'!BD27","v":1.2283000000000001E-2},{"$f":"'Physical Stats'!BE27","v":0},null,{"$f":"'Physical Stats'!I27","v":""}]
[null,{"$f":"IF('Physical Data'!J28=\"\",\"\",'Physical Data'!J28)","v":22},{"$f":"'Physical Stats'!P28","v":0},{"$f":"'Physical Stats'!Q28","v":0},{"$f":"'Physical Stats'!R28","v":0},{"$f":"'Physical Stats'!S28","v":0},{"$f":"'Physical Stats'!T28","v":0},{"$f":"'Physical Stats'!U28","v":0},{"$f":"'Physical Stats'!V28","v":0.14949000000000001},{"$f":"'Physical Stats'!W28","v":0},{"$f":"'Physical Stats'!X28","v":3.5173999999999997E-2},{"$f":"'Physical Stats'!Y28","v":4.3968E-2},{"$f":"'Physical Stats'!Z28","v":5.2761000000000002E-2},{"$f":"'Physical Stats'!AA28","v":7.4745000000000006E-2},{"$f":"'Physical Stats'!AB28","v":0},{"$f":"'Physical Stats'!AC28","v":0},{"$f":"'Physical Stats'!AD28","v":0},{"$f":"'Physical Stats'!AE28","v":8.1309000000000006E-2},{"$f":"'Physical Stats'!AF28","v":2.4114140000000002},{"$f":"'Physical Stats'!AG28","v":5.3671499999999996},{"$f":"'Physical Stats'!AH28","v":5.8914429999999998},{"$f":"'Physical Stats'!AI28","v":7.3099730000000003},{"$f":"'Physical Stats'!AJ28","v":8.091647},{"$f":"'Physical Stats'!AK28","v":8.5581119999999995},{"$f":"'Physical Stats'!AL28","v":8.0580669999999994},{"$f":"'Physical Stats'!AM28","v":8.5837540000000008},{"$f":"'Physical Stats'!AN28","v":8.7248490000000007},{"$f":"'Physical Stats'!AO28","v":7.9283960000000002},{"$f":"'Physical Stats'!AP28","v":6.9862630000000001},{"$f":"'Physical Stats'!AQ28","v":5.529604},{"$f":"'Physical Stats'!AR28","v":3.9875479999999999},{"$f":"'Physical Stats'!AS28","v":2.693613},{"$f":"'Physical Stats'!AT28","v":1.923861},{"$f":"'Physical Stats'!AU28","v":1.53329},{"$f":"'Physical Stats'!AV28","v":1.32698},{"$f":"'Physical Stats'!AW28","v":1.189316},{"$f":"'Physical Stats'!AX28","v":1.0492630000000001},{"$f":"'Physical Stats'!AY28","v":0.87501300000000004},{"$f":"'Physical Stats'!AZ28","v":0.65473400000000004},{"$f":"'Physical Stats'!BA28","v":0.47338599999999997},{"$f":"'Physical Stats'!BB28","v":0.28850100000000001},{"$f":"'Physical Stats'!BC28","v":0.113057},{"$f":"'Physical Stats'!BD28","v":1.3313999999999999E-2},{"$f":"'Physical Stats'!BE28","v":0},null,{"$f":"'Physical Stats'!I28","v":""}]
[null,{"$f":"IF('Physical Data'!J29=\"\",\"\",'Physical Data'!J29)","v":23},{"$f":"'Physical Stats'!P29","v":0},{"$f":"'Physical Stats'!Q29","v":0},{"$f":"'Physical Stats'!R29","v":0},{"$f":"'Physical Stats'!S29","v":0},{"$f":"'Physical Stats'!T29","v":0},{"$f":"'Physical Stats'!U29","v":0.22389100000000001},{"$f":"'Physical Stats'!V29","v":0.25032300000000002},{"$f":"'Physical Stats'!W29","v":0.199014},{"$f":"'Physical Stats'!X29","v":0.37781599999999999},{"$f":"'Physical Stats'!Y29","v":0.34982999999999997},{"$f":"'Physical Stats'!Z29","v":0.42757000000000001},{"$f":"'Physical Stats'!AA29","v":0.32184299999999999},{"$f":"'Physical Stats'!AB29","v":0},{"$f":"'Physical Stats'!AC29","v":0},{"$f":"'Physical Stats'!AD29","v":0},{"$f":"'Physical Stats'!AE29","v":0},{"$f":"'Physical Stats'!AF29","v":0},{"$f":"'Physical Stats'!AG29","v":0},{"$f":"'Physical Stats'!AH29","v":0},{"$f":"'Physical Stats'!AI29","v":0.25548599999999999},{"$f":"'Physical Stats'!AJ29","v":5.1000249999999996},{"$f":"'Physical Stats'!AK29","v":5.6027110000000002},{"$f":"'Physical Stats'!AL29","v":5.773263},{"$f":"'Physical Stats'!AM29","v":8.2271380000000001},{"$f":"'Physical Stats'!AN29","v":8.8038319999999999},{"$f":"'Physical Stats'!AO29","v":8.3501349999999999},{"$f":"'Physical Stats'!AP29","v":8.1920439999999992},{"$f":"'Physical Stats'!AQ29","v":7.3700400000000004},{"$f":"'Physical Stats'!AR29","v":6.1429390000000001},{"$f":"'Physical Stats'!AS29","v":5.2571060000000003},{"$f":"'Physical Stats'!AT29","v":4.8187389999999999},{"$f":"'Physical Stats'!AU29","v":4.365761},{"$f":"'Physical Stats'!AV29","v":4.1439349999999999},{"$f":"'Physical Stats'!AW29","v":4.2816099999999997},{"$f":"'Physical Stats'!AX29","v":4.2608240000000004},{"$f":"'Physical Stats'!AY29","v":3.504165},{"$f":"'Physical Stats'!AZ29","v":2.079186},{"$f":"'Physical Stats'!BA29","v":0.98140899999999998},{"$f":"'Physical Stats'!BB29","v":0.30031099999999999},{"$f":"'Physical Stats'!BC29","v":3.6912E-2},{"$f":"'Physical Stats'!BD29","v":2.14E-3},{"$f":"'Physical Stats'!BE29","v":0},null,{"$f":"'Physical Stats'!I29","v":""}]
[null,{"$f":"IF('Physical Data'!J30=\"\",\"\",'Physical Data'!J30)","v":24},{"$f":"'Physical Stats'!P30","v":0},{"$f":"'Physical Stats'!Q30","v":0},{"$f":"'Physical Stats'!R30","v":0},{"$f":"'Physical Stats'!S30","v":0},{"$f":"'Physical Stats'!T30","v":0},{"$f":"'Physical Stats'!U30","v":1.449E-3},{"$f":"'Physical Stats'!V30","v":0},{"$f":"'Physical Stats'!W30","v":1.1596E-2},{"$f":"'Physical Stats'!X30","v":6.3777E-2},{"$f":"'Physical Stats'!Y30","v":4.9283E-2},{"$f":"'Physical Stats'!Z30","v":8.6969000000000005E-2},{"$f":"'Physical Stats'!AA30","v":0.13190299999999999},{"$f":"'Physical Stats'!AB30","v":0.38237700000000002},{"$f":"'Physical Stats'!AC30","v":4.1568250000000004},{"$f":"'Physical Stats'!AD30","v":4.4635639999999999},{"$f":"'Physical Stats'!AE30","v":3.0654330000000001},{"$f":"'Physical Stats'!AF30","v":13.716866},{"$f":"'Physical Stats'!AG30","v":20.520206999999999},{"$f":"'Physical Stats'!AH30","v":11.948548000000001},{"$f":"'Physical Stats'!AI30","v":5.3277770000000002},{"$f":"'Physical Stats'!AJ30","v":4.2496049999999999},{"$f":"'Physical Stats'!AK30","v":4.1587529999999999},{"$f":"'Physical Stats'!AL30","v":3.813313},{"$f":"'Physical Stats'!AM30","v":4.1140059999999998},{"$f":"'Physical Stats'!AN30","v":4.3589929999999999},{"$f":"'Physical Stats'!AO30","v":3.8968910000000001},{"$f":"'Physical Stats'!AP30","v":3.2181489999999999},{"$f":"'Physical Stats'!AQ30","v":2.3435920000000001},{"$f":"'Physical Stats'!AR30","v":1.5538400000000001},{"$f":"'Physical Stats'!AS30","v":0.97626400000000002},{"$f":"'Physical Stats'!AT30","v":0.67264999999999997},{"$f":"'Physical Stats'!AU30","v":0.54317499999999996},{"$f":"'Physical Stats'!AV30","v":0.480213},{"$f":"'Physical Stats'!AW30","v":0.42974699999999999},{"$f":"'Physical Stats'!AX30","v":0.373197},{"$f":"'Physical Stats'!AY30","v":0.309948},{"$f":"'Physical Stats'!AZ30","v":0.237872},{"$f":"'Physical Stats'!BA30","v":0.17777899999999999},{"$f":"'Physical Stats'!BB30","v":0.11250599999999999},{"$f":"'Physical Stats'!BC30","v":4.7045999999999998E-2},{"$f":"'Physical Stats'!BD30","v":5.8840000000000003E-3},{"$f":"'Physical Stats'!BE30","v":0},null,{"$f":"'Physical Stats'!I30","v":""}]
[null,{"$f":"IF('Physical Data'!J31=\"\",\"\",'Physical Data'!J31)","v":25},{"$f":"'Physical Stats'!P31","v":0},{"$f":"'Physical Stats'!Q31","v":0},{"$f":"'Physical Stats'!R31","v":0},{"$f":"'Physical Stats'!S31","v":0},{"$f":"'Physical Stats'!T31","v":0},{"$f":"'Physical Stats'!U31","v":0},{"$f":"'Physical Stats'!V31","v":0},{"$f":"'Physical Stats'!W31","v":0},{"$f":"'Physical Stats'!X31","v":0},{"$f":"'Physical Stats'!Y31","v":0},{"$f":"'Physical Stats'!Z31","v":0},{"$f":"'Physical Stats'!AA31","v":3.6666999999999998E-4},{"$f":"'Physical Stats'!AB31","v":0.38369999999999999},{"$f":"'Physical Stats'!AC31","v":4.1711999999999998},{"$f":"'Physical Stats'!AD31","v":4.4790000000000001},{"$f":"'Physical Stats'!AE31","v":3.07603333},{"$f":"'Physical Stats'!AF31","v":13.7643},{"$f":"'Physical Stats'!AG31","v":20.59116667},{"$f":"'Physical Stats'!AH31","v":11.98986667},{"$f":"'Physical Stats'!AI31","v":5.3461999999999996},{"$f":"'Physical Stats'!AJ31","v":4.2643000000000004},{"$f":"'Physical Stats'!AK31","v":4.1731333299999998},{"$f":"'Physical Stats'!AL31","v":3.8264999999999998},{"$f":"'Physical Stats'!AM31","v":4.1282333299999996},{"$f":"'Physical Stats'!AN31","v":4.3740666700000004},{"$f":"'Physical Stats'!AO31","v":3.9103666700000002},{"$f":"'Physical Stats'!AP31","v":3.22927666},{"$f":"'Physical Stats'!AQ31","v":2.3516966699999999},{"$f":"'Physical Stats'!AR31","v":1.55921333},{"$f":"'Physical Stats'!AS31","v":0.97963999999999996},{"$f":"'Physical Stats'!AT31","v":0.67497666999999995},{"$f":"'Physical Stats'!AU31","v":0.54505333},{"$f":"'Physical Stats'!AV31","v":0.48187333999999998},{"$f":"'Physical Stats'!AW31","v":0.43123333000000003},{"$f":"'Physical Stats'!AX31","v":0.37448766999999999},{"$f":"'Physical Stats'!AY31","v":0.31102000000000002},{"$f":"'Physical Stats'!AZ31","v":0.23869366},{"$f":"'Physical Stats'!BA31","v":0.17839334000000001},{"$f":"'Physical Stats'!BB31","v":0.11289465999999999},{"$f":"'Physical Stats'!BC31","v":4.7208989999999999E-2},{"$f":"'Physical Stats'!BD31","v":5.9035800000000003E-3},{"$f":"'Physical Stats'!BE31","v":0},null,{"$f":"'Physical Stats'!I31","v":""}]
[null,{"$f":"IF('Physical Data'!J32=\"\",\"\",'Physical Data'!J32)","v":""},{"$f":"'Physical Stats'!P32","v":""},{"$f":"'Physical Stats'!Q32","v":""},{"$f":"'Physical Stats'!R32","v":""},{"$f":"'Physical Stats'!S32","v":""},{"$f":"'Physical Stats'!T32","v":""},{"$f":"'Physical Stats'!U32","v":""},{"$f":"'Physical Stats'!V32","v":""},{"$f":"'Physical Stats'!W32","v":""},{"$f":"'Physical Stats'!X32","v":""},{"$f":"'Physical Stats'!Y32","v":""},{"$f":"'Physical Stats'!Z32","v":""},{"$f":"'Physical Stats'!AA32","v":""},{"$f":"'Physical Stats'!AB32","v":""},{"$f":"'Physical Stats'!AC32","v":""},{"$f":"'Physical Stats'!AD32","v":""},{"$f":"'Physical Stats'!AE32","v":""},{"$f":"'Physical Stats'!AF32","v":""},{"$f":"'Physical Stats'!AG32","v":""},{"$f":"'Physical Stats'!AH32","v":""},{"$f":"'Physical Stats'!AI32","v":""},{"$f":"'Physical Stats'!AJ32","v":""},{"$f":"'Physical Stats'!AK32","v":""},{"$f":"'Physical Stats'!AL32","v":""},{"$f":"'Physical Stats'!AM32","v":""},{"$f":"'Physical Stats'!AN32","v":""},{"$f":"'Physical Stats'!AO32","v":""},{"$f":"'Physical Stats'!AP32","v":""},{"$f":"'Physical Stats'!AQ32","v":""},{"$f":"'Physical Stats'!AR32","v":""},{"$f":"'Physical Stats'!AS32","v":""},{"$f":"'Physical Stats'!AT32","v":""},{"$f":"'Physical Stats'!AU32","v":""},{"$f":"'Physical Stats'!AV32","v":""},{"$f":"'Physical Stats'!AW32","v":""},{"$f":"'Physical Stats'!AX32","v":""},{"$f":"'Physical Stats'!AY32","v":""},{"$f":"'Physical Stats'!AZ32","v":""},{"$f":"'Physical Stats'!BA32","v":""},{"$f":"'Physical Stats'!BB32","v":""},{"$f":"'Physical Stats'!BC32","v":""},{"$f":"'Physical Stats'!BD32","v":""},{"$f":"'Physical Stats'!BE32","v":""},null,{"$f":"'Physical Stats'!I32","v":""}]
[null,{"$f":"IF('Physical Data'!J33=\"\",\"\",'Physical Data'!J33)","v":""},{"$f":"'Physical Stats'!P33","v":""},{"$f":"'Physical Stats'!Q33","v":""},{"$f":"'Physical Stats'!R33","v":""},{"$f":"'Physical Stats'!S33","v":""},{"$f":"'Physical Stats'!T33","v":""},{"$f":"'Physical Stats'!U33","v":""},{"$f":"'Physical Stats'!V33","v":""},{"$f":"'Physical Stats'!W33","v":""},{"$f":"'Physical Stats'!X33","v":""},{"$f":"'Physical Stats'!Y33","v":""},{"$f":"'Physical Stats'!Z33","v":""},{"$f":"'Physical Stats'!AA33","v":""},{"$f":"'Physical Stats'!AB33","v":""},{"$f":"'Physical Stats'!AC33","v":""},{"$f":"'Physical Stats'!AD33","v":""},{"$f":"'Physical Stats'!AE33","v":""},{"$f":"'Physical Stats'!AF33","v":""},{"$f":"'Physical Stats'!AG33","v":""},{"$f":"'Physical Stats'!AH33","v":""},{"$f":"'Physical Stats'!AI33","v":""},{"$f":"'Physical Stats'!AJ33","v":""},{"$f":"'Physical Stats'!AK33","v":""},{"$f":"'Physical Stats'!AL33","v":""},{"$f":"'Physical Stats'!AM33","v":""},{"$f":"'Physical Stats'!AN33","v":""},{"$f":"'Physical Stats'!AO33","v":""},{"$f":"'Physical Stats'!AP33","v":""},{"$f":"'Physical Stats'!AQ33","v":""},{"$f":"'Physical Stats'!AR33","v":""},{"$f":"'Physical Stats'!AS33","v":""},{"$f":"'Physical Stats'!AT33","v":""},{"$f":"'Physical Stats'!AU33","v":""},{"$f":"'Physical Stats'!AV33","v":""},{"$f":"'Physical Stats'!AW33","v":""},{"$f":"'Physical Stats'!AX33","v":""},{"$f":"'Physical Stats'!AY33","v":""},{"$f":"'Physical Stats'!AZ33","v":""},{"$f":"'Physical Stats'!BA33","v":""},{"$f":"'Physical Stats'!BB33","v":""},{"$f":"'Physical Stats'!BC33","v":""},{"$f":"'Physical Stats'!BD33","v":""},{"$f":"'Physical Stats'!BE33","v":""},null,{"$f":"'Physical Stats'!I33","v":""}]
[null,{"$f":"IF('Physical Data'!J34=\"\",\"\",'Physical Data'!J34)","v":""},{"$f":"'Physical Stats'!P34","v":""},{"$f":"'Physical Stats'!Q34","v":""},{"$f":"'Physical Stats'!R34","v":""},{"$f":"'Physical Stats'!S34","v":""},{"$f":"'Physical Stats'!T34","v":""},{"$f":"'Physical Stats'!U34","v":""},{"$f":"'Physical Stats'!V34","v":""},{"$f":"'Physical Stats'!W34","v":""},{"$f":"'Physical Stats'!X34","v":""},{"$f":"'Physical Stats'!Y34","v":""},{"$f":"'Physical Stats'!Z34","v":""},{"$f":"'Physical Stats'!AA34","v":""},{"$f":"'Physical Stats'!AB34","v":""},{"$f":"'Physical Stats'!AC34","v":""},{"$f":"'Physical Stats'!AD34","v":""},{"$f":"'Physical Stats'!AE34","v":""},{"$f":"'Physical Stats'!AF34","v":""},{"$f":"'Physical Stats'!AG34","v":""},{"$f":"'Physical Stats'!AH34","v":""},{"$f":"'Physical Stats'!AI34","v":""},{"$f":"'Physical Stats'!AJ34","v":""},{"$f":"'Physical Stats'!AK34","v":""},{"$f":"'Physical Stats'!AL34","v":""},{"$f":"'Physical Stats'!AM34","v":""},{"$f":"'Physical Stats'!AN34","v":""},{"$f":"'Physical Stats'!AO34","v":""},{"$f":"'Physical Stats'!AP34","v":""},{"$f":"'Physical Stats'!AQ34","v":""},{"$f":"'Physical Stats'!AR34","v":""},{"$f":"'Physical Stats'!AS34","v":""},{"$f":"'Physical Stats'!AT34","v":""},{"$f":"'Physical Stats'!AU34","v":""},{"$f":"'Physical Stats'!AV34","v":""},{"$f":"'Physical Stats'!AW34","v":""},{"$f":"'Physical Stats'!AX34","v":""},{"$f":"'Physical Stats'!AY34","v":""},{"$f":"'Physical Stats'!AZ34","v":""},{"$f":"'Physical Stats'!BA34","v":""},{"$f":"'Physical Stats'!BB34","v":""},{"$f":"'Physical Stats'!BC34","v":""},{"$f":"'Physical Stats'!BD34","v":""},{"$f":"'Physical Stats'!BE34","v":""},null,{"$f":"'Physical Stats'!I34","v":""}]
[null,{"$f":"IF('Physical Data'!J35=\"\",\"\",'Physical Data'!J35)","v":""},{"$f":"'Physical Stats'!P35","v":""},{"$f":"'Physical Stats'!Q35","v":""},{"$f":"'Physical Stats'!R35","v":""},{"$f":"'Physical Stats'!S35","v":""},{"$f":"'Physical Stats'!T35","v":""},{"$f":"'Physical Stats'!U35","v":""},{"$f":"'Physical Stats'!V35","v":""},{"$f":"'Physical Stats'!W35","v":""},{"$f":"'Physical Stats'!X35","v":""},{"$f":"'Physical Stats'!Y35","v":""},{"$f":"'Physical Stats'!Z35","v":""},{"$f":"'Physical Stats'!AA35","v":""},{"$f":"'Physical Stats'!AB35","v":""},{"$f":"'Physical Stats'!AC35","v":""},{"$f":"'Physical Stats'!AD35","v":""},{"$f":"'Physical Stats'!AE35","v":""},{"$f":"'Physical Stats'!AF35","v":""},{"$f":"'Physical Stats'!AG35","v":""},{"$f":"'Physical Stats'!AH35","v":""},{"$f":"'Physical Stats'!AI35","v":""},{"$f":"'Physical Stats'!AJ35","v":""},{"$f":"'Physical Stats'!AK35","v":""},{"$f":"'Physical Stats'!AL35","v":""},{"$f":"'Physical Stats'!AM35","v":""},{"$f":"'Physical Stats'!AN35","v":""},{"$f":"'Physical Stats'!AO35","v":""},{"$f":"'Physical Stats'!AP35","v":""},{"$f":"'Physical Stats'!AQ35","v":""},{"$f":"'Physical Stats'!AR35","v":""},{"$f":"'Physical Stats'!AS35","v":""},{"$f":"'Physical Stats'!AT35","v":""},{"$f":"'Physical Stats'!AU35","v":""},{"$f":"'Physical Stats'!AV35","v":""},{"$f":"'Physical Stats'!AW35","v":""},{"$f":"'Physical Stats'!AX35","v":""},{"$f":"'Physical Stats'!AY35","v":""},{"$f":"'Physical Stats'!AZ35","v":""},{"$f":"'Physical Stats'!BA35","v":""},{"$f":"'Physical Stats'!BB35","v":""},{"$f":"'Physical Stats'!BC35","v":""},{"$f":"'Physical Stats'!BD35","v":""},{"$f":"'Physical Stats'!BE35","v":""},null,{"$f":"'Physical Stats'!I35","v":""}]
[null,{"$f":"IF('Physical Data'!J36=\"\",\"\",'Physical Data'!J36)","v":""},{"$f":"'Physical Stats'!P36","v":""},{"$f":"'Physical Stats'!Q36","v":""},{"$f":"'Physical Stats'!R36","v":""},{"$f":"'Physical Stats'!S36","v":""},{"$f":"'Physical Stats'!T36","v":""},{"$f":"'Physical Stats'!U36","v":""},{"$f":"'Physical Stats'!V36","v":""},{"$f":"'Physical Stats'!W36","v":""},{"$f":"'Physical Stats'!X36","v":""},{"$f":"'Physical Stats'!Y36","v":""},{"$f":"'Physical Stats'!Z36","v":""},{"$f":"'Physical Stats'!AA36","v":""},{"$f":"'Physical Stats'!AB36","v":""},{"$f":"'Physical Stats'!AC36","v":""},{"$f":"'Physical Stats'!AD36","v":""},{"$f":"'Physical Stats'!AE36","v":""},{"$f":"'Physical Stats'!AF36","v":""},{"$f":"'Physical Stats'!AG36","v":""},{"$f":"'Physical Stats'!AH36","v":""},{"$f":"'Physical Stats'!AI36","v":""},{"$f":"'Physical Stats'!AJ36","v":""},{"$f":"'Physical Stats'!AK36","v":""},{"$f":"'Physical Stats'!AL36","v":""},{"$f":"'Physical Stats'!AM36","v":""},{"$f":"'Physical Stats'!AN36","v":""},{"$f":"'Physical Stats'!AO36","v":""},{"$f":"'Physical Stats'!AP36","v":""},{"$f":"'Physical Stats'!AQ36","v":""},{"$f":"'Physical Stats'!AR36","v":""},{"$f":"'Physical Stats'!AS36","v":""},{"$f":"'Physical Stats'!AT36","v":""},{"$f":"'Physical Stats'!AU36","v":""},{"$f":"'Physical Stats'!AV36","v":""},{"$f":"'Physical Stats'!AW36","v":""},{"$f":"'Physical Stats'!AX36","v":""},{"$f":"'Physical Stats'!AY36","v":""},{"$f":"'Physical Stats'!AZ36","v":""},{"$f":"'Physical Stats'!BA36","v":""},{"$f":"'Physical Stats'!BB36","v":""},{"$f":"'Physical Stats'!BC36","v":""},{"$f":"'Physical Stats'!BD36","v":""},{"$f":"'Physical Stats'!BE36","v":""},null,{"$f":"'Physical Stats'!I36","v":""}]
[null,{"$f":"IF('Physical Data'!J37=\"\",\"\",'Physical Data'!J37)","v":""},{"$f":"'Physical Stats'!P37","v":""},{"$f":"'Physical Stats'!Q37","v":""},{"$f":"'Physical Stats'!R37","v":""},{"$f":"'Physical Stats'!S37","v":""},{"$f":"'Physical Stats'!T37","v":""},{"$f":"'Physical Stats'!U37","v":""},{"$f":"'Physical Stats'!V37","v":""},{"$f":"'Physical Stats'!W37","v":""},{"$f":"'Physical Stats'!X37","v":""},{"$f":"'Physical Stats'!Y37","v":""},{"$f":"'Physical Stats'!Z37","v":""},{"$f":"'Physical Stats'!AA37","v":""},{"$f":"'Physical Stats'!AB37","v":""},{"$f":"'Physical Stats'!AC37","v":""},{"$f":"'Physical Stats'!AD37","v":""},{"$f":"'Physical Stats'!AE37","v":""},{"$f":"'Physical Stats'!AF37","v":""},{"$f":"'Physical Stats'!AG37","v":""},{"$f":"'Physical Stats'!AH37","v":""},{"$f":"'Physical Stats'!AI37","v":""},{"$f":"'Physical Stats'!AJ37","v":""},{"$f":"'Physical Stats'!AK37","v":""},{"$f":"'Physical Stats'!AL37","v":""},{"$f":"'Physical Stats'!AM37","v":""},{"$f":"'Physical Stats'!AN37","v":""},{"$f":"'Physical Stats'!AO37","v":""},{"$f":"'Physical Stats'!AP37","v":""},{"$f":"'Physical Stats'!AQ37","v":""},{"$f":"'Physical Stats'!AR37","v":""},{"$f":"'Physical Stats'!AS37","v":""},{"$f":"'Physical Stats'!AT37","v":""},{"$f":"'Physical Stats'!AU37","v":""},{"$f":"'Physical Stats'!AV37","v":""},{"$f":"'Physical Stats'!AW37","v":""},{"$f":"'Physical Stats'!AX37","v":""},{"$f":"'Physical Stats'!AY37","v":""},{"$f":"'Physical Stats'!AZ37","v":""},{"$f":"'Physical Stats'!BA37","v":""},{"$f":"'Physical Stats'!BB37","v":""},{"$f":"'Physical Stats'!BC37","v":""},{"$f":"'Physical Stats'!BD37","v":""},{"$f":"'Physical Stats'!BE37","v":""},null,{"$f":"'Physical Stats'!I37","v":""}]
[null,{"$f":"IF('Physical Data'!J38=\"\",\"\",'Physical Data'!J38)","v":""},{"$f":"'Physical Stats'!P38","v":""},{"$f":"'Physical Stats'!Q38","v":""},{"$f":"'Physical Stats'!R38","v":""},{"$f":"'Physical Stats'!S38","v":""},{"$f":"'Physical Stats'!T38","v":""},{"$f":"'Physical Stats'!U38","v":""},{"$f":"'Physical Stats'!V38","v":""},{"$f":"'Physical Stats'!W38","v":""},{"$f":"'Physical Stats'!X38","v":""},{"$f":"'Physical Stats'!Y38","v":""},{"$f":"'Physical Stats'!Z38","v":""},{"$f":"'Physical Stats'!AA38","v":""},{"$f":"'Physical Stats'!AB38","v":""},{"$f":"'Physical Stats'!AC38","v":""},{"$f":"'Physical Stats'!AD38","v":""},{"$f":"'Physical Stats'!AE38","v":""},{"$f":"'Physical Stats'!AF38","v":""},{"$f":"'Physical Stats'!AG38","v":""},{"$f":"'Physical Stats'!AH38","v":""},{"$f":"'Physical Stats'!AI38","v":""},{"$f":"'Physical Stats'!AJ38","v":""},{"$f":"'Physical Stats'!AK38","v":""},{"$f":"'Physical Stats'!AL38","v":""},{"$f":"'Physical Stats'!AM38","v":""},{"$f":"'Physical Stats'!AN38","v":""},{"$f":"'Physical Stats'!AO38","v":""},{"$f":"'Physical Stats'!AP38","v":""},{"$f":"'Physical Stats'!AQ38","v":""},{"$f":"'Physical Stats'!AR38","v":""},{"$f":"'Physical Stats'!AS38","v":""},{"$f":"'Physical Stats'!AT38","v":""},{"$f":"'Physical Stats'!AU38","v":""},{"$f":"'Physical Stats'!AV38","v":""},{"$f":"'Physical Stats'!AW38","v":""},{"$f":"'Physical Stats'!AX38","v":""},{"$f":"'Physical Stats'!AY38","v":""},{"$f":"'Physical Stats'!AZ38","v":""},{"$f":"'Physical Stats'!BA38","v":""},{"$f":"'Physical Stats'!BB38","v":""},{"$f":"'Physical Stats'!BC38","v":""},{"$f":"'Physical Stats'!BD38","v":""},{"$f":"'Physical Stats'!BE38","v":""},null,{"$f":"'Physical Stats'!I38","v":""}]

{"sheet":"Exempt Samples","index":4,"n_rows":54,"n_cols":14,"rows_kept":54,"cut":false,"hidden":true,"merged":[[5,13,7,13],[43,7,45,7],[43,8,45,8],[43,9,45,9],[43,11,45,11],[43,12,45,12],[43,10,45,10],[5,7,7,7],[5,8,7,8],[5,9,7,9],[5,10,7,10],[5,11,7,11],[5,12,7,12]]}
[]
[null,"Exempt samples calculations"]
[]
[null,null,null,null,null,null,null,"Exempt samples complete summary"]
[]
[null,"Analysis information:",null,null,null,null,null,"Laboratory sample number","Dredge Area","Sample ID(s)","Excluded (y if yes)","Visual appearance","Exempt from chemical analysis","Conversion to biniomial (hidden column)"]
[]
[null,null,"Applicant:",{"$f":"IF('Application info'!E16=\"\",\"\",'Application info'!E16)","v":"PD Ports"}]
[null,null,"Application number:",{"$f":"IF('Application info'!E17=\"\",\"\",'Application info'!E17)","v":""},null,null,null,{"$f":"IF('Physical Data'!H9=\"\",\"\",'Physical Data'!H9)","v":"MAR02481.001"},{"$f":"IF('Physical Data'!I9=\"\",\"\",'Physical Data'!I9)","v":""},{"$f":"IF('Physical Data'!J9=\"\",\"\",'Physical Data'!J9)","v":1},{"$f":"IF('Physical Stats'!K9=\"\",\"\",'Physical Stats'!K9)","v":""},{"$f":"IF('Physical Data'!K9=\"\",\"\",'Physical Data'!K9)","v":"Black Mud with an Anoxic Odour."},{"$f":"IF('Physical Data'!L9=\"\",\"\",'Physical Data'!L9)","v":""},{"$f":"IF(M9=\"y\",1,0)","v":0}]
[null,null,"Application title:",{"$f":"IF('Application info'!E18=\"\",\"\",'Application info'!E18)","v":"Mid licence sampling - year 9"},null,null,null,{"$f":"IF('Physical Data'!H10=\"\",\"\",'Physical Data'!H10)","v":"MAR02481.002"},{"$f":"IF('Physical Data'!I10=\"\",\"\",'Physical Data'!I10)","v":""},{"$f":"IF('Physical Data'!J10=\"\",\"\",'Physical Data'!J10)","v":2},{"$f":"IF('Physical Stats'!K10=\"\",\"\",'Physical Stats'!K10)","v":""},{"$f":"IF('Physical Data'!K10=\"\",\"\",'Physical Data'!K10)","v":"Black Mud with an Anoxic Odour."},{"$f":"IF('Physical Data'!L10=\"\",\"\",'Physical Data'!L10)","v":""},0]
[null,null,"Date sampled:",{"$f":"IF('Application info'!E19=\"\",\"\",'Application info'!E19)","v":""},null,null,null,{"$f":"IF('Physical Data'!H11=\"\",\"\",'Physical Data'!H11)","v":"MAR02481.003"},{"$f":"IF('Physical Data'!I11=\"\",\"\",'Physical Data'!I11)","v":""},{"$f":"IF('Physical Data'!J11=\"\",\"\",'Physical Data'!J11)","v":3},{"$f":"IF('Physical Stats'!K11=\"\",\"\",'Physical Stats'!K11)","v":""},{"$f":"IF('Physical Data'!K11=\"\",\"\",'Physical Data'!K11)","v":"Black Mud with an Anoxic Odour."},{"$f":"IF('Physical Data'!L11=\"\",\"\",'Physical Data'!L11)","v":""},{"$f":"IF(M11=\"y\",1,0)","v":0}]
[null,null,"Sampling location:",{"$f":"IF('Application info'!E20=\"\",\"\",'Application info'!E20)","v":""},null,null,null,{"$f":"IF('Physical Data'!H12=\"\",\"\",'Physical Data'!H12)","v":"MAR02481.004"},{"$f":"IF('Physical Data'!I12=\"\",\"\",'Physical Data'!I12)","v":""},{"$f":"IF('Physical Data'!J12=\"\",\"\",'Physical Data'!J12)","v":4},{"$f":"IF('Physical Stats'!K12=\"\",\"\",'Physical Stats'!K12)","v":""},{"$f":"IF('Physical Data'!K12=\"\",\"\",'Physical Data'!K12)","v":"Black Mud with an Anoxic Odour."},{"$f":"IF('Physical Data'!L12=\"\",\"\",'Physical Data'!L12)","v":""},{"$f":"IF(M12=\"y\",1,0)","v":0}]
[null,null,null,null,null,null,null,{"$f":"IF('Physical Data'!H13=\"\",\"\",'Physical Data'!H13)","v":"MAR02481.005"},{"$f":"IF('Physical Data'!I13=\"\",\"\",'Physical Data'!I13)","v":""},{"$f":"IF('Physical Data'!J13=\"\",\"\",'Physical Data'!J13)","v":5},{"$f":"IF('Physical Stats'!K13=\"\",\"\",'Physical Stats'!K13)","v":""},{"$f":"IF('Physical Data'!K13=\"\",\"\",'Physical Data'!K13)","v":"Black Mud with an Anoxic Odour."},{"$f":"IF('Physical Data'!L13=\"\",\"\",'Physical Data'!L13)","v":""},0]
[null,null,"Laboratory/contractor:",{"$f":"IF('Physical Data'!D15=\"\",\"\",'Physical Data'!D15)","v":"Ocean Ecology Ltd"},null,null,null,{"$f":"IF('Physical Data'!H14=\"\",\"\",'Physical Data'!H14)","v":"MAR02481.006"},{"$f":"IF('Physical Data'!I14=\"\",\"\",'Physical Data'!I14)","v":""},{"$f":"IF('Physical Data'!J14=\"\",\"\",'Physical Data'!J14)","v":6},{"$f":"IF('Physical Stats'!K14=\"\",\"\",'Physical Stats'!K14)","v":""},{"$f":"IF('Physical Data'!K14=\"\",\"\",'Physical Data'!K14)","v":"Black Mud with an Anoxic Odour."},{"$f":"IF('Physical Data'!L14=\"\",\"\",'Physical Data'!L14)","v":""},0]
[null,null,"Date of analysis:",{"$f":"IF('Physical Data'!D16=\"\",\"\",'Physical Data'!D16)","v":"2024-10-25"},null,null,null,{"$f":"IF('Physical Data'!H15=\"\",\"\",'Physical Data'!H15)","v":"MAR02481.007"},{"$f":"IF('Physical Data'!I15=\"\",\"\",'Physical Data'!I15)","v":""},{"$f":"IF('Physical Data'!J15=\"\",\"\",'Physical Data'!J15)","v":7},{"$f":"IF('Physical Stats'!K15=\"\",\"\",'Physical Stats'!K15)","v":""},{"$f":"IF('Physical Data'!K15=\"\",\"\",'Physical Data'!K15)","v":"Black Mud with an Anoxic Odour."},{"$f":"IF('Physical Data'!L15=\"\",\"\",'Physical Data'!L15)","v":""},0]
[null,null,null,null,null,null,null,{"$f":"IF('Physical Data'!H16=\"\",\"\",'Physical Data'!H16)","v":"MAR02481.008"},{"$f":"IF('Physical Data'!I16=\"\",\"\",'Physical Data'!I16)","v":""},{"$f":"IF('Physical Data'!J16=\"\",\"\",'Physical Data'!J16)","v":8},{"$f":"IF('Physical Stats'!K16=\"\",\"\",'Physical Stats'!K16)","v":""},{"$f":"IF('Physical Data'!K16=\"\",\"\",'Physical Data'!K16)","v":"Black Mud with an Anoxic Odour."},{"$f":"IF('Physical Data'!L16=\"\",\"\",'Physical Data'!L16)","v":""},0]
[null,null,null,null,null,null,null,{"$f":"IF('Physical Data'!H17=\"\",\"\",'Physical Data'!H17)","v":"MAR02481.009"},{"$f":"IF('Physical Data'!I17=\"\",\"\",'Physical Data'!I17)","v":""},{"$f":"IF('Physical Data'!J17=\"\",\"\",'Physical Data'!J17)","v":9},{"$f":"IF('Physical Stats'!K17=\"\",\"\",'Physical Stats'!K17)","v":""},{"$f":"IF('Physical Data'!K17=\"\",\"\",'Physical Data'!K17)","v":"Black Mud with an Anoxic Odour."},{"$f":"IF('Physical Data'!L17=\"\",\"\",'Physical Data'!L17)","v":""},0]
[null,null,null,null,null,null,null,{"$f":"IF('Physical Data'!H18=\"\",\"\",'Physical Data'!H18)","v":"MAR02481.010"},{"$f":"IF('Physical Data'!I18=\"\",\"\",'Physical Data'!I18)","v":""},{"$f":"IF('Physical Data'!J18=\"\",\"\",'Physical Data'!J18)","v":10},{"$f":"IF('Physical Stats'!K18=\"\",\"\",'Physical Stats'!K18)","v":""},{"$f":"IF('Physical Data'!K18=\"\",\"\",'Physical Data'!K18)","v":"Black Mud with Organic Matter and Shell Fragments and an Anoxic Odour."},{"$f":"IF('Physical Data'!L18=\"\",\"\",'Physical Data'!L18)","v":""},0]
[null,null,null,null,null,null,null,{"$f":"IF('Physical Data'!H19=\"\",\"\",'Physical Data'!H19)","v":"MAR02481.011"},{"$f":"IF('Physical Data'!I19=\"\",\"\",'Physical Data'!I19)","v":""},{"$f":"IF('Physical Data'!J19=\"\",\"\",'Physical Data'!J19)","v":11},{"$f":"IF('Physical Stats'!K19=\"\",\"\",'Physical Stats'!K19)","v":""},{"$f":"IF('Physical Data'!K19=\"\",\"\",'Physical Data'!K19)","v":"Black Mud with an Anoxic Odour."},{"$f":"IF('Physical Data'!L19=\"\",\"\",'Physical Data'!L19)","v":""},0]
[null,null,null,null,null,null,null,{"$f":"IF('Physical Data'!H20=\"\",\"\",'Physical Data'!H20)","v":"MAR02481.012"},{"$f":"IF('Physical Data'!I20=\"\",\"\",'Physical Data'!I20)","v":""},{"$f":"IF('Physical Data'!J20=\"\",\"\",'Physical Data'!J20)","v":12},{"$f":"IF('Physical Stats'!K20=\"\",\"\",'Physical Stats'!K20)","v":""},{"$f":"IF('Physical Data'!K20=\"\",\"\",'Physical Data'!K20)","v":"Black Mud with an Anoxic Odour."},{"$f":"IF('Physical Data'!L20=\"\",\"\",'Physical Data'!L20)","v":""},0]
[null,null,null,null,null,null,null,{"$f":"IF('Physical Data'!H21=\"\",\"\",'Physical Data'!H21)","v":"MAR02481.013"},{"$f":"IF('Physical Data'!I21=\"\",\"\",'Physical Data'!I21)","v":""},{"$f":"IF('Physical Data'!J21=\"\",\"\",'Physical Data'!J21)","v":13},{"$f":"IF('Physical Stats'!K21=\"\",\"\",'Physical Stats'!K21)","v":""},{"$f":"IF('Physical Data'!K21=\"\",\"\",'Physical Data'!K21)","v":"Black Mud with an Anoxic Odour."},{"$f":"IF('Physical Data'!L21=\"\",\"\",'Physical Data'!L21)","v":""},0]
[null,null,null,null,null,null,null,{"$f":"IF('Physical Data'!H22=\"\",\"\",'Physical Data'!H22)","v":"MAR02481.014"},{"$f":"IF('Physical Data'!I22=\"\",\"\",'Physical Data'!I22)","v":""},{"$f":"IF('Physical Data'!J22=\"\",\"\",'Physical Data'!J22)","v":15},{"$f":"IF('Physical Stats'!K22=\"\",\"\",'Physical Stats'!K22)","v":""},{"$f":"IF('Physical Data'!K22=\"\",\"\",'Physical Data'!K22)","v":"Black Mud with Organic Matter and Shell Fragments and an Anoxic Odour."},{"$f":"IF('Physical Data'!L22=\"\",\"\",'Physical Data'!L22)","v":""},0]
[null,null,null,null,null,null,null,{"$f":"IF('Physical Data'!H23=\"\",\"\",'Physical Data'!H23)","v":"MAR02481.015"},{"$f":"IF('Physical Data'!I23=\"\",\"\",'Physical Data'!I23)","v":""},{"$f":"IF('Physical Data'!J23=\"\",\"\",'Physical Data'!J23)","v":17},{"$f":"IF('Physical Stats'!K23=\"\",\"\",'Physical Stats'!K23)","v":""},{"$f":"IF('Physical Data'!K23=\"\",\"\",'Physical Data'!K23)","v":"Black Mud with an Anoxic Odour."},{"$f":"IF('Physical Data'!L23=\"\",\"\",'Physical Data'!L23)","v":""},0]
[null,null,null,null,null,null,null,{"$f":"IF('Physical Data'!H24=\"\",\"\",'Physical Data'!H24)","v":"MAR02481.016"},{"$f":"IF('Physical Data'!I24=\"\",\"\",'Physical Data'!I24)","v":""},{"$f":"IF('Physical Data'!J24=\"\",\"\",'Physical Data'!J24)","v":18},{"$f":"IF('Physical Stats'!K24=\"\",\"\",'Physical Stats'!K24)","v":""},{"$f":"IF('Physical Data'!K24=\"\",\"\",'Physical Data'!K24)","v":"Black Mud with Organic Matter and Shell Fragments and an Anoxic Odour."},{"$f":"IF('Physical Data'!L24=\"\",\"\",'Physical Data'!L24)","v":""},0]
[null,null,null,null,null,null,null,{"$f":"IF('Physical Data'!H25=\"\",\"\",'Physical Data'!H25)","v":"MAR02481.017"},{"$f":"IF('Physical Data'!I25=\"\",\"\",'Physical Data'!I25)","v":""},{"$f":"IF('Physical Data'!J25=\"\",\"\",'Physical Data'!J25)","v":19},{"$f":"IF('Physical Stats'!K25=\"\",\"\",'Physical Stats'!K25)","v":""},{"$f":"IF('Physical Data'!K25=\"\",\"\",'Physical Data'!K25)","v":"Black Mud with an Anoxic Odour."},{"$f":"IF('Physical Data'!L25=\"\",\"\",'Physical Data'!L25)","v":""},0]
[null,null,null,null,null,null,null,{"$f":"IF('Physical Data'!H26=\"\",\"\",'Physical Data'!H26)","v":"MAR02481.018"},{"$f":"IF('Physical Data'!I26=\"\",\"\",'Physical Data'!I26)","v":""},{"$f":"IF('Physical Data'!J26=\"\",\"\",'Physical Data'!J26)","v":20},{"$f":"IF('Physical Stats'!K26=\"\",\"\",'Physical Stats'!K26)","v":""},{"$f":"IF('Physical Data'!K26=\"\",\"\",'Physical Data'!K26)","v":"Black Mud with an Anoxic Odour."},{"$f":"IF('Physical Data'!L26=\"\",\"\",'Physical Data'!L26)","v":""},0]
[null,null,null,null,null,null,null,{"$f":"IF('Physical Data'!H27=\"\",\"\",'Physical Data'!H27)","v":"MAR02481.019"},{"$f":"IF('Physical Data'!I27=\"\",\"\",'Physical Data'!I27)","v":""},{"$f":"IF('Physical Data'!J27=\"\",\"\",'Physical Data'!J27)","v":21},{"$f":"IF('Physical Stats'!K27=\"\",\"\",'Physical Stats'!K27)","v":""},{"$f":"IF('Physical Data'!K27=\"\",\"\",'Physical Data'!K27)","v":"Black Mud with Shell Fragments and an Anoxic Odour."},{"$f":"IF('Physical Data'!L27=\"\",\"\",'Physical Data'!L27)","v":""},0]
[null,null,null,null,null,null,null,{"$f":"IF('Physical Data'!H28=\"\",\"\",'Physical Data'!H28)","v":"MAR02481.020"},{"$f":"IF('Physical Data'!I28=\"\",\"\",'Physical Data'!I28)","v":""},{"$f":"IF('Physical Data'!J28=\"\",\"\",'Physical Data'!J28)","v":22},{"$f":"IF('Physical Stats'!K28=\"\",\"\",'Physical Stats'!K28)","v":""},{"$f":"IF('Physical Data'!K28=\"\",\"\",'Physical Data'!K28)","v":"Black Mud with Shell Fragments and an Anoxic Odour."},{"$f":"IF('Physical Data'!L28=\"\",\"\",'Physical Data'!L28)","v":""},0]
[null,null,null,null,null,null,null,{"$f":"IF('Physical Data'!H29=\"\",\"\",'Physical Data'!H29)","v":"MAR02481.021"},{"$f":"IF('Physical Data'!I29=\"\",\"\",'Physical Data'!I29)","v":""},{"$f":"IF('Physical Data'!J29=\"\",\"\",'Physical Data'!J29)","v":23},{"$f":"IF('Physical Stats'!K29=\"\",\"\",'Physical Stats'!K29)","v":""},{"$f":"IF('Physical Data'!K29=\"\",\"\",'Physical Data'!K29)","v":"Black Mud with Shell Fragments and an Anoxic Odour."},{"$f":"IF('Physical Data'!L29=\"\",\"\",'Physical Data'!L29)","v":""},0]
[null,null,null,null,null,null,null,{"$f":"IF('Physical Data'!H30=\"\",\"\",'Physical Data'!H30)","v":"MAR02481.022"},{"$f":"IF('Physical Data'!I30=\"\",\"\",'Physical Data'!I30)","v":""},{"$f":"IF('Physical Data'!J30=\"\",\"\",'Physical Data'!J30)","v":24},{"$f":"IF('Physical Stats'!K30=\"\",\"\",'Physical Stats'!K30)","v":""},{"$f":"IF('Physical Data'!K30=\"\",\"\",'Physical Data'!K30)","v":"Odourless Black Mud ."},{"$f":"IF('Physical Data'!L30=\"\",\"\",'Physical Data'!L30)","v":""},0]
[null,null,null,null,null,null,null,{"$f":"IF('Physical Data'!H31=\"\",\"\",'Physical Data'!H31)","v":"MAR02481.023"},{"$f":"IF('Physical Data'!I31=\"\",\"\",'Physical Data'!I31)","v":""},{"$f":"IF('Physical Data'!J31=\"\",\"\",'Physical Data'!J31)","v":25},{"$f":"IF('Physical Stats'!K31=\"\",\"\",'Physical Stats'!K31)","v":""},{"$f":"IF('Physical Data'!K31=\"\",\"\",'Physical Data'!K31)","v":"Odourless Black Mud ."},{"$f":"IF('Physical Data'!L31=\"\",\"\",'Physical Data'!L31)","v":""},0]
[null,null,null,null,null,null,null,{"$f":"IF('Physical Data'!H32=\"\",\"\",'Physical Data'!H32)","v":""},{"$f":"IF('Physical Data'!I32=\"\",\"\",'Physical Data'!I32)","v":""},{"$f":"IF('Physical Data'!J32=\"\",\"\",'Physical Data'!J32)","v":""},{"$f":"IF('Physical Stats'!K32=\"\",\"\",'Physical Stats'!K32)","v":""},{"$f":"IF('Physical Data'!K32=\"\",\"\",'Physical Data'!K32)","v":""},{"$f":"IF('Physical Data'!L32=\"\",\"\",'Physical Data'!L32)","v":""},0]
[null,null,null,null,null,null,null,{"$f":"IF('Physical Data'!H33=\"\",\"\",'Physical Data'!H33)","v":""},{"$f":"IF('Physical Data'!I33=\"\",\"\",'Physical Data'!I33)","v":""},{"$f":"IF('Physical Data'!J33=\"\",\"\",'Physical Data'!J33)","v":""},{"$f":"IF('Physical Stats'!K33=\"\",\"\",'Physical Stats'!K33)","v":""},{"$f":"IF('Physical Data'!K33=\"\",\"\",'Physical Data'!K33)","v":""},{"$f":"IF('Physical Data'!L33=\"\",\"\",'Physical Data'!L33)","v":""},0]
[null,null,null,null,null,null,null,{"$f":"IF('Physical Data'!H34=\"\",\"\",'Physical Data'!H34)","v":""},{"$f":"IF('Physical Data'!I34=\"\",\"\",'Physical Data'!I34)","v":""},{"$f":"IF('Physical Data'!J34=\"\",\"\",'Physical Data'!J34)","v":""},{"$f":"IF('Physical Stats'!K34=\"\",\"\",'Physical Stats'!K34)","v":""},{"$f":"IF('Physical Data'!K34=\"\",\"\",'Physical Data'!K34)","v":""},{"$f":"IF('Physical Data'!L34=\"\",\"\",'Physical Data'!L34)","v":""},0]
[null,null,null,null,null,null,null,{"$f":"IF('Physical Data'!H35=\"\",\"\",'Physical Data'!H35)","v":""},{"$f":"IF('Physical Data'!I35=\"\",\"\",'Physical Data'!I35)","v":""},{"$f":"IF('Physical Data'!J35=\"\",\"\",'Physical Data'!J35)","v":""},{"$f":"IF('Physical Stats'!K35=\"\",\"\",'Physical Stats'!K35)","v":""},{"$f":"IF('Physical Data'!K35=\"\",\"\",'Physical Data'!K35)","v":""},{"$f":"IF('Physical Data'!L35=\"\",\"\",'Physical Data'!L35)","v":""},0]
[null,null,null,null,null,null,null,{"$f":"IF('Physical Data'!H36=\"\",\"\",'Physical Data'!H36)","v":""},{"$f":"IF('Physical Data'!I36=\"\",\"\",'Physical Data'!I36)","v":""},{"$f":"IF('Physical Data'!J36=\"\",\"\",'Physical Data'!J36)","v":""},{"$f":"IF('Physical Stats'!K36=\"\",\"\",'Physical Stats'!K36)","v":""},{"$f":"IF('Physical Data'!K36=\"\",\"\",'Physical Data'!K36)","v":""},{"$f":"IF('Physical Data'!L36=\"\",\"\",'Physical Data'!L36)","v":""},0]
[null,null,null,null,null,null,null,{"$f":"IF('Physical Data'!H37=\"\",\"\",'Physical Data'!H37)","v":""},{"$f":"IF('Physical Data'!I37=\"\",\"\",'Physical Data'!I37)","v":""},{"$f":"IF('Physical Data'!J37=\"\",\"\",'Physical Data'!J37)","v":""},{"$f":"IF('Physical Stats'!K37=\"\",\"\",'Physical Stats'!K37)","v":""},{"$f":"IF('Physical Data'!K37=\"\",\"\",'Physical Data'!K37)","v":""},{"$f":"IF('Physical Data'!L37=\"\",\"\",'Physical Data'!L37)","v":""},0]
[null,null,null,null,null,null,null,{"$f":"IF('Physical Data'!H38=\"\",\"\",'Physical Data'!H38)","v":""},{"$f":"IF('Physical Data'!I38=\"\",\"\",'Physical Data'!I38)","v":""},{"$f":"IF('Physical Data'!J38=\"\",\"\",'Physical Data'!J38)","v":""},{"$f":"IF('Physical Stats'!K38=\"\",\"\",'Physical Stats'!K38)","v":""},{"$f":"IF('Physical Data'!K38=\"\",\"\",'Physical Data'!K38)","v":""},{"$f":"IF('Physical Data'!L38=\"\",\"\",'Physical Data'!L38)","v":""},0]
[]
[]
[]
[null,null,null,null,null,null,"Total samples and tonnages exempt"]
[]
[null,null,null,null,null,null,null,"Dredge Area","Total number tested samples","Number exempt samples","Dredge area tonnages","Proportion exempt samples","Tonnage for OSPAR exempt samples reporting"]
[]
[]
[null,null,null,null,null,null,null,"Area i",{"$f":"IF(COUNTIF($I$9:$I$38, \"Area i\")<1,\"\",COUNTIF($I$9:$I$38, \"Area i\"))","v":""},{"$f":"IF(I47=\"\",\"\",SUMIF($I$9:$I$38, \"Area i\", $N$9:$N$38))","v":""},{"$f":"IF('Application info'!D26=\"\",\"\",'Application info'!D26)","v":""},{"$f":"IFERROR(J47/I47,\"\")","v":""},{"$f":"IF(L47=\"\",\"\",IF(L47>0.5,K47,0))","v":""}]
[null,null,null,null,null,null,null,"Area ii",{"$f":"IF(COUNTIF($I$9:$I$38, \"Area ii\")<1,\"\",COUNTIF($I$9:$I$38, \"Area ii\"))","v":""},{"$f":"IF(I48=\"\",\"\",SUMIF($I$9:$I$38, \"Area ii\", $N$9:$N$38))","v":""},{"$f":"IF('Application info'!D27=\"\",\"\",'Application info'!D27)","v":""},{"$f":"IFERROR(J48/I48,\"\")","v":""},""]
[null,null,null,null,null,null,null,"Area iii",{"$f":"IF(COUNTIF($I$9:$I$38, \"Area iii\")<1,\"\",COUNTIF($I$9:$I$38, \"Area iii\"))","v":""},{"$f":"IF(I49=\"\",\"\",SUMIF($I$9:$I$38, \"Area iii\", $N$9:$N$38))","v":""},{"$f":"IF('Application info'!D28=\"\",\"\",'Application info'!D28)","v":""},"",""]
[null,null,null,null,null,null,null,"Area iv",{"$f":"IF(COUNTIF($I$9:$I$38, \"Area iv\")<1,\"\",COUNTIF($I$9:$I$38, \"Area iv\"))","v":""},{"$f":"IF(I50=\"\",\"\",SUMIF($I$9:$I$38, \"Area iv\", $N$9:$N$38))","v":""},{"$f":"IF('Application info'!D29=\"\",\"\",'Application info'!D29)","v":""},"",""]
[null,null,null,null,null,null,null,"Area v",{"$f":"IF(COUNTIF($I$9:$I$38, \"Area v\")<1,\"\",COUNTIF($I$9:$I$38, \"Area v\"))","v":""},{"$f":"IF(I51=\"\",\"\",SUMIF($I$9:$I$38, \"Area v\", $N$9:$N$38))","v":""},{"$f":"IF('Application info'!D30=\"\",\"\",'Application info'!D30)","v":""},"",""]
[null,null,null,null,null,null,null,"Area vi",{"$f":"IF(COUNTIF($I$9:$I$38, \"Area vi\")<1,\"\",COUNTIF($I$9:$I$38, \"Area vi\"))","v":""},{"$f":"IF(I52=\"\",\"\",SUMIF($I$9:$I$38, \"Area vi\", $N$9:$N$38))","v":""},{"$f":"IF('Application info'!D31=\"\",\"\",'Application info'!D31)","v":""},"",{"$f":"IF(L52=\"\",\"\",IF(L52>0.5,K52,0))","v":""}]
[]
[null,null,null,null,null,null,null,null,"Total exempt samples:",{"$f":"SUM(J47:J52)","v":0},null,"Total exempt tonnages:",{"$f":"SUM(M47:M52)","v":0}]

{"sheet":"Trace metal data","index":5,"n_rows":38,"n_cols":19,"rows_kept":38,"cut":false,"hidden":false,"merged":[[37,7,37,10],[5,11,5,18],[5,9,6,9],[5,7,6,7],[5,8,6,8],[5,10,6,10]]}
[]
[null,"Trace metal data"]
[]
[null,"Instructions:",null,null,null,null,null,"Determinand analysis outputs:"]
[null,"1. Record the laboratory/contractor responsible for trace metal analysis"]
[null,"2. Record the date the samples were analysed.",null,null,null,null,null,"Laboratory sample number","Dredge Area","Sample ID(s)","Total solids (%)","Metals as mg/kg dry weight"]
[null,"3. Enter full dataset for each sample in the analysis results table",null,null,null,null,null,null,null,null,null,"Arsenic (As)","Cadmium (Cd)","Chromium (Cr)","Copper (Cu)","Mercury (Hg)","Nickel (Ni)","Lead (Pb)","Zinc (Zn)"]
[null,"4. Trace metal analysis results should be reported in mg/kg (ppm) dry weight",null,null,null,null,null,"MAR02481.001",null,1,29.1,12.3,1.1000000000000001,136,49.7,0.3,34.200000000000003,310,352]
[null,"5. Enter methdological limit of detection for each trace metal prior to inputting raw data",null,null,null,null,null,"MAR02481.002",null,2,27.9,11.4,1.05,122,47.1,0.28999999999999998,34,280,333]
[null,"6. Where analysis outputs are less than the limits of detection please enter text \"<LOD\"",null,null,null,null,null,"MAR02481.003",null,3,31.7,13.1,0.92,93.6,55.8,0.41,35,238,313]
[null,"7. Where copying and pasting entries please use paste values only",null,null,null,null,null,"MAR02481.004",null,4,32.5,17.7,0.86,95.6,68.7,0.57999999999999996,35.200000000000003,227,297]
[null,"8. Where entering multiple Sample IDs please use the pop-up form",null,null,null,null,null,"MAR02481.005",null,5,46.4,16.399999999999999,0.77,79.7,85.9,0.56000000000000005,34.4,205,301]
[null,null,"IDs should be separated by a comma",null,null,null,null,"MAR02481.006",null,6,41.4,17.399999999999999,0.83,92,70.900000000000006,0.64,34.799999999999997,216,287]
[null,null,null,null,null,null,null,"MAR02481.007",null,7,37.1,17.3,0.56999999999999995,76.400000000000006,57.9,0.4,34.1,174,244]
[null,null,null,null,null,null,null,"MAR02481.008",null,8,46.6,15.7,0.57999999999999996,74,66,0.46,33.200000000000003,147,260]
[null,null,null,null,null,null,null,"MAR02481.009",null,9,60.8,11.7,0.24,46.1,48.7,0.19,36.1,56.8,126]
[null,"Analysis information:",null,null,null,null,null,"MAR02481.010",null,10,45.8,21.7,0.32,59,54.6,0.36,33.1,106,186]
[null,null,null,null,null,null,null,"MAR02481.011",null,11,47.8,24.9,0.81,81.2,91.8,0.79,35.4,169,302]
[null,null,"Laboratory/contractor:","SOCOTEC",null,null,null,"MAR02481.012",null,12,44.4,20.2,0.44,63.5,63.4,0.47,33.1,112,201]
[null,null,"Date of analysis:","2024-10-24",null,null,null,"MAR02481.013",null,13,49,19.600000000000001,0.45,55.5,58.7,0.4,31.8,102,202]
[null,null,null,null,null,null,null,"MAR02481.014",null,15,63.5,19.7,0.3,47.2,42,0.36,29.1,87.9,151]
[null,null,null,null,null,null,null,"MAR02481.015",null,17,48.9,26.4,0.14000000000000001,43.9,37.5,0.28999999999999998,28.4,89,136]
[null,null,null,null,null,null,null,"MAR02481.016",null,18,52.5,27.6,0.15,41.8,34.700000000000003,0.28000000000000003,28.3,88.4,133]
[null,null,"Dredge Areas",null,null,null,null,"MAR02481.017",null,19,48,27.9,0.14000000000000001,41.4,34.700000000000003,0.28999999999999998,27.9,79.900000000000006,130]
[null,null,{"$f":"'Application info'!$C$26","v":"Area i"},null,null,null,null,"MAR02481.018",null,20,51.6,30.9,0.14000000000000001,43.1,40,0.3,30.5,93.9,142]
[null,null,{"$f":"'Application info'!$C$27","v":"Area ii"},null,null,null,null,"MAR02481.019",null,21,55.8,22.4,0.19,48.2,44.8,0.3,30.6,97.4,163]
[null,null,{"$f":"'Application info'!$C$28","v":"Area iii"},null,null,null,null,"MAR02481.020",null,22,44,21,0.06,26.9,23.3,0.16,20.3,50.5,90.5]
[null,null,{"$f":"'Application info'!$C$29","v":"Area iv"},null,null,null,null,"MAR02481.021",null,23,58.8,19.8,"<LOD",17.2,15.3,0.09,15.2,40.5,69]
[null,null,{"$f":"'Application info'!$C$30","v":"Area v"},null,null,null,null,"MAR02481.022",null,24,66.099999999999994,22.1,0.35,60.7,56.2,0.37,34,116,189]
[null,null,{"$f":"'Application info'!$C$31","v":"Area vi"},null,null,null,null,"MAR02481.023",null,25,63.1,23.9,0.18,44.1,37.200000000000003,0.28999999999999998,29.5,76.5,134]
[]
[]
[]
[]
[]
[]
[]
[null,null,null,null,null,null,null,"Limits of detection (mg/kg dry weight):",null,null,null,0.5,0.04,0.5,0.5,0.01,0.5,0.5,2]

{"sheet":"Metals Calcs","index":6,"n_rows":151,"n_cols":19,"rows_kept":151,"cut":false,"hidden":true,"merged":[[46,7,47,7],[46,8,47,8],[46,9,47,9],[46,10,47,10],[46,11,46,18],[5,7,6,7],[5,8,6,8],[5,9,6,9],[5,10,6,10],[5,11,5,18],[148,11,148,18],[135,10,136,10],[135,11,135,18],[122,11,122,18],[84,7,85,7],[84,8,85,8],[84,9,85,9],[84,10,85,10],[84,11,84,18]]}
[]
[null,"Trace metal summary information"]
[]
[null,"Analysis information:",null,null,null,null,null,"determinand analysis outputs - adjusted for limits of detection:"]
[]
[null,null,"Applicant:",{"$f":"IF('Application info'!E16=\"\",\"\",'Application info'!E16)","v":"PD Ports"},null,null,null,"Laboratory sample number","Dredge Area","Excluded (y if yes)","Sample ID(s)","Metals as mg/kg dry weight "]
[null,null,"Application number:",{"$f":"IF('Application info'!E17=\"\",\"\",'Application info'!E17)","v":""},null,null,null,null,null,null,null,"Arsenic (As)","Cadmium (Cd)","Chromium (Cr)","Copper (Cu)","Mercury (Hg)","Nickel (Ni)","Lead (Pb)","Zinc (Zn)"]
[null,null,"Application title:",{"$f":"IF('Application info'!E18=\"\",\"\",'Application info'!E18)","v":"Mid licence sampling - year 9"},null,null,null,{"$f":"IF('Trace metal data'!H8=\"\",\"\",'Trace metal data'!H8)","v":"MAR02481.001"},{"$f":"IF('Trace metal data'!I8=\"\",\"\",'Trace metal data'!I8)","v":""},{"$f":"IFERROR(IF(K8=\"\",\"\",(IF(VLOOKUP(K8,'Application info'!$K$8:$L$37,2,0)=\"y\",\"y\",\"\"))),\"Manual entry required\")","v":""},{"$f":"IF('Trace metal data'!J8=\"\",\"\",'Trace metal data'!J8)","v":1},{"$f":"IF('Trace metal data'!L8=\"\",\"\",IF(ISNUMBER('Trace metal data'!L8)=TRUE, IF('Trace metal data'!L8<'Trace metal data'!L$38, \"ERROR\", 'Trace metal data'!L8), IF('Trace metal data'!L8=\"<LOD\",'Trace metal data'!L$38, \"ERROR\")))","v":12.3},{"$f":"IF('Trace metal data'!M8=\"\",\"\",IF(ISNUMBER('Trace metal data'!M8)=TRUE, IF('Trace metal data'!M8<'Trace metal data'!M$38, \"ERROR\", 'Trace metal data'!M8), IF('Trace metal data'!M8=\"<LOD\",'Trace metal data'!M$38, \"ERROR\")))","v":1.1000000000000001},{"$f":"IF('Trace metal data'!N8=\"\",\"\",IF(ISNUMBER('Trace metal data'!N8)=TRUE, IF('Trace metal data'!N8<'Trace metal data'!N$38, \"ERROR\", 'Trace metal data'!N8), IF('Trace metal data'!N8=\"<LOD\",'Trace metal data'!N$38, \"ERROR\")))","v":136},{"$f":"IF('Trace metal data'!O8=\"\",\"\",IF(ISNUMBER('Trace metal data'!O8)=TRUE, IF('Trace metal data'!O8<'Trace metal data'!O$38, \"ERROR\", 'Trace metal data'!O8), IF('Trace metal data'!O8=\"<LOD\",'Trace metal data'!O$38, \"ERROR\")))","v":49.7},{"$f":"IF('Trace metal data'!P8=\"\",\"\",IF(ISNUMBER('Trace metal data'!P8)=TRUE, IF('Trace metal data'!P8<'Trace metal data'!P$38, \"ERROR\", 'Trace metal data'!P8), IF('Trace metal data'!P8=\"<LOD\",'Trace metal data'!P$38, \"ERROR\")))","v":0.3},{"$f":"IF('Trace metal data'!Q8=\"\",\"\",IF(ISNUMBER('Trace metal data'!Q8)=TRUE, IF('Trace metal data'!Q8<'Trace metal data'!Q$38, \"ERROR\", 'Trace metal data'!Q8), IF('Trace metal data'!Q8=\"<LOD\",'Trace metal data'!Q$38, \"ERROR\")))","v":34.200000000000003},{"$f":"IF('Trace metal data'!R8=\"\",\"\",IF(ISNUMBER('Trace metal data'!R8)=TRUE, IF('Trace metal data'!R8<'Trace metal data'!R$38, \"ERROR\", 'Trace metal data'!R8), IF('Trace metal data'!R8=\"<LOD\",'Trace metal data'!R$38, \"ERROR\")))","v":310},{"$f":"IF('Trace metal data'!S8=\"\",\"\",IF(ISNUMBER('Trace metal data'!S8)=TRUE, IF('Trace metal data'!S8<'Trace metal data'!S$38, \"ERROR\", 'Trace metal data'!S8), IF('Trace metal data'!S8=\"<LOD\",'Trace metal data'!S$38, \"ERROR\")))","v":352}]
[null,null,"Date sampled:",{"$f":"IF('Application info'!E19=\"\",\"\",'Application info'!E19)","v":""},null,null,null,{"$f":"IF('Trace metal data'!H9=\"\",\"\",'Trace metal data'!H9)","v":"MAR02481.002"},{"$f":"IF('Trace metal data'!I9=\"\",\"\",'Trace metal data'!I9)","v":""},{"$f":"IFERROR(IF(K9=\"\",\"\",(IF(VLOOKUP(K9,'Application info'!$K$8:$L$37,2,0)=\"y\",\"y\",\"\"))),\"Manual entry required\")","v":""},{"$f":"IF('Trace metal data'!J9=\"\",\"\",'Trace metal data'!J9)","v":2},{"$f":"IF('Trace metal data'!L9=\"\",\"\",IF(ISNUMBER('Trace metal data'!L9)=TRUE, IF('Trace metal data'!L9<'Trace metal data'!L$38, \"ERROR\", 'Trace metal data'!L9), IF('Trace metal data'!L9=\"<LOD\",'Trace metal data'!L$38, \"ERROR\")))","v":11.4},{"$f":"IF('Trace metal data'!M9=\"\",\"\",IF(ISNUMBER('Trace metal data'!M9)=TRUE, IF('Trace metal data'!M9<'Trace metal data'!M$38, \"ERROR\", 'Trace metal data'!M9), IF('Trace metal data'!M9=\"<LOD\",'Trace metal data'!M$38, \"ERROR\")))","v":1.05},{"$f":"IF('Trace metal data'!N9=\"\",\"\",IF(ISNUMBER('Trace metal data'!N9)=TRUE, IF('Trace metal data'!N9<'Trace metal data'!N$38, \"ERROR\", 'Trace metal data'!N9), IF('Trace metal data'!N9=\"<LOD\",'Trace metal data'!N$38, \"ERROR\")))","v":122},{"$f":"IF('Trace metal data'!O9=\"\",\"\",IF(ISNUMBER('Trace metal data'!O9)=TRUE, IF('Trace metal data'!O9<'Trace metal data'!O$38, \"ERROR\", 'Trace metal data'!O9), IF('Trace metal data'!O9=\"<LOD\",'Trace metal data'!O$38, \"ERROR\")))","v":47.1},{"$f":"IF('Trace metal data'!P9=\"\",\"\",IF(ISNUMBER('Trace metal data'!P9)=TRUE, IF('Trace metal data'!P9<'Trace metal data'!P$38, \"ERROR\", 'Trace metal data'!P9), IF('Trace metal data'!P9=\"<LOD\",'Trace metal data'!P$38, \"ERROR\")))","v":0.28999999999999998},{"$f":"IF('Trace metal data'!Q9=\"\",\"\",IF(ISNUMBER('Trace metal data'!Q9)=TRUE, IF('Trace metal data'!Q9<'Trace metal data'!Q$38, \"ERROR\", 'Trace metal data'!Q9), IF('Trace metal data'!Q9=\"<LOD\",'Trace metal data'!Q$38, \"ERROR\")))","v":34},{"$f":"IF('Trace metal data'!R9=\"\",\"\",IF(ISNUMBER('Trace metal data'!R9)=TRUE, IF('Trace metal data'!R9<'Trace metal data'!R$38, \"ERROR\", 'Trace metal data'!R9), IF('Trace metal data'!R9=\"<LOD\",'Trace metal data'!R$38, \"ERROR\")))","v":280},{"$f":"IF('Trace metal data'!S9=\"\",\"\",IF(ISNUMBER('Trace metal data'!S9)=TRUE, IF('Trace metal data'!S9<'Trace metal data'!S$38, \"ERROR\", 'Trace metal data'!S9), IF('Trace metal data'!S9=\"<LOD\",'Trace metal data'!S$38, \"ERROR\")))","v":333}]
[null,null,"Sampling location:",{"$f":"IF('Application info'!E20=\"\",\"\",'Application info'!E20)","v":""},null,null,null,{"$f":"IF('Trace metal data'!H10=\"\",\"\",'Trace metal data'!H10)","v":"MAR02481.003"},{"$f":"IF('Trace metal data'!I10=\"\",\"\",'Trace metal data'!I10)","v":""},{"$f":"IFERROR(IF(K10=\"\",\"\",(IF(VLOOKUP(K10,'Application info'!$K$8:$L$37,2,0)=\"y\",\"y\",\"\"))),\"Manual entry required\")","v":""},{"$f":"IF('Trace metal data'!J10=\"\",\"\",'Trace metal data'!J10)","v":3},{"$f":"IF('Trace metal data'!L10=\"\",\"\",IF(ISNUMBER('Trace metal data'!L10)=TRUE, IF('Trace metal data'!L10<'Trace metal data'!L$38, \"ERROR\", 'Trace metal data'!L10), IF('Trace metal data'!L10=\"<LOD\",'Trace metal data'!L$38, \"ERROR\")))","v":13.1},{"$f":"IF('Trace metal data'!M10=\"\",\"\",IF(ISNUMBER('Trace metal data'!M10)=TRUE, IF('Trace metal data'!M10<'Trace metal data'!M$38, \"ERROR\", 'Trace metal data'!M10), IF('Trace metal data'!M10=\"<LOD\",'Trace metal data'!M$38, \"ERROR\")))","v":0.92},{"$f":"IF('Trace metal data'!N10=\"\",\"\",IF(ISNUMBER('Trace metal data'!N10)=TRUE, IF('Trace metal data'!N10<'Trace metal data'!N$38, \"ERROR\", 'Trace metal data'!N10), IF('Trace metal data'!N10=\"<LOD\",'Trace metal data'!N$38, \"ERROR\")))","v":93.6},{"$f":"IF('Trace metal data'!O10=\"\",\"\",IF(ISNUMBER('Trace metal data'!O10)=TRUE, IF('Trace metal data'!O10<'Trace metal data'!O$38, \"ERROR\", 'Trace metal data'!O10), IF('Trace metal data'!O10=\"<LOD\",'Trace metal data'!O$38, \"ERROR\")))","v":55.8},{"$f":"IF('Trace metal data'!P10=\"\",\"\",IF(ISNUMBER('Trace metal data'!P10)=TRUE, IF('Trace metal data'!P10<'Trace metal data'!P$38, \"ERROR\", 'Trace metal data'!P10), IF('Trace metal data'!P10=\"<LOD\",'Trace metal data'!P$38, \"ERROR\")))","v":0.41},{"$f":"IF('Trace metal data'!Q10=\"\",\"\",IF(ISNUMBER('Trace metal data'!Q10)=TRUE, IF('Trace metal data'!Q10<'Trace metal data'!Q$38, \"ERROR\", 'Trace metal data'!Q10), IF('Trace metal data'!Q10=\"<LOD\",'Trace metal data'!Q$38, \"ERROR\")))","v":35},{"$f":"IF('Trace metal data'!R10=\"\",\"\",IF(ISNUMBER('Trace metal data'!R10)=TRUE, IF('Trace metal data'!R10<'Trace metal data'!R$38, \"ERROR\", 'Trace metal data'!R10), IF('Trace metal data'!R10=\"<LOD\",'Trace metal data'!R$38, \"ERROR\")))","v":238},{"$f":"IF('Trace metal data'!S10=\"\",\"\",IF(ISNUMBER('Trace metal data'!S10)=TRUE, IF('Trace metal data'!S10<'Trace metal data'!S$38, \"ERROR\", 'Trace metal data'!S10), IF('Trace metal data'!S10=\"<LOD\",'Trace metal data'!S$38, \"ERROR\")))","v":313}]
[null,null,null,null,null,null,null,{"$f":"IF('Trace metal data'!H11=\"\",\"\",'Trace metal data'!H11)","v":"MAR02481.004"},{"$f":"IF('Trace metal data'!I11=\"\",\"\",'Trace metal data'!I11)","v":""},{"$f":"IFERROR(IF(K11=\"\",\"\",(IF(VLOOKUP(K11,'Application info'!$K$8:$L$37,2,0)=\"y\",\"y\",\"\"))),\"Manual entry required\")","v":""},{"$f":"IF('Trace metal data'!J11=\"\",\"\",'Trace metal data'!J11)","v":4},{"$f":"IF('Trace metal data'!L11=\"\",\"\",IF(ISNUMBER('Trace metal data'!L11)=TRUE, IF('Trace metal data'!L11<'Trace metal data'!L$38, \"ERROR\", 'Trace metal data'!L11), IF('Trace metal data'!L11=\"<LOD\",'Trace metal data'!L$38, \"ERROR\")))","v":17.7},{"$f":"IF('Trace metal data'!M11=\"\",\"\",IF(ISNUMBER('Trace metal data'!M11)=TRUE, IF('Trace metal data'!M11<'Trace metal data'!M$38, \"ERROR\", 'Trace metal data'!M11), IF('Trace metal data'!M11=\"<LOD\",'Trace metal data'!M$38, \"ERROR\")))","v":0.86},{"$f":"IF('Trace metal data'!N11=\"\",\"\",IF(ISNUMBER('Trace metal data'!N11)=TRUE, IF('Trace metal data'!N11<'Trace metal data'!N$38, \"ERROR\", 'Trace metal data'!N11), IF('Trace metal data'!N11=\"<LOD\",'Trace metal data'!N$38, \"ERROR\")))","v":95.6},{"$f":"IF('Trace metal data'!O11=\"\",\"\",IF(ISNUMBER('Trace metal data'!O11)=TRUE, IF('Trace metal data'!O11<'Trace metal data'!O$38, \"ERROR\", 'Trace metal data'!O11), IF('Trace metal data'!O11=\"<LOD\",'Trace metal data'!O$38, \"ERROR\")))","v":68.7},{"$f":"IF('Trace metal data'!P11=\"\",\"\",IF(ISNUMBER('Trace metal data'!P11)=TRUE, IF('Trace metal data'!P11<'Trace metal data'!P$38, \"ERROR\", 'Trace metal data'!P11), IF('Trace metal data'!P11=\"<LOD\",'Trace metal data'!P$38, \"ERROR\")))","v":0.57999999999999996},{"$f":"IF('Trace metal data'!Q11=\"\",\"\",IF(ISNUMBER('Trace metal data'!Q11)=TRUE, IF('Trace metal data'!Q11<'Trace metal data'!Q$38, \"ERROR\", 'Trace metal data'!Q11), IF('Trace metal data'!Q11=\"<LOD\",'Trace metal data'!Q$38, \"ERROR\")))","v":35.200000000000003},{"$f":"IF('Trace metal data'!R11=\"\",\"\",IF(ISNUMBER('Trace metal data'!R11)=TRUE, IF('Trace metal data'!R11<'Trace metal data'!R$38, \"ERROR\", 'Trace metal data'!R11), IF('Trace metal data'!R11=\"<LOD\",'Trace metal data'!R$38, \"ERROR\")))","v":227},{"$f":"IF('Trace metal data'!S11=\"\",\"\",IF(ISNUMBER('Trace metal data'!S11)=TRUE, IF('Trace metal data'!S11<'Trace metal data'!S$38, \"ERROR\", 'Trace metal data'!S11), IF('Trace metal data'!S11=\"<LOD\",'Trace metal data'!S$38, \"ERROR\")))","v":297}]
[null,null,"Laboratory/contractor:",{"$f":"IF('Trace metal data'!D19=\"\",\"\",'Trace metal data'!D19)","v":"SOCOTEC"},null,null,null,{"$f":"IF('Trace metal data'!H12=\"\",\"\",'Trace metal data'!H12)","v":"MAR02481.005"},{"$f":"IF('Trace metal data'!I12=\"\",\"\",'Trace metal data'!I12)","v":""},{"$f":"IFERROR(IF(K12=\"\",\"\",(IF(VLOOKUP(K12,'Application info'!$K$8:$L$37,2,0)=\"y\",\"y\",\"\"))),\"Manual entry required\")","v":""},{"$f":"IF('Trace metal data'!J12=\"\",\"\",'Trace metal data'!J12)","v":5},{"$f":"IF('Trace metal data'!L12=\"\",\"\",IF(ISNUMBER('Trace metal data'!L12)=TRUE, IF('Trace metal data'!L12<'Trace metal data'!L$38, \"ERROR\", 'Trace metal data'!L12), IF('Trace metal data'!L12=\"<LOD\",'Trace metal data'!L$38, \"ERROR\")))","v":16.399999999999999},{"$f":"IF('Trace metal data'!M12=\"\",\"\",IF(ISNUMBER('Trace metal data'!M12)=TRUE, IF('Trace metal data'!M12<'Trace metal data'!M$38, \"ERROR\", 'Trace metal data'!M12), IF('Trace metal data'!M12=\"<LOD\",'Trace metal data'!M$38, \"ERROR\")))","v":0.77},{"$f":"IF('Trace metal data'!N12=\"\",\"\",IF(ISNUMBER('Trace metal data'!N12)=TRUE, IF('Trace metal data'!N12<'Trace metal data'!N$38, \"ERROR\", 'Trace metal data'!N12), IF('Trace metal data'!N12=\"<LOD\",'Trace metal data'!N$38, \"ERROR\")))","v":79.7},{"$f":"IF('Trace metal data'!O12=\"\",\"\",IF(ISNUMBER('Trace metal data'!O12)=TRUE, IF('Trace metal data'!O12<'Trace metal data'!O$38, \"ERROR\", 'Trace metal data'!O12), IF('Trace metal data'!O12=\"<LOD\",'Trace metal data'!O$38, \"ERROR\")))","v":85.9},{"$f":"IF('Trace metal data'!P12=\"\",\"\",IF(ISNUMBER('Trace metal data'!P12)=TRUE, IF('Trace metal data'!P12<'Trace metal data'!P$38, \"ERROR\", 'Trace metal data'!P12), IF('Trace metal data'!P12=\"<LOD\",'Trace metal data'!P$38, \"ERROR\")))","v":0.56000000000000005},{"$f":"IF('Trace metal data'!Q12=\"\",\"\",IF(ISNUMBER('Trace metal data'!Q12)=TRUE, IF('Trace metal data'!Q12<'Trace metal data'!Q$38, \"ERROR\", 'Trace metal data'!Q12), IF('Trace metal data'!Q12=\"<LOD\",'Trace metal data'!Q$38, \"ERROR\")))","v":34.4},{"$f":"IF('Trace metal data'!R12=\"\",\"\",IF(ISNUMBER('Trace metal data'!R12)=TRUE, IF('Trace metal data'!R12<'Trace metal data'!R$38, \"ERROR\", 'Trace metal data'!R12), IF('Trace metal data'!R12=\"<LOD\",'Trace metal data'!R$38, \"ERROR\")))","v":205},{"$f":"IF('Trace metal data'!S12=\"\",\"\",IF(ISNUMBER('Trace metal data'!S12)=TRUE, IF('Trace metal data'!S12<'Trace metal data'!S$38, \"ERROR\", 'Trace metal data'!S12), IF('Trace metal data'!S12=\"<LOD\",'Trace metal data'!S$38, \"ERROR\")))","v":301}]
[null,null,"Date of analysis:",{"$f":"IF('Trace metal data'!D20=\"\",\"\",'Trace metal data'!D20)","v":"2024-10-24"},null,null,null,{"$f":"IF('Trace metal data'!H13=\"\",\"\",'Trace metal data'!H13)","v":"MAR02481.006"},{"$f":"IF('Trace metal data'!I13=\"\",\"\",'Trace metal data'!I13)","v":""},{"$f":"IFERROR(IF(K13=\"\",\"\",(IF(VLOOKUP(K13,'Application info'!$K$8:$L$37,2,0)=\"y\",\"y\",\"\"))),\"Manual entry required\")","v":""},{"$f":"IF('Trace metal data'!J13=\"\",\"\",'Trace metal data'!J13)","v":6},{"$f":"IF('Trace metal data'!L13=\"\",\"\",IF(ISNUMBER('Trace metal data'!L13)=TRUE, IF('Trace metal data'!L13<'Trace metal data'!L$38, \"ERROR\", 'Trace metal data'!L13), IF('Trace metal data'!L13=\"<LOD\",'Trace metal data'!L$38, \"ERROR\")))","v":17.399999999999999},{"$f":"IF('Trace metal data'!M13=\"\",\"\",IF(ISNUMBER('Trace metal data'!M13)=TRUE, IF('Trace metal data'!M13<'Trace metal data'!M$38, \"ERROR\", 'Trace metal data'!M13), IF('Trace metal data'!M13=\"<LOD\",'Trace metal data'!M$38, \"ERROR\")))","v":0.83},{"$f":"IF('Trace metal data'!N13=\"\",\"\",IF(ISNUMBER('Trace metal data'!N13)=TRUE, IF('Trace metal data'!N13<'Trace metal data'!N$38, \"ERROR\", 'Trace metal data'!N13), IF('Trace metal data'!N13=\"<LOD\",'Trace metal data'!N$38, \"ERROR\")))","v":92},{"$f":"IF('Trace metal data'!O13=\"\",\"\",IF(ISNUMBER('Trace metal data'!O13)=TRUE, IF('Trace metal data'!O13<'Trace metal data'!O$38, \"ERROR\", 'Trace metal data'!O13), IF('Trace metal data'!O13=\"<LOD\",'Trace metal data'!O$38, \"ERROR\")))","v":70.900000000000006},{"$f":"IF('Trace metal data'!P13=\"\",\"\",IF(ISNUMBER('Trace metal data'!P13)=TRUE, IF('Trace metal data'!P13<'Trace metal data'!P$38, \"ERROR\", 'Trace metal data'!P13), IF('Trace metal data'!P13=\"<LOD\",'Trace metal data'!P$38, \"ERROR\")))","v":0.64},{"$f":"IF('Trace metal data'!Q13=\"\",\"\",IF(ISNUMBER('Trace metal data'!Q13)=TRUE, IF('Trace metal data'!Q13<'Trace metal data'!Q$38, \"ERROR\", 'Trace metal data'!Q13), IF('Trace metal data'!Q13=\"<LOD\",'Trace metal data'!Q$38, \"ERROR\")))","v":34.799999999999997},{"$f":"IF('Trace metal data'!R13=\"\",\"\",IF(ISNUMBER('Trace metal data'!R13)=TRUE, IF('Trace metal data'!R13<'Trace metal data'!R$38, \"ERROR\", 'Trace metal data'!R13), IF('Trace metal data'!R13=\"<LOD\",'Trace metal data'!R$38, \"ERROR\")))","v":216},{"$f":"IF('Trace metal data'!S13=\"\",\"\",IF(ISNUMBER('Trace metal data'!S13)=TRUE, IF('Trace metal data'!S13<'Trace metal data'!S$38, \"ERROR\", 'Trace metal data'!S13), IF('Trace metal data'!S13=\"<LOD\",'Trace metal data'!S$38, \"ERROR\")))","v":287}]
[null,null,null,null,null,null,null,{"$f":"IF('Trace metal data'!H14=\"\",\"\",'Trace metal data'!H14)","v":"MAR02481.007"},{"$f":"IF('Trace metal data'!I14=\"\",\"\",'Trace metal data'!I14)","v":""},{"$f":"IFERROR(IF(K14=\"\",\"\",(IF(VLOOKUP(K14,'Application info'!$K$8:$L$37,2,0)=\"y\",\"y\",\"\"))),\"Manual entry required\")","v":""},{"$f":"IF('Trace metal data'!J14=\"\",\"\",'Trace metal data'!J14)","v":7},{"$f":"IF('Trace metal data'!L14=\"\",\"\",IF(ISNUMBER('Trace metal data'!L14)=TRUE, IF('Trace metal data'!L14<'Trace metal data'!L$38, \"ERROR\", 'Trace metal data'!L14), IF('Trace metal data'!L14=\"<LOD\",'Trace metal data'!L$38, \"ERROR\")))","v":17.3},{"$f":"IF('Trace metal data'!M14=\"\",\"\",IF(ISNUMBER('Trace metal data'!M14)=TRUE, IF('Trace metal data'!M14<'Trace metal data'!M$38, \"ERROR\", 'Trace metal data'!M14), IF('Trace metal data'!M14=\"<LOD\",'Trace metal data'!M$38, \"ERROR\")))","v":0.56999999999999995},{"$f":"IF('Trace metal data'!N14=\"\",\"\",IF(ISNUMBER('Trace metal data'!N14)=TRUE, IF('Trace metal data'!N14<'Trace metal data'!N$38, \"ERROR\", 'Trace metal data'!N14), IF('Trace metal data'!N14=\"<LOD\",'Trace metal data'!N$38, \"ERROR\")))","v":76.400000000000006},{"$f":"IF('Trace metal data'!O14=\"\",\"\",IF(ISNUMBER('Trace metal data'!O14)=TRUE, IF('Trace metal data'!O14<'Trace metal data'!O$38, \"ERROR\", 'Trace metal data'!O14), IF('Trace metal data'!O14=\"<LOD\",'Trace metal data'!O$38, \"ERROR\")))","v":57.9},{"$f":"IF('Trace metal data'!P14=\"\",\"\",IF(ISNUMBER('Trace metal data'!P14)=TRUE, IF('Trace metal data'!P14<'Trace metal data'!P$38, \"ERROR\", 'Trace metal data'!P14), IF('Trace metal data'!P14=\"<LOD\",'Trace metal data'!P$38, \"ERROR\")))","v":0.4},{"$f":"IF('Trace metal data'!Q14=\"\",\"\",IF(ISNUMBER('Trace metal data'!Q14)=TRUE, IF('Trace metal data'!Q14<'Trace metal data'!Q$38, \"ERROR\", 'Trace metal data'!Q14), IF('Trace metal data'!Q14=\"<LOD\",'Trace metal data'!Q$38, \"ERROR\")))","v":34.1},{"$f":"IF('Trace metal data'!R14=\"\",\"\",IF(ISNUMBER('Trace metal data'!R14)=TRUE, IF('Trace metal data'!R14<'Trace metal data'!R$38, \"ERROR\", 'Trace metal data'!R14), IF('Trace metal data'!R14=\"<LOD\",'Trace metal data'!R$38, \"ERROR\")))","v":174},{"$f":"IF('Trace metal data'!S14=\"\",\"\",IF(ISNUMBER('Trace metal data'!S14)=TRUE, IF('Trace metal data'!S14<'Trace metal data'!S$38, \"ERROR\", 'Trace metal data'!S14), IF('Trace metal data'!S14=\"<LOD\",'Trace metal data'!S$38, \"ERROR\")))","v":244}]
[null,null,null,null,null,null,null,{"$f":"IF('Trace metal data'!H15=\"\",\"\",'Trace metal data'!H15)","v":"MAR02481.008"},{"$f":"IF('Trace metal data'!I15=\"\",\"\",'Trace metal data'!I15)","v":""},{"$f":"IFERROR(IF(K15=\"\",\"\",(IF(VLOOKUP(K15,'Application info'!$K$8:$L$37,2,0)=\"y\",\"y\",\"\"))),\"Manual entry required\")","v":""},{"$f":"IF('Trace metal data'!J15=\"\",\"\",'Trace metal data'!J15)","v":8},{"$f":"IF('Trace metal data'!L15=\"\",\"\",IF(ISNUMBER('Trace metal data'!L15)=TRUE, IF('Trace metal data'!L15<'Trace metal data'!L$38, \"ERROR\", 'Trace metal data'!L15), IF('Trace metal data'!L15=\"<LOD\",'Trace metal data'!L$38, \"ERROR\")))","v":15.7},{"$f":"IF('Trace metal data'!M15=\"\",\"\",IF(ISNUMBER('Trace metal data'!M15)=TRUE, IF('Trace metal data'!M15<'Trace metal data'!M$38, \"ERROR\", 'Trace metal data'!M15), IF('Trace metal data'!M15=\"<LOD\",'Trace metal data'!M$38, \"ERROR\")))","v":0.57999999999999996},{"$f":"IF('Trace metal data'!N15=\"\",\"\",IF(ISNUMBER('Trace metal data'!N15)=TRUE, IF('Trace metal data'!N15<'Trace metal data'!N$38, \"ERROR\", 'Trace metal data'!N15), IF('Trace metal data'!N15=\"<LOD\",'Trace metal data'!N$38, \"ERROR\")))","v":74},{"$f":"IF('Trace metal data'!O15=\"\",\"\",IF(ISNUMBER('Trace metal data'!O15)=TRUE, IF('Trace metal data'!O15<'Trace metal data'!O$38, \"ERROR\", 'Trace metal data'!O15), IF('Trace metal data'!O15=\"<LOD\",'Trace metal data'!O$38, \"ERROR\")))","v":66},{"$f":"IF('Trace metal data'!P15=\"\",\"\",IF(ISNUMBER('Trace metal data'!P15)=TRUE, IF('Trace metal data'!P15<'Trace metal data'!P$38, \"ERROR\", 'Trace metal data'!P15), IF('Trace metal data'!P15=\"<LOD\",'Trace metal data'!P$38, \"ERROR\")))","v":0.46},{"$f":"IF('Trace metal data'!Q15=\"\",\"\",IF(ISNUMBER('Trace metal data'!Q15)=TRUE, IF('Trace metal data'!Q15<'Trace metal data'!Q$38, \"ERROR\", 'Trace metal data'!Q15), IF('Trace metal data'!Q15=\"<LOD\",'Trace metal data'!Q$38, \"ERROR\")))","v":33.200000000000003},{"$f":"IF('Trace metal data'!R15=\"\",\"\",IF(ISNUMBER('Trace metal data'!R15)=TRUE, IF('Trace metal data'!R15<'Trace metal data'!R$38, \"ERROR\", 'Trace metal data'!R15), IF('Trace metal data'!R15=\"<LOD\",'Trace metal data'!R$38, \"ERROR\")))","v":147},{"$f":"IF('Trace metal data'!S15=\"\",\"\",IF(ISNUMBER('Trace metal data'!S15)=TRUE, IF('Trace metal data'!S15<'Trace metal data'!S$38, \"ERROR\", 'Trace metal data'!S15), IF('Trace metal data'!S15=\"<LOD\",'Trace metal data'!S$38, \"ERROR\")))","v":260}]
[null,null,null,null,null,null,null,{"$f":"IF('Trace metal data'!H16=\"\",\"\",'Trace metal data'!H16)","v":"MAR02481.009"},{"$f":"IF('Trace metal data'!I16=\"\",\"\",'Trace metal data'!I16)","v":""},{"$f":"IFERROR(IF(K16=\"\",\"\",(IF(VLOOKUP(K16,'Application info'!$K$8:$L$37,2,0)=\"y\",\"y\",\"\"))),\"Manual entry required\")","v":""},{"$f":"IF('Trace metal data'!J16=\"\",\"\",'Trace metal data'!J16)","v":9},{"$f":"IF('Trace metal data'!L16=\"\",\"\",IF(ISNUMBER('Trace metal data'!L16)=TRUE, IF('Trace metal data'!L16<'Trace metal data'!L$38, \"ERROR\", 'Trace metal data'!L16), IF('Trace metal data'!L16=\"<LOD\",'Trace metal data'!L$38, \"ERROR\")))","v":11.7},{"$f":"IF('Trace metal data'!M16=\"\",\"\",IF(ISNUMBER('Trace metal data'!M16)=TRUE, IF('Trace metal data'!M16<'Trace metal data'!M$38, \"ERROR\", 'Trace metal data'!M16), IF('Trace metal data'!M16=\"<LOD\",'Trace metal data'!M$38, \"ERROR\")))","v":0.24},{"$f":"IF('Trace metal data'!N16=\"\",\"\",IF(ISNUMBER('Trace metal data'!N16)=TRUE, IF('Trace metal data'!N16<'Trace metal data'!N$38, \"ERROR\", 'Trace metal data'!N16), IF('Trace metal data'!N16=\"<LOD\",'Trace metal data'!N$38, \"ERROR\")))","v":46.1},{"$f":"IF('Trace metal data'!O16=\"\",\"\",IF(ISNUMBER('Trace metal data'!O16)=TRUE, IF('Trace metal data'!O16<'Trace metal data'!O$38, \"ERROR\", 'Trace metal data'!O16), IF('Trace metal data'!O16=\"<LOD\",'Trace metal data'!O$38, \"ERROR\")))","v":48.7},{"$f":"IF('Trace metal data'!P16=\"\",\"\",IF(ISNUMBER('Trace metal data'!P16)=TRUE, IF('Trace metal data'!P16<'Trace metal data'!P$38, \"ERROR\", 'Trace metal data'!P16), IF('Trace metal data'!P16=\"<LOD\",'Trace metal data'!P$38, \"ERROR\")))","v":0.19},{"$f":"IF('Trace metal data'!Q16=\"\",\"\",IF(ISNUMBER('Trace metal data'!Q16)=TRUE, IF('Trace metal data'!Q16<'Trace metal data'!Q$38, \"ERROR\", 'Trace metal data'!Q16), IF('Trace metal data'!Q16=\"<LOD\",'Trace metal data'!Q$38, \"ERROR\")))","v":36.1},{"$f":"IF('Trace metal data'!R16=\"\",\"\",IF(ISNUMBER('Trace metal data'!R16)=TRUE, IF('Trace metal data'!R16<'Trace metal data'!R$38, \"ERROR\", 'Trace metal data'!R16), IF('Trace metal data'!R16=\"<LOD\",'Trace metal data'!R$38, \"ERROR\")))","v":56.8},{"$f":"IF('Trace metal data'!S16=\"\",\"\",IF(ISNUMBER('Trace metal data'!S16)=TRUE, IF('Trace metal data'!S16<'Trace metal data'!S$38, \"ERROR\", 'Trace metal data'!S16), IF('Trace metal data'!S16=\"<LOD\",'Trace metal data'!S$38, \"ERROR\")))","v":126}]
[null,null,null,null,null,null,null,{"$f":"IF('Trace metal data'!H17=\"\",\"\",'Trace metal data'!H17)","v":"MAR02481.010"},{"$f":"IF('Trace metal data'!I17=\"\",\"\",'Trace metal data'!I17)","v":""},{"$f":"IFERROR(IF(K17=\"\",\"\",(IF(VLOOKUP(K17,'Application info'!$K$8:$L$37,2,0)=\"y\",\"y\",\"\"))),\"Manual entry required\")","v":""},{"$f":"IF('Trace metal data'!J17=\"\",\"\",'Trace metal data'!J17)","v":10},{"$f":"IF('Trace metal data'!L17=\"\",\"\",IF(ISNUMBER('Trace metal data'!L17)=TRUE, IF('Trace metal data'!L17<'Trace metal data'!L$38, \"ERROR\", 'Trace metal data'!L17), IF('Trace metal data'!L17=\"<LOD\",'Trace metal data'!L$38, \"ERROR\")))","v":21.7},{"$f":"IF('Trace metal data'!M17=\"\",\"\",IF(ISNUMBER('Trace metal data'!M17)=TRUE, IF('Trace metal data'!M17<'Trace metal data'!M$38, \"ERROR\", 'Trace metal data'!M17), IF('Trace metal data'!M17=\"<LOD\",'Trace metal data'!M$38, \"ERROR\")))","v":0.32},{"$f":"IF('Trace metal data'!N17=\"\",\"\",IF(ISNUMBER('Trace metal data'!N17)=TRUE, IF('Trace metal data'!N17<'Trace metal data'!N$38, \"ERROR\", 'Trace metal data'!N17), IF('Trace metal data'!N17=\"<LOD\",'Trace metal data'!N$38, \"ERROR\")))","v":59},{"$f":"IF('Trace metal data'!O17=\"\",\"\",IF(ISNUMBER('Trace metal data'!O17)=TRUE, IF('Trace metal data'!O17<'Trace metal data'!O$38, \"ERROR\", 'Trace metal data'!O17), IF('Trace metal data'!O17=\"<LOD\",'Trace metal data'!O$38, \"ERROR\")))","v":54.6},{"$f":"IF('Trace metal data'!P17=\"\",\"\",IF(ISNUMBER('Trace metal data'!P17)=TRUE, IF('Trace metal data'!P17<'Trace metal data'!P$38, \"ERROR\", 'Trace metal data'!P17), IF('Trace metal data'!P17=\"<LOD\",'Trace metal data'!P$38, \"ERROR\")))","v":0.36},{"$f":"IF('Trace metal data'!Q17=\"\",\"\",IF(ISNUMBER('Trace metal data'!Q17)=TRUE, IF('Trace metal data'!Q17<'Trace metal data'!Q$38, \"ERROR\", 'Trace metal data'!Q17), IF('Trace metal data'!Q17=\"<LOD\",'Trace metal data'!Q$38, \"ERROR\")))","v":33.1},{"$f":"IF('Trace metal data'!R17=\"\",\"\",IF(ISNUMBER('Trace metal data'!R17)=TRUE, IF('Trace metal data'!R17<'Trace metal data'!R$38, \"ERROR\", 'Trace metal data'!R17), IF('Trace metal data'!R17=\"<LOD\",'Trace metal data'!R$38, \"ERROR\")))","v":106},{"$f":"IF('Trace metal data'!S17=\"\",\"\",IF(ISNUMBER('Trace metal data'!S17)=TRUE, IF('Trace metal data'!S17<'Trace metal data'!S$38, \"ERROR\", 'Trace metal data'!S17), IF('Trace metal data'!S17=\"<LOD\",'Trace metal data'!S$38, \"ERROR\")))","v":186}]
[null,null,null,null,null,null,null,{"$f":"IF('Trace metal data'!H18=\"\",\"\",'Trace metal data'!H18)","v":"MAR02481.011"},{"$f":"IF('Trace metal data'!I18=\"\",\"\",'Trace metal data'!I18)","v":""},{"$f":"IFERROR(IF(K18=\"\",\"\",(IF(VLOOKUP(K18,'Application info'!$K$8:$L$37,2,0)=\"y\",\"y\",\"\"))),\"Manual entry required\")","v":""},{"$f":"IF('Trace metal data'!J18=\"\",\"\",'Trace metal data'!J18)","v":11},{"$f":"IF('Trace metal data'!L18=\"\",\"\",IF(ISNUMBER('Trace metal data'!L18)=TRUE, IF('Trace metal data'!L18<'Trace metal data'!L$38, \"ERROR\", 'Trace metal data'!L18), IF('Trace metal data'!L18=\"<LOD\",'Trace metal data'!L$38, \"ERROR\")))","v":24.9},{"$f":"IF('Trace metal data'!M18=\"\",\"\",IF(ISNUMBER('Trace metal data'!M18)=TRUE, IF('Trace metal data'!M18<'Trace metal data'!M$38, \"ERROR\", 'Trace metal data'!M18), IF('Trace metal data'!M18=\"<LOD\",'Trace metal data'!M$38, \"ERROR\")))","v":0.81},{"$f":"IF('Trace metal data'!N18=\"\",\"\",IF(ISNUMBER('Trace metal data'!N18)=TRUE, IF('Trace metal data'!N18<'Trace metal data'!N$38, \"ERROR\", 'Trace metal data'!N18), IF('Trace metal data'!N18=\"<LOD\",'Trace metal data'!N$38, \"ERROR\")))","v":81.2},{"$f":"IF('Trace metal data'!O18=\"\",\"\",IF(ISNUMBER('Trace metal data'!O18)=TRUE, IF('Trace metal data'!O18<'Trace metal data'!O$38, \"ERROR\", 'Trace metal data'!O18), IF('Trace metal data'!O18=\"<LOD\",'Trace metal data'!O$38, \"ERROR\")))","v":91.8},{"$f":"IF('Trace metal data'!P18=\"\",\"\",IF(ISNUMBER('Trace metal data'!P18)=TRUE, IF('Trace metal data'!P18<'Trace metal data'!P$38, \"ERROR\", 'Trace metal data'!P18), IF('Trace metal data'!P18=\"<LOD\",'Trace metal data'!P$38, \"ERROR\")))","v":0.79},{"$f":"IF('Trace metal data'!Q18=\"\",\"\",IF(ISNUMBER('Trace metal data'!Q18)=TRUE, IF('Trace metal data'!Q18<'Trace metal data'!Q$38, \"ERROR\", 'Trace metal data'!Q18), IF('Trace metal data'!Q18=\"<LOD\",'Trace metal data'!Q$38, \"ERROR\")))","v":35.4},{"$f":"IF('Trace metal data'!R18=\"\",\"\",IF(ISNUMBER('Trace metal data'!R18)=TRUE, IF('Trace metal data'!R18<'Trace metal data'!R$38, \"ERROR\", 'Trace metal data'!R18), IF('Trace metal data'!R18=\"<LOD\",'Trace metal data'!R$38, \"ERROR\")))","v":169},{"$f":"IF('Trace metal data'!S18=\"\",\"\",IF(ISNUMBER('Trace metal data'!S18)=TRUE, IF('Trace metal data'!S18<'Trace metal data'!S$38, \"ERROR\", 'Trace metal data'!S18), IF('Trace metal data'!S18=\"<LOD\",'Trace metal data'!S$38, \"ERROR\")))","v":302}]
[null,null,null,null,null,null,null,{"$f":"IF('Trace metal data'!H19=\"\",\"\",'Trace metal data'!H19)","v":"MAR02481.012"},{"$f":"IF('Trace metal data'!I19=\"\",\"\",'Trace metal data'!I19)","v":""},{"$f":"IFERROR(IF(K19=\"\",\"\",(IF(VLOOKUP(K19,'Application info'!$K$8:$L$37,2,0)=\"y\",\"y\",\"\"))),\"Manual entry required\")","v":""},{"$f":"IF('Trace metal data'!J19=\"\",\"\",'Trace metal data'!J19)","v":12},{"$f":"IF('Trace metal data'!L19=\"\",\"\",IF(ISNUMBER('Trace metal data'!L19)=TRUE, IF('Trace metal data'!L19<'Trace metal data'!L$38, \"ERROR\", 'Trace metal data'!L19), IF('Trace metal data'!L19=\"<LOD\",'Trace metal data'!L$38, \"ERROR\")))","v":20.2},{"$f":"IF('Trace metal data'!M19=\"\",\"\",IF(ISNUMBER('Trace metal data'!M19)=TRUE, IF('Trace metal data'!M19<'Trace metal data'!M$38, \"ERROR\", 'Trace metal data'!M19), IF('Trace metal data'!M19=\"<LOD\",'Trace metal data'!M$38, \"ERROR\")))","v":0.44},{"$f":"IF('Trace metal data'!N19=\"\",\"\",IF(ISNUMBER('Trace metal data'!N19)=TRUE, IF('Trace metal data'!N19<'Trace metal data'!N$38, \"ERROR\", 'Trace metal data'!N19), IF('Trace metal data'!N19=\"<LOD\",'Trace metal data'!N$38, \"ERROR\")))","v":63.5},{"$f":"IF('Trace metal data'!O19=\"\",\"\",IF(ISNUMBER('Trace metal data'!O19)=TRUE, IF('Trace metal data'!O19<'Trace metal data'!O$38, \"ERROR\", 'Trace metal data'!O19), IF('Trace metal data'!O19=\"<LOD\",'Trace metal data'!O$38, \"ERROR\")))","v":63.4},{"$f":"IF('Trace metal data'!P19=\"\",\"\",IF(ISNUMBER('Trace metal data'!P19)=TRUE, IF('Trace metal data'!P19<'Trace metal data'!P$38, \"ERROR\", 'Trace metal data'!P19), IF('Trace metal data'!P19=\"<LOD\",'Trace metal data'!P$38, \"ERROR\")))","v":0.47},{"$f":"IF('Trace metal data'!Q19=\"\",\"\",IF(ISNUMBER('Trace metal data'!Q19)=TRUE, IF('Trace metal data'!Q19<'Trace metal data'!Q$38, \"ERROR\", 'Trace metal data'!Q19), IF('Trace metal data'!Q19=\"<LOD\",'Trace metal data'!Q$38, \"ERROR\")))","v":33.1},{"$f":"IF('Trace metal data'!R19=\"\",\"\",IF(ISNUMBER('Trace metal data'!R19)=TRUE, IF('Trace metal data'!R19<'Trace metal data'!R$38, \"ERROR\", 'Trace metal data'!R19), IF('Trace metal data'!R19=\"<LOD\",'Trace metal data'!R$38, \"ERROR\")))","v":112},{"$f":"IF('Trace metal data'!S19=\"\",\"\",IF(ISNUMBER('Trace metal data'!S19)=TRUE, IF('Trace metal data'!S19<'Trace metal data'!S$38, \"ERROR\", 'Trace metal data'!S19), IF('Trace metal data'!S19=\"<LOD\",'Trace metal data'!S$38, \"ERROR\")))","v":201}]
[null,null,null,null,null,null,null,{"$f":"IF('Trace metal data'!H20=\"\",\"\",'Trace metal data'!H20)","v":"MAR02481.013"},{"$f":"IF('Trace metal data'!I20=\"\",\"\",'Trace metal data'!I20)","v":""},{"$f":"IFERROR(IF(K20=\"\",\"\",(IF(VLOOKUP(K20,'Application info'!$K$8:$L$37,2,0)=\"y\",\"y\",\"\"))),\"Manual entry required\")","v":""},{"$f":"IF('Trace metal data'!J20=\"\",\"\",'Trace metal data'!J20)","v":13},{"$f":"IF('Trace metal data'!L20=\"\",\"\",IF(ISNUMBER('Trace metal data'!L20)=TRUE, IF('Trace metal data'!L20<'Trace metal data'!L$38, \"ERROR\", 'Trace metal data'!L20), IF('Trace metal data'!L20=\"<LOD\",'Trace metal data'!L$38, \"ERROR\")))","v":19.600000000000001},{"$f":"IF('Trace metal data'!M20=\"\",\"\",IF(ISNUMBER('Trace metal data'!M20)=TRUE, IF('Trace metal data'!M20<'Trace metal data'!M$38, \"ERROR\", 'Trace metal data'!M20), IF('Trace metal data'!M20=\"<LOD\",'Trace metal data'!M$38, \"ERROR\")))","v":0.45},{"$f":"IF('Trace metal data'!N20=\"\",\"\",IF(ISNUMBER('Trace metal data'!N20)=TRUE, IF('Trace metal data'!N20<'Trace metal data'!N$38, \"ERROR\", 'Trace metal data'!N20), IF('Trace metal data'!N20=\"<LOD\",'Trace metal data'!N$38, \"ERROR\")))","v":55.5},{"$f":"IF('Trace metal data'!O20=\"\",\"\",IF(ISNUMBER('Trace metal data'!O20)=TRUE, IF('Trace metal data'!O20<'Trace metal data'!O$38, \"ERROR\", 'Trace metal data'!O20), IF('Trace metal data'!O20=\"<LOD\",'Trace metal data'!O$38, \"ERROR\")))","v":58.7},{"$f":"IF('Trace metal data'!P20=\"\",\"\",IF(ISNUMBER('Trace metal data'!P20)=TRUE, IF('Trace metal data'!P20<'Trace metal data'!P$38, \"ERROR\", 'Trace metal data'!P20), IF('Trace metal data'!P20=\"<LOD\",'Trace metal data'!P$38, \"ERROR\")))","v":0.4},{"$f":"IF('Trace metal data'!Q20=\"\",\"\",IF(ISNUMBER('Trace metal data'!Q20)=TRUE, IF('Trace metal data'!Q20<'Trace metal data'!Q$38, \"ERROR\", 'Trace metal data'!Q20), IF('Trace metal data'!Q20=\"<LOD\",'Trace metal data'!Q$38, \"ERROR\")))","v":31.8},{"$f":"IF('Trace metal data'!R20=\"\",\"\",IF(ISNUMBER('Trace metal data'!R20)=TRUE, IF('Trace metal data'!R20<'Trace metal data'!R$38, \"ERROR\", 'Trace metal data'!R20), IF('Trace metal data'!R20=\"<LOD\",'Trace metal data'!R$38, \"ERROR\")))","v":102},{"$f":"IF('Trace metal data'!S20=\"\",\"\",IF(ISNUMBER('Trace metal data'!S20)=TRUE, IF('Trace metal data'!S20<'Trace metal data'!S$38, \"ERROR\", 'Trace metal data'!S20), IF('Trace metal data'!S20=\"<LOD\",'Trace metal data'!S$38, \"ERROR\")))","v":202}]
[null,null,null,null,null,null,null,{"$f":"IF('Trace metal data'!H21=\"\",\"\",'Trace metal data'!H21)","v":"MAR02481.014"},{"$f":"IF('Trace metal data'!I21=\"\",\"\",'Trace metal data'!I21)","v":""},{"$f":"IFERROR(IF(K21=\"\",\"\",(IF(VLOOKUP(K21,'Application info'!$K$8:$L$37,2,0)=\"y\",\"y\",\"\"))),\"Manual entry required\")","v":""},{"$f":"IF('Trace metal data'!J21=\"\",\"\",'Trace metal data'!J21)","v":15},{"$f":"IF('Trace metal data'!L21=\"\",\"\",IF(ISNUMBER('Trace metal data'!L21)=TRUE, IF('Trace metal data'!L21<'Trace metal data'!L$38, \"ERROR\", 'Trace metal data'!L21), IF('Trace metal data'!L21=\"<LOD\",'Trace metal data'!L$38, \"ERROR\")))","v":19.7},{"$f":"IF('Trace metal data'!M21=\"\",\"\",IF(ISNUMBER('Trace metal data'!M21)=TRUE, IF('Trace metal data'!M21<'Trace metal data'!M$38, \"ERROR\", 'Trace metal data'!M21), IF('Trace metal data'!M21=\"<LOD\",'Trace metal data'!M$38, \"ERROR\")))","v":0.3},{"$f":"IF('Trace metal data'!N21=\"\",\"\",IF(ISNUMBER('Trace metal data'!N21)=TRUE, IF('Trace metal data'!N21<'Trace metal data'!N$38, \"ERROR\", 'Trace metal data'!N21), IF('Trace metal data'!N21=\"<LOD\",'Trace metal data'!N$38, \"ERROR\")))","v":47.2},{"$f":"IF('Trace metal data'!O21=\"\",\"\",IF(ISNUMBER('Trace metal data'!O21)=TRUE, IF('Trace metal data'!O21<'Trace metal data'!O$38, \"ERROR\", 'Trace metal data'!O21), IF('Trace metal data'!O21=\"<LOD\",'Trace metal data'!O$38, \"ERROR\")))","v":42},{"$f":"IF('Trace metal data'!P21=\"\",\"\",IF(ISNUMBER('Trace metal data'!P21)=TRUE, IF('Trace metal data'!P21<'Trace metal data'!P$38, \"ERROR\", 'Trace metal data'!P21), IF('Trace metal data'!P21=\"<LOD\",'Trace metal data'!P$38, \"ERROR\")))","v":0.36},{"$f":"IF('Trace metal data'!Q21=\"\",\"\",IF(ISNUMBER('Trace metal data'!Q21)=TRUE, IF('Trace metal data'!Q21<'Trace metal data'!Q$38, \"ERROR\", 'Trace metal data'!Q21), IF('Trace metal data'!Q21=\"<LOD\",'Trace metal data'!Q$38, \"ERROR\")))","v":29.1},{"$f":"IF('Trace metal data'!R21=\"\",\"\",IF(ISNUMBER('Trace metal data'!R21)=TRUE, IF('Trace metal data'!R21<'Trace metal data'!R$38, \"ERROR\", 'Trace metal data'!R21), IF('Trace metal data'!R21=\"<LOD\",'Trace metal data'!R$38, \"ERROR\")))","v":87.9},{"$f":"IF('Trace metal data'!S21=\"\",\"\",IF(ISNUMBER('Trace metal data'!S21)=TRUE, IF('Trace metal data'!S21<'Trace metal data'!S$38, \"ERROR\", 'Trace metal data'!S21), IF('Trace metal data'!S21=\"<LOD\",'Trace metal data'!S$38, \"ERROR\")))","v":151}]
[null,null,null,null,null,null,null,{"$f":"IF('Trace metal data'!H22=\"\",\"\",'Trace metal data'!H22)","v":"MAR02481.015"},{"$f":"IF('Trace metal data'!I22=\"\",\"\",'Trace metal data'!I22)","v":""},{"$f":"IFERROR(IF(K22=\"\",\"\",(IF(VLOOKUP(K22,'Application info'!$K$8:$L$37,2,0)=\"y\",\"y\",\"\"))),\"Manual entry required\")","v":""},{"$f":"IF('Trace metal data'!J22=\"\",\"\",'Trace metal data'!J22)","v":17},{"$f":"IF('Trace metal data'!L22=\"\",\"\",IF(ISNUMBER('Trace metal data'!L22)=TRUE, IF('Trace metal data'!L22<'Trace metal data'!L$38, \"ERROR\", 'Trace metal data'!L22), IF('Trace metal data'!L22=\"<LOD\",'Trace metal data'!L$38, \"ERROR\")))","v":26.4},{"$f":"IF('Trace metal data'!M22=\"\",\"\",IF(ISNUMBER('Trace metal data'!M22)=TRUE, IF('Trace metal data'!M22<'Trace metal data'!M$38, \"ERROR\", 'Trace metal data'!M22), IF('Trace metal data'!M22=\"<LOD\",'Trace metal data'!M$38, \"ERROR\")))","v":0.14000000000000001},{"$f":"IF('Trace metal data'!N22=\"\",\"\",IF(ISNUMBER('Trace metal data'!N22)=TRUE, IF('Trace metal data'!N22<'Trace metal data'!N$38, \"ERROR\", 'Trace metal data'!N22), IF('Trace metal data'!N22=\"<LOD\",'Trace metal data'!N$38, \"ERROR\")))","v":43.9},{"$f":"IF('Trace metal data'!O22=\"\",\"\",IF(ISNUMBER('Trace metal data'!O22)=TRUE, IF('Trace metal data'!O22<'Trace metal data'!O$38, \"ERROR\", 'Trace metal data'!O22), IF('Trace metal data'!O22=\"<LOD\",'Trace metal data'!O$38, \"ERROR\")))","v":37.5},{"$f":"IF('Trace metal data'!P22=\"\",\"\",IF(ISNUMBER('Trace metal data'!P22)=TRUE, IF('Trace metal data'!P22<'Trace metal data'!P$38, \"ERROR\", 'Trace metal data'!P22), IF('Trace metal data'!P22=\"<LOD\",'Trace metal data'!P$38, \"ERROR\")))","v":0.28999999999999998},{"$f":"IF('Trace metal data'!Q22=\"\",\"\",IF(ISNUMBER('Trace metal data'!Q22)=TRUE, IF('Trace metal data'!Q22<'Trace metal data'!Q$38, \"ERROR\", 'Trace metal data'!Q22), IF('Trace metal data'!Q22=\"<LOD\",'Trace metal data'!Q$38, \"ERROR\")))","v":28.4},{"$f":"IF('Trace metal data'!R22=\"\",\"\",IF(ISNUMBER('Trace metal data'!R22)=TRUE, IF('Trace metal data'!R22<'Trace metal data'!R$38, \"ERROR\", 'Trace metal data'!R22), IF('Trace metal data'!R22=\"<LOD\",'Trace metal data'!R$38, \"ERROR\")))","v":89},{"$f":"IF('Trace metal data'!S22=\"\",\"\",IF(ISNUMBER('Trace metal data'!S22)=TRUE, IF('Trace metal data'!S22<'Trace metal data'!S$38, \"ERROR\", 'Trace metal data'!S22), IF('Trace metal data'!S22=\"<LOD\",'Trace metal data'!S$38, \"ERROR\")))","v":136}]
[null,null,null,null,null,null,null,{"$f":"IF('Trace metal data'!H23=\"\",\"\",'Trace metal data'!H23)","v":"MAR02481.016"},{"$f":"IF('Trace metal data'!I23=\"\",\"\",'Trace metal data'!I23)","v":""},{"$f":"IFERROR(IF(K23=\"\",\"\",(IF(VLOOKUP(K23,'Application info'!$K$8:$L$37,2,0)=\"y\",\"y\",\"\"))),\"Manual entry required\")","v":""},{"$f":"IF('Trace metal data'!J23=\"\",\"\",'Trace metal data'!J23)","v":18},{"$f":"IF('Trace metal data'!L23=\"\",\"\",IF(ISNUMBER('Trace metal data'!L23)=TRUE, IF('Trace metal data'!L23<'Trace metal data'!L$38, \"ERROR\", 'Trace metal data'!L23), IF('Trace metal data'!L23=\"<LOD\",'Trace metal data'!L$38, \"ERROR\")))","v":27.6},{"$f":"IF('Trace metal data'!M23=\"\",\"\",IF(ISNUMBER('Trace metal data'!M23)=TRUE, IF('Trace metal data'!M23<'Trace metal data'!M$38, \"ERROR\", 'Trace metal data'!M23), IF('Trace metal data'!M23=\"<LOD\",'Trace metal data'!M$38, \"ERROR\")))","v":0.15},{"$f":"IF('Trace metal data'!N23=\"\",\"\",IF(ISNUMBER('Trace metal data'!N23)=TRUE, IF('Trace metal data'!N23<'Trace metal data'!N$38, \"ERROR\", 'Trace metal data'!N23), IF('Trace metal data'!N23=\"<LOD\",'Trace metal data'!N$38, \"ERROR\")))","v":41.8},{"$f":"IF('Trace metal data'!O23=\"\",\"\",IF(ISNUMBER('Trace metal data'!O23)=TRUE, IF('Trace metal data'!O23<'Trace metal data'!O$38, \"ERROR\", 'Trace metal data'!O23), IF('Trace metal data'!O23=\"<LOD\",'Trace metal data'!O$38, \"ERROR\")))","v":34.700000000000003},{"$f":"IF('Trace metal data'!P23=\"\",\"\",IF(ISNUMBER('Trace metal data'!P23)=TRUE, IF('Trace metal data'!P23<'Trace metal data'!P$38, \"ERROR\", 'Trace metal data'!P23), IF('Trace metal data'!P23=\"<LOD\",'Trace metal data'!P$38, \"ERROR\")))","v":0.28000000000000003},{"$f":"IF('Trace metal data'!Q23=\"\",\"\",IF(ISNUMBER('Trace metal data'!Q23)=TRUE, IF('Trace metal data'!Q23<'Trace metal data'!Q$38, \"ERROR\", 'Trace metal data'!Q23), IF('Trace metal data'!Q23=\"<LOD\",'Trace metal data'!Q$38, \"ERROR\")))","v":28.3},{"$f":"IF('Trace metal data'!R23=\"\",\"\",IF(ISNUMBER('Trace metal data'!R23)=TRUE, IF('Trace metal data'!R23<'Trace metal data'!R$38, \"ERROR\", 'Trace metal data'!R23), IF('Trace metal data'!R23=\"<LOD\",'Trace metal data'!R$38, \"ERROR\")))","v":88.4},{"$f":"IF('Trace metal data'!S23=\"\",\"\",IF(ISNUMBER('Trace metal data'!S23)=TRUE, IF('Trace metal data'!S23<'Trace metal data'!S$38, \"ERROR\", 'Trace metal data'!S23), IF('Trace metal data'!S23=\"<LOD\",'Trace metal data'!S$38, \"ERROR\")))","v":133}]
[null,null,null,null,null,null,null,{"$f":"IF('Trace metal data'!H24=\"\",\"\",'Trace metal data'!H24)","v":"MAR02481.017"},{"$f":"IF('Trace metal data'!I24=\"\",\"\",'Trace metal data'!I24)","v":""},{"$f":"IFERROR(IF(K24=\"\",\"\",(IF(VLOOKUP(K24,'Application info'!$K$8:$L$37,2,0)=\"y\",\"y\",\"\"))),\"Manual entry required\")","v":""},{"$f":"IF('Trace metal data'!J24=\"\",\"\",'Trace metal data'!J24)","v":19},{"$f":"IF('Trace metal data'!L24=\"\",\"\",IF(ISNUMBER('Trace metal data'!L24)=TRUE, IF('Trace metal data'!L24<'Trace metal data'!L$38, \"ERROR\", 'Trace metal data'!L24), IF('Trace metal data'!L24=\"<LOD\",'Trace metal data'!L$38, \"ERROR\")))","v":27.9},{"$f":"IF('Trace metal data'!M24=\"\",\"\",IF(ISNUMBER('Trace metal data'!M24)=TRUE, IF('Trace metal data'!M24<'Trace metal data'!M$38, \"ERROR\", 'Trace metal data'!M24), IF('Trace metal data'!M24=\"<LOD\",'Trace metal data'!M$38, \"ERROR\")))","v":0.14000000000000001},{"$f":"IF('Trace metal data'!N24=\"\",\"\",IF(ISNUMBER('Trace metal data'!N24)=TRUE, IF('Trace metal data'!N24<'Trace metal data'!N$38, \"ERROR\", 'Trace metal data'!N24), IF('Trace metal data'!N24=\"<LOD\",'Trace metal data'!N$38, \"ERROR\")))","v":41.4},{"$f":"IF('Trace metal data'!O24=\"\",\"\",IF(ISNUMBER('Trace metal data'!O24)=TRUE, IF('Trace metal data'!O24<'Trace metal data'!O$38, \"ERROR\", 'Trace metal data'!O24), IF('Trace metal data'!O24=\"<LOD\",'Trace metal data'!O$38, \"ERROR\")))","v":34.700000000000003},{"$f":"IF('Trace metal data'!P24=\"\",\"\",IF(ISNUMBER('Trace metal data'!P24)=TRUE, IF('Trace metal data'!P24<'Trace metal data'!P$38, \"ERROR\", 'Trace metal data'!P24), IF('Trace metal data'!P24=\"<LOD\",'Trace metal data'!P$38, \"ERROR\")))","v":0.28999999999999998},{"$f":"IF('Trace metal data'!Q24=\"\",\"\",IF(ISNUMBER('Trace metal data'!Q24)=TRUE, IF('Trace metal data'!Q24<'Trace metal data'!Q$38, \"ERROR\", 'Trace metal data'!Q24), IF('Trace metal data'!Q24=\"<LOD\",'Trace metal data'!Q$38, \"ERROR\")))","v":27.9},{"$f":"IF('Trace metal data'!R24=\"\",\"\",IF(ISNUMBER('Trace metal data'!R24)=TRUE, IF('Trace metal data'!R24<'Trace metal data'!R$38, \"ERROR\", 'Trace metal data'!R24), IF('Trace metal data'!R24=\"<LOD\",'Trace metal data'!R$38, \"ERROR\")))","v":79.900000000000006},{"$f":"IF('Trace metal data'!S24=\"\",\"\",IF(ISNUMBER('Trace metal data'!S24)=TRUE, IF('Trace metal data'!S24<'Trace metal data'!S$38, \"ERROR\", 'Trace metal data'!S24), IF('Trace metal data'!S24=\"<LOD\",'Trace metal data'!S$38, \"ERROR\")))","v":130}]
[null,null,null,null,null,null,null,{"$f":"IF('Trace metal data'!H25=\"\",\"\",'Trace metal data'!H25)","v":"MAR02481.018"},{"$f":"IF('Trace metal data'!I25=\"\",\"\",'Trace metal data'!I25)","v":""},{"$f":"IFERROR(IF(K25=\"\",\"\",(IF(VLOOKUP(K25,'Application info'!$K$8:$L$37,2,0)=\"y\",\"y\",\"\"))),\"Manual entry required\")","v":""},{"$f":"IF('Trace metal data'!J25=\"\",\"\",'Trace metal data'!J25)","v":20},{"$f":"IF('Trace metal data'!L25=\"\",\"\",IF(ISNUMBER('Trace metal data'!L25)=TRUE, IF('Trace metal data'!L25<'Trace metal data'!L$38, \"ERROR\", 'Trace metal data'!L25), IF('Trace metal data'!L25=\"<LOD\",'Trace metal data'!L$38, \"ERROR\")))","v":30.9},{"$f":"IF('Trace metal data'!M25=\"\",\"\",IF(ISNUMBER('Trace metal data'!M25)=TRUE, IF('Trace metal data'!M25<'Trace metal data'!M$38, \"ERROR\", 'Trace metal data'!M25), IF('Trace metal data'!M25=\"<LOD\",'Trace metal data'!M$38, \"ERROR\")))","v":0.14000000000000001},{"$f":"IF('Trace metal data'!N25=\"\",\"\",IF(ISNUMBER('Trace metal data'!N25)=TRUE, IF('Trace metal data'!N25<'Trace metal data'!N$38, \"ERROR\", 'Trace metal data'!N25), IF('Trace metal data'!N25=\"<LOD\",'Trace metal data'!N$38, \"ERROR\")))","v":43.1},{"$f":"IF('Trace metal data'!O25=\"\",\"\",IF(ISNUMBER('Trace metal data'!O25)=TRUE, IF('Trace metal data'!O25<'Trace metal data'!O$38, \"ERROR\", 'Trace metal data'!O25), IF('Trace metal data'!O25=\"<LOD\",'Trace metal data'!O$38, \"ERROR\")))","v":40},{"$f":"IF('Trace metal data'!P25=\"\",\"\",IF(ISNUMBER('Trace metal data'!P25)=TRUE, IF('Trace metal data'!P25<'Trace metal data'!P$38, \"ERROR\", 'Trace metal data'!P25), IF('Trace metal data'!P25=\"<LOD\",'Trace metal data'!P$38, \"ERROR\")))","v":0.3},{"$f":"IF('Trace metal data'!Q25=\"\",\"\",IF(ISNUMBER('Trace metal data'!Q25)=TRUE, IF('Trace metal data'!Q25<'Trace metal data'!Q$38, \"ERROR\", 'Trace metal data'!Q25), IF('Trace metal data'!Q25=\"<LOD\",'Trace metal data'!Q$38, \"ERROR\")))","v":30.5},{"$f":"IF('Trace metal data'!R25=\"\",\"\",IF(ISNUMBER('Trace metal data'!R25)=TRUE, IF('Trace metal data'!R25<'Trace metal data'!R$38, \"ERROR\", 'Trace metal data'!R25), IF('Trace metal data'!R25=\"<LOD\",'Trace metal data'!R$38, \"ERROR\")))","v":93.9},{"$f":"IF('Trace metal data'!S25=\"\",\"\",IF(ISNUMBER('Trace metal data'!S25)=TRUE, IF('Trace metal data'!S25<'Trace metal data'!S$38, \"ERROR\", 'Trace metal data'!S25), IF('Trace metal data'!S25=\"<LOD\",'Trace metal data'!S$38, \"ERROR\")))","v":142}]
[null,null,null,null,null,null,null,{"$f":"IF('Trace metal data'!H26=\"\",\"\",'Trace metal data'!H26)","v":"MAR02481.019"},{"$f":"IF('Trace metal data'!I26=\"\",\"\",'Trace metal data'!I26)","v":""},{"$f":"IFERROR(IF(K26=\"\",\"\",(IF(VLOOKUP(K26,'Application info'!$K$8:$L$37,2,0)=\"y\",\"y\",\"\"))),\"Manual entry required\")","v":""},{"$f":"IF('Trace metal data'!J26=\"\",\"\",'Trace metal data'!J26)","v":21},{"$f":"IF('Trace metal data'!L26=\"\",\"\",IF(ISNUMBER('Trace metal data'!L26)=TRUE, IF('Trace metal data'!L26<'Trace metal data'!L$38, \"ERROR\", 'Trace metal data'!L26), IF('Trace metal data'!L26=\"<LOD\",'Trace metal data'!L$38, \"ERROR\")))","v":22.4},{"$f":"IF('Trace metal data'!M26=\"\",\"\",IF(ISNUMBER('Trace metal data'!M26)=TRUE, IF('Trace metal data'!M26<'Trace metal data'!M$38, \"ERROR\", 'Trace metal data'!M26), IF('Trace metal data'!M26=\"<LOD\",'Trace metal data'!M$38, \"ERROR\")))","v":0.19},{"$f":"IF('Trace metal data'!N26=\"\",\"\",IF(ISNUMBER('Trace metal data'!N26)=TRUE, IF('Trace metal data'!N26<'Trace metal data'!N$38, \"ERROR\", 'Trace metal data'!N26), IF('Trace metal data'!N26=\"<LOD\",'Trace metal data'!N$38, \"ERROR\")))","v":48.2},{"$f":"IF('Trace metal data'!O26=\"\",\"\",IF(ISNUMBER('Trace metal data'!O26)=TRUE, IF('Trace metal data'!O26<'Trace metal data'!O$38, \"ERROR\", 'Trace metal data'!O26), IF('Trace metal data'!O26=\"<LOD\",'Trace metal data'!O$38, \"ERROR\")))","v":44.8},{"$f":"IF('Trace metal data'!P26=\"\",\"\",IF(ISNUMBER('Trace metal data'!P26)=TRUE, IF('Trace metal data'!P26<'Trace metal data'!P$38, \"ERROR\", 'Trace metal data'!P26), IF('Trace metal data'!P26=\"<LOD\",'Trace metal data'!P$38, \"ERROR\")))","v":0.3},{"$f":"IF('Trace metal data'!Q26=\"\",\"\",IF(ISNUMBER('Trace metal data'!Q26)=TRUE, IF('Trace metal data'!Q26<'Trace metal data'!Q$38, \"ERROR\", 'Trace metal data'!Q26), IF('Trace metal data'!Q26=\"<LOD\",'Trace metal data'!Q$38, \"ERROR\")))","v":30.6},{"$f":"IF('Trace metal data'!R26=\"\",\"\",IF(ISNUMBER('Trace metal data'!R26)=TRUE, IF('Trace metal data'!R26<'Trace metal data'!R$38, \"ERROR\", 'Trace metal data'!R26), IF('Trace metal data'!R26=\"<LOD\",'Trace metal data'!R$38, \"ERROR\")))","v":97.4},{"$f":"IF('Trace metal data'!S26=\"\",\"\",IF(ISNUMBER('Trace metal data'!S26)=TRUE, IF('Trace metal data'!S26<'Trace metal data'!S$38, \"ERROR\", 'Trace metal data'!S26), IF('Trace metal data'!S26=\"<LOD\",'Trace metal data'!S$38, \"ERROR\")))","v":163}]
[null,null,null,null,null,null,null,{"$f":"IF('Trace metal data'!H27=\"\",\"\",'Trace metal data'!H27)","v":"MAR02481.020"},{"$f":"IF('Trace metal data'!I27=\"\",\"\",'Trace metal data'!I27)","v":""},{"$f":"IFERROR(IF(K27=\"\",\"\",(IF(VLOOKUP(K27,'Application info'!$K$8:$L$37,2,0)=\"y\",\"y\",\"\"))),\"Manual entry required\")","v":""},{"$f":"IF('Trace metal data'!J27=\"\",\"\",'Trace metal data'!J27)","v":22},{"$f":"IF('Trace metal data'!L27=\"\",\"\",IF(ISNUMBER('Trace metal data'!L27)=TRUE, IF('Trace metal data'!L27<'Trace metal data'!L$38, \"ERROR\", 'Trace metal data'!L27), IF('Trace metal data'!L27=\"<LOD\",'Trace metal data'!L$38, \"ERROR\")))","v":21},{"$f":"IF('Trace metal data'!M27=\"\",\"\",IF(ISNUMBER('Trace metal data'!M27)=TRUE, IF('Trace metal data'!M27<'Trace metal data'!M$38, \"ERROR\", 'Trace metal data'!M27), IF('Trace metal data'!M27=\"<LOD\",'Trace metal data'!M$38, \"ERROR\")))","v":0.06},{"$f":"IF('Trace metal data'!N27=\"\",\"\",IF(ISNUMBER('Trace metal data'!N27)=TRUE, IF('Trace metal data'!N27<'Trace metal data'!N$38, \"ERROR\", 'Trace metal data'!N27), IF('Trace metal data'!N27=\"<LOD\",'Trace metal data'!N$38, \"ERROR\")))","v":26.9},{"$f":"IF('Trace metal data'!O27=\"\",\"\",IF(ISNUMBER('Trace metal data'!O27)=TRUE, IF('Trace metal data'!O27<'Trace metal data'!O$38, \"ERROR\", 'Trace metal data'!O27), IF('Trace metal data'!O27=\"<LOD\",'Trace metal data'!O$38, \"ERROR\")))","v":23.3},{"$f":"IF('Trace metal data'!P27=\"\",\"\",IF(ISNUMBER('Trace metal data'!P27)=TRUE, IF('Trace metal data'!P27<'Trace metal data'!P$38, \"ERROR\", 'Trace metal data'!P27), IF('Trace metal data'!P27=\"<LOD\",'Trace metal data'!P$38, \"ERROR\")))","v":0.16},{"$f":"IF('Trace metal data'!Q27=\"\",\"\",IF(ISNUMBER('Trace metal data'!Q27)=TRUE, IF('Trace metal data'!Q27<'Trace metal data'!Q$38, \"ERROR\", 'Trace metal data'!Q27), IF('Trace metal data'!Q27=\"<LOD\",'Trace metal data'!Q$38, \"ERROR\")))","v":20.3},{"$f":"IF('Trace metal data'!R27=\"\",\"\",IF(ISNUMBER('Trace metal data'!R27)=TRUE, IF('Trace metal data'!R27<'Trace metal data'!R$38, \"ERROR\", 'Trace metal data'!R27), IF('Trace metal data'!R27=\"<LOD\",'Trace metal data'!R$38, \"ERROR\")))","v":50.5},{"$f":"IF('Trace metal data'!S27=\"\",\"\",IF(ISNUMBER('Trace metal data'!S27)=TRUE, IF('Trace metal data'!S27<'Trace metal data'!S$38, \"ERROR\", 'Trace metal data'!S27), IF('Trace metal data'!S27=\"<LOD\",'Trace metal data'!S$38, \"ERROR\")))","v":90.5}]
[null,null,null,null,null,null,null,{"$f":"IF('Trace metal data'!H28=\"\",\"\",'Trace metal data'!H28)","v":"MAR02481.021"},{"$f":"IF('Trace metal data'!I28=\"\",\"\",'Trace metal data'!I28)","v":""},{"$f":"IFERROR(IF(K28=\"\",\"\",(IF(VLOOKUP(K28,'Application info'!$K$8:$L$37,2,0)=\"y\",\"y\",\"\"))),\"Manual entry required\")","v":""},{"$f":"IF('Trace metal data'!J28=\"\",\"\",'Trace metal data'!J28)","v":23},{"$f":"IF('Trace metal data'!L28=\"\",\"\",IF(ISNUMBER('Trace metal data'!L28)=TRUE, IF('Trace metal data'!L28<'Trace metal data'!L$38, \"ERROR\", 'Trace metal data'!L28), IF('Trace metal data'!L28=\"<LOD\",'Trace metal data'!L$38, \"ERROR\")))","v":19.8},{"$f":"IF('Trace metal data'!M28=\"\",\"\",IF(ISNUMBER('Trace metal data'!M28)=TRUE, IF('Trace metal data'!M28<'Trace metal data'!M$38, \"ERROR\", 'Trace metal data'!M28), IF('Trace metal data'!M28=\"<LOD\",'Trace metal data'!M$38, \"ERROR\")))","v":0.04},{"$f":"IF('Trace metal data'!N28=\"\",\"\",IF(ISNUMBER('Trace metal data'!N28)=TRUE, IF('Trace metal data'!N28<'Trace metal data'!N$38, \"ERROR\", 'Trace metal data'!N28), IF('Trace metal data'!N28=\"<LOD\",'Trace metal data'!N$38, \"ERROR\")))","v":17.2},{"$f":"IF('Trace metal data'!O28=\"\",\"\",IF(ISNUMBER('Trace metal data'!O28)=TRUE, IF('Trace metal data'!O28<'Trace metal data'!O$38, \"ERROR\", 'Trace metal data'!O28), IF('Trace metal data'!O28=\"<LOD\",'Trace metal data'!O$38, \"ERROR\")))","v":15.3},{"$f":"IF('Trace metal data'!P28=\"\",\"\",IF(ISNUMBER('Trace metal data'!P28)=TRUE, IF('Trace metal data'!P28<'Trace metal data'!P$38, \"ERROR\", 'Trace metal data'!P28), IF('Trace metal data'!P28=\"<LOD\",'Trace metal data'!P$38, \"ERROR\")))","v":0.09},{"$f":"IF('Trace metal data'!Q28=\"\",\"\",IF(ISNUMBER('Trace metal data'!Q28)=TRUE, IF('Trace metal data'!Q28<'Trace metal data'!Q$38, \"ERROR\", 'Trace metal data'!Q28), IF('Trace metal data'!Q28=\"<LOD\",'Trace metal data'!Q$38, \"ERROR\")))","v":15.2},{"$f":"IF('Trace metal data'!R28=\"\",\"\",IF(ISNUMBER('Trace metal data'!R28)=TRUE, IF('Trace metal data'!R28<'Trace metal data'!R$38, \"ERROR\", 'Trace metal data'!R28), IF('Trace metal data'!R28=\"<LOD\",'Trace metal data'!R$38, \"ERROR\")))","v":40.5},{"$f":"IF('Trace metal data'!S28=\"\",\"\",IF(ISNUMBER('Trace metal data'!S28)=TRUE, IF('Trace metal data'!S28<'Trace metal data'!S$38, \"ERROR\", 'Trace metal data'!S28), IF('Trace metal data'!S28=\"<LOD\",'Trace metal data'!S$38, \"ERROR\")))","v":69}]
[null,null,null,null,null,null,null,{"$f":"IF('Trace metal data'!H29=\"\",\"\",'Trace metal data'!H29)","v":"MAR02481.022"},{"$f":"IF('Trace metal data'!I29=\"\",\"\",'Trace metal data'!I29)","v":""},{"$f":"IFERROR(IF(K29=\"\",\"\",(IF(VLOOKUP(K29,'Application info'!$K$8:$L$37,2,0)=\"y\",\"y\",\"\"))),\"Manual entry required\")","v":""},{"$f":"IF('Trace metal data'!J29=\"\",\"\",'Trace metal data'!J29)","v":24},{"$f":"IF('Trace metal data'!L29=\"\",\"\",IF(ISNUMBER('Trace metal data'!L29)=TRUE, IF('Trace metal data'!L29<'Trace metal data'!L$38, \"ERROR\", 'Trace metal data'!L29), IF('Trace metal data'!L29=\"<LOD\",'Trace metal data'!L$38, \"ERROR\")))","v":22.1},{"$f":"IF('Trace metal data'!M29=\"\",\"\",IF(ISNUMBER('Trace metal data'!M29)=TRUE, IF('Trace metal data'!M29<'Trace metal data'!M$38, \"ERROR\", 'Trace metal data'!M29), IF('Trace metal data'!M29=\"<LOD\",'Trace metal data'!M$38, \"ERROR\")))","v":0.35},{"$f":"IF('Trace metal data'!N29=\"\",\"\",IF(ISNUMBER('Trace metal data'!N29)=TRUE, IF('Trace metal data'!N29<'Trace metal data'!N$38, \"ERROR\", 'Trace metal data'!N29), IF('Trace metal data'!N29=\"<LOD\",'Trace metal data'!N$38, \"ERROR\")))","v":60.7},{"$f":"IF('Trace metal data'!O29=\"\",\"\",IF(ISNUMBER('Trace metal data'!O29)=TRUE, IF('Trace metal data'!O29<'Trace metal data'!O$38, \"ERROR\", 'Trace metal data'!O29), IF('Trace metal data'!O29=\"<LOD\",'Trace metal data'!O$38, \"ERROR\")))","v":56.2},{"$f":"IF('Trace metal data'!P29=\"\",\"\",IF(ISNUMBER('Trace metal data'!P29)=TRUE, IF('Trace metal data'!P29<'Trace metal data'!P$38, \"ERROR\", 'Trace metal data'!P29), IF('Trace metal data'!P29=\"<LOD\",'Trace metal data'!P$38, \"ERROR\")))","v":0.37},{"$f":"IF('Trace metal data'!Q29=\"\",\"\",IF(ISNUMBER('Trace metal data'!Q29)=TRUE, IF('Trace metal data'!Q29<'Trace metal data'!Q$38, \"ERROR\", 'Trace metal data'!Q29), IF('Trace metal data'!Q29=\"<LOD\",'Trace metal data'!Q$38, \"ERROR\")))","v":34},{"$f":"IF('Trace metal data'!R29=\"\",\"\",IF(ISNUMBER('Trace metal data'!R29)=TRUE, IF('Trace metal data'!R29<'Trace metal data'!R$38, \"ERROR\", 'Trace metal data'!R29), IF('Trace metal data'!R29=\"<LOD\",'Trace metal data'!R$38, \"ERROR\")))","v":116},{"$f":"IF('Trace metal data'!S29=\"\",\"\",IF(ISNUMBER('Trace metal data'!S29)=TRUE, IF('Trace metal data'!S29<'Trace metal data'!S$38, \"ERROR\", 'Trace metal data'!S29), IF('Trace metal data'!S29=\"<LOD\",'Trace metal data'!S$38, \"ERROR\")))","v":189}]
[null,null,null,null,null,null,null,{"$f":"IF('Trace metal data'!H30=\"\",\"\",'Trace metal data'!H30)","v":"MAR02481.023"},{"$f":"IF('Trace metal data'!I30=\"\",\"\",'Trace metal data'!I30)","v":""},{"$f":"IFERROR(IF(K30=\"\",\"\",(IF(VLOOKUP(K30,'Application info'!$K$8:$L$37,2,0)=\"y\",\"y\",\"\"))),\"Manual entry required\")","v":""},{"$f":"IF('Trace metal data'!J30=\"\",\"\",'Trace metal data'!J30)","v":25},{"$f":"IF('Trace metal data'!L30=\"\",\"\",IF(ISNUMBER('Trace metal data'!L30)=TRUE, IF('Trace metal data'!L30<'Trace metal data'!L$38, \"ERROR\", 'Trace metal data'!L30), IF('Trace metal data'!L30=\"<LOD\",'Trace metal data'!L$38, \"ERROR\")))","v":23.9},{"$f":"IF('Trace metal data'!M30=\"\",\"\",IF(ISNUMBER('Trace metal data'!M30)=TRUE, IF('Trace metal data'!M30<'Trace metal data'!M$38, \"ERROR\", 'Trace metal data'!M30), IF('Trace metal data'!M30=\"<LOD\",'Trace metal data'!M$38, \"ERROR\")))","v":0.18},{"$f":"IF('Trace metal data'!N30=\"\",\"\",IF(ISNUMBER('Trace metal data'!N30)=TRUE, IF('Trace metal data'!N30<'Trace metal data'!N$38, \"ERROR\", 'Trace metal data'!N30), IF('Trace metal data'!N30=\"<LOD\",'Trace metal data'!N$38, \"ERROR\")))","v":44.1},{"$f":"IF('Trace metal data'!O30=\"\",\"\",IF(ISNUMBER('Trace metal data'!O30)=TRUE, IF('Trace metal data'!O30<'Trace metal data'!O$38, \"ERROR\", 'Trace metal data'!O30), IF('Trace metal data'!O30=\"<LOD\",'Trace metal data'!O$38, \"ERROR\")))","v":37.200000000000003},{"$f":"IF('Trace metal data'!P30=\"\",\"\",IF(ISNUMBER('Trace metal data'!P30)=TRUE, IF('Trace metal data'!P30<'Trace metal data'!P$38, \"ERROR\", 'Trace metal data'!P30), IF('Trace metal data'!P30=\"<LOD\",'Trace metal data'!P$38, \"ERROR\")))","v":0.28999999999999998},{"$f":"IF('Trace metal data'!Q30=\"\",\"\",IF(ISNUMBER('Trace metal data'!Q30)=TRUE, IF('Trace metal data'!Q30<'Trace metal data'!Q$38, \"ERROR\", 'Trace metal data'!Q30), IF('Trace metal data'!Q30=\"<LOD\",'Trace metal data'!Q$38, \"ERROR\")))","v":29.5},{"$f":"IF('Trace metal data'!R30=\"\",\"\",IF(ISNUMBER('Trace metal data'!R30)=TRUE, IF('Trace metal data'!R30<'Trace metal data'!R$38, \"ERROR\", 'Trace metal data'!R30), IF('Trace metal data'!R30=\"<LOD\",'Trace metal data'!R$38, \"ERROR\")))","v":76.5},{"$f":"IF('Trace metal data'!S30=\"\",\"\",IF(ISNUMBER('Trace metal data'!S30)=TRUE, IF('Trace metal data'!S30<'Trace metal data'!S$38, \"ERROR\", 'Trace metal data'!S30), IF('Trace metal data'!S30=\"<LOD\",'Trace metal data'!S$38, \"ERROR\")))","v":134}]
[null,null,null,null,null,null,null,{"$f":"IF('Trace metal data'!H31=\"\",\"\",'Trace metal data'!H31)","v":""},{"$f":"IF('Trace metal data'!I31=\"\",\"\",'Trace metal data'!I31)","v":""},{"$f":"IFERROR(IF(K31=\"\",\"\",(IF(VLOOKUP(K31,'Application info'!$K$8:$L$37,2,0)=\"y\",\"y\",\"\"))),\"Manual entry required\")","v":""},{"$f":"IF('Trace metal data'!J31=\"\",\"\",'Trace metal data'!J31)","v":""},{"$f":"IF('Trace metal data'!L31=\"\",\"\",IF(ISNUMBER('Trace metal data'!L31)=TRUE, IF('Trace metal data'!L31<'Trace metal data'!L$38, \"ERROR\", 'Trace metal data'!L31), IF('Trace metal data'!L31=\"<LOD\",'Trace metal data'!L$38, \"ERROR\")))","v":""},{"$f":"IF('Trace metal data'!M31=\"\",\"\",IF(ISNUMBER('Trace metal data'!M31)=TRUE, IF('Trace metal data'!M31<'Trace metal data'!M$38, \"ERROR\", 'Trace metal data'!M31), IF('Trace metal data'!M31=\"<LOD\",'Trace metal data'!M$38, \"ERROR\")))","v":""},{"$f":"IF('Trace metal data'!N31=\"\",\"\",IF(ISNUMBER('Trace metal data'!N31)=TRUE, IF('Trace metal data'!N31<'Trace metal data'!N$38, \"ERROR\", 'Trace metal data'!N31), IF('Trace metal data'!N31=\"<LOD\",'Trace metal data'!N$38, \"ERROR\")))","v":""},{"$f":"IF('Trace metal data'!O31=\"\",\"\",IF(ISNUMBER('Trace metal data'!O31)=TRUE, IF('Trace metal data'!O31<'Trace metal data'!O$38, \"ERROR\", 'Trace metal data'!O31), IF('Trace metal data'!O31=\"<LOD\",'Trace metal data'!O$38, \"ERROR\")))","v":""},{"$f":"IF('Trace metal data'!P31=\"\",\"\",IF(ISNUMBER('Trace metal data'!P31)=TRUE, IF('Trace metal data'!P31<'Trace metal data'!P$38, \"ERROR\", 'Trace metal data'!P31), IF('Trace metal data'!P31=\"<LOD\",'Trace metal data'!P$38, \"ERROR\")))","v":""},{"$f":"IF('Trace metal data'!Q31=\"\",\"\",IF(ISNUMBER('Trace metal data'!Q31)=TRUE, IF('Trace metal data'!Q31<'Trace metal data'!Q$38, \"ERROR\", 'Trace metal data'!Q31), IF('Trace metal data'!Q31=\"<LOD\",'Trace metal data'!Q$38, \"ERROR\")))","v":""},{"$f":"IF('Trace metal data'!R31=\"\",\"\",IF(ISNUMBER('Trace metal data'!R31)=TRUE, IF('Trace metal data'!R31<'Trace metal data'!R$38, \"ERROR\", 'Trace metal data'!R31), IF('Trace metal data'!R31=\"<LOD\",'Trace metal data'!R$38, \"ERROR\")))","v":""},{"$f":"IF('Trace metal data'!S31=\"\",\"\",IF(ISNUMBER('Trace metal data'!S31)=TRUE, IF('Trace metal data'!S31<'Trace metal data'!S$38, \"ERROR\", 'Trace metal data'!S31), IF('Trace metal data'!S31=\"<LOD\",'Trace metal data'!S$38, \"ERROR\")))","v":""}]
[null,null,null,null,null,null,null,{"$f":"IF('Trace metal data'!H32=\"\",\"\",'Trace metal data'!H32)","v":""},{"$f":"IF('Trace metal data'!I32=\"\",\"\",'Trace metal data'!I32)","v":""},{"$f":"IFERROR(IF(K32=\"\",\"\",(IF(VLOOKUP(K32,'Application info'!$K$8:$L$37,2,0)=\"y\",\"y\",\"\"))),\"Manual entry required\")","v":""},{"$f":"IF('Trace metal data'!J32=\"\",\"\",'Trace metal data'!J32)","v":""},{"$f":"IF('Trace metal data'!L32=\"\",\"\",IF(ISNUMBER('Trace metal data'!L32)=TRUE, IF('Trace metal data'!L32<'Trace metal data'!L$38, \"ERROR\", 'Trace metal data'!L32), IF('Trace metal data'!L32=\"<LOD\",'Trace metal data'!L$38, \"ERROR\")))","v":""},{"$f":"IF('Trace metal data'!M32=\"\",\"\",IF(ISNUMBER('Trace metal data'!M32)=TRUE, IF('Trace metal data'!M32<'Trace metal data'!M$38, \"ERROR\", 'Trace metal data'!M32), IF('Trace metal data'!M32=\"<LOD\",'Trace metal data'!M$38, \"ERROR\")))","v":""},{"$f":"IF('Trace metal data'!N32=\"\",\"\",IF(ISNUMBER('Trace metal data'!N32)=TRUE, IF('Trace metal data'!N32<'Trace metal data'!N$38, \"ERROR\", 'Trace metal data'!N32), IF('Trace metal data'!N32=\"<LOD\",'Trace metal data'!N$38, \"ERROR\")))","v":""},{"$f":"IF('Trace metal data'!O32=\"\",\"\",IF(ISNUMBER('Trace metal data'!O32)=TRUE, IF('Trace metal data'!O32<'Trace metal data'!O$38, \"ERROR\", 'Trace metal data'!O32), IF('Trace metal data'!O32=\"<LOD\",'Trace metal data'!O$38, \"ERROR\")))","v":""},{"$f":"IF('Trace metal data'!P32=\"\",\"\",IF(ISNUMBER('Trace metal data'!P32)=TRUE, IF('Trace metal data'!P32<'Trace metal data'!P$38, \"ERROR\", 'Trace metal data'!P32), IF('Trace metal data'!P32=\"<LOD\",'Trace metal data'!P$38, \"ERROR\")))","v":""},{"$f":"IF('Trace metal data'!Q32=\"\",\"\",IF(ISNUMBER('Trace metal data'!Q32)=TRUE, IF('Trace metal data'!Q32<'Trace metal data'!Q$38, \"ERROR\", 'Trace metal data'!Q32), IF('Trace metal data'!Q32=\"<LOD\",'Trace metal data'!Q$38, \"ERROR\")))","v":""},{"$f":"IF('Trace metal data'!R32=\"\",\"\",IF(ISNUMBER('Trace metal data'!R32)=TRUE, IF('Trace metal data'!R32<'Trace metal data'!R$38, \"ERROR\", 'Trace metal data'!R32), IF('Trace metal data'!R32=\"<LOD\",'Trace metal data'!R$38, \"ERROR\")))","v":""},{"$f":"IF('Trace metal data'!S32=\"\",\"\",IF(ISNUMBER('Trace metal data'!S32)=TRUE, IF('Trace metal data'!S32<'Trace metal data'!S$38, \"ERROR\", 'Trace metal data'!S32), IF('Trace metal data'!S32=\"<LOD\",'Trace metal data'!S$38, \"ERROR\")))","v":""}]
[null,null,null,null,null,null,null,{"$f":"IF('Trace metal data'!H33=\"\",\"\",'Trace metal data'!H33)","v":""},{"$f":"IF('Trace metal data'!I33=\"\",\"\",'Trace metal data'!I33)","v":""},{"$f":"IFERROR(IF(K33=\"\",\"\",(IF(VLOOKUP(K33,'Application info'!$K$8:$L$37,2,0)=\"y\",\"y\",\"\"))),\"Manual entry required\")","v":""},{"$f":"IF('Trace metal data'!J33=\"\",\"\",'Trace metal data'!J33)","v":""},{"$f":"IF('Trace metal data'!L33=\"\",\"\",IF(ISNUMBER('Trace metal data'!L33)=TRUE, IF('Trace metal data'!L33<'Trace metal data'!L$38, \"ERROR\", 'Trace metal data'!L33), IF('Trace metal data'!L33=\"<LOD\",'Trace metal data'!L$38, \"ERROR\")))","v":""},{"$f":"IF('Trace metal data'!M33=\"\",\"\",IF(ISNUMBER('Trace metal data'!M33)=TRUE, IF('Trace metal data'!M33<'Trace metal data'!M$38, \"ERROR\", 'Trace metal data'!M33), IF('Trace metal data'!M33=\"<LOD\",'Trace metal data'!M$38, \"ERROR\")))","v":""},{"$f":"IF('Trace metal data'!N33=\"\",\"\",IF(ISNUMBER('Trace metal data'!N33)=TRUE, IF('Trace metal data'!N33<'Trace metal data'!N$38, \"ERROR\", 'Trace metal data'!N33), IF('Trace metal data'!N33=\"<LOD\",'Trace metal data'!N$38, \"ERROR\")))","v":""},{"$f":"IF('Trace metal data'!O33=\"\",\"\",IF(ISNUMBER('Trace metal data'!O33)=TRUE, IF('Trace metal data'!O33<'Trace metal data'!O$38, \"ERROR\", 'Trace metal data'!O33), IF('Trace metal data'!O33=\"<LOD\",'Trace metal data'!O$38, \"ERROR\")))","v":""},{"$f":"IF('Trace metal data'!P33=\"\",\"\",IF(ISNUMBER('Trace metal data'!P33)=TRUE, IF('Trace metal data'!P33<'Trace metal data'!P$38, \"ERROR\", 'Trace metal data'!P33), IF('Trace metal data'!P33=\"<LOD\",'Trace metal data'!P$38, \"ERROR\")))","v":""},{"$f":"IF('Trace metal data'!Q33=\"\",\"\",IF(ISNUMBER('Trace metal data'!Q33)=TRUE, IF('Trace metal data'!Q33<'Trace metal data'!Q$38, \"ERROR\", 'Trace metal data'!Q33), IF('Trace metal data'!Q33=\"<LOD\",'Trace metal data'!Q$38, \"ERROR\")))","v":""},{"$f":"IF('Trace metal data'!R33=\"\",\"\",IF(ISNUMBER('Trace metal data'!R33)=TRUE, IF('Trace metal data'!R33<'Trace metal data'!R$38, \"ERROR\", 'Trace metal data'!R33), IF('Trace metal data'!R33=\"<LOD\",'Trace metal data'!R$38, \"ERROR\")))","v":""},{"$f":"IF('Trace metal data'!S33=\"\",\"\",IF(ISNUMBER('Trace metal data'!S33)=TRUE, IF('Trace metal data'!S33<'Trace metal data'!S$38, \"ERROR\", 'Trace metal data'!S33), IF('Trace metal data'!S33=\"<LOD\",'Trace metal data'!S$38, \"ERROR\")))","v":""}]
[null,null,null,null,null,null,null,{"$f":"IF('Trace metal data'!H34=\"\",\"\",'Trace metal data'!H34)","v":""},{"$f":"IF('Trace metal data'!I34=\"\",\"\",'Trace metal data'!I34)","v":""},{"$f":"IFERROR(IF(K34=\"\",\"\",(IF(VLOOKUP(K34,'Application info'!$K$8:$L$37,2,0)=\"y\",\"y\",\"\"))),\"Manual entry required\")","v":""},{"$f":"IF('Trace metal data'!J34=\"\",\"\",'Trace metal data'!J34)","v":""},{"$f":"IF('Trace metal data'!L34=\"\",\"\",IF(ISNUMBER('Trace metal data'!L34)=TRUE, IF('Trace metal data'!L34<'Trace metal data'!L$38, \"ERROR\", 'Trace metal data'!L34), IF('Trace metal data'!L34=\"<LOD\",'Trace metal data'!L$38, \"ERROR\")))","v":""},{"$f":"IF('Trace metal data'!M34=\"\",\"\",IF(ISNUMBER('Trace metal data'!M34)=TRUE, IF('Trace metal data'!M34<'Trace metal data'!M$38, \"ERROR\", 'Trace metal data'!M34), IF('Trace metal data'!M34=\"<LOD\",'Trace metal data'!M$38, \"ERROR\")))","v":""},{"$f":"IF('Trace metal data'!N34=\"\",\"\",IF(ISNUMBER('Trace metal data'!N34)=TRUE, IF('Trace metal data'!N34<'Trace metal data'!N$38, \"ERROR\", 'Trace metal data'!N34), IF('Trace metal data'!N34=\"<LOD\",'Trace metal data'!N$38, \"ERROR\")))","v":""},{"$f":"IF('Trace metal data'!O34=\"\",\"\",IF(ISNUMBER('Trace metal data'!O34)=TRUE, IF('Trace metal data'!O34<'Trace metal data'!O$38, \"ERROR\", 'Trace metal data'!O34), IF('Trace metal data'!O34=\"<LOD\",'Trace metal data'!O$38, \"ERROR\")))","v":""},{"$f":"IF('Trace metal data'!P34=\"\",\"\",IF(ISNUMBER('Trace metal data'!P34)=TRUE, IF('Trace metal data'!P34<'Trace metal data'!P$38, \"ERROR\", 'Trace metal data'!P34), IF('Trace metal data'!P34=\"<LOD\",'Trace metal data'!P$38, \"ERROR\")))","v":""},{"$f":"IF('Trace metal data'!Q34=\"\",\"\",IF(ISNUMBER('Trace metal data'!Q34)=TRUE, IF('Trace metal data'!Q34<'Trace metal data'!Q$38, \"ERROR\", 'Trace metal data'!Q34), IF('Trace metal data'!Q34=\"<LOD\",'Trace metal data'!Q$38, \"ERROR\")))","v":""},{"$f":"IF('Trace metal data'!R34=\"\",\"\",IF(ISNUMBER('Trace metal data'!R34)=TRUE, IF('Trace metal data'!R34<'Trace metal data'!R$38, \"ERROR\", 'Trace metal data'!R34), IF('Trace metal data'!R34=\"<LOD\",'Trace metal data'!R$38, \"ERROR\")))","v":""},{"$f":"IF('Trace metal data'!S34=\"\",\"\",IF(ISNUMBER('Trace metal data'!S34)=TRUE, IF('Trace metal data'!S34<'Trace metal data'!S$38, \"ERROR\", 'Trace metal data'!S34), IF('Trace metal data'!S34=\"<LOD\",'Trace metal data'!S$38, \"ERROR\")))","v":""}]
[null,null,null,null,null,null,null,{"$f":"IF('Trace metal data'!H35=\"\",\"\",'Trace metal data'!H35)","v":""},{"$f":"IF('Trace metal data'!I35=\"\",\"\",'Trace metal data'!I35)","v":""},{"$f":"IFERROR(IF(K35=\"\",\"\",(IF(VLOOKUP(K35,'Application info'!$K$8:$L$37,2,0)=\"y\",\"y\",\"\"))),\"Manual entry required\")","v":""},{"$f":"IF('Trace metal data'!J35=\"\",\"\",'Trace metal data'!J35)","v":""},{"$f":"IF('Trace metal data'!L35=\"\",\"\",IF(ISNUMBER('Trace metal data'!L35)=TRUE, IF('Trace metal data'!L35<'Trace metal data'!L$38, \"ERROR\", 'Trace metal data'!L35), IF('Trace metal data'!L35=\"<LOD\",'Trace metal data'!L$38, \"ERROR\")))","v":""},{"$f":"IF('Trace metal data'!M35=\"\",\"\",IF(ISNUMBER('Trace metal data'!M35)=TRUE, IF('Trace metal data'!M35<'Trace metal data'!M$38, \"ERROR\", 'Trace metal data'!M35), IF('Trace metal data'!M35=\"<LOD\",'Trace metal data'!M$38, \"ERROR\")))","v":""},{"$f":"IF('Trace metal data'!N35=\"\",\"\",IF(ISNUMBER('Trace metal data'!N35)=TRUE, IF('Trace metal data'!N35<'Trace metal data'!N$38, \"ERROR\", 'Trace metal data'!N35), IF('Trace metal data'!N35=\"<LOD\",'Trace metal data'!N$38, \"ERROR\")))","v":""},{"$f":"IF('Trace metal data'!O35=\"\",\"\",IF(ISNUMBER('Trace metal data'!O35)=TRUE, IF('Trace metal data'!O35<'Trace metal data'!O$38, \"ERROR\", 'Trace metal data'!O35), IF('Trace metal data'!O35=\"<LOD\",'Trace metal data'!O$38, \"ERROR\")))","v":""},{"$f":"IF('Trace metal data'!P35=\"\",\"\",IF(ISNUMBER('Trace metal data'!P35)=TRUE, IF('Trace metal data'!P35<'Trace metal data'!P$38, \"ERROR\", 'Trace metal data'!P35), IF('Trace metal data'!P35=\"<LOD\",'Trace metal data'!P$38, \"ERROR\")))","v":""},{"$f":"IF('Trace metal data'!Q35=\"\",\"\",IF(ISNUMBER('Trace metal data'!Q35)=TRUE, IF('Trace metal data'!Q35<'Trace metal data'!Q$38, \"ERROR\", 'Trace metal data'!Q35), IF('Trace metal data'!Q35=\"<LOD\",'Trace metal data'!Q$38, \"ERROR\")))","v":""},{"$f":"IF('Trace metal data'!R35=\"\",\"\",IF(ISNUMBER('Trace metal data'!R35)=TRUE, IF('Trace metal data'!R35<'Trace metal data'!R$38, \"ERROR\", 'Trace metal data'!R35), IF('Trace metal data'!R35=\"<LOD\",'Trace metal data'!R$38, \"ERROR\")))","v":""},{"$f":"IF('Trace metal data'!S35=\"\",\"\",IF(ISNUMBER('Trace metal data'!S35)=TRUE, IF('Trace metal data'!S35<'Trace metal data'!S$38, \"ERROR\", 'Trace metal data'!S35), IF('Trace metal data'!S35=\"<LOD\",'Trace metal data'!S$38, \"ERROR\")))","v":""}]
[null,null,null,null,null,null,null,{"$f":"IF('Trace metal data'!H36=\"\",\"\",'Trace metal data'!H36)","v":""},{"$f":"IF('Trace metal data'!I36=\"\",\"\",'Trace metal data'!I36)","v":""},{"$f":"IFERROR(IF(K36=\"\",\"\",(IF(VLOOKUP(K36,'Application info'!$K$8:$L$37,2,0)=\"y\",\"y\",\"\"))),\"Manual entry required\")","v":""},{"$f":"IF('Trace metal data'!J36=\"\",\"\",'Trace metal data'!J36)","v":""},{"$f":"IF('Trace metal data'!L36=\"\",\"\",IF(ISNUMBER('Trace metal data'!L36)=TRUE, IF('Trace metal data'!L36<'Trace metal data'!L$38, \"ERROR\", 'Trace metal data'!L36), IF('Trace metal data'!L36=\"<LOD\",'Trace metal data'!L$38, \"ERROR\")))","v":""},{"$f":"IF('Trace metal data'!M36=\"\",\"\",IF(ISNUMBER('Trace metal data'!M36)=TRUE, IF('Trace metal data'!M36<'Trace metal data'!M$38, \"ERROR\", 'Trace metal data'!M36), IF('Trace metal data'!M36=\"<LOD\",'Trace metal data'!M$38, \"ERROR\")))","v":""},{"$f":"IF('Trace metal data'!N36=\"\",\"\",IF(ISNUMBER('Trace metal data'!N36)=TRUE, IF('Trace metal data'!N36<'Trace metal data'!N$38, \"ERROR\", 'Trace metal data'!N36), IF('Trace metal data'!N36=\"<LOD\",'Trace metal data'!N$38, \"ERROR\")))","v":""},{"$f":"IF('Trace metal data'!O36=\"\",\"\",IF(ISNUMBER('Trace metal data'!O36)=TRUE, IF('Trace metal data'!O36<'Trace metal data'!O$38, \"ERROR\", 'Trace metal data'!O36), IF('Trace metal data'!O36=\"<LOD\",'Trace metal data'!O$38, \"ERROR\")))","v":""},{"$f":"IF('Trace metal data'!P36=\"\",\"\",IF(ISNUMBER('Trace metal data'!P36)=TRUE, IF('Trace metal data'!P36<'Trace metal data'!P$38, \"ERROR\", 'Trace metal data'!P36), IF('Trace metal data'!P36=\"<LOD\",'Trace metal data'!P$38, \"ERROR\")))","v":""},{"$f":"IF('Trace metal data'!Q36=\"\",\"\",IF(ISNUMBER('Trace metal data'!Q36)=TRUE, IF('Trace metal data'!Q36<'Trace metal data'!Q$38, \"ERROR\", 'Trace metal data'!Q36), IF('Trace metal data'!Q36=\"<LOD\",'Trace metal data'!Q$38, \"ERROR\")))","v":""},{"$f":"IF('Trace metal data'!R36=\"\",\"\",IF(ISNUMBER('Trace metal data'!R36)=TRUE, IF('Trace metal data'!R36<'Trace metal data'!R$38, \"ERROR\", 'Trace metal data'!R36), IF('Trace metal data'!R36=\"<LOD\",'Trace metal data'!R$38, \"ERROR\")))","v":""},{"$f":"IF('Trace metal data'!S36=\"\",\"\",IF(ISNUMBER('Trace metal data'!S36)=TRUE, IF('Trace metal data'!S36<'Trace metal data'!S$38, \"ERROR\", 'Trace metal data'!S36), IF('Trace metal data'!S36=\"<LOD\",'Trace metal data'!S$38, \"ERROR\")))","v":""}]
[null,null,null,null,null,null,null,{"$f":"IF('Trace metal data'!H37=\"\",\"\",'Trace metal data'!H37)","v":""},{"$f":"IF('Trace metal data'!I37=\"\",\"\",'Trace metal data'!I37)","v":""},{"$f":"IFERROR(IF(K37=\"\",\"\",(IF(VLOOKUP(K37,'Application info'!$K$8:$L$37,2,0)=\"y\",\"y\",\"\"))),\"Manual entry required\")","v":""},{"$f":"IF('Trace metal data'!J37=\"\",\"\",'Trace metal data'!J37)","v":""},{"$f":"IF('Trace metal data'!L37=\"\",\"\",IF(ISNUMBER('Trace metal data'!L37)=TRUE, IF('Trace metal data'!L37<'Trace metal data'!L$38, \"ERROR\", 'Trace metal data'!L37), IF('Trace metal data'!L37=\"<LOD\",'Trace metal data'!L$38, \"ERROR\")))","v":""},{"$f":"IF('Trace metal data'!M37=\"\",\"\",IF(ISNUMBER('Trace metal data'!M37)=TRUE, IF('Trace metal data'!M37<'Trace metal data'!M$38, \"ERROR\", 'Trace metal data'!M37), IF('Trace metal data'!M37=\"<LOD\",'Trace metal data'!M$38, \"ERROR\")))","v":""},{"$f":"IF('Trace metal data'!N37=\"\",\"\",IF(ISNUMBER('Trace metal data'!N37)=TRUE, IF('Trace metal data'!N37<'Trace metal data'!N$38, \"ERROR\", 'Trace metal data'!N37), IF('Trace metal data'!N37=\"<LOD\",'Trace metal data'!N$38, \"ERROR\")))","v":""},{"$f":"IF('Trace metal data'!O37=\"\",\"\",IF(ISNUMBER('Trace metal data'!O37)=TRUE, IF('Trace metal data'!O37<'Trace metal data'!O$38, \"ERROR\", 'Trace metal data'!O37), IF('Trace metal data'!O37=\"<LOD\",'Trace metal data'!O$38, \"ERROR\")))","v":""},{"$f":"IF('Trace metal data'!P37=\"\",\"\",IF(ISNUMBER('Trace metal data'!P37)=TRUE, IF('Trace metal data'!P37<'Trace metal data'!P$38, \"ERROR\", 'Trace metal data'!P37), IF('Trace metal data'!P37=\"<LOD\",'Trace metal data'!P$38, \"ERROR\")))","v":""},{"$f":"IF('Trace metal data'!Q37=\"\",\"\",IF(ISNUMBER('Trace metal data'!Q37)=TRUE, IF('Trace metal data'!Q37<'Trace metal data'!Q$38, \"ERROR\", 'Trace metal data'!Q37), IF('Trace metal data'!Q37=\"<LOD\",'Trace metal data'!Q$38, \"ERROR\")))","v":""},{"$f":"IF('Trace metal data'!R37=\"\",\"\",IF(ISNUMBER('Trace metal data'!R37)=TRUE, IF('Trace metal data'!R37<'Trace metal data'!R$38, \"ERROR\", 'Trace metal data'!R37), IF('Trace metal data'!R37=\"<LOD\",'Trace metal data'!R$38, \"ERROR\")))","v":""},{"$f":"IF('Trace metal data'!S37=\"\",\"\",IF(ISNUMBER('Trace metal data'!S37)=TRUE, IF('Trace metal data'!S37<'Trace metal data'!S$38, \"ERROR\", 'Trace metal data'!S37), IF('Trace metal data'!S37=\"<LOD\",'Trace metal data'!S$38, \"ERROR\")))","v":""}]
[null,null,null,null,null,null,null,null,null,null,"Averages",{"$f":"IF(COUNT(L8:L37)<1,\"\", AVERAGE(L8:L37))","v":20.047826086956519},{"$f":"IF(COUNT(M8:M37)<1,\"\", AVERAGE(M8:M37))","v":0.46217391304347827},64.74347826086958,51.517391304347832,0.37304347826086959,31.22608695652174,137.5130434782609,206.15217391304347]
[]
[null,null,null,null,null,null,null,null,null,null,"Action level 1:",20,0.4,40,40,0.3,20,50,130]
[null,null,null,null,null,null,null,null,null,null,"Action level 2:",100,5,400,400,3,200,500,800]
[]
[]
[]
[null,null,null,null,null,null,null,"Transformation to wet weight (mg/kg)"]
[]
[null,null,null,null,null,null,null,"Laboratory sample number","Dredge Area","Excluded (y if yes)","Sample ID(s)","Metals as mg/kg wet weight"]
[null,null,null,null,null,null,null,null,null,null,null,"Arsenic (As)","Cadmium (Cd)","Chromium (Cr)","Copper (Cu)","Mercury (Hg)","Nickel (Ni)","Lead (Pb)","Zinc (Zn)"]
[null,null,null,null,null,null,null,{"$f":"IF(H8=\"\",\"\",H8)","v":"MAR02481.001"},"","",1,{"$f":"IF(L8=\"\",\"\",('Trace metal data'!$K8/100)*L8)","v":3.5793000000000008},{"$f":"IF(M8=\"\",\"\",('Trace metal data'!$K8/100)*M8)","v":0.32010000000000005},{"$f":"IF(N8=\"\",\"\",('Trace metal data'!$K8/100)*N8)","v":39.576000000000008},{"$f":"IF(O8=\"\",\"\",('Trace metal data'!$K8/100)*O8)","v":14.462700000000003},{"$f":"IF(P8=\"\",\"\",('Trace metal data'!$K8/100)*P8)","v":8.7300000000000003E-2},{"$f":"IF(Q8=\"\",\"\",('Trace metal data'!$K8/100)*Q8)","v":9.9522000000000013},{"$f":"IF(R8=\"\",\"\",('Trace metal data'!$K8/100)*R8)","v":90.210000000000008},{"$f":"IF(S8=\"\",\"\",('Trace metal data'!$K8/100)*S8)","v":102.43200000000002}]
[null,null,null,null,null,null,null,"MAR02481.002","","",2,{"$f":"IF(L9=\"\",\"\",('Trace metal data'!$K9/100)*L9)","v":3.1805999999999996},{"$f":"IF(M9=\"\",\"\",('Trace metal data'!$K9/100)*M9)","v":0.29294999999999999},{"$f":"IF(N9=\"\",\"\",('Trace metal data'!$K9/100)*N9)","v":34.037999999999997},{"$f":"IF(O9=\"\",\"\",('Trace metal data'!$K9/100)*O9)","v":13.140899999999998},{"$f":"IF(P9=\"\",\"\",('Trace metal data'!$K9/100)*P9)","v":8.0909999999999982E-2},{"$f":"IF(Q9=\"\",\"\",('Trace metal data'!$K9/100)*Q9)","v":9.4859999999999989},{"$f":"IF(R9=\"\",\"\",('Trace metal data'!$K9/100)*R9)","v":78.11999999999999},{"$f":"IF(S9=\"\",\"\",('Trace metal data'!$K9/100)*S9)","v":92.906999999999996}]
[null,null,null,null,null,null,null,"MAR02481.003","","",3,{"$f":"IF(L10=\"\",\"\",('Trace metal data'!$K10/100)*L10)","v":4.1527000000000003},{"$f":"IF(M10=\"\",\"\",('Trace metal data'!$K10/100)*M10)","v":0.29164000000000001},{"$f":"IF(N10=\"\",\"\",('Trace metal data'!$K10/100)*N10)","v":29.671199999999999},{"$f":"IF(O10=\"\",\"\",('Trace metal data'!$K10/100)*O10)","v":17.688600000000001},{"$f":"IF(P10=\"\",\"\",('Trace metal data'!$K10/100)*P10)","v":0.12997},{"$f":"IF(Q10=\"\",\"\",('Trace metal data'!$K10/100)*Q10)","v":11.095000000000001},{"$f":"IF(R10=\"\",\"\",('Trace metal data'!$K10/100)*R10)","v":75.445999999999998},{"$f":"IF(S10=\"\",\"\",('Trace metal data'!$K10/100)*S10)","v":99.221000000000004}]
[null,null,null,null,null,null,null,"MAR02481.004","","",4,{"$f":"IF(L11=\"\",\"\",('Trace metal data'!$K11/100)*L11)","v":5.7525000000000004},{"$f":"IF(M11=\"\",\"\",('Trace metal data'!$K11/100)*M11)","v":0.27950000000000003},{"$f":"IF(N11=\"\",\"\",('Trace metal data'!$K11/100)*N11)","v":31.07},{"$f":"IF(O11=\"\",\"\",('Trace metal data'!$K11/100)*O11)","v":22.327500000000001},{"$f":"IF(P11=\"\",\"\",('Trace metal data'!$K11/100)*P11)","v":0.1885},{"$f":"IF(Q11=\"\",\"\",('Trace metal data'!$K11/100)*Q11)","v":11.440000000000001},{"$f":"IF(R11=\"\",\"\",('Trace metal data'!$K11/100)*R11)","v":73.775000000000006},{"$f":"IF(S11=\"\",\"\",('Trace metal data'!$K11/100)*S11)","v":96.525000000000006}]
[null,null,null,null,null,null,null,"MAR02481.005","","",5,{"$f":"IF(L12=\"\",\"\",('Trace metal data'!$K12/100)*L12)","v":7.6095999999999986},{"$f":"IF(M12=\"\",\"\",('Trace metal data'!$K12/100)*M12)","v":0.35727999999999999},{"$f":"IF(N12=\"\",\"\",('Trace metal data'!$K12/100)*N12)","v":36.980800000000002},{"$f":"IF(O12=\"\",\"\",('Trace metal data'!$K12/100)*O12)","v":39.857599999999998},{"$f":"IF(P12=\"\",\"\",('Trace metal data'!$K12/100)*P12)","v":0.25984000000000002},{"$f":"IF(Q12=\"\",\"\",('Trace metal data'!$K12/100)*Q12)","v":15.961599999999999},{"$f":"IF(R12=\"\",\"\",('Trace metal data'!$K12/100)*R12)","v":95.11999999999999},{"$f":"IF(S12=\"\",\"\",('Trace metal data'!$K12/100)*S12)","v":139.66399999999999}]
[null,null,null,null,null,null,null,"MAR02481.006","","",6,{"$f":"IF(L13=\"\",\"\",('Trace metal data'!$K13/100)*L13)","v":7.2035999999999989},{"$f":"IF(M13=\"\",\"\",('Trace metal data'!$K13/100)*M13)","v":0.34361999999999998},{"$f":"IF(N13=\"\",\"\",('Trace metal data'!$K13/100)*N13)","v":38.088000000000001},{"$f":"IF(O13=\"\",\"\",('Trace metal data'!$K13/100)*O13)","v":29.352600000000002},{"$f":"IF(P13=\"\",\"\",('Trace metal data'!$K13/100)*P13)","v":0.26495999999999997},{"$f":"IF(Q13=\"\",\"\",('Trace metal data'!$K13/100)*Q13)","v":14.407199999999998},{"$f":"IF(R13=\"\",\"\",('Trace metal data'!$K13/100)*R13)","v":89.423999999999992},{"$f":"IF(S13=\"\",\"\",('Trace metal data'!$K13/100)*S13)","v":118.818}]
[null,null,null,null,null,null,null,"MAR02481.007","","",7,{"$f":"IF(L14=\"\",\"\",('Trace metal data'!$K14/100)*L14)","v":6.4183000000000003},{"$f":"IF(M14=\"\",\"\",('Trace metal data'!$K14/100)*M14)","v":0.21146999999999999},{"$f":"IF(N14=\"\",\"\",('Trace metal data'!$K14/100)*N14)","v":28.3444},{"$f":"IF(O14=\"\",\"\",('Trace metal data'!$K14/100)*O14)","v":21.480899999999998},{"$f":"IF(P14=\"\",\"\",('Trace metal data'!$K14/100)*P14)","v":0.1484},{"$f":"IF(Q14=\"\",\"\",('Trace metal data'!$K14/100)*Q14)","v":12.6511},{"$f":"IF(R14=\"\",\"\",('Trace metal data'!$K14/100)*R14)","v":64.554000000000002},{"$f":"IF(S14=\"\",\"\",('Trace metal data'!$K14/100)*S14)","v":90.524000000000001}]
[null,null,null,null,null,null,null,"MAR02481.008","","",8,{"$f":"IF(L15=\"\",\"\",('Trace metal data'!$K15/100)*L15)","v":7.3162000000000003},{"$f":"IF(M15=\"\",\"\",('Trace metal data'!$K15/100)*M15)","v":0.27028000000000002},{"$f":"IF(N15=\"\",\"\",('Trace metal data'!$K15/100)*N15)","v":34.484000000000002},{"$f":"IF(O15=\"\",\"\",('Trace metal data'!$K15/100)*O15)","v":30.756},{"$f":"IF(P15=\"\",\"\",('Trace metal data'!$K15/100)*P15)","v":0.21436000000000002},{"$f":"IF(Q15=\"\",\"\",('Trace metal data'!$K15/100)*Q15)","v":15.471200000000001},{"$f":"IF(R15=\"\",\"\",('Trace metal data'!$K15/100)*R15)","v":68.50200000000001},{"$f":"IF(S15=\"\",\"\",('Trace metal data'!$K15/100)*S15)","v":121.16000000000001}]
[null,null,null,null,null,null,null,"MAR02481.009","","",9,{"$f":"IF(L16=\"\",\"\",('Trace metal data'!$K16/100)*L16)","v":7.113599999999999},{"$f":"IF(M16=\"\",\"\",('Trace metal data'!$K16/100)*M16)","v":0.14591999999999999},{"$f":"IF(N16=\"\",\"\",('Trace metal data'!$K16/100)*N16)","v":28.0288},{"$f":"IF(O16=\"\",\"\",('Trace metal data'!$K16/100)*O16)","v":29.6096},{"$f":"IF(P16=\"\",\"\",('Trace metal data'!$K16/100)*P16)","v":0.11552},{"$f":"IF(Q16=\"\",\"\",('Trace metal data'!$K16/100)*Q16)","v":21.948800000000002},{"$f":"IF(R16=\"\",\"\",('Trace metal data'!$K16/100)*R16)","v":34.534399999999998},{"$f":"IF(S16=\"\",\"\",('Trace metal data'!$K16/100)*S16)","v":76.608000000000004}]
[null,null,null,null,null,null,null,"MAR02481.010","","",10,{"$f":"IF(L17=\"\",\"\",('Trace metal data'!$K17/100)*L17)","v":9.9385999999999992},{"$f":"IF(M17=\"\",\"\",('Trace metal data'!$K17/100)*M17)","v":0.14656},{"$f":"IF(N17=\"\",\"\",('Trace metal data'!$K17/100)*N17)","v":27.021999999999998},{"$f":"IF(O17=\"\",\"\",('Trace metal data'!$K17/100)*O17)","v":25.006799999999998},{"$f":"IF(P17=\"\",\"\",('Trace metal data'!$K17/100)*P17)","v":0.16487999999999997},{"$f":"IF(Q17=\"\",\"\",('Trace metal data'!$K17/100)*Q17)","v":15.159799999999999},{"$f":"IF(R17=\"\",\"\",('Trace metal data'!$K17/100)*R17)","v":48.547999999999995},{"$f":"IF(S17=\"\",\"\",('Trace metal data'!$K17/100)*S17)","v":85.187999999999988}]
[null,null,null,null,null,null,null,{"$f":"IF(H18=\"\",\"\",H18)","v":"MAR02481.011"},"","",11,{"$f":"IF(L18=\"\",\"\",('Trace metal data'!$K18/100)*L18)","v":11.902199999999999},{"$f":"IF(M18=\"\",\"\",('Trace metal data'!$K18/100)*M18)","v":0.38718000000000002},{"$f":"IF(N18=\"\",\"\",('Trace metal data'!$K18/100)*N18)","v":38.813600000000001},{"$f":"IF(O18=\"\",\"\",('Trace metal data'!$K18/100)*O18)","v":43.880399999999995},{"$f":"IF(P18=\"\",\"\",('Trace metal data'!$K18/100)*P18)","v":0.37762000000000001},{"$f":"IF(Q18=\"\",\"\",('Trace metal data'!$K18/100)*Q18)","v":16.921199999999999},{"$f":"IF(R18=\"\",\"\",('Trace metal data'!$K18/100)*R18)","v":80.781999999999996},{"$f":"IF(S18=\"\",\"\",('Trace metal data'!$K18/100)*S18)","v":144.35599999999999}]
[null,null,null,null,null,null,null,"MAR02481.012","","",12,{"$f":"IF(L19=\"\",\"\",('Trace metal data'!$K19/100)*L19)","v":8.9687999999999999},{"$f":"IF(M19=\"\",\"\",('Trace metal data'!$K19/100)*M19)","v":0.19536000000000001},{"$f":"IF(N19=\"\",\"\",('Trace metal data'!$K19/100)*N19)","v":28.193999999999999},{"$f":"IF(O19=\"\",\"\",('Trace metal data'!$K19/100)*O19)","v":28.1496},{"$f":"IF(P19=\"\",\"\",('Trace metal data'!$K19/100)*P19)","v":0.20868},{"$f":"IF(Q19=\"\",\"\",('Trace metal data'!$K19/100)*Q19)","v":14.696400000000001},{"$f":"IF(R19=\"\",\"\",('Trace metal data'!$K19/100)*R19)","v":49.728000000000002},{"$f":"IF(S19=\"\",\"\",('Trace metal data'!$K19/100)*S19)","v":89.244}]
[null,null,null,null,null,null,null,"MAR02481.013","","",13,{"$f":"IF(L20=\"\",\"\",('Trace metal data'!$K20/100)*L20)","v":9.604000000000001},{"$f":"IF(M20=\"\",\"\",('Trace metal data'!$K20/100)*M20)","v":0.2205},{"$f":"IF(N20=\"\",\"\",('Trace metal data'!$K20/100)*N20)","v":27.195},{"$f":"IF(O20=\"\",\"\",('Trace metal data'!$K20/100)*O20)","v":28.763000000000002},{"$f":"IF(P20=\"\",\"\",('Trace metal data'!$K20/100)*P20)","v":0.19600000000000001},{"$f":"IF(Q20=\"\",\"\",('Trace metal data'!$K20/100)*Q20)","v":15.582000000000001},{"$f":"IF(R20=\"\",\"\",('Trace metal data'!$K20/100)*R20)","v":49.98},{"$f":"IF(S20=\"\",\"\",('Trace metal data'!$K20/100)*S20)","v":98.98}]
[null,null,null,null,null,null,null,"MAR02481.014","","",15,{"$f":"IF(L21=\"\",\"\",('Trace metal data'!$K21/100)*L21)","v":12.509499999999999},{"$f":"IF(M21=\"\",\"\",('Trace metal data'!$K21/100)*M21)","v":0.1905},{"$f":"IF(N21=\"\",\"\",('Trace metal data'!$K21/100)*N21)","v":29.972000000000001},{"$f":"IF(O21=\"\",\"\",('Trace metal data'!$K21/100)*O21)","v":26.67},{"$f":"IF(P21=\"\",\"\",('Trace metal data'!$K21/100)*P21)","v":0.2286},{"$f":"IF(Q21=\"\",\"\",('Trace metal data'!$K21/100)*Q21)","v":18.4785},{"$f":"IF(R21=\"\",\"\",('Trace metal data'!$K21/100)*R21)","v":55.816500000000005},{"$f":"IF(S21=\"\",\"\",('Trace metal data'!$K21/100)*S21)","v":95.885000000000005}]
[null,null,null,null,null,null,null,"MAR02481.015","","",17,{"$f":"IF(L22=\"\",\"\",('Trace metal data'!$K22/100)*L22)","v":12.909599999999999},{"$f":"IF(M22=\"\",\"\",('Trace metal data'!$K22/100)*M22)","v":6.8460000000000007E-2},{"$f":"IF(N22=\"\",\"\",('Trace metal data'!$K22/100)*N22)","v":21.467099999999999},{"$f":"IF(O22=\"\",\"\",('Trace metal data'!$K22/100)*O22)","v":18.337499999999999},{"$f":"IF(P22=\"\",\"\",('Trace metal data'!$K22/100)*P22)","v":0.14180999999999999},{"$f":"IF(Q22=\"\",\"\",('Trace metal data'!$K22/100)*Q22)","v":13.887599999999999},{"$f":"IF(R22=\"\",\"\",('Trace metal data'!$K22/100)*R22)","v":43.521000000000001},{"$f":"IF(S22=\"\",\"\",('Trace metal data'!$K22/100)*S22)","v":66.504000000000005}]
[null,null,null,null,null,null,null,"MAR02481.016","","",18,{"$f":"IF(L23=\"\",\"\",('Trace metal data'!$K23/100)*L23)","v":14.490000000000002},{"$f":"IF(M23=\"\",\"\",('Trace metal data'!$K23/100)*M23)","v":7.8750000000000001E-2},{"$f":"IF(N23=\"\",\"\",('Trace metal data'!$K23/100)*N23)","v":21.945},{"$f":"IF(O23=\"\",\"\",('Trace metal data'!$K23/100)*O23)","v":18.217500000000001},{"$f":"IF(P23=\"\",\"\",('Trace metal data'!$K23/100)*P23)","v":0.14700000000000002},{"$f":"IF(Q23=\"\",\"\",('Trace metal data'!$K23/100)*Q23)","v":14.857500000000002},{"$f":"IF(R23=\"\",\"\",('Trace metal data'!$K23/100)*R23)","v":46.410000000000004},{"$f":"IF(S23=\"\",\"\",('Trace metal data'!$K23/100)*S23)","v":69.825000000000003}]
[null,null,null,null,null,null,null,"MAR02481.017","","",19,{"$f":"IF(L24=\"\",\"\",('Trace metal data'!$K24/100)*L24)","v":13.391999999999999},{"$f":"IF(M24=\"\",\"\",('Trace metal data'!$K24/100)*M24)","v":6.720000000000001E-2},{"$f":"IF(N24=\"\",\"\",('Trace metal data'!$K24/100)*N24)","v":19.872},{"$f":"IF(O24=\"\",\"\",('Trace metal data'!$K24/100)*O24)","v":16.656000000000002},{"$f":"IF(P24=\"\",\"\",('Trace metal data'!$K24/100)*P24)","v":0.13919999999999999},{"$f":"IF(Q24=\"\",\"\",('Trace metal data'!$K24/100)*Q24)","v":13.391999999999999},{"$f":"IF(R24=\"\",\"\",('Trace metal data'!$K24/100)*R24)","v":38.352000000000004},{"$f":"IF(S24=\"\",\"\",('Trace metal data'!$K24/100)*S24)","v":62.4}]
[null,null,null,null,null,null,null,"MAR02481.018","","",20,{"$f":"IF(L25=\"\",\"\",('Trace metal data'!$K25/100)*L25)","v":15.9444},{"$f":"IF(M25=\"\",\"\",('Trace metal data'!$K25/100)*M25)","v":7.2240000000000013E-2},{"$f":"IF(N25=\"\",\"\",('Trace metal data'!$K25/100)*N25)","v":22.239600000000003},{"$f":"IF(O25=\"\",\"\",('Trace metal data'!$K25/100)*O25)","v":20.64},{"$f":"IF(P25=\"\",\"\",('Trace metal data'!$K25/100)*P25)","v":0.15479999999999999},{"$f":"IF(Q25=\"\",\"\",('Trace metal data'!$K25/100)*Q25)","v":15.738},{"$f":"IF(R25=\"\",\"\",('Trace metal data'!$K25/100)*R25)","v":48.452400000000004},{"$f":"IF(S25=\"\",\"\",('Trace metal data'!$K25/100)*S25)","v":73.272000000000006}]
[null,null,null,null,null,null,null,"MAR02481.019","","",21,{"$f":"IF(L26=\"\",\"\",('Trace metal data'!$K26/100)*L26)","v":12.499199999999998},{"$f":"IF(M26=\"\",\"\",('Trace metal data'!$K26/100)*M26)","v":0.10601999999999999},{"$f":"IF(N26=\"\",\"\",('Trace metal data'!$K26/100)*N26)","v":26.895599999999998},{"$f":"IF(O26=\"\",\"\",('Trace metal data'!$K26/100)*O26)","v":24.998399999999997},{"$f":"IF(P26=\"\",\"\",('Trace metal data'!$K26/100)*P26)","v":0.16739999999999997},{"$f":"IF(Q26=\"\",\"\",('Trace metal data'!$K26/100)*Q26)","v":17.0748},{"$f":"IF(R26=\"\",\"\",('Trace metal data'!$K26/100)*R26)","v":54.349199999999996},{"$f":"IF(S26=\"\",\"\",('Trace metal data'!$K26/100)*S26)","v":90.953999999999994}]
[null,null,null,null,null,null,null,"MAR02481.020","","",22,{"$f":"IF(L27=\"\",\"\",('Trace metal data'!$K27/100)*L27)","v":9.24},{"$f":"IF(M27=\"\",\"\",('Trace metal data'!$K27/100)*M27)","v":2.64E-2},{"$f":"IF(N27=\"\",\"\",('Trace metal data'!$K27/100)*N27)","v":11.836},{"$f":"IF(O27=\"\",\"\",('Trace metal data'!$K27/100)*O27)","v":10.252000000000001},{"$f":"IF(P27=\"\",\"\",('Trace metal data'!$K27/100)*P27)","v":7.0400000000000004E-2},{"$f":"IF(Q27=\"\",\"\",('Trace metal data'!$K27/100)*Q27)","v":8.9320000000000004},{"$f":"IF(R27=\"\",\"\",('Trace metal data'!$K27/100)*R27)","v":22.22},{"$f":"IF(S27=\"\",\"\",('Trace metal data'!$K27/100)*S27)","v":39.82}]
[null,null,null,null,null,null,null,{"$f":"IF(H28=\"\",\"\",H28)","v":"MAR02481.021"},"","",23,{"$f":"IF(L28=\"\",\"\",('Trace metal data'!$K28/100)*L28)","v":11.6424},{"$f":"IF(M28=\"\",\"\",('Trace metal data'!$K28/100)*M28)","v":2.3519999999999999E-2},{"$f":"IF(N28=\"\",\"\",('Trace metal data'!$K28/100)*N28)","v":10.113599999999998},{"$f":"IF(O28=\"\",\"\",('Trace metal data'!$K28/100)*O28)","v":8.9963999999999995},{"$f":"IF(P28=\"\",\"\",('Trace metal data'!$K28/100)*P28)","v":5.2919999999999995E-2},{"$f":"IF(Q28=\"\",\"\",('Trace metal data'!$K28/100)*Q28)","v":8.9375999999999998},{"$f":"IF(R28=\"\",\"\",('Trace metal data'!$K28/100)*R28)","v":23.814},{"$f":"IF(S28=\"\",\"\",('Trace metal data'!$K28/100)*S28)","v":40.571999999999996}]
[null,null,null,null,null,null,null,"MAR02481.022","","",24,{"$f":"IF(L29=\"\",\"\",('Trace metal data'!$K29/100)*L29)","v":14.608099999999999},{"$f":"IF(M29=\"\",\"\",('Trace metal data'!$K29/100)*M29)","v":0.23134999999999994},{"$f":"IF(N29=\"\",\"\",('Trace metal data'!$K29/100)*N29)","v":40.122699999999995},{"$f":"IF(O29=\"\",\"\",('Trace metal data'!$K29/100)*O29)","v":37.148199999999996},{"$f":"IF(P29=\"\",\"\",('Trace metal data'!$K29/100)*P29)","v":0.24456999999999995},{"$f":"IF(Q29=\"\",\"\",('Trace metal data'!$K29/100)*Q29)","v":22.473999999999997},{"$f":"IF(R29=\"\",\"\",('Trace metal data'!$K29/100)*R29)","v":76.675999999999988},{"$f":"IF(S29=\"\",\"\",('Trace metal data'!$K29/100)*S29)","v":124.92899999999999}]
[null,null,null,null,null,null,null,"MAR02481.023","","",25,{"$f":"IF(L30=\"\",\"\",('Trace metal data'!$K30/100)*L30)","v":15.0809},{"$f":"IF(M30=\"\",\"\",('Trace metal data'!$K30/100)*M30)","v":0.11358},{"$f":"IF(N30=\"\",\"\",('Trace metal data'!$K30/100)*N30)","v":27.827100000000002},{"$f":"IF(O30=\"\",\"\",('Trace metal data'!$K30/100)*O30)","v":23.473200000000002},{"$f":"IF(P30=\"\",\"\",('Trace metal data'!$K30/100)*P30)","v":0.18298999999999999},{"$f":"IF(Q30=\"\",\"\",('Trace metal data'!$K30/100)*Q30)","v":18.6145},{"$f":"IF(R30=\"\",\"\",('Trace metal data'!$K30/100)*R30)","v":48.271500000000003},{"$f":"IF(S30=\"\",\"\",('Trace metal data'!$K30/100)*S30)","v":84.554000000000002}]
[null,null,null,null,null,null,null,"","","","",{"$f":"IF(L31=\"\",\"\",('Trace metal data'!$K31/100)*L31)","v":""},{"$f":"IF(M31=\"\",\"\",('Trace metal data'!$K31/100)*M31)","v":""},{"$f":"IF(N31=\"\",\"\",('Trace metal data'!$K31/100)*N31)","v":""},{"$f":"IF(O31=\"\",\"\",('Trace metal data'!$K31/100)*O31)","v":""},{"$f":"IF(P31=\"\",\"\",('Trace metal data'!$K31/100)*P31)","v":""},{"$f":"IF(Q31=\"\",\"\",('Trace metal data'!$K31/100)*Q31)","v":""},{"$f":"IF(R31=\"\",\"\",('Trace metal data'!$K31/100)*R31)","v":""},{"$f":"IF(S31=\"\",\"\",('Trace metal data'!$K31/100)*S31)","v":""}]
[null,null,null,null,null,null,null,"","","","",{"$f":"IF(L32=\"\",\"\",('Trace metal data'!$K32/100)*L32)","v":""},{"$f":"IF(M32=\"\",\"\",('Trace metal data'!$K32/100)*M32)","v":""},{"$f":"IF(N32=\"\",\"\",('Trace metal data'!$K32/100)*N32)","v":""},{"$f":"IF(O32=\"\",\"\",('Trace metal data'!$K32/100)*O32)","v":""},{"$f":"IF(P32=\"\",\"\",('Trace metal data'!$K32/100)*P32)","v":""},{"$f":"IF(Q32=\"\",\"\",('Trace metal data'!$K32/100)*Q32)","v":""},{"$f":"IF(R32=\"\",\"\",('Trace metal data'!$K32/100)*R32)","v":""},{"$f":"IF(S32=\"\",\"\",('Trace metal data'!$K32/100)*S32)","v":""}]
[null,null,null,null,null,null,null,"","","","",{"$f":"IF(L33=\"\",\"\",('Trace metal data'!$K33/100)*L33)","v":""},{"$f":"IF(M33=\"\",\"\",('Trace metal data'!$K33/100)*M33)","v":""},{"$f":"IF(N33=\"\",\"\",('Trace metal data'!$K33/100)*N33)","v":""},{"$f":"IF(O33=\"\",\"\",('Trace metal data'!$K33/100)*O33)","v":""},{"$f":"IF(P33=\"\",\"\",('Trace metal data'!$K33/100)*P33)","v":""},{"$f":"IF(Q33=\"\",\"\",('Trace metal data'!$K33/100)*Q33)","v":""},{"$f":"IF(R33=\"\",\"\",('Trace metal data'!$K33/100)*R33)","v":""},{"$f":"IF(S33=\"\",\"\",('Trace metal data'!$K33/100)*S33)","v":""}]
[null,null,null,null,null,null,null,"","","","",{"$f":"IF(L34=\"\",\"\",('Trace metal data'!$K34/100)*L34)","v":""},{"$f":"IF(M34=\"\",\"\",('Trace metal data'!$K34/100)*M34)","v":""},{"$f":"IF(N34=\"\",\"\",('Trace metal data'!$K34/100)*N34)","v":""},{"$f":"IF(O34=\"\",\"\",('Trace metal data'!$K34/100)*O34)","v":""},{"$f":"IF(P34=\"\",\"\",('Trace metal data'!$K34/100)*P34)","v":""},{"$f":"IF(Q34=\"\",\"\",('Trace metal data'!$K34/100)*Q34)","v":""},{"$f":"IF(R34=\"\",\"\",('Trace metal data'!$K34/100)*R34)","v":""},{"$f":"IF(S34=\"\",\"\",('Trace metal data'!$K34/100)*S34)","v":""}]
[null,null,null,null,null,null,null,"","","","",{"$f":"IF(L35=\"\",\"\",('Trace metal data'!$K35/100)*L35)","v":""},{"$f":"IF(M35=\"\",\"\",('Trace metal data'!$K35/100)*M35)","v":""},{"$f":"IF(N35=\"\",\"\",('Trace metal data'!$K35/100)*N35)","v":""},{"$f":"IF(O35=\"\",\"\",('Trace metal data'!$K35/100)*O35)","v":""},{"$f":"IF(P35=\"\",\"\",('Trace metal data'!$K35/100)*P35)","v":""},{"$f":"IF(Q35=\"\",\"\",('Trace metal data'!$K35/100)*Q35)","v":""},{"$f":"IF(R35=\"\",\"\",('Trace metal data'!$K35/100)*R35)","v":""},{"$f":"IF(S35=\"\",\"\",('Trace metal data'!$K35/100)*S35)","v":""}]
[null,null,null,null,null,null,null,"","","","",{"$f":"IF(L36=\"\",\"\",('Trace metal data'!$K36/100)*L36)","v":""},{"$f":"IF(M36=\"\",\"\",('Trace metal data'!$K36/100)*M36)","v":""},{"$f":"IF(N36=\"\",\"\",('Trace metal data'!$K36/100)*N36)","v":""},{"$f":"IF(O36=\"\",\"\",('Trace metal data'!$K36/100)*O36)","v":""},{"$f":"IF(P36=\"\",\"\",('Trace metal data'!$K36/100)*P36)","v":""},{"$f":"IF(Q36=\"\",\"\",('Trace metal data'!$K36/100)*Q36)","v":""},{"$f":"IF(R36=\"\",\"\",('Trace metal data'!$K36/100)*R36)","v":""},{"$f":"IF(S36=\"\",\"\",('Trace metal data'!$K36/100)*S36)","v":""}]
[null,null,null,null,null,null,null,"","","","",{"$f":"IF(L37=\"\",\"\",('Trace metal data'!$K37/100)*L37)","v":""},{"$f":"IF(M37=\"\",\"\",('Trace metal data'!$K37/100)*M37)","v":""},{"$f":"IF(N37=\"\",\"\",('Trace metal data'!$K37/100)*N37)","v":""},{"$f":"IF(O37=\"\",\"\",('Trace metal data'!$K37/100)*O37)","v":""},{"$f":"IF(P37=\"\",\"\",('Trace metal data'!$K37/100)*P37)","v":""},{"$f":"IF(Q37=\"\",\"\",('Trace metal data'!$K37/100)*Q37)","v":""},{"$f":"IF(R37=\"\",\"\",('Trace metal data'!$K37/100)*R37)","v":""},{"$f":"IF(S37=\"\",\"\",('Trace metal data'!$K37/100)*S37)","v":""}]
[null,null,null,null,null,null,null,null,null,null,null,{"$f":"IF(COUNT(L49:L78)<1,\"\", AVERAGE(L49:L78))","v":9.7850478260869576},0.19305999999999998,28.425934782608692,23.907191304347826,0.17246217391304344,14.659086956521739,58.982869565217392,91.4931304347826]
[]
[]
[]
[null,null,null,null,null,null,null,"Removal of excluded areas"]
[]
[null,null,null,null,null,null,null,"Laboratory sample number","Dredge Area","Excluded (y if yes)","Sample ID(s)","Metals as mg/kg wet weight"]
[null,null,null,null,null,null,null,null,null,null,null,"Arsenic (As)","Cadmium (Cd)","Chromium (Cr)","Copper (Cu)","Mercury (Hg)","Nickel (Ni)","Lead (Pb)","Zinc (Zn)"]
[null,null,null,null,null,null,null,{"$f":"IF(H49=\"\",\"\",H49)","v":"MAR02481.001"},{"$f":"IF(J87=\"y\",\"\",I49)","v":""},"",{"$f":"IF(J87=\"y\",\"\",K49)","v":1},{"$f":"IF($J49=\"y\",\"\",L49)","v":3.5793000000000008},{"$f":"IF($J49=\"y\",\"\",M49)","v":0.32010000000000005},39.576000000000008,14.462700000000003,8.7300000000000003E-2,9.9522000000000013,90.210000000000008,102.43200000000002]
[null,null,null,null,null,null,null,"MAR02481.002",{"$f":"IF(J88=\"y\",\"\",I50)","v":""},"",{"$f":"IF(J88=\"y\",\"\",K50)","v":2},{"$f":"IF($J50=\"y\",\"\",L50)","v":3.1805999999999996},0.29294999999999999,34.037999999999997,13.140899999999998,8.0909999999999982E-2,9.4859999999999989,78.11999999999999,92.906999999999996]
[null,null,null,null,null,null,null,"MAR02481.003","","",3,{"$f":"IF($J51=\"y\",\"\",L51)","v":4.1527000000000003},0.29164000000000001,29.671199999999999,17.688600000000001,0.12997,11.095000000000001,75.445999999999998,99.221000000000004]
[null,null,null,null,null,null,null,"MAR02481.004","","",4,{"$f":"IF($J52=\"y\",\"\",L52)","v":5.7525000000000004},0.27950000000000003,31.07,22.327500000000001,0.1885,11.440000000000001,73.775000000000006,96.525000000000006]
[null,null,null,null,null,null,null,"MAR02481.005","","",5,{"$f":"IF($J53=\"y\",\"\",L53)","v":7.6095999999999986},0.35727999999999999,36.980800000000002,39.857599999999998,0.25984000000000002,15.961599999999999,95.11999999999999,139.66399999999999]
[null,null,null,null,null,null,null,"MAR02481.006","","",6,{"$f":"IF($J54=\"y\",\"\",L54)","v":7.2035999999999989},0.34361999999999998,38.088000000000001,29.352600000000002,0.26495999999999997,14.407199999999998,89.423999999999992,118.818]
[null,null,null,null,null,null,null,"MAR02481.007","","",7,{"$f":"IF($J55=\"y\",\"\",L55)","v":6.4183000000000003},0.21146999999999999,28.3444,21.480899999999998,0.1484,12.6511,64.554000000000002,90.524000000000001]
[null,null,null,null,null,null,null,"MAR02481.008","","",8,{"$f":"IF($J56=\"y\",\"\",L56)","v":7.3162000000000003},0.27028000000000002,34.484000000000002,30.756,0.21436000000000002,15.471200000000001,68.50200000000001,121.16000000000001]
[null,null,null,null,null,null,null,"MAR02481.009","","",9,{"$f":"IF($J57=\"y\",\"\",L57)","v":7.113599999999999},0.14591999999999999,28.0288,29.6096,0.11552,21.948800000000002,34.534399999999998,76.608000000000004]
[null,null,null,null,null,null,null,"MAR02481.010","","",10,{"$f":"IF($J58=\"y\",\"\",L58)","v":9.9385999999999992},0.14656,27.021999999999998,25.006799999999998,0.16487999999999997,15.159799999999999,48.547999999999995,85.187999999999988]
[null,null,null,null,null,null,null,"MAR02481.011","","",11,{"$f":"IF($J59=\"y\",\"\",L59)","v":11.902199999999999},0.38718000000000002,38.813600000000001,43.880399999999995,0.37762000000000001,16.921199999999999,80.781999999999996,144.35599999999999]
[null,null,null,null,null,null,null,"MAR02481.012","","",12,{"$f":"IF($J60=\"y\",\"\",L60)","v":8.9687999999999999},0.19536000000000001,28.193999999999999,28.1496,0.20868,14.696400000000001,49.728000000000002,89.244]
[null,null,null,null,null,null,null,"MAR02481.013","","",13,{"$f":"IF($J61=\"y\",\"\",L61)","v":9.604000000000001},0.2205,27.195,28.763000000000002,0.19600000000000001,15.582000000000001,49.98,98.98]
[null,null,null,null,null,null,null,"MAR02481.014","","",15,{"$f":"IF($J62=\"y\",\"\",L62)","v":12.509499999999999},0.1905,29.972000000000001,26.67,0.2286,18.4785,55.816500000000005,95.885000000000005]
[null,null,null,null,null,null,null,"MAR02481.015","","",17,{"$f":"IF($J63=\"y\",\"\",L63)","v":12.909599999999999},6.8460000000000007E-2,21.467099999999999,18.337499999999999,0.14180999999999999,13.887599999999999,43.521000000000001,66.504000000000005]
[null,null,null,null,null,null,null,"MAR02481.016","","",18,{"$f":"IF($J64=\"y\",\"\",L64)","v":14.490000000000002},7.8750000000000001E-2,21.945,18.217500000000001,0.14700000000000002,14.857500000000002,46.410000000000004,69.825000000000003]
[null,null,null,null,null,null,null,"MAR02481.017","","",19,{"$f":"IF($J65=\"y\",\"\",L65)","v":13.391999999999999},6.720000000000001E-2,19.872,16.656000000000002,0.13919999999999999,13.391999999999999,38.352000000000004,62.4]
[null,null,null,null,null,null,null,"MAR02481.018","","",20,{"$f":"IF($J66=\"y\",\"\",L66)","v":15.9444},7.2240000000000013E-2,22.239600000000003,20.64,0.15479999999999999,15.738,48.452400000000004,73.272000000000006]
[null,null,null,null,null,null,null,"MAR02481.019","","",21,{"$f":"IF($J67=\"y\",\"\",L67)","v":12.499199999999998},0.10601999999999999,26.895599999999998,24.998399999999997,0.16739999999999997,17.0748,54.349199999999996,90.953999999999994]
[null,null,null,null,null,null,null,"MAR02481.020","","",22,{"$f":"IF($J68=\"y\",\"\",L68)","v":9.24},2.64E-2,11.836,10.252000000000001,7.0400000000000004E-2,8.9320000000000004,22.22,39.82]
[null,null,null,null,null,null,null,"MAR02481.021","","",23,{"$f":"IF($J69=\"y\",\"\",L69)","v":11.6424},2.3519999999999999E-2,10.113599999999998,8.9963999999999995,5.2919999999999995E-2,8.9375999999999998,23.814,40.571999999999996]
[null,null,null,null,null,null,null,"MAR02481.022","","",24,{"$f":"IF($J70=\"y\",\"\",L70)","v":14.608099999999999},0.23134999999999994,40.122699999999995,37.148199999999996,0.24456999999999995,22.473999999999997,76.675999999999988,124.92899999999999]
[null,null,null,null,null,null,null,"MAR02481.023","","",25,{"$f":"IF($J71=\"y\",\"\",L71)","v":15.0809},0.11358,27.827100000000002,23.473200000000002,0.18298999999999999,18.6145,48.271500000000003,84.554000000000002]
[null,null,null,null,null,null,null,"","","","",{"$f":"IF($J72=\"y\",\"\",L72)","v":""},"","","","","","",""]
[null,null,null,null,null,null,null,"","","","",{"$f":"IF($J73=\"y\",\"\",L73)","v":""},"","","","","","",""]
[null,null,null,null,null,null,null,"","","","",{"$f":"IF($J74=\"y\",\"\",L74)","v":""},"","","","","","",""]
[null,null,null,null,null,null,null,"","","","",{"$f":"IF($J75=\"y\",\"\",L75)","v":""},"","","","","","",""]
[null,null,null,null,null,null,null,"","","","",{"$f":"IF($J76=\"y\",\"\",L76)","v":""},"","","","","","",""]
[null,null,null,null,null,null,null,"","","","",{"$f":"IF($J77=\"y\",\"\",L77)","v":""},"","","","","","",""]
[null,null,null,null,null,null,null,"","","","",{"$f":"IF($J78=\"y\",\"\",L78)","v":""},"","","","","","",""]
[null,null,null,null,null,null,null,null,null,null,null,{"$f":"IF(COUNT(L87:L116)<1,\"\", AVERAGE(L87:L116))","v":9.7850478260869576},0.19305999999999998,28.425934782608692,23.907191304347826,0.17246217391304344,14.659086956521739,58.982869565217392,91.4931304347826]
[]
[]
[]
[null,null,null,null,null,null,null,"Average of dredge areas"]
[]
[null,null,null,null,null,null,null,null,null,null,"Dredge Area","Metals as mg/kg wet weight"]
[null,null,null,null,null,null,null,null,null,null,null,"Arsenic (As)","Cadmium (Cd)","Chromium (Cr)","Copper (Cu)","Mercury (Hg)","Nickel (Ni)","Lead (Pb)","Zinc (Zn)"]
[null,null,null,null,null,null,null,null,null,null,"Area i",{"$f":"IF(COUNTIF($I$87:$I$116,\"Area i\")<1,\"\",AVERAGEIF($I$87:$I$116,\"Area i\",L$87:L$116))","v":""},"","","","","","",""]
[null,null,null,null,null,null,null,null,null,null,"Area ii",{"$f":"IF(COUNTIF($I$87:$I$116,\"Area ii\")<1,\"\",AVERAGEIF($I$87:$I$116,\"Area ii\",L$87:L$116))","v":""},"","","","","","",""]
[null,null,null,null,null,null,null,null,null,null,"Area iii",{"$f":"IF(COUNTIF($I$87:$I$116,\"Area iii\")<1,\"\",AVERAGEIF($I$87:$I$116,\"Area iii\",L$87:L$116))","v":""},"","","","","","",""]
[null,null,null,null,null,null,null,null,null,null,"Area iv",{"$f":"IF(COUNTIF($I$87:$I$116,\"Area iv\")<1,\"\",AVERAGEIF($I$87:$I$116,\"Area iv\",L$87:L$116))","v":""},"","","","","","",""]
[null,null,null,null,null,null,null,null,null,null,"Area v",{"$f":"IF(COUNTIF($I$87:$I$116,\"Area v\")<1,\"\", AVERAGEIF($I$87:$I$116,\"Area v\",L$87:L$116))","v":""},"","","","","","",""]
[null,null,null,null,null,null,null,null,null,null,"Area vi",{"$f":"IF(COUNTIF($I$87:$I$116,\"Area vi\")<1,\"\",AVERAGEIF($I$87:$I$116,\"Area vi\",L$87:L$116))","v":""},"","","","","","",""]
[]
[]
[null,null,null,null,null,null,null,null,null,null,null,null,null,null,null," "]
[null,null,null,null,null,null,null,"PR weightings (dredge area averages multiplied by proportion of total tonnages)"]
[]
[null,null,null,null,null,null,null,null,null,null,"Dredge Area","Metals as mg/kg wet weight"]
[null,null,null,null,null,null,null,null,null,null,null,"Arsenic (As)","Cadmium (Cd)","Chromium (Cr)","Copper (Cu)","Mercury (Hg)","Nickel (Ni)","Lead (Pb)","Zinc (Zn)"]
[null,null,null,null,null,null,null,null,null,null,"Area i",{"$f":"IF(L125=\"\",\"\",L125*'PR details'!$G4)","v":""},{"$f":"IF(M125=\"\",\"\",M125*'PR details'!$G4)","v":""},{"$f":"IF(N125=\"\",\"\",N125*'PR details'!$G4)","v":""},{"$f":"IF(O125=\"\",\"\",O125*'PR details'!$G4)","v":""},{"$f":"IF(P125=\"\",\"\",P125*'PR details'!$G4)","v":""},{"$f":"IF(Q125=\"\",\"\",Q125*'PR details'!$G4)","v":""},{"$f":"IF(R125=\"\",\"\",R125*'PR details'!$G4)","v":""},{"$f":"IF(S125=\"\",\"\",S125*'PR details'!$G4)","v":""}]
[null,null,null,null,null,null,null,null,null,null,"Area ii",{"$f":"IF(L126=\"\",\"\",L126*'PR details'!$G5)","v":""},{"$f":"IF(M126=\"\",\"\",M126*'PR details'!$G5)","v":""},{"$f":"IF(N126=\"\",\"\",N126*'PR details'!$G5)","v":""},{"$f":"IF(O126=\"\",\"\",O126*'PR details'!$G5)","v":""},{"$f":"IF(P126=\"\",\"\",P126*'PR details'!$G5)","v":""},{"$f":"IF(Q126=\"\",\"\",Q126*'PR details'!$G5)","v":""},{"$f":"IF(R126=\"\",\"\",R126*'PR details'!$G5)","v":""},{"$f":"IF(S126=\"\",\"\",S126*'PR details'!$G5)","v":""}]
[null,null,null,null,null,null,null,null,null,null,"Area iii",{"$f":"IF(L127=\"\",\"\",L127*'PR details'!$G6)","v":""},{"$f":"IF(M127=\"\",\"\",M127*'PR details'!$G6)","v":""},{"$f":"IF(N127=\"\",\"\",N127*'PR details'!$G6)","v":""},{"$f":"IF(O127=\"\",\"\",O127*'PR details'!$G6)","v":""},{"$f":"IF(P127=\"\",\"\",P127*'PR details'!$G6)","v":""},{"$f":"IF(Q127=\"\",\"\",Q127*'PR details'!$G6)","v":""},{"$f":"IF(R127=\"\",\"\",R127*'PR details'!$G6)","v":""},{"$f":"IF(S127=\"\",\"\",S127*'PR details'!$G6)","v":""}]
[null,null,null,null,null,null,null,null,null,null,"Area iv",{"$f":"IF(L128=\"\",\"\",L128*'PR details'!$G7)","v":""},{"$f":"IF(M128=\"\",\"\",M128*'PR details'!$G7)","v":""},{"$f":"IF(N128=\"\",\"\",N128*'PR details'!$G7)","v":""},{"$f":"IF(O128=\"\",\"\",O128*'PR details'!$G7)","v":""},{"$f":"IF(P128=\"\",\"\",P128*'PR details'!$G7)","v":""},{"$f":"IF(Q128=\"\",\"\",Q128*'PR details'!$G7)","v":""},{"$f":"IF(R128=\"\",\"\",R128*'PR details'!$G7)","v":""},{"$f":"IF(S128=\"\",\"\",S128*'PR details'!$G7)","v":""}]
[null,null,null,null,null,null,null,null,null,null,"Area v",{"$f":"IF(L129=\"\",\"\",L129*'PR details'!$G8)","v":""},{"$f":"IF(M129=\"\",\"\",M129*'PR details'!$G8)","v":""},{"$f":"IF(N129=\"\",\"\",N129*'PR details'!$G8)","v":""},{"$f":"IF(O129=\"\",\"\",O129*'PR details'!$G8)","v":""},{"$f":"IF(P129=\"\",\"\",P129*'PR details'!$G8)","v":""},{"$f":"IF(Q129=\"\",\"\",Q129*'PR details'!$G8)","v":""},{"$f":"IF(R129=\"\",\"\",R129*'PR details'!$G8)","v":""},{"$f":"IF(S129=\"\",\"\",S129*'PR details'!$G8)","v":""}]
[null,null,null,null,null,null,null,null,null,null,"Area vi",{"$f":"IF(L130=\"\",\"\",L130*'PR details'!$G9)","v":""},{"$f":"IF(M130=\"\",\"\",M130*'PR details'!$G9)","v":""},{"$f":"IF(N130=\"\",\"\",N130*'PR details'!$G9)","v":""},{"$f":"IF(O130=\"\",\"\",O130*'PR details'!$G9)","v":""},{"$f":"IF(P130=\"\",\"\",P130*'PR details'!$G9)","v":""},{"$f":"IF(Q130=\"\",\"\",Q130*'PR details'!$G9)","v":""},{"$f":"IF(R130=\"\",\"\",R130*'PR details'!$G9)","v":""},{"$f":"IF(S130=\"\",\"\",S130*'PR details'!$G9)","v":""}]
[]
[]
[]
[null,null,null,null,null,null,null,"PR average"]
[]
[null,null,null,null,null,null,null,null,null,null,null,"Metals as mg/kg wet weight"]
[null,null,null,null,null,null,null,null,null,null,null,"Arsenic (As)","Cadmium (Cd)","Chromium (Cr)","Copper (Cu)","Mercury (Hg)","Nickel (Ni)","Lead (Pb)","Zinc (Zn)"]
[null,null,null,null,null,null,null,null,null,null,null,{"$f":"IF(COUNT(L138:L143)<1,\"\",SUM(L138:L143))","v":""},"","","","","","",""]

{"sheet":"Organotins data","index":7,"n_rows":38,"n_cols":13,"rows_kept":38,"cut":false,"hidden":false,"merged":[[37,7,37,10],[5,9,6,9],[5,7,6,7],[5,8,6,8],[5,11,5,12],[5,10,6,10]]}
[]
[null,"Organotin data"]
[]
[null,"Instructions:",null,null,null,null,null,"determinand analysis outputs:"]
[null,"1. Record the laboratory/contractor responsible for organotin analysis"]
[null,"2. Record the date the samples were analysed.",null,null,null,null,null,"Laboratory sample number","Dredge Area","Sample ID(s)","Total solids (%)","Organotins as mg/kg dry weight"]
[null,"3. Enter full dataset for each sample in the analysis results table",null,null,null,null,null,null,null,null,null,"Dibutyltine (DBT)","Tributyltin (TBT)"]
[null,"4. Organotin analysis results should be reported in mg/kg (ppm) dry weight",null,null,null,null,null,"MAR02481.001",null,1,29.1,"<LOD","<LOD"]
[null,"5. Enter methdological limit of detection for each organotin prior to inputting raw data",null,null,null,null,null,"MAR02481.002",null,2,27.9,"<LOD","<LOD"]
[null,"6. Where analysis outputs are less than the limits of detection please enter text \"<LOD\"",null,null,null,null,null,"MAR02481.003",null,3,31.7,"<LOD",1.6E-2]
[null,"7. Where copying and pasting entries please use paste values only",null,null,null,null,null,"MAR02481.004",null,4,32.5,"<LOD",1.6E-2]
[null,"8. Where entering multiple Sample IDs please use the pop-up form",null,null,null,null,null,"MAR02481.005",null,5,46.4,1.4E-2,1.2999999999999999E-2]
[null,null,"IDs should be separated by a comma",null,null,null,null,"MAR02481.006",null,6,41.4,1.9E-2,1.6E-2]
[null,null,null,null,null,null,null,"MAR02481.007",null,7,37.1,"<LOD","<LOD"]
[null,"Analysis information:",null,null,null,null,null,"MAR02481.008",null,8,46.6,1.4E-2,2.1999999999999999E-2]
[null,null,null,null,null,null,null,"MAR02481.009",null,9,60.8,"<LOD","<LOD"]
[null,null,"Laboratory/contractor:","SOCOTEC",null,null,null,"MAR02481.010",null,10,45.8,"<LOD","<LOD"]
[null,null,"Date of analysis:","2024-10-15",null,null,null,"MAR02481.011",null,11,47.8,2.7E-2,2.9000000000000001E-2]
[null,null,null,null,null,null,null,"MAR02481.012",null,12,44.4,"<LOD",1.4E-2]
[null,null,null,null,null,null,null,"MAR02481.013",null,13,49,0.01,1.2999999999999999E-2]
[null,null,null,null,null,null,null,"MAR02481.014",null,15,63.5,"<LOD","<LOD"]
[null,null,"Dredge Areas",null,null,null,null,"MAR02481.015",null,17,48.9,"<LOD","<LOD"]
[null,null,{"$f":"'Application info'!$C$26","v":"Area i"},null,null,null,null,"MAR02481.016",null,18,52.5,"<LOD","<LOD"]
[null,null,{"$f":"'Application info'!$C$27","v":"Area ii"},null,null,null,null,"MAR02481.017",null,19,48,"<LOD","<LOD"]
[null,null,{"$f":"'Application info'!$C$28","v":"Area iii"},null,null,null,null,"MAR02481.018",null,20,51.6,"<LOD","<LOD"]
[null,null,{"$f":"'Application info'!$C$29","v":"Area iv"},null,null,null,null,"MAR02481.019",null,21,55.8,"<LOD","<LOD"]
[null,null,{"$f":"'Application info'!$C$30","v":"Area v"},null,null,null,null,"MAR02481.020",null,22,44,"<LOD","<LOD"]
[null,null,{"$f":"'Application info'!$C$31","v":"Area vi"},null,null,null,null,"MAR02481.021",null,23,58.8,"<LOD","<LOD"]
[null,null,null,null,null,null,null,"MAR02481.022",null,24,66.099999999999994,"<LOD","<LOD"]
[null,null,null,null,null,null,null,"MAR02481.023",null,25,63.1,"<LOD","<LOD"]
[]
[]
[]
[]
[]
[]
[]
[null,null,null,null,null,null,null,"Limits of detection (mg/kg dry weight):",null,null,null,5.0000000000000001E-3,5.0000000000000001E-3]

{"sheet":"Organotin calcs","index":8,"n_rows":153,"n_cols":19,"rows_kept":153,"cut":false,"hidden":true,"merged":[[46,7,47,7],[46,8,47,8],[46,9,47,9],[46,10,47,10],[46,11,46,12],[5,7,6,7],[5,8,6,8],[5,9,6,9],[5,10,6,10],[5,11,5,12],[150,11,150,12],[122,11,122,12],[84,7,85,7],[84,8,85,8],[84,9,85,9],[84,10,85,10],[84,11,84,12],[136,11,136,12],[136,10,137,10],[150,10,151,10],[150,7,151,7],[150,8,151,8],[150,9,151,9],[136,7,137,7],[136,8,137,8],[136,9,137,9]]}
[]
[null,"Organotin summary information"]
[]
[null,"Analysis information:",null,null,null,null,null,"determinand analysis outputs adjusted for limits of detection:"]
[]
[null,null,"Applicant:",{"$f":"IF('Application info'!E16=\"\",\"\",'Application info'!E16)","v":"PD Ports"},null,null,null,"Laboratory sample number","Dredge Area","Excluded (y if yes)","Sample ID(s)","Organotins as mg/kg dry weight"]
[null,null,"Application number:",{"$f":"IF('Application info'!E17=\"\",\"\",'Application info'!E17)","v":""},null,null,null,null,null,null,null,"Dibutyltine (DBT)","Tributyltin (TBT)"]
[null,null,"Application title:",{"$f":"IF('Application info'!E18=\"\",\"\",'Application info'!E18)","v":"Mid licence sampling - year 9"},null,null,null,{"$f":"IF('Organotins data'!H8=\"\",\"\",'Organotins data'!H8)","v":"MAR02481.001"},{"$f":"IF('Organotins data'!I8=\"\",\"\",'Organotins data'!I8)","v":""},{"$f":"IFERROR(IF(K8=\"\",\"\",(IF(VLOOKUP(K8,'Application info'!$K$8:$L$37,2,0)=\"y\",\"y\",\"\"))),\"Manual entry required\")","v":""},{"$f":"IF('Organotins data'!J8=\"\",\"\",'Organotins data'!J8)","v":1},{"$f":"IF('Organotins data'!L8=\"\",\"\",IF(ISNUMBER('Organotins data'!L8)=TRUE, IF('Organotins data'!L8<'Organotins data'!L$38, \"ERROR\", 'Organotins data'!L8), IF('Organotins data'!L8=\"<LOD\",'Organotins data'!L$38, \"ERROR\")))","v":5.0000000000000001E-3},{"$f":"IF('Organotins data'!M8=\"\",\"\",IF(ISNUMBER('Organotins data'!M8)=TRUE, IF('Organotins data'!M8<'Organotins data'!M$38, \"ERROR\", 'Organotins data'!M8), IF('Organotins data'!M8=\"<LOD\",'Organotins data'!M$38, \"ERROR\")))","v":5.0000000000000001E-3}]
[null,null,"Date sampled:",{"$f":"IF('Application info'!E19=\"\",\"\",'Application info'!E19)","v":""},null,null,null,{"$f":"IF('Organotins data'!H9=\"\",\"\",'Organotins data'!H9)","v":"MAR02481.002"},{"$f":"IF('Organotins data'!I9=\"\",\"\",'Organotins data'!I9)","v":""},{"$f":"IFERROR(IF(K9=\"\",\"\",(IF(VLOOKUP(K9,'Application info'!$K$8:$L$37,2,0)=\"y\",\"y\",\"\"))),\"Manual entry required\")","v":""},{"$f":"IF('Organotins data'!J9=\"\",\"\",'Organotins data'!J9)","v":2},{"$f":"IF('Organotins data'!L9=\"\",\"\",IF(ISNUMBER('Organotins data'!L9)=TRUE, IF('Organotins data'!L9<'Organotins data'!L$38, \"ERROR\", 'Organotins data'!L9), IF('Organotins data'!L9=\"<LOD\",'Organotins data'!L$38, \"ERROR\")))","v":5.0000000000000001E-3},{"$f":"IF('Organotins data'!M9=\"\",\"\",IF(ISNUMBER('Organotins data'!M9)=TRUE, IF('Organotins data'!M9<'Organotins data'!M$38, \"ERROR\", 'Organotins data'!M9), IF('Organotins data'!M9=\"<LOD\",'Organotins data'!M$38, \"ERROR\")))","v":5.0000000000000001E-3}]
[null,null,"Sampling location:",{"$f":"IF('Application info'!E20=\"\",\"\",'Application info'!E20)","v":""},null,null,null,{"$f":"IF('Organotins data'!H10=\"\",\"\",'Organotins data'!H10)","v":"MAR02481.003"},{"$f":"IF('Organotins data'!I10=\"\",\"\",'Organotins data'!I10)","v":""},{"$f":"IFERROR(IF(K10=\"\",\"\",(IF(VLOOKUP(K10,'Application info'!$K$8:$L$37,2,0)=\"y\",\"y\",\"\"))),\"Manual entry required\")","v":""},{"$f":"IF('Organotins data'!J10=\"\",\"\",'Organotins data'!J10)","v":3},{"$f":"IF('Organotins data'!L10=\"\",\"\",IF(ISNUMBER('Organotins data'!L10)=TRUE, IF('Organotins data'!L10<'Organotins data'!L$38, \"ERROR\", 'Organotins data'!L10), IF('Organotins data'!L10=\"<LOD\",'Organotins data'!L$38, \"ERROR\")))","v":5.0000000000000001E-3},{"$f":"IF('Organotins data'!M10=\"\",\"\",IF(ISNUMBER('Organotins data'!M10)=TRUE, IF('Organotins data'!M10<'Organotins data'!M$38, \"ERROR\", 'Organotins data'!M10), IF('Organotins data'!M10=\"<LOD\",'Organotins data'!M$38, \"ERROR\")))","v":1.6E-2}]
[null,null,null,null,null,null,null,{"$f":"IF('Organotins data'!H11=\"\",\"\",'Organotins data'!H11)","v":"MAR02481.004"},{"$f":"IF('Organotins data'!I11=\"\",\"\",'Organotins data'!I11)","v":""},{"$f":"IFERROR(IF(K11=\"\",\"\",(IF(VLOOKUP(K11,'Application info'!$K$8:$L$37,2,0)=\"y\",\"y\",\"\"))),\"Manual entry required\")","v":""},{"$f":"IF('Organotins data'!J11=\"\",\"\",'Organotins data'!J11)","v":4},{"$f":"IF('Organotins data'!L11=\"\",\"\",IF(ISNUMBER('Organotins data'!L11)=TRUE, IF('Organotins data'!L11<'Organotins data'!L$38, \"ERROR\", 'Organotins data'!L11), IF('Organotins data'!L11=\"<LOD\",'Organotins data'!L$38, \"ERROR\")))","v":5.0000000000000001E-3},{"$f":"IF('Organotins data'!M11=\"\",\"\",IF(ISNUMBER('Organotins data'!M11)=TRUE, IF('Organotins data'!M11<'Organotins data'!M$38, \"ERROR\", 'Organotins data'!M11), IF('Organotins data'!M11=\"<LOD\",'Organotins data'!M$38, \"ERROR\")))","v":1.6E-2}]
[null,null,"Laboratory/contractor:",{"$f":"IF('Organotins data'!D17=\"\",\"\",'Organotins data'!D17)","v":"SOCOTEC"},null,null,null,{"$f":"IF('Organotins data'!H12=\"\",\"\",'Organotins data'!H12)","v":"MAR02481.005"},{"$f":"IF('Organotins data'!I12=\"\",\"\",'Organotins data'!I12)","v":""},{"$f":"IFERROR(IF(K12=\"\",\"\",(IF(VLOOKUP(K12,'Application info'!$K$8:$L$37,2,0)=\"y\",\"y\",\"\"))),\"Manual entry required\")","v":""},{"$f":"IF('Organotins data'!J12=\"\",\"\",'Organotins data'!J12)","v":5},{"$f":"IF('Organotins data'!L12=\"\",\"\",IF(ISNUMBER('Organotins data'!L12)=TRUE, IF('Organotins data'!L12<'Organotins data'!L$38, \"ERROR\", 'Organotins data'!L12), IF('Organotins data'!L12=\"<LOD\",'Organotins data'!L$38, \"ERROR\")))","v":1.4E-2},{"$f":"IF('Organotins data'!M12=\"\",\"\",IF(ISNUMBER('Organotins data'!M12)=TRUE, IF('Organotins data'!M12<'Organotins data'!M$38, \"ERROR\", 'Organotins data'!M12), IF('Organotins data'!M12=\"<LOD\",'Organotins data'!M$38, \"ERROR\")))","v":1.2999999999999999E-2}]
[null,null,"Date of analysis:",{"$f":"IF('Organotins data'!D18=\"\",\"\",'Organotins data'!D18)","v":"2024-10-15"},null,null,null,{"$f":"IF('Organotins data'!H13=\"\",\"\",'Organotins data'!H13)","v":"MAR02481.006"},{"$f":"IF('Organotins data'!I13=\"\",\"\",'Organotins data'!I13)","v":""},{"$f":"IFERROR(IF(K13=\"\",\"\",(IF(VLOOKUP(K13,'Application info'!$K$8:$L$37,2,0)=\"y\",\"y\",\"\"))),\"Manual entry required\")","v":""},{"$f":"IF('Organotins data'!J13=\"\",\"\",'Organotins data'!J13)","v":6},{"$f":"IF('Organotins data'!L13=\"\",\"\",IF(ISNUMBER('Organotins data'!L13)=TRUE, IF('Organotins data'!L13<'Organotins data'!L$38, \"ERROR\", 'Organotins data'!L13), IF('Organotins data'!L13=\"<LOD\",'Organotins data'!L$38, \"ERROR\")))","v":1.9E-2},{"$f":"IF('Organotins data'!M13=\"\",\"\",IF(ISNUMBER('Organotins data'!M13)=TRUE, IF('Organotins data'!M13<'Organotins data'!M$38, \"ERROR\", 'Organotins data'!M13), IF('Organotins data'!M13=\"<LOD\",'Organotins data'!M$38, \"ERROR\")))","v":1.6E-2}]
[null,null,null,null,null,null,null,{"$f":"IF('Organotins data'!H14=\"\",\"\",'Organotins data'!H14)","v":"MAR02481.007"},{"$f":"IF('Organotins data'!I14=\"\",\"\",'Organotins data'!I14)","v":""},{"$f":"IFERROR(IF(K14=\"\",\"\",(IF(VLOOKUP(K14,'Application info'!$K$8:$L$37,2,0)=\"y\",\"y\",\"\"))),\"Manual entry required\")","v":""},{"$f":"IF('Organotins data'!J14=\"\",\"\",'Organotins data'!J14)","v":7},{"$f":"IF('Organotins data'!L14=\"\",\"\",IF(ISNUMBER('Organotins data'!L14)=TRUE, IF('Organotins data'!L14<'Organotins data'!L$38, \"ERROR\", 'Organotins data'!L14), IF('Organotins data'!L14=\"<LOD\",'Organotins data'!L$38, \"ERROR\")))","v":5.0000000000000001E-3},{"$f":"IF('Organotins data'!M14=\"\",\"\",IF(ISNUMBER('Organotins data'!M14)=TRUE, IF('Organotins data'!M14<'Organotins data'!M$38, \"ERROR\", 'Organotins data'!M14), IF('Organotins data'!M14=\"<LOD\",'Organotins data'!M$38, \"ERROR\")))","v":5.0000000000000001E-3}]
[null,null,null,null,null,null,null,{"$f":"IF('Organotins data'!H15=\"\",\"\",'Organotins data'!H15)","v":"MAR02481.008"},{"$f":"IF('Organotins data'!I15=\"\",\"\",'Organotins data'!I15)","v":""},{"$f":"IFERROR(IF(K15=\"\",\"\",(IF(VLOOKUP(K15,'Application info'!$K$8:$L$37,2,0)=\"y\",\"y\",\"\"))),\"Manual entry required\")","v":""},{"$f":"IF('Organotins data'!J15=\"\",\"\",'Organotins data'!J15)","v":8},{"$f":"IF('Organotins data'!L15=\"\",\"\",IF(ISNUMBER('Organotins data'!L15)=TRUE, IF('Organotins data'!L15<'Organotins data'!L$38, \"ERROR\", 'Organotins data'!L15), IF('Organotins data'!L15=\"<LOD\",'Organotins data'!L$38, \"ERROR\")))","v":1.4E-2},{"$f":"IF('Organotins data'!M15=\"\",\"\",IF(ISNUMBER('Organotins data'!M15)=TRUE, IF('Organotins data'!M15<'Organotins data'!M$38, \"ERROR\", 'Organotins data'!M15), IF('Organotins data'!M15=\"<LOD\",'Organotins data'!M$38, \"ERROR\")))","v":2.1999999999999999E-2}]
[null,null,null,null,null,null,null,{"$f":"IF('Organotins data'!H16=\"\",\"\",'Organotins data'!H16)","v":"MAR02481.009"},{"$f":"IF('Organotins data'!I16=\"\",\"\",'Organotins data'!I16)","v":""},{"$f":"IFERROR(IF(K16=\"\",\"\",(IF(VLOOKUP(K16,'Application info'!$K$8:$L$37,2,0)=\"y\",\"y\",\"\"))),\"Manual entry required\")","v":""},{"$f":"IF('Organotins data'!J16=\"\",\"\",'Organotins data'!J16)","v":9},{"$f":"IF('Organotins data'!L16=\"\",\"\",IF(ISNUMBER('Organotins data'!L16)=TRUE, IF('Organotins data'!L16<'Organotins data'!L$38, \"ERROR\", 'Organotins data'!L16), IF('Organotins data'!L16=\"<LOD\",'Organotins data'!L$38, \"ERROR\")))","v":5.0000000000000001E-3},{"$f":"IF('Organotins data'!M16=\"\",\"\",IF(ISNUMBER('Organotins data'!M16)=TRUE, IF('Organotins data'!M16<'Organotins data'!M$38, \"ERROR\", 'Organotins data'!M16), IF('Organotins data'!M16=\"<LOD\",'Organotins data'!M$38, \"ERROR\")))","v":5.0000000000000001E-3}]
[null,null,null,null,null,null,null,{"$f":"IF('Organotins data'!H17=\"\",\"\",'Organotins data'!H17)","v":"MAR02481.010"},{"$f":"IF('Organotins data'!I17=\"\",\"\",'Organotins data'!I17)","v":""},{"$f":"IFERROR(IF(K17=\"\",\"\",(IF(VLOOKUP(K17,'Application info'!$K$8:$L$37,2,0)=\"y\",\"y\",\"\"))),\"Manual entry required\")","v":""},{"$f":"IF('Organotins data'!J17=\"\",\"\",'Organotins data'!J17)","v":10},{"$f":"IF('Organotins data'!L17=\"\",\"\",IF(ISNUMBER('Organotins data'!L17)=TRUE, IF('Organotins data'!L17<'Organotins data'!L$38, \"ERROR\", 'Organotins data'!L17), IF('Organotins data'!L17=\"<LOD\",'Organotins data'!L$38, \"ERROR\")))","v":5.0000000000000001E-3},{"$f":"IF('Organotins data'!M17=\"\",\"\",IF(ISNUMBER('Organotins data'!M17)=TRUE, IF('Organotins data'!M17<'Organotins data'!M$38, \"ERROR\", 'Organotins data'!M17), IF('Organotins data'!M17=\"<LOD\",'Organotins data'!M$38, \"ERROR\")))","v":5.0000000000000001E-3}]
[null,null,null,null,null,null,null,{"$f":"IF('Organotins data'!H18=\"\",\"\",'Organotins data'!H18)","v":"MAR02481.011"},{"$f":"IF('Organotins data'!I18=\"\",\"\",'Organotins data'!I18)","v":""},{"$f":"IFERROR(IF(K18=\"\",\"\",(IF(VLOOKUP(K18,'Application info'!$K$8:$L$37,2,0)=\"y\",\"y\",\"\"))),\"Manual entry required\")","v":""},{"$f":"IF('Organotins data'!J18=\"\",\"\",'Organotins data'!J18)","v":11},{"$f":"IF('Organotins data'!L18=\"\",\"\",IF(ISNUMBER('Organotins data'!L18)=TRUE, IF('Organotins data'!L18<'Organotins data'!L$38, \"ERROR\", 'Organotins data'!L18), IF('Organotins data'!L18=\"<LOD\",'Organotins data'!L$38, \"ERROR\")))","v":2.7E-2},{"$f":"IF('Organotins data'!M18=\"\",\"\",IF(ISNUMBER('Organotins data'!M18)=TRUE, IF('Organotins data'!M18<'Organotins data'!M$38, \"ERROR\", 'Organotins data'!M18), IF('Organotins data'!M18=\"<LOD\",'Organotins data'!M$38, \"ERROR\")))","v":2.9000000000000001E-2}]
[null,null,null,null,null,null,null,{"$f":"IF('Organotins data'!H19=\"\",\"\",'Organotins data'!H19)","v":"MAR02481.012"},{"$f":"IF('Organotins data'!I19=\"\",\"\",'Organotins data'!I19)","v":""},{"$f":"IFERROR(IF(K19=\"\",\"\",(IF(VLOOKUP(K19,'Application info'!$K$8:$L$37,2,0)=\"y\",\"y\",\"\"))),\"Manual entry required\")","v":""},{"$f":"IF('Organotins data'!J19=\"\",\"\",'Organotins data'!J19)","v":12},{"$f":"IF('Organotins data'!L19=\"\",\"\",IF(ISNUMBER('Organotins data'!L19)=TRUE, IF('Organotins data'!L19<'Organotins data'!L$38, \"ERROR\", 'Organotins data'!L19), IF('Organotins data'!L19=\"<LOD\",'Organotins data'!L$38, \"ERROR\")))","v":5.0000000000000001E-3},{"$f":"IF('Organotins data'!M19=\"\",\"\",IF(ISNUMBER('Organotins data'!M19)=TRUE, IF('Organotins data'!M19<'Organotins data'!M$38, \"ERROR\", 'Organotins data'!M19), IF('Organotins data'!M19=\"<LOD\",'Organotins data'!M$38, \"ERROR\")))","v":1.4E-2}]
[null,null,null,null,null,null,null,{"$f":"IF('Organotins data'!H20=\"\",\"\",'Organotins data'!H20)","v":"MAR02481.013"},{"$f":"IF('Organotins data'!I20=\"\",\"\",'Organotins data'!I20)","v":""},{"$f":"IFERROR(IF(K20=\"\",\"\",(IF(VLOOKUP(K20,'Application info'!$K$8:$L$37,2,0)=\"y\",\"y\",\"\"))),\"Manual entry required\")","v":""},{"$f":"IF('Organotins data'!J20=\"\",\"\",'Organotins data'!J20)","v":13},{"$f":"IF('Organotins data'!L20=\"\",\"\",IF(ISNUMBER('Organotins data'!L20)=TRUE, IF('Organotins data'!L20<'Organotins data'!L$38, \"ERROR\", 'Organotins data'!L20), IF('Organotins data'!L20=\"<LOD\",'Organotins data'!L$38, \"ERROR\")))","v":0.01},{"$f":"IF('Organotins data'!M20=\"\",\"\",IF(ISNUMBER('Organotins data'!M20)=TRUE, IF('Organotins data'!M20<'Organotins data'!M$38, \"ERROR\", 'Organotins data'!M20), IF('Organotins data'!M20=\"<LOD\",'Organotins data'!M$38, \"ERROR\")))","v":1.2999999999999999E-2}]
[null,null,null,null,null,null,null,{"$f":"IF('Organotins data'!H21=\"\",\"\",'Organotins data'!H21)","v":"MAR02481.014"},{"$f":"IF('Organotins data'!I21=\"\",\"\",'Organotins data'!I21)","v":""},{"$f":"IFERROR(IF(K21=\"\",\"\",(IF(VLOOKUP(K21,'Application info'!$K$8:$L$37,2,0)=\"y\",\"y\",\"\"))),\"Manual entry required\")","v":""},{"$f":"IF('Organotins data'!J21=\"\",\"\",'Organotins data'!J21)","v":15},{"$f":"IF('Organotins data'!L21=\"\",\"\",IF(ISNUMBER('Organotins data'!L21)=TRUE, IF('Organotins data'!L21<'Organotins data'!L$38, \"ERROR\", 'Organotins data'!L21), IF('Organotins data'!L21=\"<LOD\",'Organotins data'!L$38, \"ERROR\")))","v":5.0000000000000001E-3},{"$f":"IF('Organotins data'!M21=\"\",\"\",IF(ISNUMBER('Organotins data'!M21)=TRUE, IF('Organotins data'!M21<'Organotins data'!M$38, \"ERROR\", 'Organotins data'!M21), IF('Organotins data'!M21=\"<LOD\",'Organotins data'!M$38, \"ERROR\")))","v":5.0000000000000001E-3}]
[null,null,null,null,null,null,null,{"$f":"IF('Organotins data'!H22=\"\",\"\",'Organotins data'!H22)","v":"MAR02481.015"},{"$f":"IF('Organotins data'!I22=\"\",\"\",'Organotins data'!I22)","v":""},{"$f":"IFERROR(IF(K22=\"\",\"\",(IF(VLOOKUP(K22,'Application info'!$K$8:$L$37,2,0)=\"y\",\"y\",\"\"))),\"Manual entry required\")","v":""},{"$f":"IF('Organotins data'!J22=\"\",\"\",'Organotins data'!J22)","v":17},{"$f":"IF('Organotins data'!L22=\"\",\"\",IF(ISNUMBER('Organotins data'!L22)=TRUE, IF('Organotins data'!L22<'Organotins data'!L$38, \"ERROR\", 'Organotins data'!L22), IF('Organotins data'!L22=\"<LOD\",'Organotins data'!L$38, \"ERROR\")))","v":5.0000000000000001E-3},{"$f":"IF('Organotins data'!M22=\"\",\"\",IF(ISNUMBER('Organotins data'!M22)=TRUE, IF('Organotins data'!M22<'Organotins data'!M$38, \"ERROR\", 'Organotins data'!M22), IF('Organotins data'!M22=\"<LOD\",'Organotins data'!M$38, \"ERROR\")))","v":5.0000000000000001E-3}]
[null,null,null,null,null,null,null,{"$f":"IF('Organotins data'!H23=\"\",\"\",'Organotins data'!H23)","v":"MAR02481.016"},{"$f":"IF('Organotins data'!I23=\"\",\"\",'Organotins data'!I23)","v":""},{"$f":"IFERROR(IF(K23=\"\",\"\",(IF(VLOOKUP(K23,'Application info'!$K$8:$L$37,2,0)=\"y\",\"y\",\"\"))),\"Manual entry required\")","v":""},{"$f":"IF('Organotins data'!J23=\"\",\"\",'Organotins data'!J23)","v":18},{"$f":"IF('Organotins data'!L23=\"\",\"\",IF(ISNUMBER('Organotins data'!L23)=TRUE, IF('Organotins data'!L23<'Organotins data'!L$38, \"ERROR\", 'Organotins data'!L23), IF('Organotins data'!L23=\"<LOD\",'Organotins data'!L$38, \"ERROR\")))","v":5.0000000000000001E-3},{"$f":"IF('Organotins data'!M23=\"\",\"\",IF(ISNUMBER('Organotins data'!M23)=TRUE, IF('Organotins data'!M23<'Organotins data'!M$38, \"ERROR\", 'Organotins data'!M23), IF('Organotins data'!M23=\"<LOD\",'Organotins data'!M$38, \"ERROR\")))","v":5.0000000000000001E-3}]
[null,null,null,null,null,null,null,{"$f":"IF('Organotins data'!H24=\"\",\"\",'Organotins data'!H24)","v":"MAR02481.017"},{"$f":"IF('Organotins data'!I24=\"\",\"\",'Organotins data'!I24)","v":""},{"$f":"IFERROR(IF(K24=\"\",\"\",(IF(VLOOKUP(K24,'Application info'!$K$8:$L$37,2,0)=\"y\",\"y\",\"\"))),\"Manual entry required\")","v":""},{"$f":"IF('Organotins data'!J24=\"\",\"\",'Organotins data'!J24)","v":19},{"$f":"IF('Organotins data'!L24=\"\",\"\",IF(ISNUMBER('Organotins data'!L24)=TRUE, IF('Organotins data'!L24<'Organotins data'!L$38, \"ERROR\", 'Organotins data'!L24), IF('Organotins data'!L24=\"<LOD\",'Organotins data'!L$38, \"ERROR\")))","v":5.0000000000000001E-3},{"$f":"IF('Organotins data'!M24=\"\",\"\",IF(ISNUMBER('Organotins data'!M24)=TRUE, IF('Organotins data'!M24<'Organotins data'!M$38, \"ERROR\", 'Organotins data'!M24), IF('Organotins data'!M24=\"<LOD\",'Organotins data'!M$38, \"ERROR\")))","v":5.0000000000000001E-3}]
[null,null,null,null,null,null,null,{"$f":"IF('Organotins data'!H25=\"\",\"\",'Organotins data'!H25)","v":"MAR02481.018"},{"$f":"IF('Organotins data'!I25=\"\",\"\",'Organotins data'!I25)","v":""},{"$f":"IFERROR(IF(K25=\"\",\"\",(IF(VLOOKUP(K25,'Application info'!$K$8:$L$37,2,0)=\"y\",\"y\",\"\"))),\"Manual entry required\")","v":""},{"$f":"IF('Organotins data'!J25=\"\",\"\",'Organotins data'!J25)","v":20},{"$f":"IF('Organotins data'!L25=\"\",\"\",IF(ISNUMBER('Organotins data'!L25)=TRUE, IF('Organotins data'!L25<'Organotins data'!L$38, \"ERROR\", 'Organotins data'!L25), IF('Organotins data'!L25=\"<LOD\",'Organotins data'!L$38, \"ERROR\")))","v":5.0000000000000001E-3},{"$f":"IF('Organotins data'!M25=\"\",\"\",IF(ISNUMBER('Organotins data'!M25)=TRUE, IF('Organotins data'!M25<'Organotins data'!M$38, \"ERROR\", 'Organotins data'!M25), IF('Organotins data'!M25=\"<LOD\",'Organotins data'!M$38, \"ERROR\")))","v":5.0000000000000001E-3}]
[null,null,null,null,null,null,null,{"$f":"IF('Organotins data'!H26=\"\",\"\",'Organotins data'!H26)","v":"MAR02481.019"},{"$f":"IF('Organotins data'!I26=\"\",\"\",'Organotins data'!I26)","v":""},{"$f":"IFERROR(IF(K26=\"\",\"\",(IF(VLOOKUP(K26,'Application info'!$K$8:$L$37,2,0)=\"y\",\"y\",\"\"))),\"Manual entry required\")","v":""},{"$f":"IF('Organotins data'!J26=\"\",\"\",'Organotins data'!J26)","v":21},{"$f":"IF('Organotins data'!L26=\"\",\"\",IF(ISNUMBER('Organotins data'!L26)=TRUE, IF('Organotins data'!L26<'Organotins data'!L$38, \"ERROR\", 'Organotins data'!L26), IF('Organotins data'!L26=\"<LOD\",'Organotins data'!L$38, \"ERROR\")))","v":5.0000000000000001E-3},{"$f":"IF('Organotins data'!M26=\"\",\"\",IF(ISNUMBER('Organotins data'!M26)=TRUE, IF('Organotins data'!M26<'Organotins data'!M$38, \"ERROR\", 'Organotins data'!M26), IF('Organotins data'!M26=\"<LOD\",'Organotins data'!M$38, \"ERROR\")))","v":5.0000000000000001E-3}]
[null,null,null,null,null,null,null,{"$f":"IF('Organotins data'!H27=\"\",\"\",'Organotins data'!H27)","v":"MAR02481.020"},{"$f":"IF('Organotins data'!I27=\"\",\"\",'Organotins data'!I27)","v":""},{"$f":"IFERROR(IF(K27=\"\",\"\",(IF(VLOOKUP(K27,'Application info'!$K$8:$L$37,2,0)=\"y\",\"y\",\"\"))),\"Manual entry required\")","v":""},{"$f":"IF('Organotins data'!J27=\"\",\"\",'Organotins data'!J27)","v":22},{"$f":"IF('Organotins data'!L27=\"\",\"\",IF(ISNUMBER('Organotins data'!L27)=TRUE, IF('Organotins data'!L27<'Organotins data'!L$38, \"ERROR\", 'Organotins data'!L27), IF('Organotins data'!L27=\"<LOD\",'Organotins data'!L$38, \"ERROR\")))","v":5.0000000000000001E-3},{"$f":"IF('Organotins data'!M27=\"\",\"\",IF(ISNUMBER('Organotins data'!M27)=TRUE, IF('Organotins data'!M27<'Organotins data'!M$38, \"ERROR\", 'Organotins data'!M27), IF('Organotins data'!M27=\"<LOD\",'Organotins data'!M$38, \"ERROR\")))","v":5.0000000000000001E-3}]
[null,null,null,null,null,null,null,{"$f":"IF('Organotins data'!H28=\"\",\"\",'Organotins data'!H28)","v":"MAR02481.021"},{"$f":"IF('Organotins data'!I28=\"\",\"\",'Organotins data'!I28)","v":""},{"$f":"IFERROR(IF(K28=\"\",\"\",(IF(VLOOKUP(K28,'Application info'!$K$8:$L$37,2,0)=\"y\",\"y\",\"\"))),\"Manual entry required\")","v":""},{"$f":"IF('Organotins data'!J28=\"\",\"\",'Organotins data'!J28)","v":23},{"$f":"IF('Organotins data'!L28=\"\",\"\",IF(ISNUMBER('Organotins data'!L28)=TRUE, IF('Organotins data'!L28<'Organotins data'!L$38, \"ERROR\", 'Organotins data'!L28), IF('Organotins data'!L28=\"<LOD\",'Organotins data'!L$38, \"ERROR\")))","v":5.0000000000000001E-3},{"$f":"IF('Organotins data'!M28=\"\",\"\",IF(ISNUMBER('Organotins data'!M28)=TRUE, IF('Organotins data'!M28<'Organotins data'!M$38, \"ERROR\", 'Organotins data'!M28), IF('Organotins data'!M28=\"<LOD\",'Organotins data'!M$38, \"ERROR\")))","v":5.0000000000000001E-3}]
[null,null,null,null,null,null,null,{"$f":"IF('Organotins data'!H29=\"\",\"\",'Organotins data'!H29)","v":"MAR02481.022"},{"$f":"IF('Organotins data'!I29=\"\",\"\",'Organotins data'!I29)","v":""},{"$f":"IFERROR(IF(K29=\"\",\"\",(IF(VLOOKUP(K29,'Application info'!$K$8:$L$37,2,0)=\"y\",\"y\",\"\"))),\"Manual entry required\")","v":""},{"$f":"IF('Organotins data'!J29=\"\",\"\",'Organotins data'!J29)","v":24},{"$f":"IF('Organotins data'!L29=\"\",\"\",IF(ISNUMBER('Organotins data'!L29)=TRUE, IF('Organotins data'!L29<'Organotins data'!L$38, \"ERROR\", 'Organotins data'!L29), IF('Organotins data'!L29=\"<LOD\",'Organotins data'!L$38, \"ERROR\")))","v":5.0000000000000001E-3},{"$f":"IF('Organotins data'!M29=\"\",\"\",IF(ISNUMBER('Organotins data'!M29)=TRUE, IF('Organotins data'!M29<'Organotins data'!M$38, \"ERROR\", 'Organotins data'!M29), IF('Organotins data'!M29=\"<LOD\",'Organotins data'!M$38, \"ERROR\")))","v":5.0000000000000001E-3}]
[null,null,null,null,null,null,null,{"$f":"IF('Organotins data'!H30=\"\",\"\",'Organotins data'!H30)","v":"MAR02481.023"},{"$f":"IF('Organotins data'!I30=\"\",\"\",'Organotins data'!I30)","v":""},{"$f":"IFERROR(IF(K30=\"\",\"\",(IF(VLOOKUP(K30,'Application info'!$K$8:$L$37,2,0)=\"y\",\"y\",\"\"))),\"Manual entry required\")","v":""},{"$f":"IF('Organotins data'!J30=\"\",\"\",'Organotins data'!J30)","v":25},{"$f":"IF('Organotins data'!L30=\"\",\"\",IF(ISNUMBER('Organotins data'!L30)=TRUE, IF('Organotins data'!L30<'Organotins data'!L$38, \"ERROR\", 'Organotins data'!L30), IF('Organotins data'!L30=\"<LOD\",'Organotins data'!L$38, \"ERROR\")))","v":5.0000000000000001E-3},{"$f":"IF('Organotins data'!M30=\"\",\"\",IF(ISNUMBER('Organotins data'!M30)=TRUE, IF('Organotins data'!M30<'Organotins data'!M$38, \"ERROR\", 'Organotins data'!M30), IF('Organotins data'!M30=\"<LOD\",'Organotins data'!M$38, \"ERROR\")))","v":5.0000000000000001E-3}]
[null,null,null,null,null,null,null,{"$f":"IF('Organotins data'!H31=\"\",\"\",'Organotins data'!H31)","v":""},{"$f":"IF('Organotins data'!I31=\"\",\"\",'Organotins data'!I31)","v":""},{"$f":"IFERROR(IF(K31=\"\",\"\",(IF(VLOOKUP(K31,'Application info'!$K$8:$L$37,2,0)=\"y\",\"y\",\"\"))),\"Manual entry required\")","v":""},{"$f":"IF('Organotins data'!J31=\"\",\"\",'Organotins data'!J31)","v":""},{"$f":"IF('Organotins data'!L31=\"\",\"\",IF(ISNUMBER('Organotins data'!L31)=TRUE, IF('Organotins data'!L31<'Organotins data'!L$38, \"ERROR\", 'Organotins data'!L31), IF('Organotins data'!L31=\"<LOD\",'Organotins data'!L$38, \"ERROR\")))","v":""},{"$f":"IF('Organotins data'!M31=\"\",\"\",IF(ISNUMBER('Organotins data'!M31)=TRUE, IF('Organotins data'!M31<'Organotins data'!M$38, \"ERROR\", 'Organotins data'!M31), IF('Organotins data'!M31=\"<LOD\",'Organotins data'!M$38, \"ERROR\")))","v":""}]
[null,null,null,null,null,null,null,{"$f":"IF('Organotins data'!H32=\"\",\"\",'Organotins data'!H32)","v":""},{"$f":"IF('Organotins data'!I32=\"\",\"\",'Organotins data'!I32)","v":""},{"$f":"IFERROR(IF(K32=\"\",\"\",(IF(VLOOKUP(K32,'Application info'!$K$8:$L$37,2,0)=\"y\",\"y\",\"\"))),\"Manual entry required\")","v":""},{"$f":"IF('Organotins data'!J32=\"\",\"\",'Organotins data'!J32)","v":""},{"$f":"IF('Organotins data'!L32=\"\",\"\",IF(ISNUMBER('Organotins data'!L32)=TRUE, IF('Organotins data'!L32<'Organotins data'!L$38, \"ERROR\", 'Organotins data'!L32), IF('Organotins data'!L32=\"<LOD\",'Organotins data'!L$38, \"ERROR\")))","v":""},{"$f":"IF('Organotins data'!M32=\"\",\"\",IF(ISNUMBER('Organotins data'!M32)=TRUE, IF('Organotins data'!M32<'Organotins data'!M$38, \"ERROR\", 'Organotins data'!M32), IF('Organotins data'!M32=\"<LOD\",'Organotins data'!M$38, \"ERROR\")))","v":""}]
[null,null,null,null,null,null,null,{"$f":"IF('Organotins data'!H33=\"\",\"\",'Organotins data'!H33)","v":""},{"$f":"IF('Organotins data'!I33=\"\",\"\",'Organotins data'!I33)","v":""},{"$f":"IFERROR(IF(K33=\"\",\"\",(IF(VLOOKUP(K33,'Application info'!$K$8:$L$37,2,0)=\"y\",\"y\",\"\"))),\"Manual entry required\")","v":""},{"$f":"IF('Organotins data'!J33=\"\",\"\",'Organotins data'!J33)","v":""},{"$f":"IF('Organotins data'!L33=\"\",\"\",IF(ISNUMBER('Organotins data'!L33)=TRUE, IF('Organotins data'!L33<'Organotins data'!L$38, \"ERROR\", 'Organotins data'!L33), IF('Organotins data'!L33=\"<LOD\",'Organotins data'!L$38, \"ERROR\")))","v":""},{"$f":"IF('Organotins data'!M33=\"\",\"\",IF(ISNUMBER('Organotins data'!M33)=TRUE, IF('Organotins data'!M33<'Organotins data'!M$38, \"ERROR\", 'Organotins data'!M33), IF('Organotins data'!M33=\"<LOD\",'Organotins data'!M$38, \"ERROR\")))","v":""}]
[null,null,null,null,null,null,null,{"$f":"IF('Organotins data'!H34=\"\",\"\",'Organotins data'!H34)","v":""},{"$f":"IF('Organotins data'!I34=\"\",\"\",'Organotins data'!I34)","v":""},{"$f":"IFERROR(IF(K34=\"\",\"\",(IF(VLOOKUP(K34,'Application info'!$K$8:$L$37,2,0)=\"y\",\"y\",\"\"))),\"Manual entry required\")","v":""},{"$f":"IF('Organotins data'!J34=\"\",\"\",'Organotins data'!J34)","v":""},{"$f":"IF('Organotins data'!L34=\"\",\"\",IF(ISNUMBER('Organotins data'!L34)=TRUE, IF('Organotins data'!L34<'Organotins data'!L$38, \"ERROR\", 'Organotins data'!L34), IF('Organotins data'!L34=\"<LOD\",'Organotins data'!L$38, \"ERROR\")))","v":""},{"$f":"IF('Organotins data'!M34=\"\",\"\",IF(ISNUMBER('Organotins data'!M34)=TRUE, IF('Organotins data'!M34<'Organotins data'!M$38, \"ERROR\", 'Organotins data'!M34), IF('Organotins data'!M34=\"<LOD\",'Organotins data'!M$38, \"ERROR\")))","v":""}]
[null,null,null,null,null,null,null,{"$f":"IF('Organotins data'!H35=\"\",\"\",'Organotins data'!H35)","v":""},{"$f":"IF('Organotins data'!I35=\"\",\"\",'Organotins data'!I35)","v":""},{"$f":"IFERROR(IF(K35=\"\",\"\",(IF(VLOOKUP(K35,'Application info'!$K$8:$L$37,2,0)=\"y\",\"y\",\"\"))),\"Manual entry required\")","v":""},{"$f":"IF('Organotins data'!J35=\"\",\"\",'Organotins data'!J35)","v":""},{"$f":"IF('Organotins data'!L35=\"\",\"\",IF(ISNUMBER('Organotins data'!L35)=TRUE, IF('Organotins data'!L35<'Organotins data'!L$38, \"ERROR\", 'Organotins data'!L35), IF('Organotins data'!L35=\"<LOD\",'Organotins data'!L$38, \"ERROR\")))","v":""},{"$f":"IF('Organotins data'!M35=\"\",\"\",IF(ISNUMBER('Organotins data'!M35)=TRUE, IF('Organotins data'!M35<'Organotins data'!M$38, \"ERROR\", 'Organotins data'!M35), IF('Organotins data'!M35=\"<LOD\",'Organotins data'!M$38, \"ERROR\")))","v":""}]
[null,null,null,null,null,null,null,{"$f":"IF('Organotins data'!H36=\"\",\"\",'Organotins data'!H36)","v":""},{"$f":"IF('Organotins data'!I36=\"\",\"\",'Organotins data'!I36)","v":""},{"$f":"IFERROR(IF(K36=\"\",\"\",(IF(VLOOKUP(K36,'Application info'!$K$8:$L$37,2,0)=\"y\",\"y\",\"\"))),\"Manual entry required\")","v":""},{"$f":"IF('Organotins data'!J36=\"\",\"\",'Organotins data'!J36)","v":""},{"$f":"IF('Organotins data'!L36=\"\",\"\",IF(ISNUMBER('Organotins data'!L36)=TRUE, IF('Organotins data'!L36<'Organotins data'!L$38, \"ERROR\", 'Organotins data'!L36), IF('Organotins data'!L36=\"<LOD\",'Organotins data'!L$38, \"ERROR\")))","v":""},{"$f":"IF('Organotins data'!M36=\"\",\"\",IF(ISNUMBER('Organotins data'!M36)=TRUE, IF('Organotins data'!M36<'Organotins data'!M$38, \"ERROR\", 'Organotins data'!M36), IF('Organotins data'!M36=\"<LOD\",'Organotins data'!M$38, \"ERROR\")))","v":""}]
[null,null,null,null,null,null,null,{"$f":"IF('Organotins data'!H37=\"\",\"\",'Organotins data'!H37)","v":""},{"$f":"IF('Organotins data'!I37=\"\",\"\",'Organotins data'!I37)","v":""},{"$f":"IFERROR(IF(K37=\"\",\"\",(IF(VLOOKUP(K37,'Application info'!$K$8:$L$37,2,0)=\"y\",\"y\",\"\"))),\"Manual entry required\")","v":""},{"$f":"IF('Organotins data'!J37=\"\",\"\",'Organotins data'!J37)","v":""},{"$f":"IF('Organotins data'!L37=\"\",\"\",IF(ISNUMBER('Organotins data'!L37)=TRUE, IF('Organotins data'!L37<'Organotins data'!L$38, \"ERROR\", 'Organotins data'!L37), IF('Organotins data'!L37=\"<LOD\",'Organotins data'!L$38, \"ERROR\")))","v":""},{"$f":"IF('Organotins data'!M37=\"\",\"\",IF(ISNUMBER('Organotins data'!M37)=TRUE, IF('Organotins data'!M37<'Organotins data'!M$38, \"ERROR\", 'Organotins data'!M37), IF('Organotins data'!M37=\"<LOD\",'Organotins data'!M$38, \"ERROR\")))","v":""}]
[null,null,null,null,null,null,null,null,null,null,"Averages",{"$f":"IF(COUNT(L8:L37)<1,\"\", AVERAGE(L8:L37))","v":7.56521739130435E-3},{"$f":"IF(COUNT(M8:M37)<1,\"\", AVERAGE(M8:M37))","v":9.3043478260869603E-3}]
[]
[null,null,null,null,null,null,null,null,null,null,"Action level 1:",0.1,0.1]
[null,null,null,null,null,null,null,null,null,null,"Action level 2:",1,1]
[]
[]
[]
[null,null,null,null,null,null,null,"Transformation to wet weight (mg/kg)"]
[]
[null,null,null,null,null,null,null,"Laboratory sample number","Dredge Area","Excluded (y if yes)","Sample ID(s)","Organotins as mg/kg wet weight"]
[null,null,null,null,null,null,null,null,null,null,null,"Dibutyltine (DBT)","Tributyltin (TBT)"]
[null,null,null,null,null,null,null,{"$f":"IF(H8=\"\",\"\",H8)","v":"MAR02481.001"},"","",1,{"$f":"IF(L8=\"\",\"\",('Organotins data'!$K8/100)*L8)","v":1.4550000000000001E-3},{"$f":"IF(M8=\"\",\"\",('Organotins data'!$K8/100)*M8)","v":1.4550000000000001E-3}]
[null,null,null,null,null,null,null,"MAR02481.002","","",2,{"$f":"IF(L9=\"\",\"\",('Organotins data'!$K9/100)*L9)","v":1.395E-3},{"$f":"IF(M9=\"\",\"\",('Organotins data'!$K9/100)*M9)","v":1.395E-3}]
[null,null,null,null,null,null,null,"MAR02481.003","","",3,{"$f":"IF(L10=\"\",\"\",('Organotins data'!$K10/100)*L10)","v":1.585E-3},{"$f":"IF(M10=\"\",\"\",('Organotins data'!$K10/100)*M10)","v":5.0720000000000001E-3}]
[null,null,null,null,null,null,null,"MAR02481.004","","",4,{"$f":"IF(L11=\"\",\"\",('Organotins data'!$K11/100)*L11)","v":1.6250000000000001E-3},{"$f":"IF(M11=\"\",\"\",('Organotins data'!$K11/100)*M11)","v":5.2000000000000006E-3}]
[null,null,null,null,null,null,null,"MAR02481.005","","",5,{"$f":"IF(L12=\"\",\"\",('Organotins data'!$K12/100)*L12)","v":6.496E-3},{"$f":"IF(M12=\"\",\"\",('Organotins data'!$K12/100)*M12)","v":6.0319999999999992E-3}]
[null,null,null,null,null,null,null,"MAR02481.006","","",6,{"$f":"IF(L13=\"\",\"\",('Organotins data'!$K13/100)*L13)","v":7.8659999999999997E-3},{"$f":"IF(M13=\"\",\"\",('Organotins data'!$K13/100)*M13)","v":6.6239999999999997E-3}]
[null,null,null,null,null,null,null,"MAR02481.007","","",7,{"$f":"IF(L14=\"\",\"\",('Organotins data'!$K14/100)*L14)","v":1.8550000000000001E-3},{"$f":"IF(M14=\"\",\"\",('Organotins data'!$K14/100)*M14)","v":1.8550000000000001E-3}]
[null,null,null,null,null,null,null,"MAR02481.008","","",8,{"$f":"IF(L15=\"\",\"\",('Organotins data'!$K15/100)*L15)","v":6.5240000000000003E-3},{"$f":"IF(M15=\"\",\"\",('Organotins data'!$K15/100)*M15)","v":1.0252000000000001E-2}]
[null,null,null,null,null,null,null,"MAR02481.009","","",9,{"$f":"IF(L16=\"\",\"\",('Organotins data'!$K16/100)*L16)","v":3.0400000000000002E-3},{"$f":"IF(M16=\"\",\"\",('Organotins data'!$K16/100)*M16)","v":3.0400000000000002E-3}]
[null,null,null,null,null,null,null,"MAR02481.010","","",10,{"$f":"IF(L17=\"\",\"\",('Organotins data'!$K17/100)*L17)","v":2.2899999999999999E-3},{"$f":"IF(M17=\"\",\"\",('Organotins data'!$K17/100)*M17)","v":2.2899999999999999E-3}]
[null,null,null,null,null,null,null,{"$f":"IF(H18=\"\",\"\",H18)","v":"MAR02481.011"},"","",11,{"$f":"IF(L18=\"\",\"\",('Organotins data'!$K18/100)*L18)","v":1.2905999999999999E-2},{"$f":"IF(M18=\"\",\"\",('Organotins data'!$K18/100)*M18)","v":1.3861999999999999E-2}]
[null,null,null,null,null,null,null,"MAR02481.012","","",12,{"$f":"IF(L19=\"\",\"\",('Organotins data'!$K19/100)*L19)","v":2.2200000000000002E-3},{"$f":"IF(M19=\"\",\"\",('Organotins data'!$K19/100)*M19)","v":6.2160000000000002E-3}]
[null,null,null,null,null,null,null,"MAR02481.013","","",13,{"$f":"IF(L20=\"\",\"\",('Organotins data'!$K20/100)*L20)","v":4.8999999999999998E-3},{"$f":"IF(M20=\"\",\"\",('Organotins data'!$K20/100)*M20)","v":6.3699999999999998E-3}]
[null,null,null,null,null,null,null,"MAR02481.014","","",15,{"$f":"IF(L21=\"\",\"\",('Organotins data'!$K21/100)*L21)","v":3.1750000000000003E-3},{"$f":"IF(M21=\"\",\"\",('Organotins data'!$K21/100)*M21)","v":3.1750000000000003E-3}]
[null,null,null,null,null,null,null,"MAR02481.015","","",17,{"$f":"IF(L22=\"\",\"\",('Organotins data'!$K22/100)*L22)","v":2.4450000000000001E-3},{"$f":"IF(M22=\"\",\"\",('Organotins data'!$K22/100)*M22)","v":2.4450000000000001E-3}]
[null,null,null,null,null,null,null,"MAR02481.016","","",18,{"$f":"IF(L23=\"\",\"\",('Organotins data'!$K23/100)*L23)","v":2.6250000000000002E-3},{"$f":"IF(M23=\"\",\"\",('Organotins data'!$K23/100)*M23)","v":2.6250000000000002E-3}]
[null,null,null,null,null,null,null,"MAR02481.017","","",19,{"$f":"IF(L24=\"\",\"\",('Organotins data'!$K24/100)*L24)","v":2.3999999999999998E-3},{"$f":"IF(M24=\"\",\"\",('Organotins data'!$K24/100)*M24)","v":2.3999999999999998E-3}]
[null,null,null,null,null,null,null,"MAR02481.018","","",20,{"$f":"IF(L25=\"\",\"\",('Organotins data'!$K25/100)*L25)","v":2.5800000000000003E-3},{"$f":"IF(M25=\"\",\"\",('Organotins data'!$K25/100)*M25)","v":2.5800000000000003E-3}]
[null,null,null,null,null,null,null,"MAR02481.019","","",21,{"$f":"IF(L26=\"\",\"\",('Organotins data'!$K26/100)*L26)","v":2.7899999999999999E-3},{"$f":"IF(M26=\"\",\"\",('Organotins data'!$K26/100)*M26)","v":2.7899999999999999E-3}]
[null,null,null,null,null,null,null,"MAR02481.020","","",22,{"$f":"IF(L27=\"\",\"\",('Organotins data'!$K27/100)*L27)","v":2.2000000000000001E-3},{"$f":"IF(M27=\"\",\"\",('Organotins data'!$K27/100)*M27)","v":2.2000000000000001E-3}]
[null,null,null,null,null,null,null,{"$f":"IF(H28=\"\",\"\",H28)","v":"MAR02481.021"},"","",23,{"$f":"IF(L28=\"\",\"\",('Organotins data'!$K28/100)*L28)","v":2.9399999999999999E-3},{"$f":"IF(M28=\"\",\"\",('Organotins data'!$K28/100)*M28)","v":2.9399999999999999E-3}]
[null,null,null,null,null,null,null,"MAR02481.022","","",24,{"$f":"IF(L29=\"\",\"\",('Organotins data'!$K29/100)*L29)","v":3.3049999999999998E-3},{"$f":"IF(M29=\"\",\"\",('Organotins data'!$K29/100)*M29)","v":3.3049999999999998E-3}]
[null,null,null,null,null,null,null,"MAR02481.023","","",25,{"$f":"IF(L30=\"\",\"\",('Organotins data'!$K30/100)*L30)","v":3.1550000000000003E-3},{"$f":"IF(M30=\"\",\"\",('Organotins data'!$K30/100)*M30)","v":3.1550000000000003E-3}]
[null,null,null,null,null,null,null,"","","","",{"$f":"IF(L31=\"\",\"\",('Organotins data'!$K31/100)*L31)","v":""},{"$f":"IF(M31=\"\",\"\",('Organotins data'!$K31/100)*M31)","v":""}]
[null,null,null,null,null,null,null,"","","","",{"$f":"IF(L32=\"\",\"\",('Organotins data'!$K32/100)*L32)","v":""},{"$f":"IF(M32=\"\",\"\",('Organotins data'!$K32/100)*M32)","v":""}]
[null,null,null,null,null,null,null,"","","","",{"$f":"IF(L33=\"\",\"\",('Organotins data'!$K33/100)*L33)","v":""},{"$f":"IF(M33=\"\",\"\",('Organotins data'!$K33/100)*M33)","v":""}]
[null,null,null,null,null,null,null,"","","","",{"$f":"IF(L34=\"\",\"\",('Organotins data'!$K34/100)*L34)","v":""},{"$f":"IF(M34=\"\",\"\",('Organotins data'!$K34/100)*M34)","v":""}]
[null,null,null,null,null,null,null,"","","","",{"$f":"IF(L35=\"\",\"\",('Organotins data'!$K35/100)*L35)","v":""},{"$f":"IF(M35=\"\",\"\",('Organotins data'!$K35/100)*M35)","v":""}]
[null,null,null,null,null,null,null,"","","","",{"$f":"IF(L36=\"\",\"\",('Organotins data'!$K36/100)*L36)","v":""},{"$f":"IF(M36=\"\",\"\",('Organotins data'!$K36/100)*M36)","v":""}]
[null,null,null,null,null,null,null,"","","","",{"$f":"IF(L37=\"\",\"\",('Organotins data'!$K37/100)*L37)","v":""},{"$f":"IF(M37=\"\",\"\",('Organotins data'!$K37/100)*M37)","v":""}]
[null,null,null,null,null,null,null,null,null,null,null,{"$f":"IF(COUNT(L48:L77)<1,\"\", AVERAGE(L48:L77))","v":3.5553043478260874E-3},{"$f":"IF(COUNT(M48:M77)<1,\"\", AVERAGE(M48:M77))","v":4.2294782608695656E-3}]
[]
[]
[]
[null,null,null,null,null,null,null,"Removal of excluded areas"]
[]
[null,null,null,null,null,null,null,"Laboratory sample number","Dredge Area","Excluded (y if yes)","Sample ID(s)","Organotins as mg/kg wet weight"]
[null,null,null,null,null,null,null,null,null,null,null,"Dibutyltine (DBT)","Tributyltin (TBT)",null,null,null,null,null," "]
[null,null,null,null,null,null,null,{"$f":"IF(H49=\"\",\"\",H49)","v":"MAR02481.001"},{"$f":"IF(J87=\"y\",\"\",I49)","v":""},"",{"$f":"IF(J87=\"y\",\"\",K49)","v":1},{"$f":"IF($J49=\"y\",\"\",L49)","v":1.4550000000000001E-3},{"$f":"IF($J49=\"y\",\"\",M49)","v":1.4550000000000001E-3}]
[null,null,null,null,null,null,null,"MAR02481.002",{"$f":"IF(J88=\"y\",\"\",I50)","v":""},"",{"$f":"IF(J88=\"y\",\"\",K50)","v":2},1.395E-3,1.395E-3]
[null,null,null,null,null,null,null,"MAR02481.003","","",3,1.585E-3,5.0720000000000001E-3]
[null,null,null,null,null,null,null,"MAR02481.004","","",4,1.6250000000000001E-3,5.2000000000000006E-3]
[null,null,null,null,null,null,null,"MAR02481.005","","",5,6.496E-3,6.0319999999999992E-3]
[null,null,null,null,null,null,null,"MAR02481.006","","",6,7.8659999999999997E-3,6.6239999999999997E-3]
[null,null,null,null,null,null,null,"MAR02481.007","","",7,1.8550000000000001E-3,1.8550000000000001E-3]
[null,null,null,null,null,null,null,"MAR02481.008","","",8,6.5240000000000003E-3,1.0252000000000001E-2]
[null,null,null,null,null,null,null,"MAR02481.009","","",9,3.0400000000000002E-3,3.0400000000000002E-3]
[null,null,null,null,null,null,null,"MAR02481.010","","",10,2.2899999999999999E-3,2.2899999999999999E-3]
[null,null,null,null,null,null,null,"MAR02481.011","","",11,1.2905999999999999E-2,1.3861999999999999E-2]
[null,null,null,null,null,null,null,"MAR02481.012","","",12,2.2200000000000002E-3,6.2160000000000002E-3]
[null,null,null,null,null,null,null,"MAR02481.013","","",13,4.8999999999999998E-3,6.3699999999999998E-3]
[null,null,null,null,null,null,null,"MAR02481.014","","",15,3.1750000000000003E-3,3.1750000000000003E-3]
[null,null,null,null,null,null,null,"MAR02481.015","","",17,2.4450000000000001E-3,2.4450000000000001E-3]
[null,null,null,null,null,null,null,"MAR02481.016","","",18,2.6250000000000002E-3,2.6250000000000002E-3]
[null,null,null,null,null,null,null,"MAR02481.017","","",19,2.3999999999999998E-3,2.3999999999999998E-3]
[null,null,null,null,null,null,null,"MAR02481.018","","",20,2.5800000000000003E-3,2.5800000000000003E-3]
[null,null,null,null,null,null,null,"MAR02481.019","","",21,2.7899999999999999E-3,2.7899999999999999E-3]
[null,null,null,null,null,null,null,"MAR02481.020","","",22,2.2000000000000001E-3,2.2000000000000001E-3]
[null,null,null,null,null,null,null,"MAR02481.021","","",23,2.9399999999999999E-3,2.9399999999999999E-3]
[null,null,null,null,null,null,null,"MAR02481.022","","",24,3.3049999999999998E-3,3.3049999999999998E-3]
[null,null,null,null,null,null,null,"MAR02481.023","","",25,3.1550000000000003E-3,3.1550000000000003E-3]
[null,null,null,null,null,null,null,"","","","","",""]
[null,null,null,null,null,null,null,"","","","","",""]
[null,null,null,null,null,null,null,"","","","","",""]
[null,null,null,null,null,null,null,"","","","","",""]
[null,null,null,null,null,null,null,"","","","","",""]
[null,null,null,null,null,null,null,"","","","","",""]
[null,null,null,null,null,null,null,"","","","","",""]
[null,null,null,null,null,null,null,null,null,null,null,{"$f":"IF(COUNT(L86:L115)<1,\"\", AVERAGE(L86:L115))","v":3.5553043478260874E-3},{"$f":"IF(COUNT(M86:M115)<1,\"\", AVERAGE(M86:M115))","v":4.2294782608695656E-3}]
[]
[]
[]
[null,null,null,null,null,null,null,"Average of dredge areas"]
[]
[null,null,null,null,null,null,null,null,null,null,"Dredge Area","Organotins as mg/kg wet weight"]
[null,null,null,null,null,null,null,null,null,null,null,"Dibutyltine (DBT)","Tributyltin (TBT)"]
[null,null,null," ",null,null,null,null,null,null,"Area i",{"$f":"IF(COUNTIF($I$87:$I$116,\"Area i\")<1,\"\",AVERAGEIF($I$87:$I$116,\"Area i\",L$87:L$116))","v":""},{"$f":"IF(COUNTIF($I$87:$I$116,\"Area i\")<1,\"\",AVERAGEIF($I$87:$I$116,\"Area i\",M$87:M$116))","v":""}]
[null,null,null,null,null,null,null,null,null,null,"Area ii",{"$f":"IF(COUNTIF($I$87:$I$116,\"Area ii\")<1,\"\",AVERAGEIF($I$87:$I$116,\"Area ii\",L$87:L$116))","v":""},{"$f":"IF(COUNTIF($I$87:$I$116,\"Area ii\")<1,\"\",AVERAGEIF($I$87:$I$116,\"Area ii\",M$87:M$116))","v":""}]
[null,null,null,null,null,null,null,null,null,null,"Area iii",{"$f":"IF(COUNTIF($I$87:$I$116,\"Area iii\")<1,\"\",AVERAGEIF($I$87:$I$116,\"Area iii\",L$87:L$116))","v":""},{"$f":"IF(COUNTIF($I$87:$I$116,\"Area iii\")<1,\"\",AVERAGEIF($I$87:$I$116,\"Area iii\",M$87:M$116))","v":""}]
[null,null,null,null,null,null,null,null,null,null,"Area iv",{"$f":"IF(COUNTIF($I$87:$I$116,\"Area iv\")<1,\"\",AVERAGEIF($I$87:$I$116,\"Area iv\",L$87:L$116))","v":""},{"$f":"IF(COUNTIF($I$87:$I$116,\"Area iv\")<1,\"\",AVERAGEIF($I$87:$I$116,\"Area iv\",M$87:M$116))","v":""}]
[null,null,null,null,null,null,null,null,null,null,"Area v",{"$f":"IF(COUNTIF($I$87:$I$116,\"Area v\")<1,\"\", AVERAGEIF($I$87:$I$116,\"Area v\",L$87:L$116))","v":""},{"$f":"IF(COUNTIF($I$87:$I$116,\"Area v\")<1,\"\", AVERAGEIF($I$87:$I$116,\"Area v\",M$87:M$116))","v":""}]
[null,null,null,null,null,null,null,null,null,null,"Area vi",{"$f":"IF(COUNTIF($I$87:$I$116,\"Area vi\")<1,\"\",AVERAGEIF($I$87:$I$116,\"Area vi\",L$87:L$116))","v":""},{"$f":"IF(COUNTIF($I$87:$I$116,\"Area vi\")<1,\"\",AVERAGEIF($I$87:$I$116,\"Area vi\",M$87:M$116))","v":""}]
[null,null,null,null,null,null,null,null,null,"Averages:",null,{"$f":"IF(COUNT(L125:L130)<1,\"\", AVERAGE(L125:L130))","v":""},{"$f":"IF(COUNT(M125:M130)<1,\"\", AVERAGE(M125:M130))","v":""}]
[]
[]
[]
[null,null,null,null,null,null,null,"PR weightings (dredge area averages multiplied by dredge area tonnage)"]
[]
[null,null,null,null,null,null,null,null,null,null,"Dredge Area","Organotins as mg/kg wet weight"]
[null,null,null,null,null,null,null,null,null,null,null,"Dibutyltine (DBT)","Tributyltin (TBT)"]
[null,null,null,null,null,null,null,null,null,null,"Area i",{"$f":"IF(L125=\"\",\"\",L125*'PR details'!$G4)","v":""},{"$f":"IF(M125=\"\",\"\",M125*'PR details'!$G4)","v":""}]
[null,null,null,null,null,null,null,null,null,null,"Area ii",{"$f":"IF(L126=\"\",\"\",L126*'PR details'!$G5)","v":""},{"$f":"IF(M126=\"\",\"\",M126*'PR details'!$G5)","v":""}]
[null,null,null,null,null,null,null,null,null,null,"Area iii",{"$f":"IF(L127=\"\",\"\",L127*'PR details'!$G6)","v":""},{"$f":"IF(M127=\"\",\"\",M127*'PR details'!$G6)","v":""}]
[null,null,null,null,null,null,null,null,null,null,"Area iv",{"$f":"IF(L128=\"\",\"\",L128*'PR details'!$G7)","v":""},{"$f":"IF(M128=\"\",\"\",M128*'PR details'!$G7)","v":""}]
[null,null,null,null,null,null,null,null,null,null,"Area v",{"$f":"IF(L129=\"\",\"\",L129*'PR details'!$G8)","v":""},{"$f":"IF(M129=\"\",\"\",M129*'PR details'!$G8)","v":""}]
[null,null,null,null,null,null,null,null,null,null,"Area vi",{"$f":"IF(L130=\"\",\"\",L130*'PR details'!$G9)","v":""},{"$f":"IF(M130=\"\",\"\",M130*'PR details'!$G9)","v":""}]
[null,null,null,null,null,null,null,null,null,null,"Averages:",{"$f":"IF(COUNT(L138:L144)<1,\"\", AVERAGE(L138:L144))","v":""},{"$f":"IF(COUNT(M138:M144)<1,\"\", AVERAGE(M138:M144))","v":""}]
[]
[]
[]
[null,null,null,null,null,null,null,"PR average"]
[]
[null,null,null,null,null,null,null,null,null,null,null,"Organotins as mg/kg wet weight"]
[null,null,null,null,null,null,null,null,null,null,null,"Dibutyltine (DBT)","Tributyltin (TBT)"]
[null,null,null,null,null,null,null,null,null,null,null,{"$f":"IF(COUNT(L139:L144)<1,\"\",SUM(L139:L144))","v":""},{"$f":"IF(COUNT(M139:M144)<1,\"\",SUM(M139:M144))","v":""}]

{"sheet":"PAH data","index":9,"n_rows":38,"n_cols":34,"rows_kept":38,"cut":false,"hidden":false,"merged":[[37,7,37,10],[5,10,6,10],[5,11,5,32],[5,33,6,33],[5,7,6,7],[5,8,6,8],[5,9,6,9]]}
[]
[null,"Polyaromatic hydrocarbon data"]
[]
[null,"Instructions:",null,null,null,null,null,"determinand analysis outputs:"]
[null,"1. Record the laboratory/contractor responsible for PAH analysis"]
[null,"2. Record the date the samples were analysed.",null,null,null,null,null,"Laboratory sample number","Dredge Area","Sample ID(s)","Total Solids (%)","PAHs as dry weight (µg/kg dry weight)",null,null,null,null,null,null,null,null,null,null,null,null,null,null,null,null,null,null,null,null,null,"Total hydrocarbon content (mg/kg)"]
[null,"3. Enter full dataset for each sample in the analysis results table",null,null,null,null,null,null,null,null,null,"Acenapthene","Acenapthylene","Anthracene","Benz[a]anthracene","Benzo[a]pyrene","Benzo[b]fluoranthene","Benzo[g,h,i]perylene","Benzo[e]pyrene","Benzo[k]fluoranthene","C1-Napthalenes","C1-Phenanthrenes","C2-Napthalenes","C3-Napthalenes","Chrysene","Dibenz[a,h]anthracene","Fluoranthene","Fluorene","Indeno[123-c,d]pyrene","Napthalene","Perylene","Phenanthrene","Pyrene"]
[null,"4. Analysis results for individual PAHs should be reported in µg/kg (ppb) dry weight. ",null,null,null,null,null,"MAR02481.001",null,1,29.1,188,96.5,142,510,610,655,510,490,560,866,540,751,610,649,107,1200,213,423,455,183,669,1070]
[null,null,"THC should be reported as mg/kg (ppm)",null,null,null,null,"MAR02481.002",null,2,27.9,270,182,213,656,772,709,601,587,701,962,778,882,768,795,109,1460,295,527,527,210,824,1310]
[null,"5. Enter methdological limit of detection for each PAH prior to inputting raw data",null,null,null,null,null,"MAR02481.003",null,3,31.7,248,118,243,728,836,828,662,619,794,1070,926,833,749,812,139,1700,272,581,488,271,853,1520]
[null,"6. Where analysis outputs are less than the limits of detection please enter text \"<LOD\"",null,null,null,null,null,"MAR02481.004",null,4,32.5,471,184,426,928,1000,965,735,702,883,1440,1040,1300,1030,998,163,2190,474,660,806,278,1300,1930]
[null,"7. Where copying and pasting entries please use paste values only",null,null,null,null,null,"MAR02481.005",null,5,46.4,360,158,295,696,737,730,533,529,650,1320,824,1140,898,727,118,1660,362,493,789,297,943,1730]
[null,"8. Where entering multiple Sample IDs please use the pop-up form",null,null,null,null,null,"MAR02481.006",null,6,41.4,557,282,416,1080,1040,1030,705,711,873,1680,1180,1490,1210,1090,161,2590,513,651,929,307,1190,2480]
[null,null,"IDs should be separated by a comma",null,null,null,null,"MAR02481.007",null,7,37.1,559,215,388,740,800,792,623,597,639,2000,1140,1790,403,825,135,1970,575,541,1070,206,1340,1700]
[null,null,null,null,null,null,null,"MAR02481.008",null,8,46.6,702,219,549,877,956,934,693,675,810,1880,1290,1660,1300,918,158,2020,632,633,1240,246,1330,2100]
[null,"Analysis information:",null,null,null,null,null,"MAR02481.009",null,9,60.8,652,157,194,236,263,262,224,207,199,884,402,769,625,276,45.4,510,466,168,452,63.3,529,522]
[null,null,null,null,null,null,null,"MAR02481.010",null,10,45.8,543,203,269,556,638,651,541,511,510,2810,1280,2630,2210,655,115,1130,500,388,1010,151,1190,1130]
[null,null,"Laboratory/contractor:","SOCOTEC",null,null,null,"MAR02481.011",null,11,47.8,767,398,517,958,1180,1150,851,844,946,4000,1710,3560,3260,1090,197,1730,732,766,1470,319,1630,1960]
[null,null,"Date of analysis:","2024-10-28",null,null,null,"MAR02481.012",null,12,44.4,733,340,340,727,853,819,677,642,675,3360,1490,3270,2890,817,147,1430,686,562,1260,202,1420,1490]
[null,null,null,null,null,null,null,"MAR02481.013",null,13,49,706,262,310,566,635,638,506,492,501,2890,1220,2660,2310,643,114,1080,600,419,1020,149,1180,1150]
[null,null,null,null,null,null,null,"MAR02481.014",null,15,63.5,359,201,324,603,657,606,491,473,505,2490,1310,2240,2040,651,106,1210,404,380,856,149,1210,1220]
[null,null,null,null,null,null,null,"MAR02481.015",null,17,48.9,240,137,268,558,574,571,498,475,436,3600,1590,3340,2940,672,110,1060,392,340,1100,115,1330,1000]
[null,null,"Dredge Areas",null,null,null,null,"MAR02481.016",null,18,52.5,211,154,248,551,567,558,471,459,432,3480,1400,3230,2800,649,107,995,345,340,1110,115,1230,948]
[null,null,{"$f":"'Application info'!$C$26","v":"Area i"},null,null,null,null,"MAR02481.017",null,19,48,250,139,283,592,585,546,542,511,451,4820,1960,4510,3810,735,116,1010,419,378,1390,118,1500,993]
[null,null,{"$f":"'Application info'!$C$27","v":"Area ii"},null,null,null,null,"MAR02481.018",null,20,51.6,257,112,264,659,666,673,596,547,511,4450,2080,4090,3620,761,119,1210,423,407,1380,161,1580,1130]
[null,null,{"$f":"'Application info'!$C$28","v":"Area iii"},null,null,null,null,"MAR02481.019",null,21,55.8,258,145,247,613,636,630,563,557,410,3320,1640,3130,2890,811,154,996,373,367,1090,120,1220,990]
[null,null,{"$f":"'Application info'!$C$29","v":"Area iv"},null,null,null,null,"MAR02481.020",null,22,44,169,95.8,211,434,471,456,441,404,347,3430,1460,3200,2760,562,88.7,797,298,302,1080,93.9,1170,806]
[null,null,{"$f":"'Application info'!$C$30","v":"Area v"},null,null,null,null,"MAR02481.021",null,23,58.8,184,79.2,203,482,483,428,426,405,348,4330,1800,4090,3780,575,89.6,858,325,279,1320,93.9,1350,836]
[null,null,{"$f":"'Application info'!$C$31","v":"Area vi"},null,null,null,null,"MAR02481.022",null,24,66.099999999999994,106,41.3,94.1,183,156,143,192,183,114,3270,1130,2930,2430,250,31,292,197,84.5,964,36.9,853,336]
[null,null,null,null,null,null,null,"MAR02481.023",null,25,63.1,134,58,153,317,295,254,289,277,205,4440,1480,3960,3200,396,58.5,503,253,144,1410,46.3,1210,519]
[]
[]
[]
[]
[]
[]
[]
[null,null,null,null,null,null,null,"Limits of detection (µg/kg dry weight):",null,null,null,1,1,1,1,1,1,1,1,1,1,1,1,1,1,1,1,1,1,1,1,1,1]

{"sheet":"PAH calcs","index":10,"n_rows":189,"n_cols":34,"rows_kept":189,"cut":false,"hidden":true,"merged":[[83,8,84,8],[83,7,84,7],[121,33,122,33],[83,33,84,33],[83,11,83,32],[83,10,84,10],[83,9,84,9],[121,7,122,7],[121,8,122,8],[121,9,122,9],[121,10,122,10],[121,11,121,32],[186,11,186,32],[186,33,187,33],[186,7,187,7],[186,9,187,9],[186,10,187,10],[5,7,6,7],[5,8,6,8],[5,9,6,9],[5,10,6,10],[45,7,46,7],[45,9,46,9],[45,8,46,8],[45,10,46,10],[173,11,173,32],[173,33,174,33],[173,9,174,9],[159,11,159,32],[159,7,166,9],[173,7,174,7],[173,10,174,10],[5,11,5,32],[5,33,6,33],[45,11,45,32],[45,33,46,33],[159,33,160,33]]}
[]
[null,"Polyaromatic hydrocarbon summary information"]
[]
[null,"Analysis information:",null,null,null,null,null,"determinand analysis outputs - adjusted for limits of detection and transformed to mg/kg"]
[]
[null,null,"Applicant:",{"$f":"IF('Application info'!E16=\"\",\"\",'Application info'!E16)","v":"PD Ports"},null,null,null,"Laboratory sample number","Dredge Area","Excluded (y if yes)","Sample ID(s)","PAHs as mg/kg dry weight",null,null,null,null,null,null,null,null,null,null,null,null,null,null,null,null,null,null,null,null,null,"Total hydrocarbon content (mg/kg)"]
[null,null,"Application number:",{"$f":"IF('Application info'!E17=\"\",\"\",'Application info'!E17)","v":""},null,null,null,null,null,null,null,"Acenapthene","Acenapthylene","Anthracene","Benz[a]anthracene","Benzo[a]pyrene","Benzo[b]fluoranthene","Benzo[g,h,i]perylene","Benzo[e]pyrene","Benzo[k]fluoranthene","C1-Napthalenes","C1-Phenanthrenes","C2-Napthalenes","C3-Napthalenes","Chrysene","Dibenz[a,h]anthracene","Fluoranthene","Fluorene","Indeno[123-c,d]pyrene","Napthalene","Perylene","Phenanthrene","Pyrene"]
[null,null,"Application title:",{"$f":"IF('Application info'!E18=\"\",\"\",'Application info'!E18)","v":"Mid licence sampling - year 9"},null,null,null,{"$f":"IF('PAH data'!H8=\"\",\"\",'PAH data'!H8)","v":"MAR02481.001"},{"$f":"IF('PAH data'!I8=\"\",\"\",'PAH data'!I8)","v":""},{"$f":"IFERROR(IF(K8=\"\",\"\",(IF(VLOOKUP(K8,'Application info'!$K$8:$L$37,2,0)=\"y\",\"y\",\"\"))),\"Manual entry required\")","v":""},{"$f":"IF('PAH data'!J8=\"\",\"\",'PAH data'!J8)","v":1},{"$f":"IF('PAH data'!L8=\"\",\"\",IF(ISNUMBER('PAH data'!L8)=TRUE, IF('PAH data'!L8<'PAH data'!L$38, \"ERROR\", 'PAH data'!L8/1000), IF('PAH data'!L8=\"<LOD\",'PAH data'!L$38/1000, \"ERROR\")))","v":0.188},{"$f":"IF('PAH data'!M8=\"\",\"\",IF(ISNUMBER('PAH data'!M8)=TRUE, IF('PAH data'!M8<'PAH data'!M$38, \"ERROR\", 'PAH data'!M8/1000), IF('PAH data'!M8=\"<LOD\",'PAH data'!M$38/1000, \"ERROR\")))","v":9.6500000000000002E-2},{"$f":"IF('PAH data'!N8=\"\",\"\",IF(ISNUMBER('PAH data'!N8)=TRUE, IF('PAH data'!N8<'PAH data'!N$38, \"ERROR\", 'PAH data'!N8/1000), IF('PAH data'!N8=\"<LOD\",'PAH data'!N$38/1000, \"ERROR\")))","v":0.14199999999999999},{"$f":"IF('PAH data'!O8=\"\",\"\",IF(ISNUMBER('PAH data'!O8)=TRUE, IF('PAH data'!O8<'PAH data'!O$38, \"ERROR\", 'PAH data'!O8/1000), IF('PAH data'!O8=\"<LOD\",'PAH data'!O$38/1000, \"ERROR\")))","v":0.51},{"$f":"IF('PAH data'!P8=\"\",\"\",IF(ISNUMBER('PAH data'!P8)=TRUE, IF('PAH data'!P8<'PAH data'!P$38, \"ERROR\", 'PAH data'!P8/1000), IF('PAH data'!P8=\"<LOD\",'PAH data'!P$38/1000, \"ERROR\")))","v":0.61},{"$f":"IF('PAH data'!Q8=\"\",\"\",IF(ISNUMBER('PAH data'!Q8)=TRUE, IF('PAH data'!Q8<'PAH data'!Q$38, \"ERROR\", 'PAH data'!Q8/1000), IF('PAH data'!Q8=\"<LOD\",'PAH data'!Q$38/1000, \"ERROR\")))","v":0.65500000000000003},{"$f":"IF('PAH data'!R8=\"\",\"\",IF(ISNUMBER('PAH data'!R8)=TRUE, IF('PAH data'!R8<'PAH data'!R$38, \"ERROR\", 'PAH data'!R8/1000), IF('PAH data'!R8=\"<LOD\",'PAH data'!R$38/1000, \"ERROR\")))","v":0.51},{"$f":"IF('PAH data'!S8=\"\",\"\",IF(ISNUMBER('PAH data'!S8)=TRUE, IF('PAH data'!S8<'PAH data'!S$38, \"ERROR\", 'PAH data'!S8/1000), IF('PAH data'!S8=\"<LOD\",'PAH data'!S$38/1000, \"ERROR\")))","v":0.49},{"$f":"IF('PAH data'!T8=\"\",\"\",IF(ISNUMBER('PAH data'!T8)=TRUE, IF('PAH data'!T8<'PAH data'!T$38, \"ERROR\", 'PAH data'!T8/1000), IF('PAH data'!T8=\"<LOD\",'PAH data'!T$38/1000, \"ERROR\")))","v":0.56000000000000005},{"$f":"IF('PAH data'!U8=\"\",\"\",IF(ISNUMBER('PAH data'!U8)=TRUE, IF('PAH data'!U8<'PAH data'!U$38, \"ERROR\", 'PAH data'!U8/1000), IF('PAH data'!U8=\"<LOD\",'PAH data'!U$38/1000, \"ERROR\")))","v":0.86599999999999999},{"$f":"IF('PAH data'!V8=\"\",\"\",IF(ISNUMBER('PAH data'!V8)=TRUE, IF('PAH data'!V8<'PAH data'!V$38, \"ERROR\", 'PAH data'!V8/1000), IF('PAH data'!V8=\"<LOD\",'PAH data'!V$38/1000, \"ERROR\")))","v":0.54},{"$f":"IF('PAH data'!W8=\"\",\"\",IF(ISNUMBER('PAH data'!W8)=TRUE, IF('PAH data'!W8<'PAH data'!W$38, \"ERROR\", 'PAH data'!W8/1000), IF('PAH data'!W8=\"<LOD\",'PAH data'!W$38/1000, \"ERROR\")))","v":0.751},{"$f":"IF('PAH data'!X8=\"\",\"\",IF(ISNUMBER('PAH data'!X8)=TRUE, IF('PAH data'!X8<'PAH data'!X$38, \"ERROR\", 'PAH data'!X8/1000), IF('PAH data'!X8=\"<LOD\",'PAH data'!X$38/1000, \"ERROR\")))","v":0.61},{"$f":"IF('PAH data'!Y8=\"\",\"\",IF(ISNUMBER('PAH data'!Y8)=TRUE, IF('PAH data'!Y8<'PAH data'!Y$38, \"ERROR\", 'PAH data'!Y8/1000), IF('PAH data'!Y8=\"<LOD\",'PAH data'!Y$38/1000, \"ERROR\")))","v":0.64900000000000002},{"$f":"IF('PAH data'!Z8=\"\",\"\",IF(ISNUMBER('PAH data'!Z8)=TRUE, IF('PAH data'!Z8<'PAH data'!Z$38, \"ERROR\", 'PAH data'!Z8/1000), IF('PAH data'!Z8=\"<LOD\",'PAH data'!Z$38/1000, \"ERROR\")))","v":0.107},{"$f":"IF('PAH data'!AA8=\"\",\"\",IF(ISNUMBER('PAH data'!AA8)=TRUE, IF('PAH data'!AA8<'PAH data'!AA$38, \"ERROR\", 'PAH data'!AA8/1000), IF('PAH data'!AA8=\"<LOD\",'PAH data'!AA$38/1000, \"ERROR\")))","v":1.2},{"$f":"IF('PAH data'!AB8=\"\",\"\",IF(ISNUMBER('PAH data'!AB8)=TRUE, IF('PAH data'!AB8<'PAH data'!AB$38, \"ERROR\", 'PAH data'!AB8/1000), IF('PAH data'!AB8=\"<LOD\",'PAH data'!AB$38/1000, \"ERROR\")))","v":0.21299999999999999},{"$f":"IF('PAH data'!AC8=\"\",\"\",IF(ISNUMBER('PAH data'!AC8)=TRUE, IF('PAH data'!AC8<'PAH data'!AC$38, \"ERROR\", 'PAH data'!AC8/1000), IF('PAH data'!AC8=\"<LOD\",'PAH data'!AC$38/1000, \"ERROR\")))","v":0.42299999999999999},{"$f":"IF('PAH data'!AD8=\"\",\"\",IF(ISNUMBER('PAH data'!AD8)=TRUE, IF('PAH data'!AD8<'PAH data'!AD$38, \"ERROR\", 'PAH data'!AD8/1000), IF('PAH data'!AD8=\"<LOD\",'PAH data'!AD$38/1000, \"ERROR\")))","v":0.45500000000000002},{"$f":"IF('PAH data'!AE8=\"\",\"\",IF(ISNUMBER('PAH data'!AE8)=TRUE, IF('PAH data'!AE8<'PAH data'!AE$38, \"ERROR\", 'PAH data'!AE8/1000), IF('PAH data'!AE8=\"<LOD\",'PAH data'!AE$38/1000, \"ERROR\")))","v":0.183},{"$f":"IF('PAH data'!AF8=\"\",\"\",IF(ISNUMBER('PAH data'!AF8)=TRUE, IF('PAH data'!AF8<'PAH data'!AF$38, \"ERROR\", 'PAH data'!AF8/1000), IF('PAH data'!AF8=\"<LOD\",'PAH data'!AF$38/1000, \"ERROR\")))","v":0.66900000000000004},{"$f":"IF('PAH data'!AG8=\"\",\"\",IF(ISNUMBER('PAH data'!AG8)=TRUE, IF('PAH data'!AG8<'PAH data'!AG$38, \"ERROR\", 'PAH data'!AG8/1000), IF('PAH data'!AG8=\"<LOD\",'PAH data'!AG$38/1000, \"ERROR\")))","v":1.07},{"$f":"IF('PAH data'!AH8=\"\",\"\",IF(ISNUMBER('PAH data'!AH8)=TRUE, IF('PAH data'!AH8<'PAH data'!AH$38, \"ERROR\", 'PAH data'!AH8), IF('PAH data'!AH8=\"<LOD\",'PAH data'!AH$38, \"ERROR\")))","v":""}]
[null,null,"Date sampled:",{"$f":"IF('Application info'!E19=\"\",\"\",'Application info'!E19)","v":""},null,null,null,{"$f":"IF('PAH data'!H9=\"\",\"\",'PAH data'!H9)","v":"MAR02481.002"},{"$f":"IF('PAH data'!I9=\"\",\"\",'PAH data'!I9)","v":""},{"$f":"IFERROR(IF(K9=\"\",\"\",(IF(VLOOKUP(K9,'Application info'!$K$8:$L$37,2,0)=\"y\",\"y\",\"\"))),\"Manual entry required\")","v":""},{"$f":"IF('PAH data'!J9=\"\",\"\",'PAH data'!J9)","v":2},{"$f":"IF('PAH data'!L9=\"\",\"\",IF(ISNUMBER('PAH data'!L9)=TRUE, IF('PAH data'!L9<'PAH data'!L$38, \"ERROR\", 'PAH data'!L9/1000), IF('PAH data'!L9=\"<LOD\",'PAH data'!L$38/1000, \"ERROR\")))","v":0.27},{"$f":"IF('PAH data'!M9=\"\",\"\",IF(ISNUMBER('PAH data'!M9)=TRUE, IF('PAH data'!M9<'PAH data'!M$38, \"ERROR\", 'PAH data'!M9/1000), IF('PAH data'!M9=\"<LOD\",'PAH data'!M$38/1000, \"ERROR\")))","v":0.182},{"$f":"IF('PAH data'!N9=\"\",\"\",IF(ISNUMBER('PAH data'!N9)=TRUE, IF('PAH data'!N9<'PAH data'!N$38, \"ERROR\", 'PAH data'!N9/1000), IF('PAH data'!N9=\"<LOD\",'PAH data'!N$38/1000, \"ERROR\")))","v":0.21299999999999999},{"$f":"IF('PAH data'!O9=\"\",\"\",IF(ISNUMBER('PAH data'!O9)=TRUE, IF('PAH data'!O9<'PAH data'!O$38, \"ERROR\", 'PAH data'!O9/1000), IF('PAH data'!O9=\"<LOD\",'PAH data'!O$38/1000, \"ERROR\")))","v":0.65600000000000003},{"$f":"IF('PAH data'!P9=\"\",\"\",IF(ISNUMBER('PAH data'!P9)=TRUE, IF('PAH data'!P9<'PAH data'!P$38, \"ERROR\", 'PAH data'!P9/1000), IF('PAH data'!P9=\"<LOD\",'PAH data'!P$38/1000, \"ERROR\")))","v":0.77200000000000002},{"$f":"IF('PAH data'!Q9=\"\",\"\",IF(ISNUMBER('PAH data'!Q9)=TRUE, IF('PAH data'!Q9<'PAH data'!Q$38, \"ERROR\", 'PAH data'!Q9/1000), IF('PAH data'!Q9=\"<LOD\",'PAH data'!Q$38/1000, \"ERROR\")))","v":0.70899999999999996},{"$f":"IF('PAH data'!R9=\"\",\"\",IF(ISNUMBER('PAH data'!R9)=TRUE, IF('PAH data'!R9<'PAH data'!R$38, \"ERROR\", 'PAH data'!R9/1000), IF('PAH data'!R9=\"<LOD\",'PAH data'!R$38/1000, \"ERROR\")))","v":0.60099999999999998},{"$f":"IF('PAH data'!S9=\"\",\"\",IF(ISNUMBER('PAH data'!S9)=TRUE, IF('PAH data'!S9<'PAH data'!S$38, \"ERROR\", 'PAH data'!S9/1000), IF('PAH data'!S9=\"<LOD\",'PAH data'!S$38/1000, \"ERROR\")))","v":0.58699999999999997},{"$f":"IF('PAH data'!T9=\"\",\"\",IF(ISNUMBER('PAH data'!T9)=TRUE, IF('PAH data'!T9<'PAH data'!T$38, \"ERROR\", 'PAH data'!T9/1000), IF('PAH data'!T9=\"<LOD\",'PAH data'!T$38/1000, \"ERROR\")))","v":0.70099999999999996},{"$f":"IF('PAH data'!U9=\"\",\"\",IF(ISNUMBER('PAH data'!U9)=TRUE, IF('PAH data'!U9<'PAH data'!U$38, \"ERROR\", 'PAH data'!U9/1000), IF('PAH data'!U9=\"<LOD\",'PAH data'!U$38/1000, \"ERROR\")))","v":0.96199999999999997},{"$f":"IF('PAH data'!V9=\"\",\"\",IF(ISNUMBER('PAH data'!V9)=TRUE, IF('PAH data'!V9<'PAH data'!V$38, \"ERROR\", 'PAH data'!V9/1000), IF('PAH data'!V9=\"<LOD\",'PAH data'!V$38/1000, \"ERROR\")))","v":0.77800000000000002},{"$f":"IF('PAH data'!W9=\"\",\"\",IF(ISNUMBER('PAH data'!W9)=TRUE, IF('PAH data'!W9<'PAH data'!W$38, \"ERROR\", 'PAH data'!W9/1000), IF('PAH data'!W9=\"<LOD\",'PAH data'!W$38/1000, \"ERROR\")))","v":0.88200000000000001},{"$f":"IF('PAH data'!X9=\"\",\"\",IF(ISNUMBER('PAH data'!X9)=TRUE, IF('PAH data'!X9<'PAH data'!X$38, \"ERROR\", 'PAH data'!X9/1000), IF('PAH data'!X9=\"<LOD\",'PAH data'!X$38/1000, \"ERROR\")))","v":0.76800000000000002},{"$f":"IF('PAH data'!Y9=\"\",\"\",IF(ISNUMBER('PAH data'!Y9)=TRUE, IF('PAH data'!Y9<'PAH data'!Y$38, \"ERROR\", 'PAH data'!Y9/1000), IF('PAH data'!Y9=\"<LOD\",'PAH data'!Y$38/1000, \"ERROR\")))","v":0.79500000000000004},{"$f":"IF('PAH data'!Z9=\"\",\"\",IF(ISNUMBER('PAH data'!Z9)=TRUE, IF('PAH data'!Z9<'PAH data'!Z$38, \"ERROR\", 'PAH data'!Z9/1000), IF('PAH data'!Z9=\"<LOD\",'PAH data'!Z$38/1000, \"ERROR\")))","v":0.109},{"$f":"IF('PAH data'!AA9=\"\",\"\",IF(ISNUMBER('PAH data'!AA9)=TRUE, IF('PAH data'!AA9<'PAH data'!AA$38, \"ERROR\", 'PAH data'!AA9/1000), IF('PAH data'!AA9=\"<LOD\",'PAH data'!AA$38/1000, \"ERROR\")))","v":1.46},{"$f":"IF('PAH data'!AB9=\"\",\"\",IF(ISNUMBER('PAH data'!AB9)=TRUE, IF('PAH data'!AB9<'PAH data'!AB$38, \"ERROR\", 'PAH data'!AB9/1000), IF('PAH data'!AB9=\"<LOD\",'PAH data'!AB$38/1000, \"ERROR\")))","v":0.29499999999999998},{"$f":"IF('PAH data'!AC9=\"\",\"\",IF(ISNUMBER('PAH data'!AC9)=TRUE, IF('PAH data'!AC9<'PAH data'!AC$38, \"ERROR\", 'PAH data'!AC9/1000), IF('PAH data'!AC9=\"<LOD\",'PAH data'!AC$38/1000, \"ERROR\")))","v":0.52700000000000002},{"$f":"IF('PAH data'!AD9=\"\",\"\",IF(ISNUMBER('PAH data'!AD9)=TRUE, IF('PAH data'!AD9<'PAH data'!AD$38, \"ERROR\", 'PAH data'!AD9/1000), IF('PAH data'!AD9=\"<LOD\",'PAH data'!AD$38/1000, \"ERROR\")))","v":0.52700000000000002},{"$f":"IF('PAH data'!AE9=\"\",\"\",IF(ISNUMBER('PAH data'!AE9)=TRUE, IF('PAH data'!AE9<'PAH data'!AE$38, \"ERROR\", 'PAH data'!AE9/1000), IF('PAH data'!AE9=\"<LOD\",'PAH data'!AE$38/1000, \"ERROR\")))","v":0.21},{"$f":"IF('PAH data'!AF9=\"\",\"\",IF(ISNUMBER('PAH data'!AF9)=TRUE, IF('PAH data'!AF9<'PAH data'!AF$38, \"ERROR\", 'PAH data'!AF9/1000), IF('PAH data'!AF9=\"<LOD\",'PAH data'!AF$38/1000, \"ERROR\")))","v":0.82399999999999995},{"$f":"IF('PAH data'!AG9=\"\",\"\",IF(ISNUMBER('PAH data'!AG9)=TRUE, IF('PAH data'!AG9<'PAH data'!AG$38, \"ERROR\", 'PAH data'!AG9/1000), IF('PAH data'!AG9=\"<LOD\",'PAH data'!AG$38/1000, \"ERROR\")))","v":1.31},{"$f":"IF('PAH data'!AH9=\"\",\"\",IF(ISNUMBER('PAH data'!AH9)=TRUE, IF('PAH data'!AH9<'PAH data'!AH$38, \"ERROR\", 'PAH data'!AH9), IF('PAH data'!AH9=\"<LOD\",'PAH data'!AH$38, \"ERROR\")))","v":""}]
[null,null,"Sampling location:",{"$f":"IF('Application info'!E20=\"\",\"\",'Application info'!E20)","v":""},null,null,null,{"$f":"IF('PAH data'!H10=\"\",\"\",'PAH data'!H10)","v":"MAR02481.003"},{"$f":"IF('PAH data'!I10=\"\",\"\",'PAH data'!I10)","v":""},{"$f":"IFERROR(IF(K10=\"\",\"\",(IF(VLOOKUP(K10,'Application info'!$K$8:$L$37,2,0)=\"y\",\"y\",\"\"))),\"Manual entry required\")","v":""},{"$f":"IF('PAH data'!J10=\"\",\"\",'PAH data'!J10)","v":3},{"$f":"IF('PAH data'!L10=\"\",\"\",IF(ISNUMBER('PAH data'!L10)=TRUE, IF('PAH data'!L10<'PAH data'!L$38, \"ERROR\", 'PAH data'!L10/1000), IF('PAH data'!L10=\"<LOD\",'PAH data'!L$38/1000, \"ERROR\")))","v":0.248},{"$f":"IF('PAH data'!M10=\"\",\"\",IF(ISNUMBER('PAH data'!M10)=TRUE, IF('PAH data'!M10<'PAH data'!M$38, \"ERROR\", 'PAH data'!M10/1000), IF('PAH data'!M10=\"<LOD\",'PAH data'!M$38/1000, \"ERROR\")))","v":0.11799999999999999},{"$f":"IF('PAH data'!N10=\"\",\"\",IF(ISNUMBER('PAH data'!N10)=TRUE, IF('PAH data'!N10<'PAH data'!N$38, \"ERROR\", 'PAH data'!N10/1000), IF('PAH data'!N10=\"<LOD\",'PAH data'!N$38/1000, \"ERROR\")))","v":0.24299999999999999},{"$f":"IF('PAH data'!O10=\"\",\"\",IF(ISNUMBER('PAH data'!O10)=TRUE, IF('PAH data'!O10<'PAH data'!O$38, \"ERROR\", 'PAH data'!O10/1000), IF('PAH data'!O10=\"<LOD\",'PAH data'!O$38/1000, \"ERROR\")))","v":0.72799999999999998},{"$f":"IF('PAH data'!P10=\"\",\"\",IF(ISNUMBER('PAH data'!P10)=TRUE, IF('PAH data'!P10<'PAH data'!P$38, \"ERROR\", 'PAH data'!P10/1000), IF('PAH data'!P10=\"<LOD\",'PAH data'!P$38/1000, \"ERROR\")))","v":0.83599999999999997},{"$f":"IF('PAH data'!Q10=\"\",\"\",IF(ISNUMBER('PAH data'!Q10)=TRUE, IF('PAH data'!Q10<'PAH data'!Q$38, \"ERROR\", 'PAH data'!Q10/1000), IF('PAH data'!Q10=\"<LOD\",'PAH data'!Q$38/1000, \"ERROR\")))","v":0.82799999999999996},{"$f":"IF('PAH data'!R10=\"\",\"\",IF(ISNUMBER('PAH data'!R10)=TRUE, IF('PAH data'!R10<'PAH data'!R$38, \"ERROR\", 'PAH data'!R10/1000), IF('PAH data'!R10=\"<LOD\",'PAH data'!R$38/1000, \"ERROR\")))","v":0.66200000000000003},{"$f":"IF('PAH data'!S10=\"\",\"\",IF(ISNUMBER('PAH data'!S10)=TRUE, IF('PAH data'!S10<'PAH data'!S$38, \"ERROR\", 'PAH data'!S10/1000), IF('PAH data'!S10=\"<LOD\",'PAH data'!S$38/1000, \"ERROR\")))","v":0.61899999999999999},{"$f":"IF('PAH data'!T10=\"\",\"\",IF(ISNUMBER('PAH data'!T10)=TRUE, IF('PAH data'!T10<'PAH data'!T$38, \"ERROR\", 'PAH data'!T10/1000), IF('PAH data'!T10=\"<LOD\",'PAH data'!T$38/1000, \"ERROR\")))","v":0.79400000000000004},{"$f":"IF('PAH data'!U10=\"\",\"\",IF(ISNUMBER('PAH data'!U10)=TRUE, IF('PAH data'!U10<'PAH data'!U$38, \"ERROR\", 'PAH data'!U10/1000), IF('PAH data'!U10=\"<LOD\",'PAH data'!U$38/1000, \"ERROR\")))","v":1.07},{"$f":"IF('PAH data'!V10=\"\",\"\",IF(ISNUMBER('PAH data'!V10)=TRUE, IF('PAH data'!V10<'PAH data'!V$38, \"ERROR\", 'PAH data'!V10/1000), IF('PAH data'!V10=\"<LOD\",'PAH data'!V$38/1000, \"ERROR\")))","v":0.92600000000000005},{"$f":"IF('PAH data'!W10=\"\",\"\",IF(ISNUMBER('PAH data'!W10)=TRUE, IF('PAH data'!W10<'PAH data'!W$38, \"ERROR\", 'PAH data'!W10/1000), IF('PAH data'!W10=\"<LOD\",'PAH data'!W$38/1000, \"ERROR\")))","v":0.83299999999999996},{"$f":"IF('PAH data'!X10=\"\",\"\",IF(ISNUMBER('PAH data'!X10)=TRUE, IF('PAH data'!X10<'PAH data'!X$38, \"ERROR\", 'PAH data'!X10/1000), IF('PAH data'!X10=\"<LOD\",'PAH data'!X$38/1000, \"ERROR\")))","v":0.749},{"$f":"IF('PAH data'!Y10=\"\",\"\",IF(ISNUMBER('PAH data'!Y10)=TRUE, IF('PAH data'!Y10<'PAH data'!Y$38, \"ERROR\", 'PAH data'!Y10/1000), IF('PAH data'!Y10=\"<LOD\",'PAH data'!Y$38/1000, \"ERROR\")))","v":0.81200000000000006},{"$f":"IF('PAH data'!Z10=\"\",\"\",IF(ISNUMBER('PAH data'!Z10)=TRUE, IF('PAH data'!Z10<'PAH data'!Z$38, \"ERROR\", 'PAH data'!Z10/1000), IF('PAH data'!Z10=\"<LOD\",'PAH data'!Z$38/1000, \"ERROR\")))","v":0.13900000000000001},{"$f":"IF('PAH data'!AA10=\"\",\"\",IF(ISNUMBER('PAH data'!AA10)=TRUE, IF('PAH data'!AA10<'PAH data'!AA$38, \"ERROR\", 'PAH data'!AA10/1000), IF('PAH data'!AA10=\"<LOD\",'PAH data'!AA$38/1000, \"ERROR\")))","v":1.7},{"$f":"IF('PAH data'!AB10=\"\",\"\",IF(ISNUMBER('PAH data'!AB10)=TRUE, IF('PAH data'!AB10<'PAH data'!AB$38, \"ERROR\", 'PAH data'!AB10/1000), IF('PAH data'!AB10=\"<LOD\",'PAH data'!AB$38/1000, \"ERROR\")))","v":0.27200000000000002},{"$f":"IF('PAH data'!AC10=\"\",\"\",IF(ISNUMBER('PAH data'!AC10)=TRUE, IF('PAH data'!AC10<'PAH data'!AC$38, \"ERROR\", 'PAH data'!AC10/1000), IF('PAH data'!AC10=\"<LOD\",'PAH data'!AC$38/1000, \"ERROR\")))","v":0.58099999999999996},{"$f":"IF('PAH data'!AD10=\"\",\"\",IF(ISNUMBER('PAH data'!AD10)=TRUE, IF('PAH data'!AD10<'PAH data'!AD$38, \"ERROR\", 'PAH data'!AD10/1000), IF('PAH data'!AD10=\"<LOD\",'PAH data'!AD$38/1000, \"ERROR\")))","v":0.48799999999999999},{"$f":"IF('PAH data'!AE10=\"\",\"\",IF(ISNUMBER('PAH data'!AE10)=TRUE, IF('PAH data'!AE10<'PAH data'!AE$38, \"ERROR\", 'PAH data'!AE10/1000), IF('PAH data'!AE10=\"<LOD\",'PAH data'!AE$38/1000, \"ERROR\")))","v":0.27100000000000002},{"$f":"IF('PAH data'!AF10=\"\",\"\",IF(ISNUMBER('PAH data'!AF10)=TRUE, IF('PAH data'!AF10<'PAH data'!AF$38, \"ERROR\", 'PAH data'!AF10/1000), IF('PAH data'!AF10=\"<LOD\",'PAH data'!AF$38/1000, \"ERROR\")))","v":0.85299999999999998},{"$f":"IF('PAH data'!AG10=\"\",\"\",IF(ISNUMBER('PAH data'!AG10)=TRUE, IF('PAH data'!AG10<'PAH data'!AG$38, \"ERROR\", 'PAH data'!AG10/1000), IF('PAH data'!AG10=\"<LOD\",'PAH data'!AG$38/1000, \"ERROR\")))","v":1.52},{"$f":"IF('PAH data'!AH10=\"\",\"\",IF(ISNUMBER('PAH data'!AH10)=TRUE, IF('PAH data'!AH10<'PAH data'!AH$38, \"ERROR\", 'PAH data'!AH10), IF('PAH data'!AH10=\"<LOD\",'PAH data'!AH$38, \"ERROR\")))","v":""}]
[null,null,null,null,null,null,null,{"$f":"IF('PAH data'!H11=\"\",\"\",'PAH data'!H11)","v":"MAR02481.004"},{"$f":"IF('PAH data'!I11=\"\",\"\",'PAH data'!I11)","v":""},{"$f":"IFERROR(IF(K11=\"\",\"\",(IF(VLOOKUP(K11,'Application info'!$K$8:$L$37,2,0)=\"y\",\"y\",\"\"))),\"Manual entry required\")","v":""},{"$f":"IF('PAH data'!J11=\"\",\"\",'PAH data'!J11)","v":4},{"$f":"IF('PAH data'!L11=\"\",\"\",IF(ISNUMBER('PAH data'!L11)=TRUE, IF('PAH data'!L11<'PAH data'!L$38, \"ERROR\", 'PAH data'!L11/1000), IF('PAH data'!L11=\"<LOD\",'PAH data'!L$38/1000, \"ERROR\")))","v":0.47099999999999997},{"$f":"IF('PAH data'!M11=\"\",\"\",IF(ISNUMBER('PAH data'!M11)=TRUE, IF('PAH data'!M11<'PAH data'!M$38, \"ERROR\", 'PAH data'!M11/1000), IF('PAH data'!M11=\"<LOD\",'PAH data'!M$38/1000, \"ERROR\")))","v":0.184},{"$f":"IF('PAH data'!N11=\"\",\"\",IF(ISNUMBER('PAH data'!N11)=TRUE, IF('PAH data'!N11<'PAH data'!N$38, \"ERROR\", 'PAH data'!N11/1000), IF('PAH data'!N11=\"<LOD\",'PAH data'!N$38/1000, \"ERROR\")))","v":0.42599999999999999},{"$f":"IF('PAH data'!O11=\"\",\"\",IF(ISNUMBER('PAH data'!O11)=TRUE, IF('PAH data'!O11<'PAH data'!O$38, \"ERROR\", 'PAH data'!O11/1000), IF('PAH data'!O11=\"<LOD\",'PAH data'!O$38/1000, \"ERROR\")))","v":0.92800000000000005},{"$f":"IF('PAH data'!P11=\"\",\"\",IF(ISNUMBER('PAH data'!P11)=TRUE, IF('PAH data'!P11<'PAH data'!P$38, \"ERROR\", 'PAH data'!P11/1000), IF('PAH data'!P11=\"<LOD\",'PAH data'!P$38/1000, \"ERROR\")))","v":1},{"$f":"IF('PAH data'!Q11=\"\",\"\",IF(ISNUMBER('PAH data'!Q11)=TRUE, IF('PAH data'!Q11<'PAH data'!Q$38, \"ERROR\", 'PAH data'!Q11/1000), IF('PAH data'!Q11=\"<LOD\",'PAH data'!Q$38/1000, \"ERROR\")))","v":0.96499999999999997},{"$f":"IF('PAH data'!R11=\"\",\"\",IF(ISNUMBER('PAH data'!R11)=TRUE, IF('PAH data'!R11<'PAH data'!R$38, \"ERROR\", 'PAH data'!R11/1000), IF('PAH data'!R11=\"<LOD\",'PAH data'!R$38/1000, \"ERROR\")))","v":0.73499999999999999},{"$f":"IF('PAH data'!S11=\"\",\"\",IF(ISNUMBER('PAH data'!S11)=TRUE, IF('PAH data'!S11<'PAH data'!S$38, \"ERROR\", 'PAH data'!S11/1000), IF('PAH data'!S11=\"<LOD\",'PAH data'!S$38/1000, \"ERROR\")))","v":0.70199999999999996},{"$f":"IF('PAH data'!T11=\"\",\"\",IF(ISNUMBER('PAH data'!T11)=TRUE, IF('PAH data'!T11<'PAH data'!T$38, \"ERROR\", 'PAH data'!T11/1000), IF('PAH data'!T11=\"<LOD\",'PAH data'!T$38/1000, \"ERROR\")))","v":0.88300000000000001},{"$f":"IF('PAH data'!U11=\"\",\"\",IF(ISNUMBER('PAH data'!U11)=TRUE, IF('PAH data'!U11<'PAH data'!U$38, \"ERROR\", 'PAH data'!U11/1000), IF('PAH data'!U11=\"<LOD\",'PAH data'!U$38/1000, \"ERROR\")))","v":1.44},{"$f":"IF('PAH data'!V11=\"\",\"\",IF(ISNUMBER('PAH data'!V11)=TRUE, IF('PAH data'!V11<'PAH data'!V$38, \"ERROR\", 'PAH data'!V11/1000), IF('PAH data'!V11=\"<LOD\",'PAH data'!V$38/1000, \"ERROR\")))","v":1.04},{"$f":"IF('PAH data'!W11=\"\",\"\",IF(ISNUMBER('PAH data'!W11)=TRUE, IF('PAH data'!W11<'PAH data'!W$38, \"ERROR\", 'PAH data'!W11/1000), IF('PAH data'!W11=\"<LOD\",'PAH data'!W$38/1000, \"ERROR\")))","v":1.3},{"$f":"IF('PAH data'!X11=\"\",\"\",IF(ISNUMBER('PAH data'!X11)=TRUE, IF('PAH data'!X11<'PAH data'!X$38, \"ERROR\", 'PAH data'!X11/1000), IF('PAH data'!X11=\"<LOD\",'PAH data'!X$38/1000, \"ERROR\")))","v":1.03},{"$f":"IF('PAH data'!Y11=\"\",\"\",IF(ISNUMBER('PAH data'!Y11)=TRUE, IF('PAH data'!Y11<'PAH data'!Y$38, \"ERROR\", 'PAH data'!Y11/1000), IF('PAH data'!Y11=\"<LOD\",'PAH data'!Y$38/1000, \"ERROR\")))","v":0.998},{"$f":"IF('PAH data'!Z11=\"\",\"\",IF(ISNUMBER('PAH data'!Z11)=TRUE, IF('PAH data'!Z11<'PAH data'!Z$38, \"ERROR\", 'PAH data'!Z11/1000), IF('PAH data'!Z11=\"<LOD\",'PAH data'!Z$38/1000, \"ERROR\")))","v":0.16300000000000001},{"$f":"IF('PAH data'!AA11=\"\",\"\",IF(ISNUMBER('PAH data'!AA11)=TRUE, IF('PAH data'!AA11<'PAH data'!AA$38, \"ERROR\", 'PAH data'!AA11/1000), IF('PAH data'!AA11=\"<LOD\",'PAH data'!AA$38/1000, \"ERROR\")))","v":2.19},{"$f":"IF('PAH data'!AB11=\"\",\"\",IF(ISNUMBER('PAH data'!AB11)=TRUE, IF('PAH data'!AB11<'PAH data'!AB$38, \"ERROR\", 'PAH data'!AB11/1000), IF('PAH data'!AB11=\"<LOD\",'PAH data'!AB$38/1000, \"ERROR\")))","v":0.47399999999999998},{"$f":"IF('PAH data'!AC11=\"\",\"\",IF(ISNUMBER('PAH data'!AC11)=TRUE, IF('PAH data'!AC11<'PAH data'!AC$38, \"ERROR\", 'PAH data'!AC11/1000), IF('PAH data'!AC11=\"<LOD\",'PAH data'!AC$38/1000, \"ERROR\")))","v":0.66},{"$f":"IF('PAH data'!AD11=\"\",\"\",IF(ISNUMBER('PAH data'!AD11)=TRUE, IF('PAH data'!AD11<'PAH data'!AD$38, \"ERROR\", 'PAH data'!AD11/1000), IF('PAH data'!AD11=\"<LOD\",'PAH data'!AD$38/1000, \"ERROR\")))","v":0.80600000000000005},{"$f":"IF('PAH data'!AE11=\"\",\"\",IF(ISNUMBER('PAH data'!AE11)=TRUE, IF('PAH data'!AE11<'PAH data'!AE$38, \"ERROR\", 'PAH data'!AE11/1000), IF('PAH data'!AE11=\"<LOD\",'PAH data'!AE$38/1000, \"ERROR\")))","v":0.27800000000000002},{"$f":"IF('PAH data'!AF11=\"\",\"\",IF(ISNUMBER('PAH data'!AF11)=TRUE, IF('PAH data'!AF11<'PAH data'!AF$38, \"ERROR\", 'PAH data'!AF11/1000), IF('PAH data'!AF11=\"<LOD\",'PAH data'!AF$38/1000, \"ERROR\")))","v":1.3},{"$f":"IF('PAH data'!AG11=\"\",\"\",IF(ISNUMBER('PAH data'!AG11)=TRUE, IF('PAH data'!AG11<'PAH data'!AG$38, \"ERROR\", 'PAH data'!AG11/1000), IF('PAH data'!AG11=\"<LOD\",'PAH data'!AG$38/1000, \"ERROR\")))","v":1.93},{"$f":"IF('PAH data'!AH11=\"\",\"\",IF(ISNUMBER('PAH data'!AH11)=TRUE, IF('PAH data'!AH11<'PAH data'!AH$38, \"ERROR\", 'PAH data'!AH11), IF('PAH data'!AH11=\"<LOD\",'PAH data'!AH$38, \"ERROR\")))","v":""}]
[null,null,"Laboratory/contractor:",{"$f":"IF('PAH data'!D18=\"\",\"\",'PAH data'!D18)","v":"SOCOTEC"},null,null,null,{"$f":"IF('PAH data'!H12=\"\",\"\",'PAH data'!H12)","v":"MAR02481.005"},{"$f":"IF('PAH data'!I12=\"\",\"\",'PAH data'!I12)","v":""},{"$f":"IFERROR(IF(K12=\"\",\"\",(IF(VLOOKUP(K12,'Application info'!$K$8:$L$37,2,0)=\"y\",\"y\",\"\"))),\"Manual entry required\")","v":""},{"$f":"IF('PAH data'!J12=\"\",\"\",'PAH data'!J12)","v":5},{"$f":"IF('PAH data'!L12=\"\",\"\",IF(ISNUMBER('PAH data'!L12)=TRUE, IF('PAH data'!L12<'PAH data'!L$38, \"ERROR\", 'PAH data'!L12/1000), IF('PAH data'!L12=\"<LOD\",'PAH data'!L$38/1000, \"ERROR\")))","v":0.36},{"$f":"IF('PAH data'!M12=\"\",\"\",IF(ISNUMBER('PAH data'!M12)=TRUE, IF('PAH data'!M12<'PAH data'!M$38, \"ERROR\", 'PAH data'!M12/1000), IF('PAH data'!M12=\"<LOD\",'PAH data'!M$38/1000, \"ERROR\")))","v":0.158},{"$f":"IF('PAH data'!N12=\"\",\"\",IF(ISNUMBER('PAH data'!N12)=TRUE, IF('PAH data'!N12<'PAH data'!N$38, \"ERROR\", 'PAH data'!N12/1000), IF('PAH data'!N12=\"<LOD\",'PAH data'!N$38/1000, \"ERROR\")))","v":0.29499999999999998},{"$f":"IF('PAH data'!O12=\"\",\"\",IF(ISNUMBER('PAH data'!O12)=TRUE, IF('PAH data'!O12<'PAH data'!O$38, \"ERROR\", 'PAH data'!O12/1000), IF('PAH data'!O12=\"<LOD\",'PAH data'!O$38/1000, \"ERROR\")))","v":0.69599999999999995},{"$f":"IF('PAH data'!P12=\"\",\"\",IF(ISNUMBER('PAH data'!P12)=TRUE, IF('PAH data'!P12<'PAH data'!P$38, \"ERROR\", 'PAH data'!P12/1000), IF('PAH data'!P12=\"<LOD\",'PAH data'!P$38/1000, \"ERROR\")))","v":0.73699999999999999},{"$f":"IF('PAH data'!Q12=\"\",\"\",IF(ISNUMBER('PAH data'!Q12)=TRUE, IF('PAH data'!Q12<'PAH data'!Q$38, \"ERROR\", 'PAH data'!Q12/1000), IF('PAH data'!Q12=\"<LOD\",'PAH data'!Q$38/1000, \"ERROR\")))","v":0.73},{"$f":"IF('PAH data'!R12=\"\",\"\",IF(ISNUMBER('PAH data'!R12)=TRUE, IF('PAH data'!R12<'PAH data'!R$38, \"ERROR\", 'PAH data'!R12/1000), IF('PAH data'!R12=\"<LOD\",'PAH data'!R$38/1000, \"ERROR\")))","v":0.53300000000000003},{"$f":"IF('PAH data'!S12=\"\",\"\",IF(ISNUMBER('PAH data'!S12)=TRUE, IF('PAH data'!S12<'PAH data'!S$38, \"ERROR\", 'PAH data'!S12/1000), IF('PAH data'!S12=\"<LOD\",'PAH data'!S$38/1000, \"ERROR\")))","v":0.52900000000000003},{"$f":"IF('PAH data'!T12=\"\",\"\",IF(ISNUMBER('PAH data'!T12)=TRUE, IF('PAH data'!T12<'PAH data'!T$38, \"ERROR\", 'PAH data'!T12/1000), IF('PAH data'!T12=\"<LOD\",'PAH data'!T$38/1000, \"ERROR\")))","v":0.65},{"$f":"IF('PAH data'!U12=\"\",\"\",IF(ISNUMBER('PAH data'!U12)=TRUE, IF('PAH data'!U12<'PAH data'!U$38, \"ERROR\", 'PAH data'!U12/1000), IF('PAH data'!U12=\"<LOD\",'PAH data'!U$38/1000, \"ERROR\")))","v":1.32},{"$f":"IF('PAH data'!V12=\"\",\"\",IF(ISNUMBER('PAH data'!V12)=TRUE, IF('PAH data'!V12<'PAH data'!V$38, \"ERROR\", 'PAH data'!V12/1000), IF('PAH data'!V12=\"<LOD\",'PAH data'!V$38/1000, \"ERROR\")))","v":0.82399999999999995},{"$f":"IF('PAH data'!W12=\"\",\"\",IF(ISNUMBER('PAH data'!W12)=TRUE, IF('PAH data'!W12<'PAH data'!W$38, \"ERROR\", 'PAH data'!W12/1000), IF('PAH data'!W12=\"<LOD\",'PAH data'!W$38/1000, \"ERROR\")))","v":1.1399999999999999},{"$f":"IF('PAH data'!X12=\"\",\"\",IF(ISNUMBER('PAH data'!X12)=TRUE, IF('PAH data'!X12<'PAH data'!X$38, \"ERROR\", 'PAH data'!X12/1000), IF('PAH data'!X12=\"<LOD\",'PAH data'!X$38/1000, \"ERROR\")))","v":0.89800000000000002},{"$f":"IF('PAH data'!Y12=\"\",\"\",IF(ISNUMBER('PAH data'!Y12)=TRUE, IF('PAH data'!Y12<'PAH data'!Y$38, \"ERROR\", 'PAH data'!Y12/1000), IF('PAH data'!Y12=\"<LOD\",'PAH data'!Y$38/1000, \"ERROR\")))","v":0.72699999999999998},{"$f":"IF('PAH data'!Z12=\"\",\"\",IF(ISNUMBER('PAH data'!Z12)=TRUE, IF('PAH data'!Z12<'PAH data'!Z$38, \"ERROR\", 'PAH data'!Z12/1000), IF('PAH data'!Z12=\"<LOD\",'PAH data'!Z$38/1000, \"ERROR\")))","v":0.11799999999999999},{"$f":"IF('PAH data'!AA12=\"\",\"\",IF(ISNUMBER('PAH data'!AA12)=TRUE, IF('PAH data'!AA12<'PAH data'!AA$38, \"ERROR\", 'PAH data'!AA12/1000), IF('PAH data'!AA12=\"<LOD\",'PAH data'!AA$38/1000, \"ERROR\")))","v":1.66},{"$f":"IF('PAH data'!AB12=\"\",\"\",IF(ISNUMBER('PAH data'!AB12)=TRUE, IF('PAH data'!AB12<'PAH data'!AB$38, \"ERROR\", 'PAH data'!AB12/1000), IF('PAH data'!AB12=\"<LOD\",'PAH data'!AB$38/1000, \"ERROR\")))","v":0.36199999999999999},{"$f":"IF('PAH data'!AC12=\"\",\"\",IF(ISNUMBER('PAH data'!AC12)=TRUE, IF('PAH data'!AC12<'PAH data'!AC$38, \"ERROR\", 'PAH data'!AC12/1000), IF('PAH data'!AC12=\"<LOD\",'PAH data'!AC$38/1000, \"ERROR\")))","v":0.49299999999999999},{"$f":"IF('PAH data'!AD12=\"\",\"\",IF(ISNUMBER('PAH data'!AD12)=TRUE, IF('PAH data'!AD12<'PAH data'!AD$38, \"ERROR\", 'PAH data'!AD12/1000), IF('PAH data'!AD12=\"<LOD\",'PAH data'!AD$38/1000, \"ERROR\")))","v":0.78900000000000003},{"$f":"IF('PAH data'!AE12=\"\",\"\",IF(ISNUMBER('PAH data'!AE12)=TRUE, IF('PAH data'!AE12<'PAH data'!AE$38, \"ERROR\", 'PAH data'!AE12/1000), IF('PAH data'!AE12=\"<LOD\",'PAH data'!AE$38/1000, \"ERROR\")))","v":0.29699999999999999},{"$f":"IF('PAH data'!AF12=\"\",\"\",IF(ISNUMBER('PAH data'!AF12)=TRUE, IF('PAH data'!AF12<'PAH data'!AF$38, \"ERROR\", 'PAH data'!AF12/1000), IF('PAH data'!AF12=\"<LOD\",'PAH data'!AF$38/1000, \"ERROR\")))","v":0.94299999999999995},{"$f":"IF('PAH data'!AG12=\"\",\"\",IF(ISNUMBER('PAH data'!AG12)=TRUE, IF('PAH data'!AG12<'PAH data'!AG$38, \"ERROR\", 'PAH data'!AG12/1000), IF('PAH data'!AG12=\"<LOD\",'PAH data'!AG$38/1000, \"ERROR\")))","v":1.73},{"$f":"IF('PAH data'!AH12=\"\",\"\",IF(ISNUMBER('PAH data'!AH12)=TRUE, IF('PAH data'!AH12<'PAH data'!AH$38, \"ERROR\", 'PAH data'!AH12), IF('PAH data'!AH12=\"<LOD\",'PAH data'!AH$38, \"ERROR\")))","v":""}]
[null,null,"Date of analysis:",{"$f":"IF('PAH data'!D19=\"\",\"\",'PAH data'!D19)","v":"2024-10-28"},null,null,null,{"$f":"IF('PAH data'!H13=\"\",\"\",'PAH data'!H13)","v":"MAR02481.006"},{"$f":"IF('PAH data'!I13=\"\",\"\",'PAH data'!I13)","v":""},{"$f":"IFERROR(IF(K13=\"\",\"\",(IF(VLOOKUP(K13,'Application info'!$K$8:$L$37,2,0)=\"y\",\"y\",\"\"))),\"Manual entry required\")","v":""},{"$f":"IF('PAH data'!J13=\"\",\"\",'PAH data'!J13)","v":6},{"$f":"IF('PAH data'!L13=\"\",\"\",IF(ISNUMBER('PAH data'!L13)=TRUE, IF('PAH data'!L13<'PAH data'!L$38, \"ERROR\", 'PAH data'!L13/1000), IF('PAH data'!L13=\"<LOD\",'PAH data'!L$38/1000, \"ERROR\")))","v":0.55700000000000005},{"$f":"IF('PAH data'!M13=\"\",\"\",IF(ISNUMBER('PAH data'!M13)=TRUE, IF('PAH data'!M13<'PAH data'!M$38, \"ERROR\", 'PAH data'!M13/1000), IF('PAH data'!M13=\"<LOD\",'PAH data'!M$38/1000, \"ERROR\")))","v":0.28199999999999997},{"$f":"IF('PAH data'!N13=\"\",\"\",IF(ISNUMBER('PAH data'!N13)=TRUE, IF('PAH data'!N13<'PAH data'!N$38, \"ERROR\", 'PAH data'!N13/1000), IF('PAH data'!N13=\"<LOD\",'PAH data'!N$38/1000, \"ERROR\")))","v":0.41599999999999998},{"$f":"IF('PAH data'!O13=\"\",\"\",IF(ISNUMBER('PAH data'!O13)=TRUE, IF('PAH data'!O13<'PAH data'!O$38, \"ERROR\", 'PAH data'!O13/1000), IF('PAH data'!O13=\"<LOD\",'PAH data'!O$38/1000, \"ERROR\")))","v":1.08},{"$f":"IF('PAH data'!P13=\"\",\"\",IF(ISNUMBER('PAH data'!P13)=TRUE, IF('PAH data'!P13<'PAH data'!P$38, \"ERROR\", 'PAH data'!P13/1000), IF('PAH data'!P13=\"<LOD\",'PAH data'!P$38/1000, \"ERROR\")))","v":1.04},{"$f":"IF('PAH data'!Q13=\"\",\"\",IF(ISNUMBER('PAH data'!Q13)=TRUE, IF('PAH data'!Q13<'PAH data'!Q$38, \"ERROR\", 'PAH data'!Q13/1000), IF('PAH data'!Q13=\"<LOD\",'PAH data'!Q$38/1000, \"ERROR\")))","v":1.03},{"$f":"IF('PAH data'!R13=\"\",\"\",IF(ISNUMBER('PAH data'!R13)=TRUE, IF('PAH data'!R13<'PAH data'!R$38, \"ERROR\", 'PAH data'!R13/1000), IF('PAH data'!R13=\"<LOD\",'PAH data'!R$38/1000, \"ERROR\")))","v":0.70499999999999996},{"$f":"IF('PAH data'!S13=\"\",\"\",IF(ISNUMBER('PAH data'!S13)=TRUE, IF('PAH data'!S13<'PAH data'!S$38, \"ERROR\", 'PAH data'!S13/1000), IF('PAH data'!S13=\"<LOD\",'PAH data'!S$38/1000, \"ERROR\")))","v":0.71099999999999997},{"$f":"IF('PAH data'!T13=\"\",\"\",IF(ISNUMBER('PAH data'!T13)=TRUE, IF('PAH data'!T13<'PAH data'!T$38, \"ERROR\", 'PAH data'!T13/1000), IF('PAH data'!T13=\"<LOD\",'PAH data'!T$38/1000, \"ERROR\")))","v":0.873},{"$f":"IF('PAH data'!U13=\"\",\"\",IF(ISNUMBER('PAH data'!U13)=TRUE, IF('PAH data'!U13<'PAH data'!U$38, \"ERROR\", 'PAH data'!U13/1000), IF('PAH data'!U13=\"<LOD\",'PAH data'!U$38/1000, \"ERROR\")))","v":1.68},{"$f":"IF('PAH data'!V13=\"\",\"\",IF(ISNUMBER('PAH data'!V13)=TRUE, IF('PAH data'!V13<'PAH data'!V$38, \"ERROR\", 'PAH data'!V13/1000), IF('PAH data'!V13=\"<LOD\",'PAH data'!V$38/1000, \"ERROR\")))","v":1.18},{"$f":"IF('PAH data'!W13=\"\",\"\",IF(ISNUMBER('PAH data'!W13)=TRUE, IF('PAH data'!W13<'PAH data'!W$38, \"ERROR\", 'PAH data'!W13/1000), IF('PAH data'!W13=\"<LOD\",'PAH data'!W$38/1000, \"ERROR\")))","v":1.49},{"$f":"IF('PAH data'!X13=\"\",\"\",IF(ISNUMBER('PAH data'!X13)=TRUE, IF('PAH data'!X13<'PAH data'!X$38, \"ERROR\", 'PAH data'!X13/1000), IF('PAH data'!X13=\"<LOD\",'PAH data'!X$38/1000, \"ERROR\")))","v":1.21},{"$f":"IF('PAH data'!Y13=\"\",\"\",IF(ISNUMBER('PAH data'!Y13)=TRUE, IF('PAH data'!Y13<'PAH data'!Y$38, \"ERROR\", 'PAH data'!Y13/1000), IF('PAH data'!Y13=\"<LOD\",'PAH data'!Y$38/1000, \"ERROR\")))","v":1.0900000000000001},{"$f":"IF('PAH data'!Z13=\"\",\"\",IF(ISNUMBER('PAH data'!Z13)=TRUE, IF('PAH data'!Z13<'PAH data'!Z$38, \"ERROR\", 'PAH data'!Z13/1000), IF('PAH data'!Z13=\"<LOD\",'PAH data'!Z$38/1000, \"ERROR\")))","v":0.161},{"$f":"IF('PAH data'!AA13=\"\",\"\",IF(ISNUMBER('PAH data'!AA13)=TRUE, IF('PAH data'!AA13<'PAH data'!AA$38, \"ERROR\", 'PAH data'!AA13/1000), IF('PAH data'!AA13=\"<LOD\",'PAH data'!AA$38/1000, \"ERROR\")))","v":2.59},{"$f":"IF('PAH data'!AB13=\"\",\"\",IF(ISNUMBER('PAH data'!AB13)=TRUE, IF('PAH data'!AB13<'PAH data'!AB$38, \"ERROR\", 'PAH data'!AB13/1000), IF('PAH data'!AB13=\"<LOD\",'PAH data'!AB$38/1000, \"ERROR\")))","v":0.51300000000000001},{"$f":"IF('PAH data'!AC13=\"\",\"\",IF(ISNUMBER('PAH data'!AC13)=TRUE, IF('PAH data'!AC13<'PAH data'!AC$38, \"ERROR\", 'PAH data'!AC13/1000), IF('PAH data'!AC13=\"<LOD\",'PAH data'!AC$38/1000, \"ERROR\")))","v":0.65100000000000002},{"$f":"IF('PAH data'!AD13=\"\",\"\",IF(ISNUMBER('PAH data'!AD13)=TRUE, IF('PAH data'!AD13<'PAH data'!AD$38, \"ERROR\", 'PAH data'!AD13/1000), IF('PAH data'!AD13=\"<LOD\",'PAH data'!AD$38/1000, \"ERROR\")))","v":0.92900000000000005},{"$f":"IF('PAH data'!AE13=\"\",\"\",IF(ISNUMBER('PAH data'!AE13)=TRUE, IF('PAH data'!AE13<'PAH data'!AE$38, \"ERROR\", 'PAH data'!AE13/1000), IF('PAH data'!AE13=\"<LOD\",'PAH data'!AE$38/1000, \"ERROR\")))","v":0.307},{"$f":"IF('PAH data'!AF13=\"\",\"\",IF(ISNUMBER('PAH data'!AF13)=TRUE, IF('PAH data'!AF13<'PAH data'!AF$38, \"ERROR\", 'PAH data'!AF13/1000), IF('PAH data'!AF13=\"<LOD\",'PAH data'!AF$38/1000, \"ERROR\")))","v":1.19},{"$f":"IF('PAH data'!AG13=\"\",\"\",IF(ISNUMBER('PAH data'!AG13)=TRUE, IF('PAH data'!AG13<'PAH data'!AG$38, \"ERROR\", 'PAH data'!AG13/1000), IF('PAH data'!AG13=\"<LOD\",'PAH data'!AG$38/1000, \"ERROR\")))","v":2.48},{"$f":"IF('PAH data'!AH13=\"\",\"\",IF(ISNUMBER('PAH data'!AH13)=TRUE, IF('PAH data'!AH13<'PAH data'!AH$38, \"ERROR\", 'PAH data'!AH13), IF('PAH data'!AH13=\"<LOD\",'PAH data'!AH$38, \"ERROR\")))","v":""}]
[null,null,null,null,null,null,null,{"$f":"IF('PAH data'!H14=\"\",\"\",'PAH data'!H14)","v":"MAR02481.007"},{"$f":"IF('PAH data'!I14=\"\",\"\",'PAH data'!I14)","v":""},{"$f":"IFERROR(IF(K14=\"\",\"\",(IF(VLOOKUP(K14,'Application info'!$K$8:$L$37,2,0)=\"y\",\"y\",\"\"))),\"Manual entry required\")","v":""},{"$f":"IF('PAH data'!J14=\"\",\"\",'PAH data'!J14)","v":7},{"$f":"IF('PAH data'!L14=\"\",\"\",IF(ISNUMBER('PAH data'!L14)=TRUE, IF('PAH data'!L14<'PAH data'!L$38, \"ERROR\", 'PAH data'!L14/1000), IF('PAH data'!L14=\"<LOD\",'PAH data'!L$38/1000, \"ERROR\")))","v":0.55900000000000005},{"$f":"IF('PAH data'!M14=\"\",\"\",IF(ISNUMBER('PAH data'!M14)=TRUE, IF('PAH data'!M14<'PAH data'!M$38, \"ERROR\", 'PAH data'!M14/1000), IF('PAH data'!M14=\"<LOD\",'PAH data'!M$38/1000, \"ERROR\")))","v":0.215},{"$f":"IF('PAH data'!N14=\"\",\"\",IF(ISNUMBER('PAH data'!N14)=TRUE, IF('PAH data'!N14<'PAH data'!N$38, \"ERROR\", 'PAH data'!N14/1000), IF('PAH data'!N14=\"<LOD\",'PAH data'!N$38/1000, \"ERROR\")))","v":0.38800000000000001},{"$f":"IF('PAH data'!O14=\"\",\"\",IF(ISNUMBER('PAH data'!O14)=TRUE, IF('PAH data'!O14<'PAH data'!O$38, \"ERROR\", 'PAH data'!O14/1000), IF('PAH data'!O14=\"<LOD\",'PAH data'!O$38/1000, \"ERROR\")))","v":0.74},{"$f":"IF('PAH data'!P14=\"\",\"\",IF(ISNUMBER('PAH data'!P14)=TRUE, IF('PAH data'!P14<'PAH data'!P$38, \"ERROR\", 'PAH data'!P14/1000), IF('PAH data'!P14=\"<LOD\",'PAH data'!P$38/1000, \"ERROR\")))","v":0.8},{"$f":"IF('PAH data'!Q14=\"\",\"\",IF(ISNUMBER('PAH data'!Q14)=TRUE, IF('PAH data'!Q14<'PAH data'!Q$38, \"ERROR\", 'PAH data'!Q14/1000), IF('PAH data'!Q14=\"<LOD\",'PAH data'!Q$38/1000, \"ERROR\")))","v":0.79200000000000004},{"$f":"IF('PAH data'!R14=\"\",\"\",IF(ISNUMBER('PAH data'!R14)=TRUE, IF('PAH data'!R14<'PAH data'!R$38, \"ERROR\", 'PAH data'!R14/1000), IF('PAH data'!R14=\"<LOD\",'PAH data'!R$38/1000, \"ERROR\")))","v":0.623},{"$f":"IF('PAH data'!S14=\"\",\"\",IF(ISNUMBER('PAH data'!S14)=TRUE, IF('PAH data'!S14<'PAH data'!S$38, \"ERROR\", 'PAH data'!S14/1000), IF('PAH data'!S14=\"<LOD\",'PAH data'!S$38/1000, \"ERROR\")))","v":0.59699999999999998},{"$f":"IF('PAH data'!T14=\"\",\"\",IF(ISNUMBER('PAH data'!T14)=TRUE, IF('PAH data'!T14<'PAH data'!T$38, \"ERROR\", 'PAH data'!T14/1000), IF('PAH data'!T14=\"<LOD\",'PAH data'!T$38/1000, \"ERROR\")))","v":0.63900000000000001},{"$f":"IF('PAH data'!U14=\"\",\"\",IF(ISNUMBER('PAH data'!U14)=TRUE, IF('PAH data'!U14<'PAH data'!U$38, \"ERROR\", 'PAH data'!U14/1000), IF('PAH data'!U14=\"<LOD\",'PAH data'!U$38/1000, \"ERROR\")))","v":2},{"$f":"IF('PAH data'!V14=\"\",\"\",IF(ISNUMBER('PAH data'!V14)=TRUE, IF('PAH data'!V14<'PAH data'!V$38, \"ERROR\", 'PAH data'!V14/1000), IF('PAH data'!V14=\"<LOD\",'PAH data'!V$38/1000, \"ERROR\")))","v":1.1399999999999999},{"$f":"IF('PAH data'!W14=\"\",\"\",IF(ISNUMBER('PAH data'!W14)=TRUE, IF('PAH data'!W14<'PAH data'!W$38, \"ERROR\", 'PAH data'!W14/1000), IF('PAH data'!W14=\"<LOD\",'PAH data'!W$38/1000, \"ERROR\")))","v":1.79},{"$f":"IF('PAH data'!X14=\"\",\"\",IF(ISNUMBER('PAH data'!X14)=TRUE, IF('PAH data'!X14<'PAH data'!X$38, \"ERROR\", 'PAH data'!X14/1000), IF('PAH data'!X14=\"<LOD\",'PAH data'!X$38/1000, \"ERROR\")))","v":0.40300000000000002},{"$f":"IF('PAH data'!Y14=\"\",\"\",IF(ISNUMBER('PAH data'!Y14)=TRUE, IF('PAH data'!Y14<'PAH data'!Y$38, \"ERROR\", 'PAH data'!Y14/1000), IF('PAH data'!Y14=\"<LOD\",'PAH data'!Y$38/1000, \"ERROR\")))","v":0.82499999999999996},{"$f":"IF('PAH data'!Z14=\"\",\"\",IF(ISNUMBER('PAH data'!Z14)=TRUE, IF('PAH data'!Z14<'PAH data'!Z$38, \"ERROR\", 'PAH data'!Z14/1000), IF('PAH data'!Z14=\"<LOD\",'PAH data'!Z$38/1000, \"ERROR\")))","v":0.13500000000000001},{"$f":"IF('PAH data'!AA14=\"\",\"\",IF(ISNUMBER('PAH data'!AA14)=TRUE, IF('PAH data'!AA14<'PAH data'!AA$38, \"ERROR\", 'PAH data'!AA14/1000), IF('PAH data'!AA14=\"<LOD\",'PAH data'!AA$38/1000, \"ERROR\")))","v":1.97},{"$f":"IF('PAH data'!AB14=\"\",\"\",IF(ISNUMBER('PAH data'!AB14)=TRUE, IF('PAH data'!AB14<'PAH data'!AB$38, \"ERROR\", 'PAH data'!AB14/1000), IF('PAH data'!AB14=\"<LOD\",'PAH data'!AB$38/1000, \"ERROR\")))","v":0.57499999999999996},{"$f":"IF('PAH data'!AC14=\"\",\"\",IF(ISNUMBER('PAH data'!AC14)=TRUE, IF('PAH data'!AC14<'PAH data'!AC$38, \"ERROR\", 'PAH data'!AC14/1000), IF('PAH data'!AC14=\"<LOD\",'PAH data'!AC$38/1000, \"ERROR\")))","v":0.54100000000000004},{"$f":"IF('PAH data'!AD14=\"\",\"\",IF(ISNUMBER('PAH data'!AD14)=TRUE, IF('PAH data'!AD14<'PAH data'!AD$38, \"ERROR\", 'PAH data'!AD14/1000), IF('PAH data'!AD14=\"<LOD\",'PAH data'!AD$38/1000, \"ERROR\")))","v":1.07},{"$f":"IF('PAH data'!AE14=\"\",\"\",IF(ISNUMBER('PAH data'!AE14)=TRUE, IF('PAH data'!AE14<'PAH data'!AE$38, \"ERROR\", 'PAH data'!AE14/1000), IF('PAH data'!AE14=\"<LOD\",'PAH data'!AE$38/1000, \"ERROR\")))","v":0.20599999999999999},{"$f":"IF('PAH data'!AF14=\"\",\"\",IF(ISNUMBER('PAH data'!AF14)=TRUE, IF('PAH data'!AF14<'PAH data'!AF$38, \"ERROR\", 'PAH data'!AF14/1000), IF('PAH data'!AF14=\"<LOD\",'PAH data'!AF$38/1000, \"ERROR\")))","v":1.34},{"$f":"IF('PAH data'!AG14=\"\",\"\",IF(ISNUMBER('PAH data'!AG14)=TRUE, IF('PAH data'!AG14<'PAH data'!AG$38, \"ERROR\", 'PAH data'!AG14/1000), IF('PAH data'!AG14=\"<LOD\",'PAH data'!AG$38/1000, \"ERROR\")))","v":1.7},{"$f":"IF('PAH data'!AH14=\"\",\"\",IF(ISNUMBER('PAH data'!AH14)=TRUE, IF('PAH data'!AH14<'PAH data'!AH$38, \"ERROR\", 'PAH data'!AH14), IF('PAH data'!AH14=\"<LOD\",'PAH data'!AH$38, \"ERROR\")))","v":""}]
[null,null,null,null,null,null,null,{"$f":"IF('PAH data'!H15=\"\",\"\",'PAH data'!H15)","v":"MAR02481.008"},{"$f":"IF('PAH data'!I15=\"\",\"\",'PAH data'!I15)","v":""},{"$f":"IFERROR(IF(K15=\"\",\"\",(IF(VLOOKUP(K15,'Application info'!$K$8:$L$37,2,0)=\"y\",\"y\",\"\"))),\"Manual entry required\")","v":""},{"$f":"IF('PAH data'!J15=\"\",\"\",'PAH data'!J15)","v":8},{"$f":"IF('PAH data'!L15=\"\",\"\",IF(ISNUMBER('PAH data'!L15)=TRUE, IF('PAH data'!L15<'PAH data'!L$38, \"ERROR\", 'PAH data'!L15/1000), IF('PAH data'!L15=\"<LOD\",'PAH data'!L$38/1000, \"ERROR\")))","v":0.70199999999999996},{"$f":"IF('PAH data'!M15=\"\",\"\",IF(ISNUMBER('PAH data'!M15)=TRUE, IF('PAH data'!M15<'PAH data'!M$38, \"ERROR\", 'PAH data'!M15/1000), IF('PAH data'!M15=\"<LOD\",'PAH data'!M$38/1000, \"ERROR\")))","v":0.219},{"$f":"IF('PAH data'!N15=\"\",\"\",IF(ISNUMBER('PAH data'!N15)=TRUE, IF('PAH data'!N15<'PAH data'!N$38, \"ERROR\", 'PAH data'!N15/1000), IF('PAH data'!N15=\"<LOD\",'PAH data'!N$38/1000, \"ERROR\")))","v":0.54900000000000004},{"$f":"IF('PAH data'!O15=\"\",\"\",IF(ISNUMBER('PAH data'!O15)=TRUE, IF('PAH data'!O15<'PAH data'!O$38, \"ERROR\", 'PAH data'!O15/1000), IF('PAH data'!O15=\"<LOD\",'PAH data'!O$38/1000, \"ERROR\")))","v":0.877},{"$f":"IF('PAH data'!P15=\"\",\"\",IF(ISNUMBER('PAH data'!P15)=TRUE, IF('PAH data'!P15<'PAH data'!P$38, \"ERROR\", 'PAH data'!P15/1000), IF('PAH data'!P15=\"<LOD\",'PAH data'!P$38/1000, \"ERROR\")))","v":0.95599999999999996},{"$f":"IF('PAH data'!Q15=\"\",\"\",IF(ISNUMBER('PAH data'!Q15)=TRUE, IF('PAH data'!Q15<'PAH data'!Q$38, \"ERROR\", 'PAH data'!Q15/1000), IF('PAH data'!Q15=\"<LOD\",'PAH data'!Q$38/1000, \"ERROR\")))","v":0.93400000000000005},{"$f":"IF('PAH data'!R15=\"\",\"\",IF(ISNUMBER('PAH data'!R15)=TRUE, IF('PAH data'!R15<'PAH data'!R$38, \"ERROR\", 'PAH data'!R15/1000), IF('PAH data'!R15=\"<LOD\",'PAH data'!R$38/1000, \"ERROR\")))","v":0.69299999999999995},{"$f":"IF('PAH data'!S15=\"\",\"\",IF(ISNUMBER('PAH data'!S15)=TRUE, IF('PAH data'!S15<'PAH data'!S$38, \"ERROR\", 'PAH data'!S15/1000), IF('PAH data'!S15=\"<LOD\",'PAH data'!S$38/1000, \"ERROR\")))","v":0.67500000000000004},{"$f":"IF('PAH data'!T15=\"\",\"\",IF(ISNUMBER('PAH data'!T15)=TRUE, IF('PAH data'!T15<'PAH data'!T$38, \"ERROR\", 'PAH data'!T15/1000), IF('PAH data'!T15=\"<LOD\",'PAH data'!T$38/1000, \"ERROR\")))","v":0.81},{"$f":"IF('PAH data'!U15=\"\",\"\",IF(ISNUMBER('PAH data'!U15)=TRUE, IF('PAH data'!U15<'PAH data'!U$38, \"ERROR\", 'PAH data'!U15/1000), IF('PAH data'!U15=\"<LOD\",'PAH data'!U$38/1000, \"ERROR\")))","v":1.88},{"$f":"IF('PAH data'!V15=\"\",\"\",IF(ISNUMBER('PAH data'!V15)=TRUE, IF('PAH data'!V15<'PAH data'!V$38, \"ERROR\", 'PAH data'!V15/1000), IF('PAH data'!V15=\"<LOD\",'PAH data'!V$38/1000, \"ERROR\")))","v":1.29},{"$f":"IF('PAH data'!W15=\"\",\"\",IF(ISNUMBER('PAH data'!W15)=TRUE, IF('PAH data'!W15<'PAH data'!W$38, \"ERROR\", 'PAH data'!W15/1000), IF('PAH data'!W15=\"<LOD\",'PAH data'!W$38/1000, \"ERROR\")))","v":1.66},{"$f":"IF('PAH data'!X15=\"\",\"\",IF(ISNUMBER('PAH data'!X15)=TRUE, IF('PAH data'!X15<'PAH data'!X$38, \"ERROR\", 'PAH data'!X15/1000), IF('PAH data'!X15=\"<LOD\",'PAH data'!X$38/1000, \"ERROR\")))","v":1.3},{"$f":"IF('PAH data'!Y15=\"\",\"\",IF(ISNUMBER('PAH data'!Y15)=TRUE, IF('PAH data'!Y15<'PAH data'!Y$38, \"ERROR\", 'PAH data'!Y15/1000), IF('PAH data'!Y15=\"<LOD\",'PAH data'!Y$38/1000, \"ERROR\")))","v":0.91800000000000004},{"$f":"IF('PAH data'!Z15=\"\",\"\",IF(ISNUMBER('PAH data'!Z15)=TRUE, IF('PAH data'!Z15<'PAH data'!Z$38, \"ERROR\", 'PAH data'!Z15/1000), IF('PAH data'!Z15=\"<LOD\",'PAH data'!Z$38/1000, \"ERROR\")))","v":0.158},{"$f":"IF('PAH data'!AA15=\"\",\"\",IF(ISNUMBER('PAH data'!AA15)=TRUE, IF('PAH data'!AA15<'PAH data'!AA$38, \"ERROR\", 'PAH data'!AA15/1000), IF('PAH data'!AA15=\"<LOD\",'PAH data'!AA$38/1000, \"ERROR\")))","v":2.02},{"$f":"IF('PAH data'!AB15=\"\",\"\",IF(ISNUMBER('PAH data'!AB15)=TRUE, IF('PAH data'!AB15<'PAH data'!AB$38, \"ERROR\", 'PAH data'!AB15/1000), IF('PAH data'!AB15=\"<LOD\",'PAH data'!AB$38/1000, \"ERROR\")))","v":0.63200000000000001},{"$f":"IF('PAH data'!AC15=\"\",\"\",IF(ISNUMBER('PAH data'!AC15)=TRUE, IF('PAH data'!AC15<'PAH data'!AC$38, \"ERROR\", 'PAH data'!AC15/1000), IF('PAH data'!AC15=\"<LOD\",'PAH data'!AC$38/1000, \"ERROR\")))","v":0.63300000000000001},{"$f":"IF('PAH data'!AD15=\"\",\"\",IF(ISNUMBER('PAH data'!AD15)=TRUE, IF('PAH data'!AD15<'PAH data'!AD$38, \"ERROR\", 'PAH data'!AD15/1000), IF('PAH data'!AD15=\"<LOD\",'PAH data'!AD$38/1000, \"ERROR\")))","v":1.24},{"$f":"IF('PAH data'!AE15=\"\",\"\",IF(ISNUMBER('PAH data'!AE15)=TRUE, IF('PAH data'!AE15<'PAH data'!AE$38, \"ERROR\", 'PAH data'!AE15/1000), IF('PAH data'!AE15=\"<LOD\",'PAH data'!AE$38/1000, \"ERROR\")))","v":0.246},{"$f":"IF('PAH data'!AF15=\"\",\"\",IF(ISNUMBER('PAH data'!AF15)=TRUE, IF('PAH data'!AF15<'PAH data'!AF$38, \"ERROR\", 'PAH data'!AF15/1000), IF('PAH data'!AF15=\"<LOD\",'PAH data'!AF$38/1000, \"ERROR\")))","v":1.33},{"$f":"IF('PAH data'!AG15=\"\",\"\",IF(ISNUMBER('PAH data'!AG15)=TRUE, IF('PAH data'!AG15<'PAH data'!AG$38, \"ERROR\", 'PAH data'!AG15/1000), IF('PAH data'!AG15=\"<LOD\",'PAH data'!AG$38/1000, \"ERROR\")))","v":2.1},{"$f":"IF('PAH data'!AH15=\"\",\"\",IF(ISNUMBER('PAH data'!AH15)=TRUE, IF('PAH data'!AH15<'PAH data'!AH$38, \"ERROR\", 'PAH data'!AH15), IF('PAH data'!AH15=\"<LOD\",'PAH data'!AH$38, \"ERROR\")))","v":""}]
[null,null,null,null,null,null,null,{"$f":"IF('PAH data'!H16=\"\",\"\",'PAH data'!H16)","v":"MAR02481.009"},{"$f":"IF('PAH data'!I16=\"\",\"\",'PAH data'!I16)","v":""},{"$f":"IFERROR(IF(K16=\"\",\"\",(IF(VLOOKUP(K16,'Application info'!$K$8:$L$37,2,0)=\"y\",\"y\",\"\"))),\"Manual entry required\")","v":""},{"$f":"IF('PAH data'!J16=\"\",\"\",'PAH data'!J16)","v":9},{"$f":"IF('PAH data'!L16=\"\",\"\",IF(ISNUMBER('PAH data'!L16)=TRUE, IF('PAH data'!L16<'PAH data'!L$38, \"ERROR\", 'PAH data'!L16/1000), IF('PAH data'!L16=\"<LOD\",'PAH data'!L$38/1000, \"ERROR\")))","v":0.65200000000000002},{"$f":"IF('PAH data'!M16=\"\",\"\",IF(ISNUMBER('PAH data'!M16)=TRUE, IF('PAH data'!M16<'PAH data'!M$38, \"ERROR\", 'PAH data'!M16/1000), IF('PAH data'!M16=\"<LOD\",'PAH data'!M$38/1000, \"ERROR\")))","v":0.157},{"$f":"IF('PAH data'!N16=\"\",\"\",IF(ISNUMBER('PAH data'!N16)=TRUE, IF('PAH data'!N16<'PAH data'!N$38, \"ERROR\", 'PAH data'!N16/1000), IF('PAH data'!N16=\"<LOD\",'PAH data'!N$38/1000, \"ERROR\")))","v":0.19400000000000001},{"$f":"IF('PAH data'!O16=\"\",\"\",IF(ISNUMBER('PAH data'!O16)=TRUE, IF('PAH data'!O16<'PAH data'!O$38, \"ERROR\", 'PAH data'!O16/1000), IF('PAH data'!O16=\"<LOD\",'PAH data'!O$38/1000, \"ERROR\")))","v":0.23599999999999999},{"$f":"IF('PAH data'!P16=\"\",\"\",IF(ISNUMBER('PAH data'!P16)=TRUE, IF('PAH data'!P16<'PAH data'!P$38, \"ERROR\", 'PAH data'!P16/1000), IF('PAH data'!P16=\"<LOD\",'PAH data'!P$38/1000, \"ERROR\")))","v":0.26300000000000001},{"$f":"IF('PAH data'!Q16=\"\",\"\",IF(ISNUMBER('PAH data'!Q16)=TRUE, IF('PAH data'!Q16<'PAH data'!Q$38, \"ERROR\", 'PAH data'!Q16/1000), IF('PAH data'!Q16=\"<LOD\",'PAH data'!Q$38/1000, \"ERROR\")))","v":0.26200000000000001},{"$f":"IF('PAH data'!R16=\"\",\"\",IF(ISNUMBER('PAH data'!R16)=TRUE, IF('PAH data'!R16<'PAH data'!R$38, \"ERROR\", 'PAH data'!R16/1000), IF('PAH data'!R16=\"<LOD\",'PAH data'!R$38/1000, \"ERROR\")))","v":0.224},{"$f":"IF('PAH data'!S16=\"\",\"\",IF(ISNUMBER('PAH data'!S16)=TRUE, IF('PAH data'!S16<'PAH data'!S$38, \"ERROR\", 'PAH data'!S16/1000), IF('PAH data'!S16=\"<LOD\",'PAH data'!S$38/1000, \"ERROR\")))","v":0.20699999999999999},{"$f":"IF('PAH data'!T16=\"\",\"\",IF(ISNUMBER('PAH data'!T16)=TRUE, IF('PAH data'!T16<'PAH data'!T$38, \"ERROR\", 'PAH data'!T16/1000), IF('PAH data'!T16=\"<LOD\",'PAH data'!T$38/1000, \"ERROR\")))","v":0.19900000000000001},{"$f":"IF('PAH data'!U16=\"\",\"\",IF(ISNUMBER('PAH data'!U16)=TRUE, IF('PAH data'!U16<'PAH data'!U$38, \"ERROR\", 'PAH data'!U16/1000), IF('PAH data'!U16=\"<LOD\",'PAH data'!U$38/1000, \"ERROR\")))","v":0.88400000000000001},{"$f":"IF('PAH data'!V16=\"\",\"\",IF(ISNUMBER('PAH data'!V16)=TRUE, IF('PAH data'!V16<'PAH data'!V$38, \"ERROR\", 'PAH data'!V16/1000), IF('PAH data'!V16=\"<LOD\",'PAH data'!V$38/1000, \"ERROR\")))","v":0.40200000000000002},{"$f":"IF('PAH data'!W16=\"\",\"\",IF(ISNUMBER('PAH data'!W16)=TRUE, IF('PAH data'!W16<'PAH data'!W$38, \"ERROR\", 'PAH data'!W16/1000), IF('PAH data'!W16=\"<LOD\",'PAH data'!W$38/1000, \"ERROR\")))","v":0.76900000000000002},{"$f":"IF('PAH data'!X16=\"\",\"\",IF(ISNUMBER('PAH data'!X16)=TRUE, IF('PAH data'!X16<'PAH data'!X$38, \"ERROR\", 'PAH data'!X16/1000), IF('PAH data'!X16=\"<LOD\",'PAH data'!X$38/1000, \"ERROR\")))","v":0.625},{"$f":"IF('PAH data'!Y16=\"\",\"\",IF(ISNUMBER('PAH data'!Y16)=TRUE, IF('PAH data'!Y16<'PAH data'!Y$38, \"ERROR\", 'PAH data'!Y16/1000), IF('PAH data'!Y16=\"<LOD\",'PAH data'!Y$38/1000, \"ERROR\")))","v":0.27600000000000002},{"$f":"IF('PAH data'!Z16=\"\",\"\",IF(ISNUMBER('PAH data'!Z16)=TRUE, IF('PAH data'!Z16<'PAH data'!Z$38, \"ERROR\", 'PAH data'!Z16/1000), IF('PAH data'!Z16=\"<LOD\",'PAH data'!Z$38/1000, \"ERROR\")))","v":4.5399999999999996E-2},{"$f":"IF('PAH data'!AA16=\"\",\"\",IF(ISNUMBER('PAH data'!AA16)=TRUE, IF('PAH data'!AA16<'PAH data'!AA$38, \"ERROR\", 'PAH data'!AA16/1000), IF('PAH data'!AA16=\"<LOD\",'PAH data'!AA$38/1000, \"ERROR\")))","v":0.51},{"$f":"IF('PAH data'!AB16=\"\",\"\",IF(ISNUMBER('PAH data'!AB16)=TRUE, IF('PAH data'!AB16<'PAH data'!AB$38, \"ERROR\", 'PAH data'!AB16/1000), IF('PAH data'!AB16=\"<LOD\",'PAH data'!AB$38/1000, \"ERROR\")))","v":0.46600000000000003},{"$f":"IF('PAH data'!AC16=\"\",\"\",IF(ISNUMBER('PAH data'!AC16)=TRUE, IF('PAH data'!AC16<'PAH data'!AC$38, \"ERROR\", 'PAH data'!AC16/1000), IF('PAH data'!AC16=\"<LOD\",'PAH data'!AC$38/1000, \"ERROR\")))","v":0.16800000000000001},{"$f":"IF('PAH data'!AD16=\"\",\"\",IF(ISNUMBER('PAH data'!AD16)=TRUE, IF('PAH data'!AD16<'PAH data'!AD$38, \"ERROR\", 'PAH data'!AD16/1000), IF('PAH data'!AD16=\"<LOD\",'PAH data'!AD$38/1000, \"ERROR\")))","v":0.45200000000000001},{"$f":"IF('PAH data'!AE16=\"\",\"\",IF(ISNUMBER('PAH data'!AE16)=TRUE, IF('PAH data'!AE16<'PAH data'!AE$38, \"ERROR\", 'PAH data'!AE16/1000), IF('PAH data'!AE16=\"<LOD\",'PAH data'!AE$38/1000, \"ERROR\")))","v":6.3299999999999995E-2},{"$f":"IF('PAH data'!AF16=\"\",\"\",IF(ISNUMBER('PAH data'!AF16)=TRUE, IF('PAH data'!AF16<'PAH data'!AF$38, \"ERROR\", 'PAH data'!AF16/1000), IF('PAH data'!AF16=\"<LOD\",'PAH data'!AF$38/1000, \"ERROR\")))","v":0.52900000000000003},{"$f":"IF('PAH data'!AG16=\"\",\"\",IF(ISNUMBER('PAH data'!AG16)=TRUE, IF('PAH data'!AG16<'PAH data'!AG$38, \"ERROR\", 'PAH data'!AG16/1000), IF('PAH data'!AG16=\"<LOD\",'PAH data'!AG$38/1000, \"ERROR\")))","v":0.52200000000000002},{"$f":"IF('PAH data'!AH16=\"\",\"\",IF(ISNUMBER('PAH data'!AH16)=TRUE, IF('PAH data'!AH16<'PAH data'!AH$38, \"ERROR\", 'PAH data'!AH16), IF('PAH data'!AH16=\"<LOD\",'PAH data'!AH$38, \"ERROR\")))","v":""}]
[null,null,null,null,null,null,null,{"$f":"IF('PAH data'!H17=\"\",\"\",'PAH data'!H17)","v":"MAR02481.010"},{"$f":"IF('PAH data'!I17=\"\",\"\",'PAH data'!I17)","v":""},{"$f":"IFERROR(IF(K17=\"\",\"\",(IF(VLOOKUP(K17,'Application info'!$K$8:$L$37,2,0)=\"y\",\"y\",\"\"))),\"Manual entry required\")","v":""},{"$f":"IF('PAH data'!J17=\"\",\"\",'PAH data'!J17)","v":10},{"$f":"IF('PAH data'!L17=\"\",\"\",IF(ISNUMBER('PAH data'!L17)=TRUE, IF('PAH data'!L17<'PAH data'!L$38, \"ERROR\", 'PAH data'!L17/1000), IF('PAH data'!L17=\"<LOD\",'PAH data'!L$38/1000, \"ERROR\")))","v":0.54300000000000004},{"$f":"IF('PAH data'!M17=\"\",\"\",IF(ISNUMBER('PAH data'!M17)=TRUE, IF('PAH data'!M17<'PAH data'!M$38, \"ERROR\", 'PAH data'!M17/1000), IF('PAH data'!M17=\"<LOD\",'PAH data'!M$38/1000, \"ERROR\")))","v":0.20300000000000001},{"$f":"IF('PAH data'!N17=\"\",\"\",IF(ISNUMBER('PAH data'!N17)=TRUE, IF('PAH data'!N17<'PAH data'!N$38, \"ERROR\", 'PAH data'!N17/1000), IF('PAH data'!N17=\"<LOD\",'PAH data'!N$38/1000, \"ERROR\")))","v":0.26900000000000002},{"$f":"IF('PAH data'!O17=\"\",\"\",IF(ISNUMBER('PAH data'!O17)=TRUE, IF('PAH data'!O17<'PAH data'!O$38, \"ERROR\", 'PAH data'!O17/1000), IF('PAH data'!O17=\"<LOD\",'PAH data'!O$38/1000, \"ERROR\")))","v":0.55600000000000005},{"$f":"IF('PAH data'!P17=\"\",\"\",IF(ISNUMBER('PAH data'!P17)=TRUE, IF('PAH data'!P17<'PAH data'!P$38, \"ERROR\", 'PAH data'!P17/1000), IF('PAH data'!P17=\"<LOD\",'PAH data'!P$38/1000, \"ERROR\")))","v":0.63800000000000001},{"$f":"IF('PAH data'!Q17=\"\",\"\",IF(ISNUMBER('PAH data'!Q17)=TRUE, IF('PAH data'!Q17<'PAH data'!Q$38, \"ERROR\", 'PAH data'!Q17/1000), IF('PAH data'!Q17=\"<LOD\",'PAH data'!Q$38/1000, \"ERROR\")))","v":0.65100000000000002},{"$f":"IF('PAH data'!R17=\"\",\"\",IF(ISNUMBER('PAH data'!R17)=TRUE, IF('PAH data'!R17<'PAH data'!R$38, \"ERROR\", 'PAH data'!R17/1000), IF('PAH data'!R17=\"<LOD\",'PAH data'!R$38/1000, \"ERROR\")))","v":0.54100000000000004},{"$f":"IF('PAH data'!S17=\"\",\"\",IF(ISNUMBER('PAH data'!S17)=TRUE, IF('PAH data'!S17<'PAH data'!S$38, \"ERROR\", 'PAH data'!S17/1000), IF('PAH data'!S17=\"<LOD\",'PAH data'!S$38/1000, \"ERROR\")))","v":0.51100000000000001},{"$f":"IF('PAH data'!T17=\"\",\"\",IF(ISNUMBER('PAH data'!T17)=TRUE, IF('PAH data'!T17<'PAH data'!T$38, \"ERROR\", 'PAH data'!T17/1000), IF('PAH data'!T17=\"<LOD\",'PAH data'!T$38/1000, \"ERROR\")))","v":0.51},{"$f":"IF('PAH data'!U17=\"\",\"\",IF(ISNUMBER('PAH data'!U17)=TRUE, IF('PAH data'!U17<'PAH data'!U$38, \"ERROR\", 'PAH data'!U17/1000), IF('PAH data'!U17=\"<LOD\",'PAH data'!U$38/1000, \"ERROR\")))","v":2.81},{"$f":"IF('PAH data'!V17=\"\",\"\",IF(ISNUMBER('PAH data'!V17)=TRUE, IF('PAH data'!V17<'PAH data'!V$38, \"ERROR\", 'PAH data'!V17/1000), IF('PAH data'!V17=\"<LOD\",'PAH data'!V$38/1000, \"ERROR\")))","v":1.28},{"$f":"IF('PAH data'!W17=\"\",\"\",IF(ISNUMBER('PAH data'!W17)=TRUE, IF('PAH data'!W17<'PAH data'!W$38, \"ERROR\", 'PAH data'!W17/1000), IF('PAH data'!W17=\"<LOD\",'PAH data'!W$38/1000, \"ERROR\")))","v":2.63},{"$f":"IF('PAH data'!X17=\"\",\"\",IF(ISNUMBER('PAH data'!X17)=TRUE, IF('PAH data'!X17<'PAH data'!X$38, \"ERROR\", 'PAH data'!X17/1000), IF('PAH data'!X17=\"<LOD\",'PAH data'!X$38/1000, \"ERROR\")))","v":2.21},{"$f":"IF('PAH data'!Y17=\"\",\"\",IF(ISNUMBER('PAH data'!Y17)=TRUE, IF('PAH data'!Y17<'PAH data'!Y$38, \"ERROR\", 'PAH data'!Y17/1000), IF('PAH data'!Y17=\"<LOD\",'PAH data'!Y$38/1000, \"ERROR\")))","v":0.65500000000000003},{"$f":"IF('PAH data'!Z17=\"\",\"\",IF(ISNUMBER('PAH data'!Z17)=TRUE, IF('PAH data'!Z17<'PAH data'!Z$38, \"ERROR\", 'PAH data'!Z17/1000), IF('PAH data'!Z17=\"<LOD\",'PAH data'!Z$38/1000, \"ERROR\")))","v":0.115},{"$f":"IF('PAH data'!AA17=\"\",\"\",IF(ISNUMBER('PAH data'!AA17)=TRUE, IF('PAH data'!AA17<'PAH data'!AA$38, \"ERROR\", 'PAH data'!AA17/1000), IF('PAH data'!AA17=\"<LOD\",'PAH data'!AA$38/1000, \"ERROR\")))","v":1.1299999999999999},{"$f":"IF('PAH data'!AB17=\"\",\"\",IF(ISNUMBER('PAH data'!AB17)=TRUE, IF('PAH data'!AB17<'PAH data'!AB$38, \"ERROR\", 'PAH data'!AB17/1000), IF('PAH data'!AB17=\"<LOD\",'PAH data'!AB$38/1000, \"ERROR\")))","v":0.5},{"$f":"IF('PAH data'!AC17=\"\",\"\",IF(ISNUMBER('PAH data'!AC17)=TRUE, IF('PAH data'!AC17<'PAH data'!AC$38, \"ERROR\", 'PAH data'!AC17/1000), IF('PAH data'!AC17=\"<LOD\",'PAH data'!AC$38/1000, \"ERROR\")))","v":0.38800000000000001},{"$f":"IF('PAH data'!AD17=\"\",\"\",IF(ISNUMBER('PAH data'!AD17)=TRUE, IF('PAH data'!AD17<'PAH data'!AD$38, \"ERROR\", 'PAH data'!AD17/1000), IF('PAH data'!AD17=\"<LOD\",'PAH data'!AD$38/1000, \"ERROR\")))","v":1.01},{"$f":"IF('PAH data'!AE17=\"\",\"\",IF(ISNUMBER('PAH data'!AE17)=TRUE, IF('PAH data'!AE17<'PAH data'!AE$38, \"ERROR\", 'PAH data'!AE17/1000), IF('PAH data'!AE17=\"<LOD\",'PAH data'!AE$38/1000, \"ERROR\")))","v":0.151},{"$f":"IF('PAH data'!AF17=\"\",\"\",IF(ISNUMBER('PAH data'!AF17)=TRUE, IF('PAH data'!AF17<'PAH data'!AF$38, \"ERROR\", 'PAH data'!AF17/1000), IF('PAH data'!AF17=\"<LOD\",'PAH data'!AF$38/1000, \"ERROR\")))","v":1.19},{"$f":"IF('PAH data'!AG17=\"\",\"\",IF(ISNUMBER('PAH data'!AG17)=TRUE, IF('PAH data'!AG17<'PAH data'!AG$38, \"ERROR\", 'PAH data'!AG17/1000), IF('PAH data'!AG17=\"<LOD\",'PAH data'!AG$38/1000, \"ERROR\")))","v":1.1299999999999999},{"$f":"IF('PAH data'!AH17=\"\",\"\",IF(ISNUMBER('PAH data'!AH17)=TRUE, IF('PAH data'!AH17<'PAH data'!AH$38, \"ERROR\", 'PAH data'!AH17), IF('PAH data'!AH17=\"<LOD\",'PAH data'!AH$38, \"ERROR\")))","v":""}]
[null,null,null,null,null,null,null,{"$f":"IF('PAH data'!H18=\"\",\"\",'PAH data'!H18)","v":"MAR02481.011"},{"$f":"IF('PAH data'!I18=\"\",\"\",'PAH data'!I18)","v":""},{"$f":"IFERROR(IF(K18=\"\",\"\",(IF(VLOOKUP(K18,'Application info'!$K$8:$L$37,2,0)=\"y\",\"y\",\"\"))),\"Manual entry required\")","v":""},{"$f":"IF('PAH data'!J18=\"\",\"\",'PAH data'!J18)","v":11},{"$f":"IF('PAH data'!L18=\"\",\"\",IF(ISNUMBER('PAH data'!L18)=TRUE, IF('PAH data'!L18<'PAH data'!L$38, \"ERROR\", 'PAH data'!L18/1000), IF('PAH data'!L18=\"<LOD\",'PAH data'!L$38/1000, \"ERROR\")))","v":0.76700000000000002},{"$f":"IF('PAH data'!M18=\"\",\"\",IF(ISNUMBER('PAH data'!M18)=TRUE, IF('PAH data'!M18<'PAH data'!M$38, \"ERROR\", 'PAH data'!M18/1000), IF('PAH data'!M18=\"<LOD\",'PAH data'!M$38/1000, \"ERROR\")))","v":0.39800000000000002},{"$f":"IF('PAH data'!N18=\"\",\"\",IF(ISNUMBER('PAH data'!N18)=TRUE, IF('PAH data'!N18<'PAH data'!N$38, \"ERROR\", 'PAH data'!N18/1000), IF('PAH data'!N18=\"<LOD\",'PAH data'!N$38/1000, \"ERROR\")))","v":0.51700000000000002},{"$f":"IF('PAH data'!O18=\"\",\"\",IF(ISNUMBER('PAH data'!O18)=TRUE, IF('PAH data'!O18<'PAH data'!O$38, \"ERROR\", 'PAH data'!O18/1000), IF('PAH data'!O18=\"<LOD\",'PAH data'!O$38/1000, \"ERROR\")))","v":0.95799999999999996},{"$f":"IF('PAH data'!P18=\"\",\"\",IF(ISNUMBER('PAH data'!P18)=TRUE, IF('PAH data'!P18<'PAH data'!P$38, \"ERROR\", 'PAH data'!P18/1000), IF('PAH data'!P18=\"<LOD\",'PAH data'!P$38/1000, \"ERROR\")))","v":1.18},{"$f":"IF('PAH data'!Q18=\"\",\"\",IF(ISNUMBER('PAH data'!Q18)=TRUE, IF('PAH data'!Q18<'PAH data'!Q$38, \"ERROR\", 'PAH data'!Q18/1000), IF('PAH data'!Q18=\"<LOD\",'PAH data'!Q$38/1000, \"ERROR\")))","v":1.1499999999999999},{"$f":"IF('PAH data'!R18=\"\",\"\",IF(ISNUMBER('PAH data'!R18)=TRUE, IF('PAH data'!R18<'PAH data'!R$38, \"ERROR\", 'PAH data'!R18/1000), IF('PAH data'!R18=\"<LOD\",'PAH data'!R$38/1000, \"ERROR\")))","v":0.85099999999999998},{"$f":"IF('PAH data'!S18=\"\",\"\",IF(ISNUMBER('PAH data'!S18)=TRUE, IF('PAH data'!S18<'PAH data'!S$38, \"ERROR\", 'PAH data'!S18/1000), IF('PAH data'!S18=\"<LOD\",'PAH data'!S$38/1000, \"ERROR\")))","v":0.84399999999999997},{"$f":"IF('PAH data'!T18=\"\",\"\",IF(ISNUMBER('PAH data'!T18)=TRUE, IF('PAH data'!T18<'PAH data'!T$38, \"ERROR\", 'PAH data'!T18/1000), IF('PAH data'!T18=\"<LOD\",'PAH data'!T$38/1000, \"ERROR\")))","v":0.94599999999999995},{"$f":"IF('PAH data'!U18=\"\",\"\",IF(ISNUMBER('PAH data'!U18)=TRUE, IF('PAH data'!U18<'PAH data'!U$38, \"ERROR\", 'PAH data'!U18/1000), IF('PAH data'!U18=\"<LOD\",'PAH data'!U$38/1000, \"ERROR\")))","v":4},{"$f":"IF('PAH data'!V18=\"\",\"\",IF(ISNUMBER('PAH data'!V18)=TRUE, IF('PAH data'!V18<'PAH data'!V$38, \"ERROR\", 'PAH data'!V18/1000), IF('PAH data'!V18=\"<LOD\",'PAH data'!V$38/1000, \"ERROR\")))","v":1.71},{"$f":"IF('PAH data'!W18=\"\",\"\",IF(ISNUMBER('PAH data'!W18)=TRUE, IF('PAH data'!W18<'PAH data'!W$38, \"ERROR\", 'PAH data'!W18/1000), IF('PAH data'!W18=\"<LOD\",'PAH data'!W$38/1000, \"ERROR\")))","v":3.56},{"$f":"IF('PAH data'!X18=\"\",\"\",IF(ISNUMBER('PAH data'!X18)=TRUE, IF('PAH data'!X18<'PAH data'!X$38, \"ERROR\", 'PAH data'!X18/1000), IF('PAH data'!X18=\"<LOD\",'PAH data'!X$38/1000, \"ERROR\")))","v":3.26},{"$f":"IF('PAH data'!Y18=\"\",\"\",IF(ISNUMBER('PAH data'!Y18)=TRUE, IF('PAH data'!Y18<'PAH data'!Y$38, \"ERROR\", 'PAH data'!Y18/1000), IF('PAH data'!Y18=\"<LOD\",'PAH data'!Y$38/1000, \"ERROR\")))","v":1.0900000000000001},{"$f":"IF('PAH data'!Z18=\"\",\"\",IF(ISNUMBER('PAH data'!Z18)=TRUE, IF('PAH data'!Z18<'PAH data'!Z$38, \"ERROR\", 'PAH data'!Z18/1000), IF('PAH data'!Z18=\"<LOD\",'PAH data'!Z$38/1000, \"ERROR\")))","v":0.19700000000000001},{"$f":"IF('PAH data'!AA18=\"\",\"\",IF(ISNUMBER('PAH data'!AA18)=TRUE, IF('PAH data'!AA18<'PAH data'!AA$38, \"ERROR\", 'PAH data'!AA18/1000), IF('PAH data'!AA18=\"<LOD\",'PAH data'!AA$38/1000, \"ERROR\")))","v":1.73},{"$f":"IF('PAH data'!AB18=\"\",\"\",IF(ISNUMBER('PAH data'!AB18)=TRUE, IF('PAH data'!AB18<'PAH data'!AB$38, \"ERROR\", 'PAH data'!AB18/1000), IF('PAH data'!AB18=\"<LOD\",'PAH data'!AB$38/1000, \"ERROR\")))","v":0.73199999999999998},{"$f":"IF('PAH data'!AC18=\"\",\"\",IF(ISNUMBER('PAH data'!AC18)=TRUE, IF('PAH data'!AC18<'PAH data'!AC$38, \"ERROR\", 'PAH data'!AC18/1000), IF('PAH data'!AC18=\"<LOD\",'PAH data'!AC$38/1000, \"ERROR\")))","v":0.76600000000000001},{"$f":"IF('PAH data'!AD18=\"\",\"\",IF(ISNUMBER('PAH data'!AD18)=TRUE, IF('PAH data'!AD18<'PAH data'!AD$38, \"ERROR\", 'PAH data'!AD18/1000), IF('PAH data'!AD18=\"<LOD\",'PAH data'!AD$38/1000, \"ERROR\")))","v":1.47},{"$f":"IF('PAH data'!AE18=\"\",\"\",IF(ISNUMBER('PAH data'!AE18)=TRUE, IF('PAH data'!AE18<'PAH data'!AE$38, \"ERROR\", 'PAH data'!AE18/1000), IF('PAH data'!AE18=\"<LOD\",'PAH data'!AE$38/1000, \"ERROR\")))","v":0.31900000000000001},{"$f":"IF('PAH data'!AF18=\"\",\"\",IF(ISNUMBER('PAH data'!AF18)=TRUE, IF('PAH data'!AF18<'PAH data'!AF$38, \"ERROR\", 'PAH data'!AF18/1000), IF('PAH data'!AF18=\"<LOD\",'PAH data'!AF$38/1000, \"ERROR\")))","v":1.63},{"$f":"IF('PAH data'!AG18=\"\",\"\",IF(ISNUMBER('PAH data'!AG18)=TRUE, IF('PAH data'!AG18<'PAH data'!AG$38, \"ERROR\", 'PAH data'!AG18/1000), IF('PAH data'!AG18=\"<LOD\",'PAH data'!AG$38/1000, \"ERROR\")))","v":1.96},{"$f":"IF('PAH data'!AH18=\"\",\"\",IF(ISNUMBER('PAH data'!AH18)=TRUE, IF('PAH data'!AH18<'PAH data'!AH$38, \"ERROR\", 'PAH data'!AH18), IF('PAH data'!AH18=\"<LOD\",'PAH data'!AH$38, \"ERROR\")))","v":""}]
[null,null,null,null,null,null,null,{"$f":"IF('PAH data'!H19=\"\",\"\",'PAH data'!H19)","v":"MAR02481.012"},{"$f":"IF('PAH data'!I19=\"\",\"\",'PAH data'!I19)","v":""},{"$f":"IFERROR(IF(K19=\"\",\"\",(IF(VLOOKUP(K19,'Application info'!$K$8:$L$37,2,0)=\"y\",\"y\",\"\"))),\"Manual entry required\")","v":""},{"$f":"IF('PAH data'!J19=\"\",\"\",'PAH data'!J19)","v":12},{"$f":"IF('PAH data'!L19=\"\",\"\",IF(ISNUMBER('PAH data'!L19)=TRUE, IF('PAH data'!L19<'PAH data'!L$38, \"ERROR\", 'PAH data'!L19/1000), IF('PAH data'!L19=\"<LOD\",'PAH data'!L$38/1000, \"ERROR\")))","v":0.73299999999999998},{"$f":"IF('PAH data'!M19=\"\",\"\",IF(ISNUMBER('PAH data'!M19)=TRUE, IF('PAH data'!M19<'PAH data'!M$38, \"ERROR\", 'PAH data'!M19/1000), IF('PAH data'!M19=\"<LOD\",'PAH data'!M$38/1000, \"ERROR\")))","v":0.34},{"$f":"IF('PAH data'!N19=\"\",\"\",IF(ISNUMBER('PAH data'!N19)=TRUE, IF('PAH data'!N19<'PAH data'!N$38, \"ERROR\", 'PAH data'!N19/1000), IF('PAH data'!N19=\"<LOD\",'PAH data'!N$38/1000, \"ERROR\")))","v":0.34},{"$f":"IF('PAH data'!O19=\"\",\"\",IF(ISNUMBER('PAH data'!O19)=TRUE, IF('PAH data'!O19<'PAH data'!O$38, \"ERROR\", 'PAH data'!O19/1000), IF('PAH data'!O19=\"<LOD\",'PAH data'!O$38/1000, \"ERROR\")))","v":0.72699999999999998},{"$f":"IF('PAH data'!P19=\"\",\"\",IF(ISNUMBER('PAH data'!P19)=TRUE, IF('PAH data'!P19<'PAH data'!P$38, \"ERROR\", 'PAH data'!P19/1000), IF('PAH data'!P19=\"<LOD\",'PAH data'!P$38/1000, \"ERROR\")))","v":0.85299999999999998},{"$f":"IF('PAH data'!Q19=\"\",\"\",IF(ISNUMBER('PAH data'!Q19)=TRUE, IF('PAH data'!Q19<'PAH data'!Q$38, \"ERROR\", 'PAH data'!Q19/1000), IF('PAH data'!Q19=\"<LOD\",'PAH data'!Q$38/1000, \"ERROR\")))","v":0.81899999999999995},{"$f":"IF('PAH data'!R19=\"\",\"\",IF(ISNUMBER('PAH data'!R19)=TRUE, IF('PAH data'!R19<'PAH data'!R$38, \"ERROR\", 'PAH data'!R19/1000), IF('PAH data'!R19=\"<LOD\",'PAH data'!R$38/1000, \"ERROR\")))","v":0.67700000000000005},{"$f":"IF('PAH data'!S19=\"\",\"\",IF(ISNUMBER('PAH data'!S19)=TRUE, IF('PAH data'!S19<'PAH data'!S$38, \"ERROR\", 'PAH data'!S19/1000), IF('PAH data'!S19=\"<LOD\",'PAH data'!S$38/1000, \"ERROR\")))","v":0.64200000000000002},{"$f":"IF('PAH data'!T19=\"\",\"\",IF(ISNUMBER('PAH data'!T19)=TRUE, IF('PAH data'!T19<'PAH data'!T$38, \"ERROR\", 'PAH data'!T19/1000), IF('PAH data'!T19=\"<LOD\",'PAH data'!T$38/1000, \"ERROR\")))","v":0.67500000000000004},{"$f":"IF('PAH data'!U19=\"\",\"\",IF(ISNUMBER('PAH data'!U19)=TRUE, IF('PAH data'!U19<'PAH data'!U$38, \"ERROR\", 'PAH data'!U19/1000), IF('PAH data'!U19=\"<LOD\",'PAH data'!U$38/1000, \"ERROR\")))","v":3.36},{"$f":"IF('PAH data'!V19=\"\",\"\",IF(ISNUMBER('PAH data'!V19)=TRUE, IF('PAH data'!V19<'PAH data'!V$38, \"ERROR\", 'PAH data'!V19/1000), IF('PAH data'!V19=\"<LOD\",'PAH data'!V$38/1000, \"ERROR\")))","v":1.49},{"$f":"IF('PAH data'!W19=\"\",\"\",IF(ISNUMBER('PAH data'!W19)=TRUE, IF('PAH data'!W19<'PAH data'!W$38, \"ERROR\", 'PAH data'!W19/1000), IF('PAH data'!W19=\"<LOD\",'PAH data'!W$38/1000, \"ERROR\")))","v":3.27},{"$f":"IF('PAH data'!X19=\"\",\"\",IF(ISNUMBER('PAH data'!X19)=TRUE, IF('PAH data'!X19<'PAH data'!X$38, \"ERROR\", 'PAH data'!X19/1000), IF('PAH data'!X19=\"<LOD\",'PAH data'!X$38/1000, \"ERROR\")))","v":2.89},{"$f":"IF('PAH data'!Y19=\"\",\"\",IF(ISNUMBER('PAH data'!Y19)=TRUE, IF('PAH data'!Y19<'PAH data'!Y$38, \"ERROR\", 'PAH data'!Y19/1000), IF('PAH data'!Y19=\"<LOD\",'PAH data'!Y$38/1000, \"ERROR\")))","v":0.81699999999999995},{"$f":"IF('PAH data'!Z19=\"\",\"\",IF(ISNUMBER('PAH data'!Z19)=TRUE, IF('PAH data'!Z19<'PAH data'!Z$38, \"ERROR\", 'PAH data'!Z19/1000), IF('PAH data'!Z19=\"<LOD\",'PAH data'!Z$38/1000, \"ERROR\")))","v":0.14699999999999999},{"$f":"IF('PAH data'!AA19=\"\",\"\",IF(ISNUMBER('PAH data'!AA19)=TRUE, IF('PAH data'!AA19<'PAH data'!AA$38, \"ERROR\", 'PAH data'!AA19/1000), IF('PAH data'!AA19=\"<LOD\",'PAH data'!AA$38/1000, \"ERROR\")))","v":1.43},{"$f":"IF('PAH data'!AB19=\"\",\"\",IF(ISNUMBER('PAH data'!AB19)=TRUE, IF('PAH data'!AB19<'PAH data'!AB$38, \"ERROR\", 'PAH data'!AB19/1000), IF('PAH data'!AB19=\"<LOD\",'PAH data'!AB$38/1000, \"ERROR\")))","v":0.68600000000000005},{"$f":"IF('PAH data'!AC19=\"\",\"\",IF(ISNUMBER('PAH data'!AC19)=TRUE, IF('PAH data'!AC19<'PAH data'!AC$38, \"ERROR\", 'PAH data'!AC19/1000), IF('PAH data'!AC19=\"<LOD\",'PAH data'!AC$38/1000, \"ERROR\")))","v":0.56200000000000006},{"$f":"IF('PAH data'!AD19=\"\",\"\",IF(ISNUMBER('PAH data'!AD19)=TRUE, IF('PAH data'!AD19<'PAH data'!AD$38, \"ERROR\", 'PAH data'!AD19/1000), IF('PAH data'!AD19=\"<LOD\",'PAH data'!AD$38/1000, \"ERROR\")))","v":1.26},{"$f":"IF('PAH data'!AE19=\"\",\"\",IF(ISNUMBER('PAH data'!AE19)=TRUE, IF('PAH data'!AE19<'PAH data'!AE$38, \"ERROR\", 'PAH data'!AE19/1000), IF('PAH data'!AE19=\"<LOD\",'PAH data'!AE$38/1000, \"ERROR\")))","v":0.20200000000000001},{"$f":"IF('PAH data'!AF19=\"\",\"\",IF(ISNUMBER('PAH data'!AF19)=TRUE, IF('PAH data'!AF19<'PAH data'!AF$38, \"ERROR\", 'PAH data'!AF19/1000), IF('PAH data'!AF19=\"<LOD\",'PAH data'!AF$38/1000, \"ERROR\")))","v":1.42},{"$f":"IF('PAH data'!AG19=\"\",\"\",IF(ISNUMBER('PAH data'!AG19)=TRUE, IF('PAH data'!AG19<'PAH data'!AG$38, \"ERROR\", 'PAH data'!AG19/1000), IF('PAH data'!AG19=\"<LOD\",'PAH data'!AG$38/1000, \"ERROR\")))","v":1.49},{"$f":"IF('PAH data'!AH19=\"\",\"\",IF(ISNUMBER('PAH data'!AH19)=TRUE, IF('PAH data'!AH19<'PAH data'!AH$38, \"ERROR\", 'PAH data'!AH19), IF('PAH data'!AH19=\"<LOD\",'PAH data'!AH$38, \"ERROR\")))","v":""}]
[null,null,null,null,null,null,null,{"$f":"IF('PAH data'!H20=\"\",\"\",'PAH data'!H20)","v":"MAR02481.013"},{"$f":"IF('PAH data'!I20=\"\",\"\",'PAH data'!I20)","v":""},{"$f":"IFERROR(IF(K20=\"\",\"\",(IF(VLOOKUP(K20,'Application info'!$K$8:$L$37,2,0)=\"y\",\"y\",\"\"))),\"Manual entry required\")","v":""},{"$f":"IF('PAH data'!J20=\"\",\"\",'PAH data'!J20)","v":13},{"$f":"IF('PAH data'!L20=\"\",\"\",IF(ISNUMBER('PAH data'!L20)=TRUE, IF('PAH data'!L20<'PAH data'!L$38, \"ERROR\", 'PAH data'!L20/1000), IF('PAH data'!L20=\"<LOD\",'PAH data'!L$38/1000, \"ERROR\")))","v":0.70599999999999996},{"$f":"IF('PAH data'!M20=\"\",\"\",IF(ISNUMBER('PAH data'!M20)=TRUE, IF('PAH data'!M20<'PAH data'!M$38, \"ERROR\", 'PAH data'!M20/1000), IF('PAH data'!M20=\"<LOD\",'PAH data'!M$38/1000, \"ERROR\")))","v":0.26200000000000001},{"$f":"IF('PAH data'!N20=\"\",\"\",IF(ISNUMBER('PAH data'!N20)=TRUE, IF('PAH data'!N20<'PAH data'!N$38, \"ERROR\", 'PAH data'!N20/1000), IF('PAH data'!N20=\"<LOD\",'PAH data'!N$38/1000, \"ERROR\")))","v":0.31},{"$f":"IF('PAH data'!O20=\"\",\"\",IF(ISNUMBER('PAH data'!O20)=TRUE, IF('PAH data'!O20<'PAH data'!O$38, \"ERROR\", 'PAH data'!O20/1000), IF('PAH data'!O20=\"<LOD\",'PAH data'!O$38/1000, \"ERROR\")))","v":0.56599999999999995},{"$f":"IF('PAH data'!P20=\"\",\"\",IF(ISNUMBER('PAH data'!P20)=TRUE, IF('PAH data'!P20<'PAH data'!P$38, \"ERROR\", 'PAH data'!P20/1000), IF('PAH data'!P20=\"<LOD\",'PAH data'!P$38/1000, \"ERROR\")))","v":0.63500000000000001},{"$f":"IF('PAH data'!Q20=\"\",\"\",IF(ISNUMBER('PAH data'!Q20)=TRUE, IF('PAH data'!Q20<'PAH data'!Q$38, \"ERROR\", 'PAH data'!Q20/1000), IF('PAH data'!Q20=\"<LOD\",'PAH data'!Q$38/1000, \"ERROR\")))","v":0.63800000000000001},{"$f":"IF('PAH data'!R20=\"\",\"\",IF(ISNUMBER('PAH data'!R20)=TRUE, IF('PAH data'!R20<'PAH data'!R$38, \"ERROR\", 'PAH data'!R20/1000), IF('PAH data'!R20=\"<LOD\",'PAH data'!R$38/1000, \"ERROR\")))","v":0.50600000000000001},{"$f":"IF('PAH data'!S20=\"\",\"\",IF(ISNUMBER('PAH data'!S20)=TRUE, IF('PAH data'!S20<'PAH data'!S$38, \"ERROR\", 'PAH data'!S20/1000), IF('PAH data'!S20=\"<LOD\",'PAH data'!S$38/1000, \"ERROR\")))","v":0.49199999999999999},{"$f":"IF('PAH data'!T20=\"\",\"\",IF(ISNUMBER('PAH data'!T20)=TRUE, IF('PAH data'!T20<'PAH data'!T$38, \"ERROR\", 'PAH data'!T20/1000), IF('PAH data'!T20=\"<LOD\",'PAH data'!T$38/1000, \"ERROR\")))","v":0.501},{"$f":"IF('PAH data'!U20=\"\",\"\",IF(ISNUMBER('PAH data'!U20)=TRUE, IF('PAH data'!U20<'PAH data'!U$38, \"ERROR\", 'PAH data'!U20/1000), IF('PAH data'!U20=\"<LOD\",'PAH data'!U$38/1000, \"ERROR\")))","v":2.89},{"$f":"IF('PAH data'!V20=\"\",\"\",IF(ISNUMBER('PAH data'!V20)=TRUE, IF('PAH data'!V20<'PAH data'!V$38, \"ERROR\", 'PAH data'!V20/1000), IF('PAH data'!V20=\"<LOD\",'PAH data'!V$38/1000, \"ERROR\")))","v":1.22},{"$f":"IF('PAH data'!W20=\"\",\"\",IF(ISNUMBER('PAH data'!W20)=TRUE, IF('PAH data'!W20<'PAH data'!W$38, \"ERROR\", 'PAH data'!W20/1000), IF('PAH data'!W20=\"<LOD\",'PAH data'!W$38/1000, \"ERROR\")))","v":2.66},{"$f":"IF('PAH data'!X20=\"\",\"\",IF(ISNUMBER('PAH data'!X20)=TRUE, IF('PAH data'!X20<'PAH data'!X$38, \"ERROR\", 'PAH data'!X20/1000), IF('PAH data'!X20=\"<LOD\",'PAH data'!X$38/1000, \"ERROR\")))","v":2.31},{"$f":"IF('PAH data'!Y20=\"\",\"\",IF(ISNUMBER('PAH data'!Y20)=TRUE, IF('PAH data'!Y20<'PAH data'!Y$38, \"ERROR\", 'PAH data'!Y20/1000), IF('PAH data'!Y20=\"<LOD\",'PAH data'!Y$38/1000, \"ERROR\")))","v":0.64300000000000002},{"$f":"IF('PAH data'!Z20=\"\",\"\",IF(ISNUMBER('PAH data'!Z20)=TRUE, IF('PAH data'!Z20<'PAH data'!Z$38, \"ERROR\", 'PAH data'!Z20/1000), IF('PAH data'!Z20=\"<LOD\",'PAH data'!Z$38/1000, \"ERROR\")))","v":0.114},{"$f":"IF('PAH data'!AA20=\"\",\"\",IF(ISNUMBER('PAH data'!AA20)=TRUE, IF('PAH data'!AA20<'PAH data'!AA$38, \"ERROR\", 'PAH data'!AA20/1000), IF('PAH data'!AA20=\"<LOD\",'PAH data'!AA$38/1000, \"ERROR\")))","v":1.08},{"$f":"IF('PAH data'!AB20=\"\",\"\",IF(ISNUMBER('PAH data'!AB20)=TRUE, IF('PAH data'!AB20<'PAH data'!AB$38, \"ERROR\", 'PAH data'!AB20/1000), IF('PAH data'!AB20=\"<LOD\",'PAH data'!AB$38/1000, \"ERROR\")))","v":0.6},{"$f":"IF('PAH data'!AC20=\"\",\"\",IF(ISNUMBER('PAH data'!AC20)=TRUE, IF('PAH data'!AC20<'PAH data'!AC$38, \"ERROR\", 'PAH data'!AC20/1000), IF('PAH data'!AC20=\"<LOD\",'PAH data'!AC$38/1000, \"ERROR\")))","v":0.41899999999999998},{"$f":"IF('PAH data'!AD20=\"\",\"\",IF(ISNUMBER('PAH data'!AD20)=TRUE, IF('PAH data'!AD20<'PAH data'!AD$38, \"ERROR\", 'PAH data'!AD20/1000), IF('PAH data'!AD20=\"<LOD\",'PAH data'!AD$38/1000, \"ERROR\")))","v":1.02},{"$f":"IF('PAH data'!AE20=\"\",\"\",IF(ISNUMBER('PAH data'!AE20)=TRUE, IF('PAH data'!AE20<'PAH data'!AE$38, \"ERROR\", 'PAH data'!AE20/1000), IF('PAH data'!AE20=\"<LOD\",'PAH data'!AE$38/1000, \"ERROR\")))","v":0.14899999999999999},{"$f":"IF('PAH data'!AF20=\"\",\"\",IF(ISNUMBER('PAH data'!AF20)=TRUE, IF('PAH data'!AF20<'PAH data'!AF$38, \"ERROR\", 'PAH data'!AF20/1000), IF('PAH data'!AF20=\"<LOD\",'PAH data'!AF$38/1000, \"ERROR\")))","v":1.18},{"$f":"IF('PAH data'!AG20=\"\",\"\",IF(ISNUMBER('PAH data'!AG20)=TRUE, IF('PAH data'!AG20<'PAH data'!AG$38, \"ERROR\", 'PAH data'!AG20/1000), IF('PAH data'!AG20=\"<LOD\",'PAH data'!AG$38/1000, \"ERROR\")))","v":1.1499999999999999},{"$f":"IF('PAH data'!AH20=\"\",\"\",IF(ISNUMBER('PAH data'!AH20)=TRUE, IF('PAH data'!AH20<'PAH data'!AH$38, \"ERROR\", 'PAH data'!AH20), IF('PAH data'!AH20=\"<LOD\",'PAH data'!AH$38, \"ERROR\")))","v":""}]
[null,null,null,null,null,null,null,{"$f":"IF('PAH data'!H21=\"\",\"\",'PAH data'!H21)","v":"MAR02481.014"},{"$f":"IF('PAH data'!I21=\"\",\"\",'PAH data'!I21)","v":""},{"$f":"IFERROR(IF(K21=\"\",\"\",(IF(VLOOKUP(K21,'Application info'!$K$8:$L$37,2,0)=\"y\",\"y\",\"\"))),\"Manual entry required\")","v":""},{"$f":"IF('PAH data'!J21=\"\",\"\",'PAH data'!J21)","v":15},{"$f":"IF('PAH data'!L21=\"\",\"\",IF(ISNUMBER('PAH data'!L21)=TRUE, IF('PAH data'!L21<'PAH data'!L$38, \"ERROR\", 'PAH data'!L21/1000), IF('PAH data'!L21=\"<LOD\",'PAH data'!L$38/1000, \"ERROR\")))","v":0.35899999999999999},{"$f":"IF('PAH data'!M21=\"\",\"\",IF(ISNUMBER('PAH data'!M21)=TRUE, IF('PAH data'!M21<'PAH data'!M$38, \"ERROR\", 'PAH data'!M21/1000), IF('PAH data'!M21=\"<LOD\",'PAH data'!M$38/1000, \"ERROR\")))","v":0.20100000000000001},{"$f":"IF('PAH data'!N21=\"\",\"\",IF(ISNUMBER('PAH data'!N21)=TRUE, IF('PAH data'!N21<'PAH data'!N$38, \"ERROR\", 'PAH data'!N21/1000), IF('PAH data'!N21=\"<LOD\",'PAH data'!N$38/1000, \"ERROR\")))","v":0.32400000000000001},{"$f":"IF('PAH data'!O21=\"\",\"\",IF(ISNUMBER('PAH data'!O21)=TRUE, IF('PAH data'!O21<'PAH data'!O$38, \"ERROR\", 'PAH data'!O21/1000), IF('PAH data'!O21=\"<LOD\",'PAH data'!O$38/1000, \"ERROR\")))","v":0.60299999999999998},{"$f":"IF('PAH data'!P21=\"\",\"\",IF(ISNUMBER('PAH data'!P21)=TRUE, IF('PAH data'!P21<'PAH data'!P$38, \"ERROR\", 'PAH data'!P21/1000), IF('PAH data'!P21=\"<LOD\",'PAH data'!P$38/1000, \"ERROR\")))","v":0.65700000000000003},{"$f":"IF('PAH data'!Q21=\"\",\"\",IF(ISNUMBER('PAH data'!Q21)=TRUE, IF('PAH data'!Q21<'PAH data'!Q$38, \"ERROR\", 'PAH data'!Q21/1000), IF('PAH data'!Q21=\"<LOD\",'PAH data'!Q$38/1000, \"ERROR\")))","v":0.60599999999999998},{"$f":"IF('PAH data'!R21=\"\",\"\",IF(ISNUMBER('PAH data'!R21)=TRUE, IF('PAH data'!R21<'PAH data'!R$38, \"ERROR\", 'PAH data'!R21/1000), IF('PAH data'!R21=\"<LOD\",'PAH data'!R$38/1000, \"ERROR\")))","v":0.49099999999999999},{"$f":"IF('PAH data'!S21=\"\",\"\",IF(ISNUMBER('PAH data'!S21)=TRUE, IF('PAH data'!S21<'PAH data'!S$38, \"ERROR\", 'PAH data'!S21/1000), IF('PAH data'!S21=\"<LOD\",'PAH data'!S$38/1000, \"ERROR\")))","v":0.47299999999999998},{"$f":"IF('PAH data'!T21=\"\",\"\",IF(ISNUMBER('PAH data'!T21)=TRUE, IF('PAH data'!T21<'PAH data'!T$38, \"ERROR\", 'PAH data'!T21/1000), IF('PAH data'!T21=\"<LOD\",'PAH data'!T$38/1000, \"ERROR\")))","v":0.505},{"$f":"IF('PAH data'!U21=\"\",\"\",IF(ISNUMBER('PAH data'!U21)=TRUE, IF('PAH data'!U21<'PAH data'!U$38, \"ERROR\", 'PAH data'!U21/1000), IF('PAH data'!U21=\"<LOD\",'PAH data'!U$38/1000, \"ERROR\")))","v":2.4900000000000002},{"$f":"IF('PAH data'!V21=\"\",\"\",IF(ISNUMBER('PAH data'!V21)=TRUE, IF('PAH data'!V21<'PAH data'!V$38, \"ERROR\", 'PAH data'!V21/1000), IF('PAH data'!V21=\"<LOD\",'PAH data'!V$38/1000, \"ERROR\")))","v":1.31},{"$f":"IF('PAH data'!W21=\"\",\"\",IF(ISNUMBER('PAH data'!W21)=TRUE, IF('PAH data'!W21<'PAH data'!W$38, \"ERROR\", 'PAH data'!W21/1000), IF('PAH data'!W21=\"<LOD\",'PAH data'!W$38/1000, \"ERROR\")))","v":2.2400000000000002},{"$f":"IF('PAH data'!X21=\"\",\"\",IF(ISNUMBER('PAH data'!X21)=TRUE, IF('PAH data'!X21<'PAH data'!X$38, \"ERROR\", 'PAH data'!X21/1000), IF('PAH data'!X21=\"<LOD\",'PAH data'!X$38/1000, \"ERROR\")))","v":2.04},{"$f":"IF('PAH data'!Y21=\"\",\"\",IF(ISNUMBER('PAH data'!Y21)=TRUE, IF('PAH data'!Y21<'PAH data'!Y$38, \"ERROR\", 'PAH data'!Y21/1000), IF('PAH data'!Y21=\"<LOD\",'PAH data'!Y$38/1000, \"ERROR\")))","v":0.65100000000000002},{"$f":"IF('PAH data'!Z21=\"\",\"\",IF(ISNUMBER('PAH data'!Z21)=TRUE, IF('PAH data'!Z21<'PAH data'!Z$38, \"ERROR\", 'PAH data'!Z21/1000), IF('PAH data'!Z21=\"<LOD\",'PAH data'!Z$38/1000, \"ERROR\")))","v":0.106},{"$f":"IF('PAH data'!AA21=\"\",\"\",IF(ISNUMBER('PAH data'!AA21)=TRUE, IF('PAH data'!AA21<'PAH data'!AA$38, \"ERROR\", 'PAH data'!AA21/1000), IF('PAH data'!AA21=\"<LOD\",'PAH data'!AA$38/1000, \"ERROR\")))","v":1.21},{"$f":"IF('PAH data'!AB21=\"\",\"\",IF(ISNUMBER('PAH data'!AB21)=TRUE, IF('PAH data'!AB21<'PAH data'!AB$38, \"ERROR\", 'PAH data'!AB21/1000), IF('PAH data'!AB21=\"<LOD\",'PAH data'!AB$38/1000, \"ERROR\")))","v":0.40400000000000003},{"$f":"IF('PAH data'!AC21=\"\",\"\",IF(ISNUMBER('PAH data'!AC21)=TRUE, IF('PAH data'!AC21<'PAH data'!AC$38, \"ERROR\", 'PAH data'!AC21/1000), IF('PAH data'!AC21=\"<LOD\",'PAH data'!AC$38/1000, \"ERROR\")))","v":0.38},{"$f":"IF('PAH data'!AD21=\"\",\"\",IF(ISNUMBER('PAH data'!AD21)=TRUE, IF('PAH data'!AD21<'PAH data'!AD$38, \"ERROR\", 'PAH data'!AD21/1000), IF('PAH data'!AD21=\"<LOD\",'PAH data'!AD$38/1000, \"ERROR\")))","v":0.85599999999999998},{"$f":"IF('PAH data'!AE21=\"\",\"\",IF(ISNUMBER('PAH data'!AE21)=TRUE, IF('PAH data'!AE21<'PAH data'!AE$38, \"ERROR\", 'PAH data'!AE21/1000), IF('PAH data'!AE21=\"<LOD\",'PAH data'!AE$38/1000, \"ERROR\")))","v":0.14899999999999999},{"$f":"IF('PAH data'!AF21=\"\",\"\",IF(ISNUMBER('PAH data'!AF21)=TRUE, IF('PAH data'!AF21<'PAH data'!AF$38, \"ERROR\", 'PAH data'!AF21/1000), IF('PAH data'!AF21=\"<LOD\",'PAH data'!AF$38/1000, \"ERROR\")))","v":1.21},{"$f":"IF('PAH data'!AG21=\"\",\"\",IF(ISNUMBER('PAH data'!AG21)=TRUE, IF('PAH data'!AG21<'PAH data'!AG$38, \"ERROR\", 'PAH data'!AG21/1000), IF('PAH data'!AG21=\"<LOD\",'PAH data'!AG$38/1000, \"ERROR\")))","v":1.22},{"$f":"IF('PAH data'!AH21=\"\",\"\",IF(ISNUMBER('PAH data'!AH21)=TRUE, IF('PAH data'!AH21<'PAH data'!AH$38, \"ERROR\", 'PAH data'!AH21), IF('PAH data'!AH21=\"<LOD\",'PAH data'!AH$38, \"ERROR\")))","v":""}]
[null,null,null,null,null,null,null,{"$f":"IF('PAH data'!H22=\"\",\"\",'PAH data'!H22)","v":"MAR02481.015"},{"$f":"IF('PAH data'!I22=\"\",\"\",'PAH data'!I22)","v":""},{"$f":"IFERROR(IF(K22=\"\",\"\",(IF(VLOOKUP(K22,'Application info'!$K$8:$L$37,2,0)=\"y\",\"y\",\"\"))),\"Manual entry required\")","v":""},{"$f":"IF('PAH data'!J22=\"\",\"\",'PAH data'!J22)","v":17},{"$f":"IF('PAH data'!L22=\"\",\"\",IF(ISNUMBER('PAH data'!L22)=TRUE, IF('PAH data'!L22<'PAH data'!L$38, \"ERROR\", 'PAH data'!L22/1000), IF('PAH data'!L22=\"<LOD\",'PAH data'!L$38/1000, \"ERROR\")))","v":0.24},{"$f":"IF('PAH data'!M22=\"\",\"\",IF(ISNUMBER('PAH data'!M22)=TRUE, IF('PAH data'!M22<'PAH data'!M$38, \"ERROR\", 'PAH data'!M22/1000), IF('PAH data'!M22=\"<LOD\",'PAH data'!M$38/1000, \"ERROR\")))","v":0.13700000000000001},{"$f":"IF('PAH data'!N22=\"\",\"\",IF(ISNUMBER('PAH data'!N22)=TRUE, IF('PAH data'!N22<'PAH data'!N$38, \"ERROR\", 'PAH data'!N22/1000), IF('PAH data'!N22=\"<LOD\",'PAH data'!N$38/1000, \"ERROR\")))","v":0.26800000000000002},{"$f":"IF('PAH data'!O22=\"\",\"\",IF(ISNUMBER('PAH data'!O22)=TRUE, IF('PAH data'!O22<'PAH data'!O$38, \"ERROR\", 'PAH data'!O22/1000), IF('PAH data'!O22=\"<LOD\",'PAH data'!O$38/1000, \"ERROR\")))","v":0.55800000000000005},{"$f":"IF('PAH data'!P22=\"\",\"\",IF(ISNUMBER('PAH data'!P22)=TRUE, IF('PAH data'!P22<'PAH data'!P$38, \"ERROR\", 'PAH data'!P22/1000), IF('PAH data'!P22=\"<LOD\",'PAH data'!P$38/1000, \"ERROR\")))","v":0.57399999999999995},{"$f":"IF('PAH data'!Q22=\"\",\"\",IF(ISNUMBER('PAH data'!Q22)=TRUE, IF('PAH data'!Q22<'PAH data'!Q$38, \"ERROR\", 'PAH data'!Q22/1000), IF('PAH data'!Q22=\"<LOD\",'PAH data'!Q$38/1000, \"ERROR\")))","v":0.57099999999999995},{"$f":"IF('PAH data'!R22=\"\",\"\",IF(ISNUMBER('PAH data'!R22)=TRUE, IF('PAH data'!R22<'PAH data'!R$38, \"ERROR\", 'PAH data'!R22/1000), IF('PAH data'!R22=\"<LOD\",'PAH data'!R$38/1000, \"ERROR\")))","v":0.498},{"$f":"IF('PAH data'!S22=\"\",\"\",IF(ISNUMBER('PAH data'!S22)=TRUE, IF('PAH data'!S22<'PAH data'!S$38, \"ERROR\", 'PAH data'!S22/1000), IF('PAH data'!S22=\"<LOD\",'PAH data'!S$38/1000, \"ERROR\")))","v":0.47499999999999998},{"$f":"IF('PAH data'!T22=\"\",\"\",IF(ISNUMBER('PAH data'!T22)=TRUE, IF('PAH data'!T22<'PAH data'!T$38, \"ERROR\", 'PAH data'!T22/1000), IF('PAH data'!T22=\"<LOD\",'PAH data'!T$38/1000, \"ERROR\")))","v":0.436},{"$f":"IF('PAH data'!U22=\"\",\"\",IF(ISNUMBER('PAH data'!U22)=TRUE, IF('PAH data'!U22<'PAH data'!U$38, \"ERROR\", 'PAH data'!U22/1000), IF('PAH data'!U22=\"<LOD\",'PAH data'!U$38/1000, \"ERROR\")))","v":3.6},{"$f":"IF('PAH data'!V22=\"\",\"\",IF(ISNUMBER('PAH data'!V22)=TRUE, IF('PAH data'!V22<'PAH data'!V$38, \"ERROR\", 'PAH data'!V22/1000), IF('PAH data'!V22=\"<LOD\",'PAH data'!V$38/1000, \"ERROR\")))","v":1.59},{"$f":"IF('PAH data'!W22=\"\",\"\",IF(ISNUMBER('PAH data'!W22)=TRUE, IF('PAH data'!W22<'PAH data'!W$38, \"ERROR\", 'PAH data'!W22/1000), IF('PAH data'!W22=\"<LOD\",'PAH data'!W$38/1000, \"ERROR\")))","v":3.34},{"$f":"IF('PAH data'!X22=\"\",\"\",IF(ISNUMBER('PAH data'!X22)=TRUE, IF('PAH data'!X22<'PAH data'!X$38, \"ERROR\", 'PAH data'!X22/1000), IF('PAH data'!X22=\"<LOD\",'PAH data'!X$38/1000, \"ERROR\")))","v":2.94},{"$f":"IF('PAH data'!Y22=\"\",\"\",IF(ISNUMBER('PAH data'!Y22)=TRUE, IF('PAH data'!Y22<'PAH data'!Y$38, \"ERROR\", 'PAH data'!Y22/1000), IF('PAH data'!Y22=\"<LOD\",'PAH data'!Y$38/1000, \"ERROR\")))","v":0.67200000000000004},{"$f":"IF('PAH data'!Z22=\"\",\"\",IF(ISNUMBER('PAH data'!Z22)=TRUE, IF('PAH data'!Z22<'PAH data'!Z$38, \"ERROR\", 'PAH data'!Z22/1000), IF('PAH data'!Z22=\"<LOD\",'PAH data'!Z$38/1000, \"ERROR\")))","v":0.11},{"$f":"IF('PAH data'!AA22=\"\",\"\",IF(ISNUMBER('PAH data'!AA22)=TRUE, IF('PAH data'!AA22<'PAH data'!AA$38, \"ERROR\", 'PAH data'!AA22/1000), IF('PAH data'!AA22=\"<LOD\",'PAH data'!AA$38/1000, \"ERROR\")))","v":1.06},{"$f":"IF('PAH data'!AB22=\"\",\"\",IF(ISNUMBER('PAH data'!AB22)=TRUE, IF('PAH data'!AB22<'PAH data'!AB$38, \"ERROR\", 'PAH data'!AB22/1000), IF('PAH data'!AB22=\"<LOD\",'PAH data'!AB$38/1000, \"ERROR\")))","v":0.39200000000000002},{"$f":"IF('PAH data'!AC22=\"\",\"\",IF(ISNUMBER('PAH data'!AC22)=TRUE, IF('PAH data'!AC22<'PAH data'!AC$38, \"ERROR\", 'PAH data'!AC22/1000), IF('PAH data'!AC22=\"<LOD\",'PAH data'!AC$38/1000, \"ERROR\")))","v":0.34},{"$f":"IF('PAH data'!AD22=\"\",\"\",IF(ISNUMBER('PAH data'!AD22)=TRUE, IF('PAH data'!AD22<'PAH data'!AD$38, \"ERROR\", 'PAH data'!AD22/1000), IF('PAH data'!AD22=\"<LOD\",'PAH data'!AD$38/1000, \"ERROR\")))","v":1.1000000000000001},{"$f":"IF('PAH data'!AE22=\"\",\"\",IF(ISNUMBER('PAH data'!AE22)=TRUE, IF('PAH data'!AE22<'PAH data'!AE$38, \"ERROR\", 'PAH data'!AE22/1000), IF('PAH data'!AE22=\"<LOD\",'PAH data'!AE$38/1000, \"ERROR\")))","v":0.115},{"$f":"IF('PAH data'!AF22=\"\",\"\",IF(ISNUMBER('PAH data'!AF22)=TRUE, IF('PAH data'!AF22<'PAH data'!AF$38, \"ERROR\", 'PAH data'!AF22/1000), IF('PAH data'!AF22=\"<LOD\",'PAH data'!AF$38/1000, \"ERROR\")))","v":1.33},{"$f":"IF('PAH data'!AG22=\"\",\"\",IF(ISNUMBER('PAH data'!AG22)=TRUE, IF('PAH data'!AG22<'PAH data'!AG$38, \"ERROR\", 'PAH data'!AG22/1000), IF('PAH data'!AG22=\"<LOD\",'PAH data'!AG$38/1000, \"ERROR\")))","v":1},{"$f":"IF('PAH data'!AH22=\"\",\"\",IF(ISNUMBER('PAH data'!AH22)=TRUE, IF('PAH data'!AH22<'PAH data'!AH$38, \"ERROR\", 'PAH data'!AH22), IF('PAH data'!AH22=\"<LOD\",'PAH data'!AH$38, \"ERROR\")))","v":""}]
[null,null,null,null,null,null,null,{"$f":"IF('PAH data'!H23=\"\",\"\",'PAH data'!H23)","v":"MAR02481.016"},{"$f":"IF('PAH data'!I23=\"\",\"\",'PAH data'!I23)","v":""},{"$f":"IFERROR(IF(K23=\"\",\"\",(IF(VLOOKUP(K23,'Application info'!$K$8:$L$37,2,0)=\"y\",\"y\",\"\"))),\"Manual entry required\")","v":""},{"$f":"IF('PAH data'!J23=\"\",\"\",'PAH data'!J23)","v":18},{"$f":"IF('PAH data'!L23=\"\",\"\",IF(ISNUMBER('PAH data'!L23)=TRUE, IF('PAH data'!L23<'PAH data'!L$38, \"ERROR\", 'PAH data'!L23/1000), IF('PAH data'!L23=\"<LOD\",'PAH data'!L$38/1000, \"ERROR\")))","v":0.21099999999999999},{"$f":"IF('PAH data'!M23=\"\",\"\",IF(ISNUMBER('PAH data'!M23)=TRUE, IF('PAH data'!M23<'PAH data'!M$38, \"ERROR\", 'PAH data'!M23/1000), IF('PAH data'!M23=\"<LOD\",'PAH data'!M$38/1000, \"ERROR\")))","v":0.154},{"$f":"IF('PAH data'!N23=\"\",\"\",IF(ISNUMBER('PAH data'!N23)=TRUE, IF('PAH data'!N23<'PAH data'!N$38, \"ERROR\", 'PAH data'!N23/1000), IF('PAH data'!N23=\"<LOD\",'PAH data'!N$38/1000, \"ERROR\")))","v":0.248},{"$f":"IF('PAH data'!O23=\"\",\"\",IF(ISNUMBER('PAH data'!O23)=TRUE, IF('PAH data'!O23<'PAH data'!O$38, \"ERROR\", 'PAH data'!O23/1000), IF('PAH data'!O23=\"<LOD\",'PAH data'!O$38/1000, \"ERROR\")))","v":0.55100000000000005},{"$f":"IF('PAH data'!P23=\"\",\"\",IF(ISNUMBER('PAH data'!P23)=TRUE, IF('PAH data'!P23<'PAH data'!P$38, \"ERROR\", 'PAH data'!P23/1000), IF('PAH data'!P23=\"<LOD\",'PAH data'!P$38/1000, \"ERROR\")))","v":0.56699999999999995},{"$f":"IF('PAH data'!Q23=\"\",\"\",IF(ISNUMBER('PAH data'!Q23)=TRUE, IF('PAH data'!Q23<'PAH data'!Q$38, \"ERROR\", 'PAH data'!Q23/1000), IF('PAH data'!Q23=\"<LOD\",'PAH data'!Q$38/1000, \"ERROR\")))","v":0.55800000000000005},{"$f":"IF('PAH data'!R23=\"\",\"\",IF(ISNUMBER('PAH data'!R23)=TRUE, IF('PAH data'!R23<'PAH data'!R$38, \"ERROR\", 'PAH data'!R23/1000), IF('PAH data'!R23=\"<LOD\",'PAH data'!R$38/1000, \"ERROR\")))","v":0.47099999999999997},{"$f":"IF('PAH data'!S23=\"\",\"\",IF(ISNUMBER('PAH data'!S23)=TRUE, IF('PAH data'!S23<'PAH data'!S$38, \"ERROR\", 'PAH data'!S23/1000), IF('PAH data'!S23=\"<LOD\",'PAH data'!S$38/1000, \"ERROR\")))","v":0.45900000000000002},{"$f":"IF('PAH data'!T23=\"\",\"\",IF(ISNUMBER('PAH data'!T23)=TRUE, IF('PAH data'!T23<'PAH data'!T$38, \"ERROR\", 'PAH data'!T23/1000), IF('PAH data'!T23=\"<LOD\",'PAH data'!T$38/1000, \"ERROR\")))","v":0.432},{"$f":"IF('PAH data'!U23=\"\",\"\",IF(ISNUMBER('PAH data'!U23)=TRUE, IF('PAH data'!U23<'PAH data'!U$38, \"ERROR\", 'PAH data'!U23/1000), IF('PAH data'!U23=\"<LOD\",'PAH data'!U$38/1000, \"ERROR\")))","v":3.48},{"$f":"IF('PAH data'!V23=\"\",\"\",IF(ISNUMBER('PAH data'!V23)=TRUE, IF('PAH data'!V23<'PAH data'!V$38, \"ERROR\", 'PAH data'!V23/1000), IF('PAH data'!V23=\"<LOD\",'PAH data'!V$38/1000, \"ERROR\")))","v":1.4},{"$f":"IF('PAH data'!W23=\"\",\"\",IF(ISNUMBER('PAH data'!W23)=TRUE, IF('PAH data'!W23<'PAH data'!W$38, \"ERROR\", 'PAH data'!W23/1000), IF('PAH data'!W23=\"<LOD\",'PAH data'!W$38/1000, \"ERROR\")))","v":3.23},{"$f":"IF('PAH data'!X23=\"\",\"\",IF(ISNUMBER('PAH data'!X23)=TRUE, IF('PAH data'!X23<'PAH data'!X$38, \"ERROR\", 'PAH data'!X23/1000), IF('PAH data'!X23=\"<LOD\",'PAH data'!X$38/1000, \"ERROR\")))","v":2.8},{"$f":"IF('PAH data'!Y23=\"\",\"\",IF(ISNUMBER('PAH data'!Y23)=TRUE, IF('PAH data'!Y23<'PAH data'!Y$38, \"ERROR\", 'PAH data'!Y23/1000), IF('PAH data'!Y23=\"<LOD\",'PAH data'!Y$38/1000, \"ERROR\")))","v":0.64900000000000002},{"$f":"IF('PAH data'!Z23=\"\",\"\",IF(ISNUMBER('PAH data'!Z23)=TRUE, IF('PAH data'!Z23<'PAH data'!Z$38, \"ERROR\", 'PAH data'!Z23/1000), IF('PAH data'!Z23=\"<LOD\",'PAH data'!Z$38/1000, \"ERROR\")))","v":0.107},{"$f":"IF('PAH data'!AA23=\"\",\"\",IF(ISNUMBER('PAH data'!AA23)=TRUE, IF('PAH data'!AA23<'PAH data'!AA$38, \"ERROR\", 'PAH data'!AA23/1000), IF('PAH data'!AA23=\"<LOD\",'PAH data'!AA$38/1000, \"ERROR\")))","v":0.995},{"$f":"IF('PAH data'!AB23=\"\",\"\",IF(ISNUMBER('PAH data'!AB23)=TRUE, IF('PAH data'!AB23<'PAH data'!AB$38, \"ERROR\", 'PAH data'!AB23/1000), IF('PAH data'!AB23=\"<LOD\",'PAH data'!AB$38/1000, \"ERROR\")))","v":0.34499999999999997},{"$f":"IF('PAH data'!AC23=\"\",\"\",IF(ISNUMBER('PAH data'!AC23)=TRUE, IF('PAH data'!AC23<'PAH data'!AC$38, \"ERROR\", 'PAH data'!AC23/1000), IF('PAH data'!AC23=\"<LOD\",'PAH data'!AC$38/1000, \"ERROR\")))","v":0.34},{"$f":"IF('PAH data'!AD23=\"\",\"\",IF(ISNUMBER('PAH data'!AD23)=TRUE, IF('PAH data'!AD23<'PAH data'!AD$38, \"ERROR\", 'PAH data'!AD23/1000), IF('PAH data'!AD23=\"<LOD\",'PAH data'!AD$38/1000, \"ERROR\")))","v":1.1100000000000001},{"$f":"IF('PAH data'!AE23=\"\",\"\",IF(ISNUMBER('PAH data'!AE23)=TRUE, IF('PAH data'!AE23<'PAH data'!AE$38, \"ERROR\", 'PAH data'!AE23/1000), IF('PAH data'!AE23=\"<LOD\",'PAH data'!AE$38/1000, \"ERROR\")))","v":0.115},{"$f":"IF('PAH data'!AF23=\"\",\"\",IF(ISNUMBER('PAH data'!AF23)=TRUE, IF('PAH data'!AF23<'PAH data'!AF$38, \"ERROR\", 'PAH data'!AF23/1000), IF('PAH data'!AF23=\"<LOD\",'PAH data'!AF$38/1000, \"ERROR\")))","v":1.23},{"$f":"IF('PAH data'!AG23=\"\",\"\",IF(ISNUMBER('PAH data'!AG23)=TRUE, IF('PAH data'!AG23<'PAH data'!AG$38, \"ERROR\", 'PAH data'!AG23/1000), IF('PAH data'!AG23=\"<LOD\",'PAH data'!AG$38/1000, \"ERROR\")))","v":0.94799999999999995},{"$f":"IF('PAH data'!AH23=\"\",\"\",IF(ISNUMBER('PAH data'!AH23)=TRUE, IF('PAH data'!AH23<'PAH data'!AH$38, \"ERROR\", 'PAH data'!AH23), IF('PAH data'!AH23=\"<LOD\",'PAH data'!AH$38, \"ERROR\")))","v":""}]
[null,null,null,null,null,null,null,{"$f":"IF('PAH data'!H24=\"\",\"\",'PAH data'!H24)","v":"MAR02481.017"},{"$f":"IF('PAH data'!I24=\"\",\"\",'PAH data'!I24)","v":""},{"$f":"IFERROR(IF(K24=\"\",\"\",(IF(VLOOKUP(K24,'Application info'!$K$8:$L$37,2,0)=\"y\",\"y\",\"\"))),\"Manual entry required\")","v":""},{"$f":"IF('PAH data'!J24=\"\",\"\",'PAH data'!J24)","v":19},{"$f":"IF('PAH data'!L24=\"\",\"\",IF(ISNUMBER('PAH data'!L24)=TRUE, IF('PAH data'!L24<'PAH data'!L$38, \"ERROR\", 'PAH data'!L24/1000), IF('PAH data'!L24=\"<LOD\",'PAH data'!L$38/1000, \"ERROR\")))","v":0.25},{"$f":"IF('PAH data'!M24=\"\",\"\",IF(ISNUMBER('PAH data'!M24)=TRUE, IF('PAH data'!M24<'PAH data'!M$38, \"ERROR\", 'PAH data'!M24/1000), IF('PAH data'!M24=\"<LOD\",'PAH data'!M$38/1000, \"ERROR\")))","v":0.13900000000000001},{"$f":"IF('PAH data'!N24=\"\",\"\",IF(ISNUMBER('PAH data'!N24)=TRUE, IF('PAH data'!N24<'PAH data'!N$38, \"ERROR\", 'PAH data'!N24/1000), IF('PAH data'!N24=\"<LOD\",'PAH data'!N$38/1000, \"ERROR\")))","v":0.28299999999999997},{"$f":"IF('PAH data'!O24=\"\",\"\",IF(ISNUMBER('PAH data'!O24)=TRUE, IF('PAH data'!O24<'PAH data'!O$38, \"ERROR\", 'PAH data'!O24/1000), IF('PAH data'!O24=\"<LOD\",'PAH data'!O$38/1000, \"ERROR\")))","v":0.59199999999999997},{"$f":"IF('PAH data'!P24=\"\",\"\",IF(ISNUMBER('PAH data'!P24)=TRUE, IF('PAH data'!P24<'PAH data'!P$38, \"ERROR\", 'PAH data'!P24/1000), IF('PAH data'!P24=\"<LOD\",'PAH data'!P$38/1000, \"ERROR\")))","v":0.58499999999999996},{"$f":"IF('PAH data'!Q24=\"\",\"\",IF(ISNUMBER('PAH data'!Q24)=TRUE, IF('PAH data'!Q24<'PAH data'!Q$38, \"ERROR\", 'PAH data'!Q24/1000), IF('PAH data'!Q24=\"<LOD\",'PAH data'!Q$38/1000, \"ERROR\")))","v":0.54600000000000004},{"$f":"IF('PAH data'!R24=\"\",\"\",IF(ISNUMBER('PAH data'!R24)=TRUE, IF('PAH data'!R24<'PAH data'!R$38, \"ERROR\", 'PAH data'!R24/1000), IF('PAH data'!R24=\"<LOD\",'PAH data'!R$38/1000, \"ERROR\")))","v":0.54200000000000004},{"$f":"IF('PAH data'!S24=\"\",\"\",IF(ISNUMBER('PAH data'!S24)=TRUE, IF('PAH data'!S24<'PAH data'!S$38, \"ERROR\", 'PAH data'!S24/1000), IF('PAH data'!S24=\"<LOD\",'PAH data'!S$38/1000, \"ERROR\")))","v":0.51100000000000001},{"$f":"IF('PAH data'!T24=\"\",\"\",IF(ISNUMBER('PAH data'!T24)=TRUE, IF('PAH data'!T24<'PAH data'!T$38, \"ERROR\", 'PAH data'!T24/1000), IF('PAH data'!T24=\"<LOD\",'PAH data'!T$38/1000, \"ERROR\")))","v":0.45100000000000001},{"$f":"IF('PAH data'!U24=\"\",\"\",IF(ISNUMBER('PAH data'!U24)=TRUE, IF('PAH data'!U24<'PAH data'!U$38, \"ERROR\", 'PAH data'!U24/1000), IF('PAH data'!U24=\"<LOD\",'PAH data'!U$38/1000, \"ERROR\")))","v":4.82},{"$f":"IF('PAH data'!V24=\"\",\"\",IF(ISNUMBER('PAH data'!V24)=TRUE, IF('PAH data'!V24<'PAH data'!V$38, \"ERROR\", 'PAH data'!V24/1000), IF('PAH data'!V24=\"<LOD\",'PAH data'!V$38/1000, \"ERROR\")))","v":1.96},{"$f":"IF('PAH data'!W24=\"\",\"\",IF(ISNUMBER('PAH data'!W24)=TRUE, IF('PAH data'!W24<'PAH data'!W$38, \"ERROR\", 'PAH data'!W24/1000), IF('PAH data'!W24=\"<LOD\",'PAH data'!W$38/1000, \"ERROR\")))","v":4.51},{"$f":"IF('PAH data'!X24=\"\",\"\",IF(ISNUMBER('PAH data'!X24)=TRUE, IF('PAH data'!X24<'PAH data'!X$38, \"ERROR\", 'PAH data'!X24/1000), IF('PAH data'!X24=\"<LOD\",'PAH data'!X$38/1000, \"ERROR\")))","v":3.81},{"$f":"IF('PAH data'!Y24=\"\",\"\",IF(ISNUMBER('PAH data'!Y24)=TRUE, IF('PAH data'!Y24<'PAH data'!Y$38, \"ERROR\", 'PAH data'!Y24/1000), IF('PAH data'!Y24=\"<LOD\",'PAH data'!Y$38/1000, \"ERROR\")))","v":0.73499999999999999},{"$f":"IF('PAH data'!Z24=\"\",\"\",IF(ISNUMBER('PAH data'!Z24)=TRUE, IF('PAH data'!Z24<'PAH data'!Z$38, \"ERROR\", 'PAH data'!Z24/1000), IF('PAH data'!Z24=\"<LOD\",'PAH data'!Z$38/1000, \"ERROR\")))","v":0.11600000000000001},{"$f":"IF('PAH data'!AA24=\"\",\"\",IF(ISNUMBER('PAH data'!AA24)=TRUE, IF('PAH data'!AA24<'PAH data'!AA$38, \"ERROR\", 'PAH data'!AA24/1000), IF('PAH data'!AA24=\"<LOD\",'PAH data'!AA$38/1000, \"ERROR\")))","v":1.01},{"$f":"IF('PAH data'!AB24=\"\",\"\",IF(ISNUMBER('PAH data'!AB24)=TRUE, IF('PAH data'!AB24<'PAH data'!AB$38, \"ERROR\", 'PAH data'!AB24/1000), IF('PAH data'!AB24=\"<LOD\",'PAH data'!AB$38/1000, \"ERROR\")))","v":0.41899999999999998},{"$f":"IF('PAH data'!AC24=\"\",\"\",IF(ISNUMBER('PAH data'!AC24)=TRUE, IF('PAH data'!AC24<'PAH data'!AC$38, \"ERROR\", 'PAH data'!AC24/1000), IF('PAH data'!AC24=\"<LOD\",'PAH data'!AC$38/1000, \"ERROR\")))","v":0.378},{"$f":"IF('PAH data'!AD24=\"\",\"\",IF(ISNUMBER('PAH data'!AD24)=TRUE, IF('PAH data'!AD24<'PAH data'!AD$38, \"ERROR\", 'PAH data'!AD24/1000), IF('PAH data'!AD24=\"<LOD\",'PAH data'!AD$38/1000, \"ERROR\")))","v":1.39},{"$f":"IF('PAH data'!AE24=\"\",\"\",IF(ISNUMBER('PAH data'!AE24)=TRUE, IF('PAH data'!AE24<'PAH data'!AE$38, \"ERROR\", 'PAH data'!AE24/1000), IF('PAH data'!AE24=\"<LOD\",'PAH data'!AE$38/1000, \"ERROR\")))","v":0.11799999999999999},{"$f":"IF('PAH data'!AF24=\"\",\"\",IF(ISNUMBER('PAH data'!AF24)=TRUE, IF('PAH data'!AF24<'PAH data'!AF$38, \"ERROR\", 'PAH data'!AF24/1000), IF('PAH data'!AF24=\"<LOD\",'PAH data'!AF$38/1000, \"ERROR\")))","v":1.5},{"$f":"IF('PAH data'!AG24=\"\",\"\",IF(ISNUMBER('PAH data'!AG24)=TRUE, IF('PAH data'!AG24<'PAH data'!AG$38, \"ERROR\", 'PAH data'!AG24/1000), IF('PAH data'!AG24=\"<LOD\",'PAH data'!AG$38/1000, \"ERROR\")))","v":0.99299999999999999},{"$f":"IF('PAH data'!AH24=\"\",\"\",IF(ISNUMBER('PAH data'!AH24)=TRUE, IF('PAH data'!AH24<'PAH data'!AH$38, \"ERROR\", 'PAH data'!AH24), IF('PAH data'!AH24=\"<LOD\",'PAH data'!AH$38, \"ERROR\")))","v":""}]
[null,null,null,null,null,null,null,{"$f":"IF('PAH data'!H25=\"\",\"\",'PAH data'!H25)","v":"MAR02481.018"},{"$f":"IF('PAH data'!I25=\"\",\"\",'PAH data'!I25)","v":""},{"$f":"IFERROR(IF(K25=\"\",\"\",(IF(VLOOKUP(K25,'Application info'!$K$8:$L$37,2,0)=\"y\",\"y\",\"\"))),\"Manual entry required\")","v":""},{"$f":"IF('PAH data'!J25=\"\",\"\",'PAH data'!J25)","v":20},{"$f":"IF('PAH data'!L25=\"\",\"\",IF(ISNUMBER('PAH data'!L25)=TRUE, IF('PAH data'!L25<'PAH data'!L$38, \"ERROR\", 'PAH data'!L25/1000), IF('PAH data'!L25=\"<LOD\",'PAH data'!L$38/1000, \"ERROR\")))","v":0.25700000000000001},{"$f":"IF('PAH data'!M25=\"\",\"\",IF(ISNUMBER('PAH data'!M25)=TRUE, IF('PAH data'!M25<'PAH data'!M$38, \"ERROR\", 'PAH data'!M25/1000), IF('PAH data'!M25=\"<LOD\",'PAH data'!M$38/1000, \"ERROR\")))","v":0.112},{"$f":"IF('PAH data'!N25=\"\",\"\",IF(ISNUMBER('PAH data'!N25)=TRUE, IF('PAH data'!N25<'PAH data'!N$38, \"ERROR\", 'PAH data'!N25/1000), IF('PAH data'!N25=\"<LOD\",'PAH data'!N$38/1000, \"ERROR\")))","v":0.26400000000000001},{"$f":"IF('PAH data'!O25=\"\",\"\",IF(ISNUMBER('PAH data'!O25)=TRUE, IF('PAH data'!O25<'PAH data'!O$38, \"ERROR\", 'PAH data'!O25/1000), IF('PAH data'!O25=\"<LOD\",'PAH data'!O$38/1000, \"ERROR\")))","v":0.65900000000000003},{"$f":"IF('PAH data'!P25=\"\",\"\",IF(ISNUMBER('PAH data'!P25)=TRUE, IF('PAH data'!P25<'PAH data'!P$38, \"ERROR\", 'PAH data'!P25/1000), IF('PAH data'!P25=\"<LOD\",'PAH data'!P$38/1000, \"ERROR\")))","v":0.66600000000000004},{"$f":"IF('PAH data'!Q25=\"\",\"\",IF(ISNUMBER('PAH data'!Q25)=TRUE, IF('PAH data'!Q25<'PAH data'!Q$38, \"ERROR\", 'PAH data'!Q25/1000), IF('PAH data'!Q25=\"<LOD\",'PAH data'!Q$38/1000, \"ERROR\")))","v":0.67300000000000004},{"$f":"IF('PAH data'!R25=\"\",\"\",IF(ISNUMBER('PAH data'!R25)=TRUE, IF('PAH data'!R25<'PAH data'!R$38, \"ERROR\", 'PAH data'!R25/1000), IF('PAH data'!R25=\"<LOD\",'PAH data'!R$38/1000, \"ERROR\")))","v":0.59599999999999997},{"$f":"IF('PAH data'!S25=\"\",\"\",IF(ISNUMBER('PAH data'!S25)=TRUE, IF('PAH data'!S25<'PAH data'!S$38, \"ERROR\", 'PAH data'!S25/1000), IF('PAH data'!S25=\"<LOD\",'PAH data'!S$38/1000, \"ERROR\")))","v":0.54700000000000004},{"$f":"IF('PAH data'!T25=\"\",\"\",IF(ISNUMBER('PAH data'!T25)=TRUE, IF('PAH data'!T25<'PAH data'!T$38, \"ERROR\", 'PAH data'!T25/1000), IF('PAH data'!T25=\"<LOD\",'PAH data'!T$38/1000, \"ERROR\")))","v":0.51100000000000001},{"$f":"IF('PAH data'!U25=\"\",\"\",IF(ISNUMBER('PAH data'!U25)=TRUE, IF('PAH data'!U25<'PAH data'!U$38, \"ERROR\", 'PAH data'!U25/1000), IF('PAH data'!U25=\"<LOD\",'PAH data'!U$38/1000, \"ERROR\")))","v":4.45},{"$f":"IF('PAH data'!V25=\"\",\"\",IF(ISNUMBER('PAH data'!V25)=TRUE, IF('PAH data'!V25<'PAH data'!V$38, \"ERROR\", 'PAH data'!V25/1000), IF('PAH data'!V25=\"<LOD\",'PAH data'!V$38/1000, \"ERROR\")))","v":2.08},{"$f":"IF('PAH data'!W25=\"\",\"\",IF(ISNUMBER('PAH data'!W25)=TRUE, IF('PAH data'!W25<'PAH data'!W$38, \"ERROR\", 'PAH data'!W25/1000), IF('PAH data'!W25=\"<LOD\",'PAH data'!W$38/1000, \"ERROR\")))","v":4.09},{"$f":"IF('PAH data'!X25=\"\",\"\",IF(ISNUMBER('PAH data'!X25)=TRUE, IF('PAH data'!X25<'PAH data'!X$38, \"ERROR\", 'PAH data'!X25/1000), IF('PAH data'!X25=\"<LOD\",'PAH data'!X$38/1000, \"ERROR\")))","v":3.62},{"$f":"IF('PAH data'!Y25=\"\",\"\",IF(ISNUMBER('PAH data'!Y25)=TRUE, IF('PAH data'!Y25<'PAH data'!Y$38, \"ERROR\", 'PAH data'!Y25/1000), IF('PAH data'!Y25=\"<LOD\",'PAH data'!Y$38/1000, \"ERROR\")))","v":0.76100000000000001},{"$f":"IF('PAH data'!Z25=\"\",\"\",IF(ISNUMBER('PAH data'!Z25)=TRUE, IF('PAH data'!Z25<'PAH data'!Z$38, \"ERROR\", 'PAH data'!Z25/1000), IF('PAH data'!Z25=\"<LOD\",'PAH data'!Z$38/1000, \"ERROR\")))","v":0.11899999999999999},{"$f":"IF('PAH data'!AA25=\"\",\"\",IF(ISNUMBER('PAH data'!AA25)=TRUE, IF('PAH data'!AA25<'PAH data'!AA$38, \"ERROR\", 'PAH data'!AA25/1000), IF('PAH data'!AA25=\"<LOD\",'PAH data'!AA$38/1000, \"ERROR\")))","v":1.21},{"$f":"IF('PAH data'!AB25=\"\",\"\",IF(ISNUMBER('PAH data'!AB25)=TRUE, IF('PAH data'!AB25<'PAH data'!AB$38, \"ERROR\", 'PAH data'!AB25/1000), IF('PAH data'!AB25=\"<LOD\",'PAH data'!AB$38/1000, \"ERROR\")))","v":0.42299999999999999},{"$f":"IF('PAH data'!AC25=\"\",\"\",IF(ISNUMBER('PAH data'!AC25)=TRUE, IF('PAH data'!AC25<'PAH data'!AC$38, \"ERROR\", 'PAH data'!AC25/1000), IF('PAH data'!AC25=\"<LOD\",'PAH data'!AC$38/1000, \"ERROR\")))","v":0.40699999999999997},{"$f":"IF('PAH data'!AD25=\"\",\"\",IF(ISNUMBER('PAH data'!AD25)=TRUE, IF('PAH data'!AD25<'PAH data'!AD$38, \"ERROR\", 'PAH data'!AD25/1000), IF('PAH data'!AD25=\"<LOD\",'PAH data'!AD$38/1000, \"ERROR\")))","v":1.38},{"$f":"IF('PAH data'!AE25=\"\",\"\",IF(ISNUMBER('PAH data'!AE25)=TRUE, IF('PAH data'!AE25<'PAH data'!AE$38, \"ERROR\", 'PAH data'!AE25/1000), IF('PAH data'!AE25=\"<LOD\",'PAH data'!AE$38/1000, \"ERROR\")))","v":0.161},{"$f":"IF('PAH data'!AF25=\"\",\"\",IF(ISNUMBER('PAH data'!AF25)=TRUE, IF('PAH data'!AF25<'PAH data'!AF$38, \"ERROR\", 'PAH data'!AF25/1000), IF('PAH data'!AF25=\"<LOD\",'PAH data'!AF$38/1000, \"ERROR\")))","v":1.58},{"$f":"IF('PAH data'!AG25=\"\",\"\",IF(ISNUMBER('PAH data'!AG25)=TRUE, IF('PAH data'!AG25<'PAH data'!AG$38, \"ERROR\", 'PAH data'!AG25/1000), IF('PAH data'!AG25=\"<LOD\",'PAH data'!AG$38/1000, \"ERROR\")))","v":1.1299999999999999},{"$f":"IF('PAH data'!AH25=\"\",\"\",IF(ISNUMBER('PAH data'!AH25)=TRUE, IF('PAH data'!AH25<'PAH data'!AH$38, \"ERROR\", 'PAH data'!AH25), IF('PAH data'!AH25=\"<LOD\",'PAH data'!AH$38, \"ERROR\")))","v":""}]
[null,null,null,null,null,null,null,{"$f":"IF('PAH data'!H26=\"\",\"\",'PAH data'!H26)","v":"MAR02481.019"},{"$f":"IF('PAH data'!I26=\"\",\"\",'PAH data'!I26)","v":""},{"$f":"IFERROR(IF(K26=\"\",\"\",(IF(VLOOKUP(K26,'Application info'!$K$8:$L$37,2,0)=\"y\",\"y\",\"\"))),\"Manual entry required\")","v":""},{"$f":"IF('PAH data'!J26=\"\",\"\",'PAH data'!J26)","v":21},{"$f":"IF('PAH data'!L26=\"\",\"\",IF(ISNUMBER('PAH data'!L26)=TRUE, IF('PAH data'!L26<'PAH data'!L$38, \"ERROR\", 'PAH data'!L26/1000), IF('PAH data'!L26=\"<LOD\",'PAH data'!L$38/1000, \"ERROR\")))","v":0.25800000000000001},{"$f":"IF('PAH data'!M26=\"\",\"\",IF(ISNUMBER('PAH data'!M26)=TRUE, IF('PAH data'!M26<'PAH data'!M$38, \"ERROR\", 'PAH data'!M26/1000), IF('PAH data'!M26=\"<LOD\",'PAH data'!M$38/1000, \"ERROR\")))","v":0.14499999999999999},{"$f":"IF('PAH data'!N26=\"\",\"\",IF(ISNUMBER('PAH data'!N26)=TRUE, IF('PAH data'!N26<'PAH data'!N$38, \"ERROR\", 'PAH data'!N26/1000), IF('PAH data'!N26=\"<LOD\",'PAH data'!N$38/1000, \"ERROR\")))","v":0.247},{"$f":"IF('PAH data'!O26=\"\",\"\",IF(ISNUMBER('PAH data'!O26)=TRUE, IF('PAH data'!O26<'PAH data'!O$38, \"ERROR\", 'PAH data'!O26/1000), IF('PAH data'!O26=\"<LOD\",'PAH data'!O$38/1000, \"ERROR\")))","v":0.61299999999999999},{"$f":"IF('PAH data'!P26=\"\",\"\",IF(ISNUMBER('PAH data'!P26)=TRUE, IF('PAH data'!P26<'PAH data'!P$38, \"ERROR\", 'PAH data'!P26/1000), IF('PAH data'!P26=\"<LOD\",'PAH data'!P$38/1000, \"ERROR\")))","v":0.63600000000000001},{"$f":"IF('PAH data'!Q26=\"\",\"\",IF(ISNUMBER('PAH data'!Q26)=TRUE, IF('PAH data'!Q26<'PAH data'!Q$38, \"ERROR\", 'PAH data'!Q26/1000), IF('PAH data'!Q26=\"<LOD\",'PAH data'!Q$38/1000, \"ERROR\")))","v":0.63},{"$f":"IF('PAH data'!R26=\"\",\"\",IF(ISNUMBER('PAH data'!R26)=TRUE, IF('PAH data'!R26<'PAH data'!R$38, \"ERROR\", 'PAH data'!R26/1000), IF('PAH data'!R26=\"<LOD\",'PAH data'!R$38/1000, \"ERROR\")))","v":0.56299999999999994},{"$f":"IF('PAH data'!S26=\"\",\"\",IF(ISNUMBER('PAH data'!S26)=TRUE, IF('PAH data'!S26<'PAH data'!S$38, \"ERROR\", 'PAH data'!S26/1000), IF('PAH data'!S26=\"<LOD\",'PAH data'!S$38/1000, \"ERROR\")))","v":0.55700000000000005},{"$f":"IF('PAH data'!T26=\"\",\"\",IF(ISNUMBER('PAH data'!T26)=TRUE, IF('PAH data'!T26<'PAH data'!T$38, \"ERROR\", 'PAH data'!T26/1000), IF('PAH data'!T26=\"<LOD\",'PAH data'!T$38/1000, \"ERROR\")))","v":0.41},{"$f":"IF('PAH data'!U26=\"\",\"\",IF(ISNUMBER('PAH data'!U26)=TRUE, IF('PAH data'!U26<'PAH data'!U$38, \"ERROR\", 'PAH data'!U26/1000), IF('PAH data'!U26=\"<LOD\",'PAH data'!U$38/1000, \"ERROR\")))","v":3.32},{"$f":"IF('PAH data'!V26=\"\",\"\",IF(ISNUMBER('PAH data'!V26)=TRUE, IF('PAH data'!V26<'PAH data'!V$38, \"ERROR\", 'PAH data'!V26/1000), IF('PAH data'!V26=\"<LOD\",'PAH data'!V$38/1000, \"ERROR\")))","v":1.64},{"$f":"IF('PAH data'!W26=\"\",\"\",IF(ISNUMBER('PAH data'!W26)=TRUE, IF('PAH data'!W26<'PAH data'!W$38, \"ERROR\", 'PAH data'!W26/1000), IF('PAH data'!W26=\"<LOD\",'PAH data'!W$38/1000, \"ERROR\")))","v":3.13},{"$f":"IF('PAH data'!X26=\"\",\"\",IF(ISNUMBER('PAH data'!X26)=TRUE, IF('PAH data'!X26<'PAH data'!X$38, \"ERROR\", 'PAH data'!X26/1000), IF('PAH data'!X26=\"<LOD\",'PAH data'!X$38/1000, \"ERROR\")))","v":2.89},{"$f":"IF('PAH data'!Y26=\"\",\"\",IF(ISNUMBER('PAH data'!Y26)=TRUE, IF('PAH data'!Y26<'PAH data'!Y$38, \"ERROR\", 'PAH data'!Y26/1000), IF('PAH data'!Y26=\"<LOD\",'PAH data'!Y$38/1000, \"ERROR\")))","v":0.81100000000000005},{"$f":"IF('PAH data'!Z26=\"\",\"\",IF(ISNUMBER('PAH data'!Z26)=TRUE, IF('PAH data'!Z26<'PAH data'!Z$38, \"ERROR\", 'PAH data'!Z26/1000), IF('PAH data'!Z26=\"<LOD\",'PAH data'!Z$38/1000, \"ERROR\")))","v":0.154},{"$f":"IF('PAH data'!AA26=\"\",\"\",IF(ISNUMBER('PAH data'!AA26)=TRUE, IF('PAH data'!AA26<'PAH data'!AA$38, \"ERROR\", 'PAH data'!AA26/1000), IF('PAH data'!AA26=\"<LOD\",'PAH data'!AA$38/1000, \"ERROR\")))","v":0.996},{"$f":"IF('PAH data'!AB26=\"\",\"\",IF(ISNUMBER('PAH data'!AB26)=TRUE, IF('PAH data'!AB26<'PAH data'!AB$38, \"ERROR\", 'PAH data'!AB26/1000), IF('PAH data'!AB26=\"<LOD\",'PAH data'!AB$38/1000, \"ERROR\")))","v":0.373},{"$f":"IF('PAH data'!AC26=\"\",\"\",IF(ISNUMBER('PAH data'!AC26)=TRUE, IF('PAH data'!AC26<'PAH data'!AC$38, \"ERROR\", 'PAH data'!AC26/1000), IF('PAH data'!AC26=\"<LOD\",'PAH data'!AC$38/1000, \"ERROR\")))","v":0.36699999999999999},{"$f":"IF('PAH data'!AD26=\"\",\"\",IF(ISNUMBER('PAH data'!AD26)=TRUE, IF('PAH data'!AD26<'PAH data'!AD$38, \"ERROR\", 'PAH data'!AD26/1000), IF('PAH data'!AD26=\"<LOD\",'PAH data'!AD$38/1000, \"ERROR\")))","v":1.0900000000000001},{"$f":"IF('PAH data'!AE26=\"\",\"\",IF(ISNUMBER('PAH data'!AE26)=TRUE, IF('PAH data'!AE26<'PAH data'!AE$38, \"ERROR\", 'PAH data'!AE26/1000), IF('PAH data'!AE26=\"<LOD\",'PAH data'!AE$38/1000, \"ERROR\")))","v":0.12},{"$f":"IF('PAH data'!AF26=\"\",\"\",IF(ISNUMBER('PAH data'!AF26)=TRUE, IF('PAH data'!AF26<'PAH data'!AF$38, \"ERROR\", 'PAH data'!AF26/1000), IF('PAH data'!AF26=\"<LOD\",'PAH data'!AF$38/1000, \"ERROR\")))","v":1.22},{"$f":"IF('PAH data'!AG26=\"\",\"\",IF(ISNUMBER('PAH data'!AG26)=TRUE, IF('PAH data'!AG26<'PAH data'!AG$38, \"ERROR\", 'PAH data'!AG26/1000), IF('PAH data'!AG26=\"<LOD\",'PAH data'!AG$38/1000, \"ERROR\")))","v":0.99},{"$f":"IF('PAH data'!AH26=\"\",\"\",IF(ISNUMBER('PAH data'!AH26)=TRUE, IF('PAH data'!AH26<'PAH data'!AH$38, \"ERROR\", 'PAH data'!AH26), IF('PAH data'!AH26=\"<LOD\",'PAH data'!AH$38, \"ERROR\")))","v":""}]
[null,null,null,null,null,null,null,{"$f":"IF('PAH data'!H27=\"\",\"\",'PAH data'!H27)","v":"MAR02481.020"},{"$f":"IF('PAH data'!I27=\"\",\"\",'PAH data'!I27)","v":""},{"$f":"IFERROR(IF(K27=\"\",\"\",(IF(VLOOKUP(K27,'Application info'!$K$8:$L$37,2,0)=\"y\",\"y\",\"\"))),\"Manual entry required\")","v":""},{"$f":"IF('PAH data'!J27=\"\",\"\",'PAH data'!J27)","v":22},{"$f":"IF('PAH data'!L27=\"\",\"\",IF(ISNUMBER('PAH data'!L27)=TRUE, IF('PAH data'!L27<'PAH data'!L$38, \"ERROR\", 'PAH data'!L27/1000), IF('PAH data'!L27=\"<LOD\",'PAH data'!L$38/1000, \"ERROR\")))","v":0.16900000000000001},{"$f":"IF('PAH data'!M27=\"\",\"\",IF(ISNUMBER('PAH data'!M27)=TRUE, IF('PAH data'!M27<'PAH data'!M$38, \"ERROR\", 'PAH data'!M27/1000), IF('PAH data'!M27=\"<LOD\",'PAH data'!M$38/1000, \"ERROR\")))","v":9.5799999999999996E-2},{"$f":"IF('PAH data'!N27=\"\",\"\",IF(ISNUMBER('PAH data'!N27)=TRUE, IF('PAH data'!N27<'PAH data'!N$38, \"ERROR\", 'PAH data'!N27/1000), IF('PAH data'!N27=\"<LOD\",'PAH data'!N$38/1000, \"ERROR\")))","v":0.21099999999999999},{"$f":"IF('PAH data'!O27=\"\",\"\",IF(ISNUMBER('PAH data'!O27)=TRUE, IF('PAH data'!O27<'PAH data'!O$38, \"ERROR\", 'PAH data'!O27/1000), IF('PAH data'!O27=\"<LOD\",'PAH data'!O$38/1000, \"ERROR\")))","v":0.434},{"$f":"IF('PAH data'!P27=\"\",\"\",IF(ISNUMBER('PAH data'!P27)=TRUE, IF('PAH data'!P27<'PAH data'!P$38, \"ERROR\", 'PAH data'!P27/1000), IF('PAH data'!P27=\"<LOD\",'PAH data'!P$38/1000, \"ERROR\")))","v":0.47099999999999997},{"$f":"IF('PAH data'!Q27=\"\",\"\",IF(ISNUMBER('PAH data'!Q27)=TRUE, IF('PAH data'!Q27<'PAH data'!Q$38, \"ERROR\", 'PAH data'!Q27/1000), IF('PAH data'!Q27=\"<LOD\",'PAH data'!Q$38/1000, \"ERROR\")))","v":0.45600000000000002},{"$f":"IF('PAH data'!R27=\"\",\"\",IF(ISNUMBER('PAH data'!R27)=TRUE, IF('PAH data'!R27<'PAH data'!R$38, \"ERROR\", 'PAH data'!R27/1000), IF('PAH data'!R27=\"<LOD\",'PAH data'!R$38/1000, \"ERROR\")))","v":0.441},{"$f":"IF('PAH data'!S27=\"\",\"\",IF(ISNUMBER('PAH data'!S27)=TRUE, IF('PAH data'!S27<'PAH data'!S$38, \"ERROR\", 'PAH data'!S27/1000), IF('PAH data'!S27=\"<LOD\",'PAH data'!S$38/1000, \"ERROR\")))","v":0.40400000000000003},{"$f":"IF('PAH data'!T27=\"\",\"\",IF(ISNUMBER('PAH data'!T27)=TRUE, IF('PAH data'!T27<'PAH data'!T$38, \"ERROR\", 'PAH data'!T27/1000), IF('PAH data'!T27=\"<LOD\",'PAH data'!T$38/1000, \"ERROR\")))","v":0.34699999999999998},{"$f":"IF('PAH data'!U27=\"\",\"\",IF(ISNUMBER('PAH data'!U27)=TRUE, IF('PAH data'!U27<'PAH data'!U$38, \"ERROR\", 'PAH data'!U27/1000), IF('PAH data'!U27=\"<LOD\",'PAH data'!U$38/1000, \"ERROR\")))","v":3.43},{"$f":"IF('PAH data'!V27=\"\",\"\",IF(ISNUMBER('PAH data'!V27)=TRUE, IF('PAH data'!V27<'PAH data'!V$38, \"ERROR\", 'PAH data'!V27/1000), IF('PAH data'!V27=\"<LOD\",'PAH data'!V$38/1000, \"ERROR\")))","v":1.46},{"$f":"IF('PAH data'!W27=\"\",\"\",IF(ISNUMBER('PAH data'!W27)=TRUE, IF('PAH data'!W27<'PAH data'!W$38, \"ERROR\", 'PAH data'!W27/1000), IF('PAH data'!W27=\"<LOD\",'PAH data'!W$38/1000, \"ERROR\")))","v":3.2},{"$f":"IF('PAH data'!X27=\"\",\"\",IF(ISNUMBER('PAH data'!X27)=TRUE, IF('PAH data'!X27<'PAH data'!X$38, \"ERROR\", 'PAH data'!X27/1000), IF('PAH data'!X27=\"<LOD\",'PAH data'!X$38/1000, \"ERROR\")))","v":2.76},{"$f":"IF('PAH data'!Y27=\"\",\"\",IF(ISNUMBER('PAH data'!Y27)=TRUE, IF('PAH data'!Y27<'PAH data'!Y$38, \"ERROR\", 'PAH data'!Y27/1000), IF('PAH data'!Y27=\"<LOD\",'PAH data'!Y$38/1000, \"ERROR\")))","v":0.56200000000000006},{"$f":"IF('PAH data'!Z27=\"\",\"\",IF(ISNUMBER('PAH data'!Z27)=TRUE, IF('PAH data'!Z27<'PAH data'!Z$38, \"ERROR\", 'PAH data'!Z27/1000), IF('PAH data'!Z27=\"<LOD\",'PAH data'!Z$38/1000, \"ERROR\")))","v":8.8700000000000001E-2},{"$f":"IF('PAH data'!AA27=\"\",\"\",IF(ISNUMBER('PAH data'!AA27)=TRUE, IF('PAH data'!AA27<'PAH data'!AA$38, \"ERROR\", 'PAH data'!AA27/1000), IF('PAH data'!AA27=\"<LOD\",'PAH data'!AA$38/1000, \"ERROR\")))","v":0.79700000000000004},{"$f":"IF('PAH data'!AB27=\"\",\"\",IF(ISNUMBER('PAH data'!AB27)=TRUE, IF('PAH data'!AB27<'PAH data'!AB$38, \"ERROR\", 'PAH data'!AB27/1000), IF('PAH data'!AB27=\"<LOD\",'PAH data'!AB$38/1000, \"ERROR\")))","v":0.29799999999999999},{"$f":"IF('PAH data'!AC27=\"\",\"\",IF(ISNUMBER('PAH data'!AC27)=TRUE, IF('PAH data'!AC27<'PAH data'!AC$38, \"ERROR\", 'PAH data'!AC27/1000), IF('PAH data'!AC27=\"<LOD\",'PAH data'!AC$38/1000, \"ERROR\")))","v":0.30199999999999999},{"$f":"IF('PAH data'!AD27=\"\",\"\",IF(ISNUMBER('PAH data'!AD27)=TRUE, IF('PAH data'!AD27<'PAH data'!AD$38, \"ERROR\", 'PAH data'!AD27/1000), IF('PAH data'!AD27=\"<LOD\",'PAH data'!AD$38/1000, \"ERROR\")))","v":1.08},{"$f":"IF('PAH data'!AE27=\"\",\"\",IF(ISNUMBER('PAH data'!AE27)=TRUE, IF('PAH data'!AE27<'PAH data'!AE$38, \"ERROR\", 'PAH data'!AE27/1000), IF('PAH data'!AE27=\"<LOD\",'PAH data'!AE$38/1000, \"ERROR\")))","v":9.3900000000000011E-2},{"$f":"IF('PAH data'!AF27=\"\",\"\",IF(ISNUMBER('PAH data'!AF27)=TRUE, IF('PAH data'!AF27<'PAH data'!AF$38, \"ERROR\", 'PAH data'!AF27/1000), IF('PAH data'!AF27=\"<LOD\",'PAH data'!AF$38/1000, \"ERROR\")))","v":1.17},{"$f":"IF('PAH data'!AG27=\"\",\"\",IF(ISNUMBER('PAH data'!AG27)=TRUE, IF('PAH data'!AG27<'PAH data'!AG$38, \"ERROR\", 'PAH data'!AG27/1000), IF('PAH data'!AG27=\"<LOD\",'PAH data'!AG$38/1000, \"ERROR\")))","v":0.80600000000000005},{"$f":"IF('PAH data'!AH27=\"\",\"\",IF(ISNUMBER('PAH data'!AH27)=TRUE, IF('PAH data'!AH27<'PAH data'!AH$38, \"ERROR\", 'PAH data'!AH27), IF('PAH data'!AH27=\"<LOD\",'PAH data'!AH$38, \"ERROR\")))","v":""}]
[null,null,null,null,null,null,null,{"$f":"IF('PAH data'!H28=\"\",\"\",'PAH data'!H28)","v":"MAR02481.021"},{"$f":"IF('PAH data'!I28=\"\",\"\",'PAH data'!I28)","v":""},{"$f":"IFERROR(IF(K28=\"\",\"\",(IF(VLOOKUP(K28,'Application info'!$K$8:$L$37,2,0)=\"y\",\"y\",\"\"))),\"Manual entry required\")","v":""},{"$f":"IF('PAH data'!J28=\"\",\"\",'PAH data'!J28)","v":23},{"$f":"IF('PAH data'!L28=\"\",\"\",IF(ISNUMBER('PAH data'!L28)=TRUE, IF('PAH data'!L28<'PAH data'!L$38, \"ERROR\", 'PAH data'!L28/1000), IF('PAH data'!L28=\"<LOD\",'PAH data'!L$38/1000, \"ERROR\")))","v":0.184},{"$f":"IF('PAH data'!M28=\"\",\"\",IF(ISNUMBER('PAH data'!M28)=TRUE, IF('PAH data'!M28<'PAH data'!M$38, \"ERROR\", 'PAH data'!M28/1000), IF('PAH data'!M28=\"<LOD\",'PAH data'!M$38/1000, \"ERROR\")))","v":7.9200000000000007E-2},{"$f":"IF('PAH data'!N28=\"\",\"\",IF(ISNUMBER('PAH data'!N28)=TRUE, IF('PAH data'!N28<'PAH data'!N$38, \"ERROR\", 'PAH data'!N28/1000), IF('PAH data'!N28=\"<LOD\",'PAH data'!N$38/1000, \"ERROR\")))","v":0.20300000000000001},{"$f":"IF('PAH data'!O28=\"\",\"\",IF(ISNUMBER('PAH data'!O28)=TRUE, IF('PAH data'!O28<'PAH data'!O$38, \"ERROR\", 'PAH data'!O28/1000), IF('PAH data'!O28=\"<LOD\",'PAH data'!O$38/1000, \"ERROR\")))","v":0.48199999999999998},{"$f":"IF('PAH data'!P28=\"\",\"\",IF(ISNUMBER('PAH data'!P28)=TRUE, IF('PAH data'!P28<'PAH data'!P$38, \"ERROR\", 'PAH data'!P28/1000), IF('PAH data'!P28=\"<LOD\",'PAH data'!P$38/1000, \"ERROR\")))","v":0.48299999999999998},{"$f":"IF('PAH data'!Q28=\"\",\"\",IF(ISNUMBER('PAH data'!Q28)=TRUE, IF('PAH data'!Q28<'PAH data'!Q$38, \"ERROR\", 'PAH data'!Q28/1000), IF('PAH data'!Q28=\"<LOD\",'PAH data'!Q$38/1000, \"ERROR\")))","v":0.42799999999999999},{"$f":"IF('PAH data'!R28=\"\",\"\",IF(ISNUMBER('PAH data'!R28)=TRUE, IF('PAH data'!R28<'PAH data'!R$38, \"ERROR\", 'PAH data'!R28/1000), IF('PAH data'!R28=\"<LOD\",'PAH data'!R$38/1000, \"ERROR\")))","v":0.42599999999999999},{"$f":"IF('PAH data'!S28=\"\",\"\",IF(ISNUMBER('PAH data'!S28)=TRUE, IF('PAH data'!S28<'PAH data'!S$38, \"ERROR\", 'PAH data'!S28/1000), IF('PAH data'!S28=\"<LOD\",'PAH data'!S$38/1000, \"ERROR\")))","v":0.40500000000000003},{"$f":"IF('PAH data'!T28=\"\",\"\",IF(ISNUMBER('PAH data'!T28)=TRUE, IF('PAH data'!T28<'PAH data'!T$38, \"ERROR\", 'PAH data'!T28/1000), IF('PAH data'!T28=\"<LOD\",'PAH data'!T$38/1000, \"ERROR\")))","v":0.34799999999999998},{"$f":"IF('PAH data'!U28=\"\",\"\",IF(ISNUMBER('PAH data'!U28)=TRUE, IF('PAH data'!U28<'PAH data'!U$38, \"ERROR\", 'PAH data'!U28/1000), IF('PAH data'!U28=\"<LOD\",'PAH data'!U$38/1000, \"ERROR\")))","v":4.33},{"$f":"IF('PAH data'!V28=\"\",\"\",IF(ISNUMBER('PAH data'!V28)=TRUE, IF('PAH data'!V28<'PAH data'!V$38, \"ERROR\", 'PAH data'!V28/1000), IF('PAH data'!V28=\"<LOD\",'PAH data'!V$38/1000, \"ERROR\")))","v":1.8},{"$f":"IF('PAH data'!W28=\"\",\"\",IF(ISNUMBER('PAH data'!W28)=TRUE, IF('PAH data'!W28<'PAH data'!W$38, \"ERROR\", 'PAH data'!W28/1000), IF('PAH data'!W28=\"<LOD\",'PAH data'!W$38/1000, \"ERROR\")))","v":4.09},{"$f":"IF('PAH data'!X28=\"\",\"\",IF(ISNUMBER('PAH data'!X28)=TRUE, IF('PAH data'!X28<'PAH data'!X$38, \"ERROR\", 'PAH data'!X28/1000), IF('PAH data'!X28=\"<LOD\",'PAH data'!X$38/1000, \"ERROR\")))","v":3.78},{"$f":"IF('PAH data'!Y28=\"\",\"\",IF(ISNUMBER('PAH data'!Y28)=TRUE, IF('PAH data'!Y28<'PAH data'!Y$38, \"ERROR\", 'PAH data'!Y28/1000), IF('PAH data'!Y28=\"<LOD\",'PAH data'!Y$38/1000, \"ERROR\")))","v":0.57499999999999996},{"$f":"IF('PAH data'!Z28=\"\",\"\",IF(ISNUMBER('PAH data'!Z28)=TRUE, IF('PAH data'!Z28<'PAH data'!Z$38, \"ERROR\", 'PAH data'!Z28/1000), IF('PAH data'!Z28=\"<LOD\",'PAH data'!Z$38/1000, \"ERROR\")))","v":8.9599999999999999E-2},{"$f":"IF('PAH data'!AA28=\"\",\"\",IF(ISNUMBER('PAH data'!AA28)=TRUE, IF('PAH data'!AA28<'PAH data'!AA$38, \"ERROR\", 'PAH data'!AA28/1000), IF('PAH data'!AA28=\"<LOD\",'PAH data'!AA$38/1000, \"ERROR\")))","v":0.85799999999999998},{"$f":"IF('PAH data'!AB28=\"\",\"\",IF(ISNUMBER('PAH data'!AB28)=TRUE, IF('PAH data'!AB28<'PAH data'!AB$38, \"ERROR\", 'PAH data'!AB28/1000), IF('PAH data'!AB28=\"<LOD\",'PAH data'!AB$38/1000, \"ERROR\")))","v":0.32500000000000001},{"$f":"IF('PAH data'!AC28=\"\",\"\",IF(ISNUMBER('PAH data'!AC28)=TRUE, IF('PAH data'!AC28<'PAH data'!AC$38, \"ERROR\", 'PAH data'!AC28/1000), IF('PAH data'!AC28=\"<LOD\",'PAH data'!AC$38/1000, \"ERROR\")))","v":0.27900000000000003},{"$f":"IF('PAH data'!AD28=\"\",\"\",IF(ISNUMBER('PAH data'!AD28)=TRUE, IF('PAH data'!AD28<'PAH data'!AD$38, \"ERROR\", 'PAH data'!AD28/1000), IF('PAH data'!AD28=\"<LOD\",'PAH data'!AD$38/1000, \"ERROR\")))","v":1.32},{"$f":"IF('PAH data'!AE28=\"\",\"\",IF(ISNUMBER('PAH data'!AE28)=TRUE, IF('PAH data'!AE28<'PAH data'!AE$38, \"ERROR\", 'PAH data'!AE28/1000), IF('PAH data'!AE28=\"<LOD\",'PAH data'!AE$38/1000, \"ERROR\")))","v":9.3900000000000011E-2},{"$f":"IF('PAH data'!AF28=\"\",\"\",IF(ISNUMBER('PAH data'!AF28)=TRUE, IF('PAH data'!AF28<'PAH data'!AF$38, \"ERROR\", 'PAH data'!AF28/1000), IF('PAH data'!AF28=\"<LOD\",'PAH data'!AF$38/1000, \"ERROR\")))","v":1.35},{"$f":"IF('PAH data'!AG28=\"\",\"\",IF(ISNUMBER('PAH data'!AG28)=TRUE, IF('PAH data'!AG28<'PAH data'!AG$38, \"ERROR\", 'PAH data'!AG28/1000), IF('PAH data'!AG28=\"<LOD\",'PAH data'!AG$38/1000, \"ERROR\")))","v":0.83599999999999997},{"$f":"IF('PAH data'!AH28=\"\",\"\",IF(ISNUMBER('PAH data'!AH28)=TRUE, IF('PAH data'!AH28<'PAH data'!AH$38, \"ERROR\", 'PAH data'!AH28), IF('PAH data'!AH28=\"<LOD\",'PAH data'!AH$38, \"ERROR\")))","v":""}]
[null,null,null,null,null,null,null,{"$f":"IF('PAH data'!H29=\"\",\"\",'PAH data'!H29)","v":"MAR02481.022"},{"$f":"IF('PAH data'!I29=\"\",\"\",'PAH data'!I29)","v":""},{"$f":"IFERROR(IF(K29=\"\",\"\",(IF(VLOOKUP(K29,'Application info'!$K$8:$L$37,2,0)=\"y\",\"y\",\"\"))),\"Manual entry required\")","v":""},{"$f":"IF('PAH data'!J29=\"\",\"\",'PAH data'!J29)","v":24},{"$f":"IF('PAH data'!L29=\"\",\"\",IF(ISNUMBER('PAH data'!L29)=TRUE, IF('PAH data'!L29<'PAH data'!L$38, \"ERROR\", 'PAH data'!L29/1000), IF('PAH data'!L29=\"<LOD\",'PAH data'!L$38/1000, \"ERROR\")))","v":0.106},{"$f":"IF('PAH data'!M29=\"\",\"\",IF(ISNUMBER('PAH data'!M29)=TRUE, IF('PAH data'!M29<'PAH data'!M$38, \"ERROR\", 'PAH data'!M29/1000), IF('PAH data'!M29=\"<LOD\",'PAH data'!M$38/1000, \"ERROR\")))","v":4.1299999999999996E-2},{"$f":"IF('PAH data'!N29=\"\",\"\",IF(ISNUMBER('PAH data'!N29)=TRUE, IF('PAH data'!N29<'PAH data'!N$38, \"ERROR\", 'PAH data'!N29/1000), IF('PAH data'!N29=\"<LOD\",'PAH data'!N$38/1000, \"ERROR\")))","v":9.4099999999999989E-2},{"$f":"IF('PAH data'!O29=\"\",\"\",IF(ISNUMBER('PAH data'!O29)=TRUE, IF('PAH data'!O29<'PAH data'!O$38, \"ERROR\", 'PAH data'!O29/1000), IF('PAH data'!O29=\"<LOD\",'PAH data'!O$38/1000, \"ERROR\")))","v":0.183},{"$f":"IF('PAH data'!P29=\"\",\"\",IF(ISNUMBER('PAH data'!P29)=TRUE, IF('PAH data'!P29<'PAH data'!P$38, \"ERROR\", 'PAH data'!P29/1000), IF('PAH data'!P29=\"<LOD\",'PAH data'!P$38/1000, \"ERROR\")))","v":0.156},{"$f":"IF('PAH data'!Q29=\"\",\"\",IF(ISNUMBER('PAH data'!Q29)=TRUE, IF('PAH data'!Q29<'PAH data'!Q$38, \"ERROR\", 'PAH data'!Q29/1000), IF('PAH data'!Q29=\"<LOD\",'PAH data'!Q$38/1000, \"ERROR\")))","v":0.14299999999999999},{"$f":"IF('PAH data'!R29=\"\",\"\",IF(ISNUMBER('PAH data'!R29)=TRUE, IF('PAH data'!R29<'PAH data'!R$38, \"ERROR\", 'PAH data'!R29/1000), IF('PAH data'!R29=\"<LOD\",'PAH data'!R$38/1000, \"ERROR\")))","v":0.192},{"$f":"IF('PAH data'!S29=\"\",\"\",IF(ISNUMBER('PAH data'!S29)=TRUE, IF('PAH data'!S29<'PAH data'!S$38, \"ERROR\", 'PAH data'!S29/1000), IF('PAH data'!S29=\"<LOD\",'PAH data'!S$38/1000, \"ERROR\")))","v":0.183},{"$f":"IF('PAH data'!T29=\"\",\"\",IF(ISNUMBER('PAH data'!T29)=TRUE, IF('PAH data'!T29<'PAH data'!T$38, \"ERROR\", 'PAH data'!T29/1000), IF('PAH data'!T29=\"<LOD\",'PAH data'!T$38/1000, \"ERROR\")))","v":0.114},{"$f":"IF('PAH data'!U29=\"\",\"\",IF(ISNUMBER('PAH data'!U29)=TRUE, IF('PAH data'!U29<'PAH data'!U$38, \"ERROR\", 'PAH data'!U29/1000), IF('PAH data'!U29=\"<LOD\",'PAH data'!U$38/1000, \"ERROR\")))","v":3.27},{"$f":"IF('PAH data'!V29=\"\",\"\",IF(ISNUMBER('PAH data'!V29)=TRUE, IF('PAH data'!V29<'PAH data'!V$38, \"ERROR\", 'PAH data'!V29/1000), IF('PAH data'!V29=\"<LOD\",'PAH data'!V$38/1000, \"ERROR\")))","v":1.1299999999999999},{"$f":"IF('PAH data'!W29=\"\",\"\",IF(ISNUMBER('PAH data'!W29)=TRUE, IF('PAH data'!W29<'PAH data'!W$38, \"ERROR\", 'PAH data'!W29/1000), IF('PAH data'!W29=\"<LOD\",'PAH data'!W$38/1000, \"ERROR\")))","v":2.93},{"$f":"IF('PAH data'!X29=\"\",\"\",IF(ISNUMBER('PAH data'!X29)=TRUE, IF('PAH data'!X29<'PAH data'!X$38, \"ERROR\", 'PAH data'!X29/1000), IF('PAH data'!X29=\"<LOD\",'PAH data'!X$38/1000, \"ERROR\")))","v":2.4300000000000002},{"$f":"IF('PAH data'!Y29=\"\",\"\",IF(ISNUMBER('PAH data'!Y29)=TRUE, IF('PAH data'!Y29<'PAH data'!Y$38, \"ERROR\", 'PAH data'!Y29/1000), IF('PAH data'!Y29=\"<LOD\",'PAH data'!Y$38/1000, \"ERROR\")))","v":0.25},{"$f":"IF('PAH data'!Z29=\"\",\"\",IF(ISNUMBER('PAH data'!Z29)=TRUE, IF('PAH data'!Z29<'PAH data'!Z$38, \"ERROR\", 'PAH data'!Z29/1000), IF('PAH data'!Z29=\"<LOD\",'PAH data'!Z$38/1000, \"ERROR\")))","v":3.1E-2},{"$f":"IF('PAH data'!AA29=\"\",\"\",IF(ISNUMBER('PAH data'!AA29)=TRUE, IF('PAH data'!AA29<'PAH data'!AA$38, \"ERROR\", 'PAH data'!AA29/1000), IF('PAH data'!AA29=\"<LOD\",'PAH data'!AA$38/1000, \"ERROR\")))","v":0.29199999999999998},{"$f":"IF('PAH data'!AB29=\"\",\"\",IF(ISNUMBER('PAH data'!AB29)=TRUE, IF('PAH data'!AB29<'PAH data'!AB$38, \"ERROR\", 'PAH data'!AB29/1000), IF('PAH data'!AB29=\"<LOD\",'PAH data'!AB$38/1000, \"ERROR\")))","v":0.19700000000000001},{"$f":"IF('PAH data'!AC29=\"\",\"\",IF(ISNUMBER('PAH data'!AC29)=TRUE, IF('PAH data'!AC29<'PAH data'!AC$38, \"ERROR\", 'PAH data'!AC29/1000), IF('PAH data'!AC29=\"<LOD\",'PAH data'!AC$38/1000, \"ERROR\")))","v":8.4500000000000006E-2},{"$f":"IF('PAH data'!AD29=\"\",\"\",IF(ISNUMBER('PAH data'!AD29)=TRUE, IF('PAH data'!AD29<'PAH data'!AD$38, \"ERROR\", 'PAH data'!AD29/1000), IF('PAH data'!AD29=\"<LOD\",'PAH data'!AD$38/1000, \"ERROR\")))","v":0.96399999999999997},{"$f":"IF('PAH data'!AE29=\"\",\"\",IF(ISNUMBER('PAH data'!AE29)=TRUE, IF('PAH data'!AE29<'PAH data'!AE$38, \"ERROR\", 'PAH data'!AE29/1000), IF('PAH data'!AE29=\"<LOD\",'PAH data'!AE$38/1000, \"ERROR\")))","v":3.6899999999999995E-2},{"$f":"IF('PAH data'!AF29=\"\",\"\",IF(ISNUMBER('PAH data'!AF29)=TRUE, IF('PAH data'!AF29<'PAH data'!AF$38, \"ERROR\", 'PAH data'!AF29/1000), IF('PAH data'!AF29=\"<LOD\",'PAH data'!AF$38/1000, \"ERROR\")))","v":0.85299999999999998},{"$f":"IF('PAH data'!AG29=\"\",\"\",IF(ISNUMBER('PAH data'!AG29)=TRUE, IF('PAH data'!AG29<'PAH data'!AG$38, \"ERROR\", 'PAH data'!AG29/1000), IF('PAH data'!AG29=\"<LOD\",'PAH data'!AG$38/1000, \"ERROR\")))","v":0.33600000000000002},{"$f":"IF('PAH data'!AH29=\"\",\"\",IF(ISNUMBER('PAH data'!AH29)=TRUE, IF('PAH data'!AH29<'PAH data'!AH$38, \"ERROR\", 'PAH data'!AH29), IF('PAH data'!AH29=\"<LOD\",'PAH data'!AH$38, \"ERROR\")))","v":""}]
[null,null,null,null,null,null,null,{"$f":"IF('PAH data'!H30=\"\",\"\",'PAH data'!H30)","v":"MAR02481.023"},{"$f":"IF('PAH data'!I30=\"\",\"\",'PAH data'!I30)","v":""},{"$f":"IFERROR(IF(K30=\"\",\"\",(IF(VLOOKUP(K30,'Application info'!$K$8:$L$37,2,0)=\"y\",\"y\",\"\"))),\"Manual entry required\")","v":""},{"$f":"IF('PAH data'!J30=\"\",\"\",'PAH data'!J30)","v":25},{"$f":"IF('PAH data'!L30=\"\",\"\",IF(ISNUMBER('PAH data'!L30)=TRUE, IF('PAH data'!L30<'PAH data'!L$38, \"ERROR\", 'PAH data'!L30/1000), IF('PAH data'!L30=\"<LOD\",'PAH data'!L$38/1000, \"ERROR\")))","v":0.13400000000000001},{"$f":"IF('PAH data'!M30=\"\",\"\",IF(ISNUMBER('PAH data'!M30)=TRUE, IF('PAH data'!M30<'PAH data'!M$38, \"ERROR\", 'PAH data'!M30/1000), IF('PAH data'!M30=\"<LOD\",'PAH data'!M$38/1000, \"ERROR\")))","v":5.8000000000000003E-2},{"$f":"IF('PAH data'!N30=\"\",\"\",IF(ISNUMBER('PAH data'!N30)=TRUE, IF('PAH data'!N30<'PAH data'!N$38, \"ERROR\", 'PAH data'!N30/1000), IF('PAH data'!N30=\"<LOD\",'PAH data'!N$38/1000, \"ERROR\")))","v":0.153},{"$f":"IF('PAH data'!O30=\"\",\"\",IF(ISNUMBER('PAH data'!O30)=TRUE, IF('PAH data'!O30<'PAH data'!O$38, \"ERROR\", 'PAH data'!O30/1000), IF('PAH data'!O30=\"<LOD\",'PAH data'!O$38/1000, \"ERROR\")))","v":0.317},{"$f":"IF('PAH data'!P30=\"\",\"\",IF(ISNUMBER('PAH data'!P30)=TRUE, IF('PAH data'!P30<'PAH data'!P$38, \"ERROR\", 'PAH data'!P30/1000), IF('PAH data'!P30=\"<LOD\",'PAH data'!P$38/1000, \"ERROR\")))","v":0.29499999999999998},{"$f":"IF('PAH data'!Q30=\"\",\"\",IF(ISNUMBER('PAH data'!Q30)=TRUE, IF('PAH data'!Q30<'PAH data'!Q$38, \"ERROR\", 'PAH data'!Q30/1000), IF('PAH data'!Q30=\"<LOD\",'PAH data'!Q$38/1000, \"ERROR\")))","v":0.254},{"$f":"IF('PAH data'!R30=\"\",\"\",IF(ISNUMBER('PAH data'!R30)=TRUE, IF('PAH data'!R30<'PAH data'!R$38, \"ERROR\", 'PAH data'!R30/1000), IF('PAH data'!R30=\"<LOD\",'PAH data'!R$38/1000, \"ERROR\")))","v":0.28899999999999998},{"$f":"IF('PAH data'!S30=\"\",\"\",IF(ISNUMBER('PAH data'!S30)=TRUE, IF('PAH data'!S30<'PAH data'!S$38, \"ERROR\", 'PAH data'!S30/1000), IF('PAH data'!S30=\"<LOD\",'PAH data'!S$38/1000, \"ERROR\")))","v":0.27700000000000002},{"$f":"IF('PAH data'!T30=\"\",\"\",IF(ISNUMBER('PAH data'!T30)=TRUE, IF('PAH data'!T30<'PAH data'!T$38, \"ERROR\", 'PAH data'!T30/1000), IF('PAH data'!T30=\"<LOD\",'PAH data'!T$38/1000, \"ERROR\")))","v":0.20499999999999999},{"$f":"IF('PAH data'!U30=\"\",\"\",IF(ISNUMBER('PAH data'!U30)=TRUE, IF('PAH data'!U30<'PAH data'!U$38, \"ERROR\", 'PAH data'!U30/1000), IF('PAH data'!U30=\"<LOD\",'PAH data'!U$38/1000, \"ERROR\")))","v":4.4400000000000004},{"$f":"IF('PAH data'!V30=\"\",\"\",IF(ISNUMBER('PAH data'!V30)=TRUE, IF('PAH data'!V30<'PAH data'!V$38, \"ERROR\", 'PAH data'!V30/1000), IF('PAH data'!V30=\"<LOD\",'PAH data'!V$38/1000, \"ERROR\")))","v":1.48},{"$f":"IF('PAH data'!W30=\"\",\"\",IF(ISNUMBER('PAH data'!W30)=TRUE, IF('PAH data'!W30<'PAH data'!W$38, \"ERROR\", 'PAH data'!W30/1000), IF('PAH data'!W30=\"<LOD\",'PAH data'!W$38/1000, \"ERROR\")))","v":3.96},{"$f":"IF('PAH data'!X30=\"\",\"\",IF(ISNUMBER('PAH data'!X30)=TRUE, IF('PAH data'!X30<'PAH data'!X$38, \"ERROR\", 'PAH data'!X30/1000), IF('PAH data'!X30=\"<LOD\",'PAH data'!X$38/1000, \"ERROR\")))","v":3.2},{"$f":"IF('PAH data'!Y30=\"\",\"\",IF(ISNUMBER('PAH data'!Y30)=TRUE, IF('PAH data'!Y30<'PAH data'!Y$38, \"ERROR\", 'PAH data'!Y30/1000), IF('PAH data'!Y30=\"<LOD\",'PAH data'!Y$38/1000, \"ERROR\")))","v":0.39600000000000002},{"$f":"IF('PAH data'!Z30=\"\",\"\",IF(ISNUMBER('PAH data'!Z30)=TRUE, IF('PAH data'!Z30<'PAH data'!Z$38, \"ERROR\", 'PAH data'!Z30/1000), IF('PAH data'!Z30=\"<LOD\",'PAH data'!Z$38/1000, \"ERROR\")))","v":5.8500000000000003E-2},{"$f":"IF('PAH data'!AA30=\"\",\"\",IF(ISNUMBER('PAH data'!AA30)=TRUE, IF('PAH data'!AA30<'PAH data'!AA$38, \"ERROR\", 'PAH data'!AA30/1000), IF('PAH data'!AA30=\"<LOD\",'PAH data'!AA$38/1000, \"ERROR\")))","v":0.503},{"$f":"IF('PAH data'!AB30=\"\",\"\",IF(ISNUMBER('PAH data'!AB30)=TRUE, IF('PAH data'!AB30<'PAH data'!AB$38, \"ERROR\", 'PAH data'!AB30/1000), IF('PAH data'!AB30=\"<LOD\",'PAH data'!AB$38/1000, \"ERROR\")))","v":0.253},{"$f":"IF('PAH data'!AC30=\"\",\"\",IF(ISNUMBER('PAH data'!AC30)=TRUE, IF('PAH data'!AC30<'PAH data'!AC$38, \"ERROR\", 'PAH data'!AC30/1000), IF('PAH data'!AC30=\"<LOD\",'PAH data'!AC$38/1000, \"ERROR\")))","v":0.14399999999999999},{"$f":"IF('PAH data'!AD30=\"\",\"\",IF(ISNUMBER('PAH data'!AD30)=TRUE, IF('PAH data'!AD30<'PAH data'!AD$38, \"ERROR\", 'PAH data'!AD30/1000), IF('PAH data'!AD30=\"<LOD\",'PAH data'!AD$38/1000, \"ERROR\")))","v":1.41},{"$f":"IF('PAH data'!AE30=\"\",\"\",IF(ISNUMBER('PAH data'!AE30)=TRUE, IF('PAH data'!AE30<'PAH data'!AE$38, \"ERROR\", 'PAH data'!AE30/1000), IF('PAH data'!AE30=\"<LOD\",'PAH data'!AE$38/1000, \"ERROR\")))","v":4.6299999999999994E-2},{"$f":"IF('PAH data'!AF30=\"\",\"\",IF(ISNUMBER('PAH data'!AF30)=TRUE, IF('PAH data'!AF30<'PAH data'!AF$38, \"ERROR\", 'PAH data'!AF30/1000), IF('PAH data'!AF30=\"<LOD\",'PAH data'!AF$38/1000, \"ERROR\")))","v":1.21},{"$f":"IF('PAH data'!AG30=\"\",\"\",IF(ISNUMBER('PAH data'!AG30)=TRUE, IF('PAH data'!AG30<'PAH data'!AG$38, \"ERROR\", 'PAH data'!AG30/1000), IF('PAH data'!AG30=\"<LOD\",'PAH data'!AG$38/1000, \"ERROR\")))","v":0.51900000000000002},{"$f":"IF('PAH data'!AH30=\"\",\"\",IF(ISNUMBER('PAH data'!AH30)=TRUE, IF('PAH data'!AH30<'PAH data'!AH$38, \"ERROR\", 'PAH data'!AH30), IF('PAH data'!AH30=\"<LOD\",'PAH data'!AH$38, \"ERROR\")))","v":""}]
[null,null,null,null,null,null,null,{"$f":"IF('PAH data'!H31=\"\",\"\",'PAH data'!H31)","v":""},{"$f":"IF('PAH data'!I31=\"\",\"\",'PAH data'!I31)","v":""},{"$f":"IFERROR(IF(K31=\"\",\"\",(IF(VLOOKUP(K31,'Application info'!$K$8:$L$37,2,0)=\"y\",\"y\",\"\"))),\"Manual entry required\")","v":""},{"$f":"IF('PAH data'!J31=\"\",\"\",'PAH data'!J31)","v":""},{"$f":"IF('PAH data'!L31=\"\",\"\",IF(ISNUMBER('PAH data'!L31)=TRUE, IF('PAH data'!L31<'PAH data'!L$38, \"ERROR\", 'PAH data'!L31/1000), IF('PAH data'!L31=\"<LOD\",'PAH data'!L$38/1000, \"ERROR\")))","v":""},{"$f":"IF('PAH data'!M31=\"\",\"\",IF(ISNUMBER('PAH data'!M31)=TRUE, IF('PAH data'!M31<'PAH data'!M$38, \"ERROR\", 'PAH data'!M31/1000), IF('PAH data'!M31=\"<LOD\",'PAH data'!M$38/1000, \"ERROR\")))","v":""},{"$f":"IF('PAH data'!N31=\"\",\"\",IF(ISNUMBER('PAH data'!N31)=TRUE, IF('PAH data'!N31<'PAH data'!N$38, \"ERROR\", 'PAH data'!N31/1000), IF('PAH data'!N31=\"<LOD\",'PAH data'!N$38/1000, \"ERROR\")))","v":""},{"$f":"IF('PAH data'!O31=\"\",\"\",IF(ISNUMBER('PAH data'!O31)=TRUE, IF('PAH data'!O31<'PAH data'!O$38, \"ERROR\", 'PAH data'!O31/1000), IF('PAH data'!O31=\"<LOD\",'PAH data'!O$38/1000, \"ERROR\")))","v":""},{"$f":"IF('PAH data'!P31=\"\",\"\",IF(ISNUMBER('PAH data'!P31)=TRUE, IF('PAH data'!P31<'PAH data'!P$38, \"ERROR\", 'PAH data'!P31/1000), IF('PAH data'!P31=\"<LOD\",'PAH data'!P$38/1000, \"ERROR\")))","v":""},{"$f":"IF('PAH data'!Q31=\"\",\"\",IF(ISNUMBER('PAH data'!Q31)=TRUE, IF('PAH data'!Q31<'PAH data'!Q$38, \"ERROR\", 'PAH data'!Q31/1000), IF('PAH data'!Q31=\"<LOD\",'PAH data'!Q$38/1000, \"ERROR\")))","v":""},{"$f":"IF('PAH data'!R31=\"\",\"\",IF(ISNUMBER('PAH data'!R31)=TRUE, IF('PAH data'!R31<'PAH data'!R$38, \"ERROR\", 'PAH data'!R31/1000), IF('PAH data'!R31=\"<LOD\",'PAH data'!R$38/1000, \"ERROR\")))","v":""},{"$f":"IF('PAH data'!S31=\"\",\"\",IF(ISNUMBER('PAH data'!S31)=TRUE, IF('PAH data'!S31<'PAH data'!S$38, \"ERROR\", 'PAH data'!S31/1000), IF('PAH data'!S31=\"<LOD\",'PAH data'!S$38/1000, \"ERROR\")))","v":""},{"$f":"IF('PAH data'!T31=\"\",\"\",IF(ISNUMBER('PAH data'!T31)=TRUE, IF('PAH data'!T31<'PAH data'!T$38, \"ERROR\", 'PAH data'!T31/1000), IF('PAH data'!T31=\"<LOD\",'PAH data'!T$38/1000, \"ERROR\")))","v":""},{"$f":"IF('PAH data'!U31=\"\",\"\",IF(ISNUMBER('PAH data'!U31)=TRUE, IF('PAH data'!U31<'PAH data'!U$38, \"ERROR\", 'PAH data'!U31/1000), IF('PAH data'!U31=\"<LOD\",'PAH data'!U$38/1000, \"ERROR\")))","v":""},{"$f":"IF('PAH data'!V31=\"\",\"\",IF(ISNUMBER('PAH data'!V31)=TRUE, IF('PAH data'!V31<'PAH data'!V$38, \"ERROR\", 'PAH data'!V31/1000), IF('PAH data'!V31=\"<LOD\",'PAH data'!V$38/1000, \"ERROR\")))","v":""},{"$f":"IF('PAH data'!W31=\"\",\"\",IF(ISNUMBER('PAH data'!W31)=TRUE, IF('PAH data'!W31<'PAH data'!W$38, \"ERROR\", 'PAH data'!W31/1000), IF('PAH data'!W31=\"<LOD\",'PAH data'!W$38/1000, \"ERROR\")))","v":""},{"$f":"IF('PAH data'!X31=\"\",\"\",IF(ISNUMBER('PAH data'!X31)=TRUE, IF('PAH data'!X31<'PAH data'!X$38, \"ERROR\", 'PAH data'!X31/1000), IF('PAH data'!X31=\"<LOD\",'PAH data'!X$38/1000, \"ERROR\")))","v":""},{"$f":"IF('PAH data'!Y31=\"\",\"\",IF(ISNUMBER('PAH data'!Y31)=TRUE, IF('PAH data'!Y31<'PAH data'!Y$38, \"ERROR\", 'PAH data'!Y31/1000), IF('PAH data'!Y31=\"<LOD\",'PAH data'!Y$38/1000, \"ERROR\")))","v":""},{"$f":"IF('PAH data'!Z31=\"\",\"\",IF(ISNUMBER('PAH data'!Z31)=TRUE, IF('PAH data'!Z31<'PAH data'!Z$38, \"ERROR\", 'PAH data'!Z31/1000), IF('PAH data'!Z31=\"<LOD\",'PAH data'!Z$38/1000, \"ERROR\")))","v":""},{"$f":"IF('PAH data'!AA31=\"\",\"\",IF(ISNUMBER('PAH data'!AA31)=TRUE, IF('PAH data'!AA31<'PAH data'!AA$38, \"ERROR\", 'PAH data'!AA31/1000), IF('PAH data'!AA31=\"<LOD\",'PAH data'!AA$38/1000, \"ERROR\")))","v":""},{"$f":"IF('PAH data'!AB31=\"\",\"\",IF(ISNUMBER('PAH data'!AB31)=TRUE, IF('PAH data'!AB31<'PAH data'!AB$38, \"ERROR\", 'PAH data'!AB31/1000), IF('PAH data'!AB31=\"<LOD\",'PAH data'!AB$38/1000, \"ERROR\")))","v":""},{"$f":"IF('PAH data'!AC31=\"\",\"\",IF(ISNUMBER('PAH data'!AC31)=TRUE, IF('PAH data'!AC31<'PAH data'!AC$38, \"ERROR\", 'PAH data'!AC31/1000), IF('PAH data'!AC31=\"<LOD\",'PAH data'!AC$38/1000, \"ERROR\")))","v":""},{"$f":"IF('PAH data'!AD31=\"\",\"\",IF(ISNUMBER('PAH data'!AD31)=TRUE, IF('PAH data'!AD31<'PAH data'!AD$38, \"ERROR\", 'PAH data'!AD31/1000), IF('PAH data'!AD31=\"<LOD\",'PAH data'!AD$38/1000, \"ERROR\")))","v":""},{"$f":"IF('PAH data'!AE31=\"\",\"\",IF(ISNUMBER('PAH data'!AE31)=TRUE, IF('PAH data'!AE31<'PAH data'!AE$38, \"ERROR\", 'PAH data'!AE31/1000), IF('PAH data'!AE31=\"<LOD\",'PAH data'!AE$38/1000, \"ERROR\")))","v":""},{"$f":"IF('PAH data'!AF31=\"\",\"\",IF(ISNUMBER('PAH data'!AF31)=TRUE, IF('PAH data'!AF31<'PAH data'!AF$38, \"ERROR\", 'PAH data'!AF31/1000), IF('PAH data'!AF31=\"<LOD\",'PAH data'!AF$38/1000, \"ERROR\")))","v":""},{"$f":"IF('PAH data'!AG31=\"\",\"\",IF(ISNUMBER('PAH data'!AG31)=TRUE, IF('PAH data'!AG31<'PAH data'!AG$38, \"ERROR\", 'PAH data'!AG31/1000), IF('PAH data'!AG31=\"<LOD\",'PAH data'!AG$38/1000, \"ERROR\")))","v":""},{"$f":"IF('PAH data'!AH31=\"\",\"\",IF(ISNUMBER('PAH data'!AH31)=TRUE, IF('PAH data'!AH31<'PAH data'!AH$38, \"ERROR\", 'PAH data'!AH31), IF('PAH data'!AH31=\"<LOD\",'PAH data'!AH$38, \"ERROR\")))","v":""}]
[null,null,null,null,null,null,null,{"$f":"IF('PAH data'!H32=\"\",\"\",'PAH data'!H32)","v":""},{"$f":"IF('PAH data'!I32=\"\",\"\",'PAH data'!I32)","v":""},{"$f":"IFERROR(IF(K32=\"\",\"\",(IF(VLOOKUP(K32,'Application info'!$K$8:$L$37,2,0)=\"y\",\"y\",\"\"))),\"Manual entry required\")","v":""},{"$f":"IF('PAH data'!J32=\"\",\"\",'PAH data'!J32)","v":""},{"$f":"IF('PAH data'!L32=\"\",\"\",IF(ISNUMBER('PAH data'!L32)=TRUE, IF('PAH data'!L32<'PAH data'!L$38, \"ERROR\", 'PAH data'!L32/1000), IF('PAH data'!L32=\"<LOD\",'PAH data'!L$38/1000, \"ERROR\")))","v":""},{"$f":"IF('PAH data'!M32=\"\",\"\",IF(ISNUMBER('PAH data'!M32)=TRUE, IF('PAH data'!M32<'PAH data'!M$38, \"ERROR\", 'PAH data'!M32/1000), IF('PAH data'!M32=\"<LOD\",'PAH data'!M$38/1000, \"ERROR\")))","v":""},{"$f":"IF('PAH data'!N32=\"\",\"\",IF(ISNUMBER('PAH data'!N32)=TRUE, IF('PAH data'!N32<'PAH data'!N$38, \"ERROR\", 'PAH data'!N32/1000), IF('PAH data'!N32=\"<LOD\",'PAH data'!N$38/1000, \"ERROR\")))","v":""},{"$f":"IF('PAH data'!O32=\"\",\"\",IF(ISNUMBER('PAH data'!O32)=TRUE, IF('PAH data'!O32<'PAH data'!O$38, \"ERROR\", 'PAH data'!O32/1000), IF('PAH data'!O32=\"<LOD\",'PAH data'!O$38/1000, \"ERROR\")))","v":""},{"$f":"IF('PAH data'!P32=\"\",\"\",IF(ISNUMBER('PAH data'!P32)=TRUE, IF('PAH data'!P32<'PAH data'!P$38, \"ERROR\", 'PAH data'!P32/1000), IF('PAH data'!P32=\"<LOD\",'PAH data'!P$38/1000, \"ERROR\")))","v":""},{"$f":"IF('PAH data'!Q32=\"\",\"\",IF(ISNUMBER('PAH data'!Q32)=TRUE, IF('PAH data'!Q32<'PAH data'!Q$38, \"ERROR\", 'PAH data'!Q32/1000), IF('PAH data'!Q32=\"<LOD\",'PAH data'!Q$38/1000, \"ERROR\")))","v":""},{"$f":"IF('PAH data'!R32=\"\",\"\",IF(ISNUMBER('PAH data'!R32)=TRUE, IF('PAH data'!R32<'PAH data'!R$38, \"ERROR\", 'PAH data'!R32/1000), IF('PAH data'!R32=\"<LOD\",'PAH data'!R$38/1000, \"ERROR\")))","v":""},{"$f":"IF('PAH data'!S32=\"\",\"\",IF(ISNUMBER('PAH data'!S32)=TRUE, IF('PAH data'!S32<'PAH data'!S$38, \"ERROR\", 'PAH data'!S32/1000), IF('PAH data'!S32=\"<LOD\",'PAH data'!S$38/1000, \"ERROR\")))","v":""},{"$f":"IF('PAH data'!T32=\"\",\"\",IF(ISNUMBER('PAH data'!T32)=TRUE, IF('PAH data'!T32<'PAH data'!T$38, \"ERROR\", 'PAH data'!T32/1000), IF('PAH data'!T32=\"<LOD\",'PAH data'!T$38/1000, \"ERROR\")))","v":""},{"$f":"IF('PAH data'!U32=\"\",\"\",IF(ISNUMBER('PAH data'!U32)=TRUE, IF('PAH data'!U32<'PAH data'!U$38, \"ERROR\", 'PAH data'!U32/1000), IF('PAH data'!U32=\"<LOD\",'PAH data'!U$38/1000, \"ERROR\")))","v":""},{"$f":"IF('PAH data'!V32=\"\",\"\",IF(ISNUMBER('PAH data'!V32)=TRUE, IF('PAH data'!V32<'PAH data'!V$38, \"ERROR\", 'PAH data'!V32/1000), IF('PAH data'!V32=\"<LOD\",'PAH data'!V$38/1000, \"ERROR\")))","v":""},{"$f":"IF('PAH data'!W32=\"\",\"\",IF(ISNUMBER('PAH data'!W32)=TRUE, IF('PAH data'!W32<'PAH data'!W$38, \"ERROR\", 'PAH data'!W32/1000), IF('PAH data'!W32=\"<LOD\",'PAH data'!W$38/1000, \"ERROR\")))","v":""},{"$f":"IF('PAH data'!X32=\"\",\"\",IF(ISNUMBER('PAH data'!X32)=TRUE, IF('PAH data'!X32<'PAH data'!X$38, \"ERROR\", 'PAH data'!X32/1000), IF('PAH data'!X32=\"<LOD\",'PAH data'!X$38/1000, \"ERROR\")))","v":""},{"$f":"IF('PAH data'!Y32=\"\",\"\",IF(ISNUMBER('PAH data'!Y32)=TRUE, IF('PAH data'!Y32<'PAH data'!Y$38, \"ERROR\", 'PAH data'!Y32/1000), IF('PAH data'!Y32=\"<LOD\",'PAH data'!Y$38/1000, \"ERROR\")))","v":""},{"$f":"IF('PAH data'!Z32=\"\",\"\",IF(ISNUMBER('PAH data'!Z32)=TRUE, IF('PAH data'!Z32<'PAH data'!Z$38, \"ERROR\", 'PAH data'!Z32/1000), IF('PAH data'!Z32=\"<LOD\",'PAH data'!Z$38/1000, \"ERROR\")))","v":""},{"$f":"IF('PAH data'!AA32=\"\",\"\",IF(ISNUMBER('PAH data'!AA32)=TRUE, IF('PAH data'!AA32<'PAH data'!AA$38, \"ERROR\", 'PAH data'!AA32/1000), IF('PAH data'!AA32=\"<LOD\",'PAH data'!AA$38/1000, \"ERROR\")))","v":""},{"$f":"IF('PAH data'!AB32=\"\",\"\",IF(ISNUMBER('PAH data'!AB32)=TRUE, IF('PAH data'!AB32<'PAH data'!AB$38, \"ERROR\", 'PAH data'!AB32/1000), IF('PAH data'!AB32=\"<LOD\",'PAH data'!AB$38/1000, \"ERROR\")))","v":""},{"$f":"IF('PAH data'!AC32=\"\",\"\",IF(ISNUMBER('PAH data'!AC32)=TRUE, IF('PAH data'!AC32<'PAH data'!AC$38, \"ERROR\", 'PAH data'!AC32/1000), IF('PAH data'!AC32=\"<LOD\",'PAH data'!AC$38/1000, \"ERROR\")))","v":""},{"$f":"IF('PAH data'!AD32=\"\",\"\",IF(ISNUMBER('PAH data'!AD32)=TRUE, IF('PAH data'!AD32<'PAH data'!AD$38, \"ERROR\", 'PAH data'!AD32/1000), IF('PAH data'!AD32=\"<LOD\",'PAH data'!AD$38/1000, \"ERROR\")))","v":""},{"$f":"IF('PAH data'!AE32=\"\",\"\",IF(ISNUMBER('PAH data'!AE32)=TRUE, IF('PAH data'!AE32<'PAH data'!AE$38, \"ERROR\", 'PAH data'!AE32/1000), IF('PAH data'!AE32=\"<LOD\",'PAH data'!AE$38/1000, \"ERROR\")))","v":""},{"$f":"IF('PAH data'!AF32=\"\",\"\",IF(ISNUMBER('PAH data'!AF32)=TRUE, IF('PAH data'!AF32<'PAH data'!AF$38, \"ERROR\", 'PAH data'!AF32/1000), IF('PAH data'!AF32=\"<LOD\",'PAH data'!AF$38/1000, \"ERROR\")))","v":""},{"$f":"IF('PAH data'!AG32=\"\",\"\",IF(ISNUMBER('PAH data'!AG32)=TRUE, IF('PAH data'!AG32<'PAH data'!AG$38, \"ERROR\", 'PAH data'!AG32/1000), IF('PAH data'!AG32=\"<LOD\",'PAH data'!AG$38/1000, \"ERROR\")))","v":""},{"$f":"IF('PAH data'!AH32=\"\",\"\",IF(ISNUMBER('PAH data'!AH32)=TRUE, IF('PAH data'!AH32<'PAH data'!AH$38, \"ERROR\", 'PAH data'!AH32), IF('PAH data'!AH32=\"<LOD\",'PAH data'!AH$38, \"ERROR\")))","v":""}]
[null,null,null,null,null,null,null,{"$f":"IF('PAH data'!H33=\"\",\"\",'PAH data'!H33)","v":""},{"$f":"IF('PAH data'!I33=\"\",\"\",'PAH data'!I33)","v":""},{"$f":"IFERROR(IF(K33=\"\",\"\",(IF(VLOOKUP(K33,'Application info'!$K$8:$L$37,2,0)=\"y\",\"y\",\"\"))),\"Manual entry required\")","v":""},{"$f":"IF('PAH data'!J33=\"\",\"\",'PAH data'!J33)","v":""},{"$f":"IF('PAH data'!L33=\"\",\"\",IF(ISNUMBER('PAH data'!L33)=TRUE, IF('PAH data'!L33<'PAH data'!L$38, \"ERROR\", 'PAH data'!L33/1000), IF('PAH data'!L33=\"<LOD\",'PAH data'!L$38/1000, \"ERROR\")))","v":""},{"$f":"IF('PAH data'!M33=\"\",\"\",IF(ISNUMBER('PAH data'!M33)=TRUE, IF('PAH data'!M33<'PAH data'!M$38, \"ERROR\", 'PAH data'!M33/1000), IF('PAH data'!M33=\"<LOD\",'PAH data'!M$38/1000, \"ERROR\")))","v":""},{"$f":"IF('PAH data'!N33=\"\",\"\",IF(ISNUMBER('PAH data'!N33)=TRUE, IF('PAH data'!N33<'PAH data'!N$38, \"ERROR\", 'PAH data'!N33/1000), IF('PAH data'!N33=\"<LOD\",'PAH data'!N$38/1000, \"ERROR\")))","v":""},{"$f":"IF('PAH data'!O33=\"\",\"\",IF(ISNUMBER('PAH data'!O33)=TRUE, IF('PAH data'!O33<'PAH data'!O$38, \"ERROR\", 'PAH data'!O33/1000), IF('PAH data'!O33=\"<LOD\",'PAH data'!O$38/1000, \"ERROR\")))","v":""},{"$f":"IF('PAH data'!P33=\"\",\"\",IF(ISNUMBER('PAH data'!P33)=TRUE, IF('PAH data'!P33<'PAH data'!P$38, \"ERROR\", 'PAH data'!P33/1000), IF('PAH data'!P33=\"<LOD\",'PAH data'!P$38/1000, \"ERROR\")))","v":""},{"$f":"IF('PAH data'!Q33=\"\",\"\",IF(ISNUMBER('PAH data'!Q33)=TRUE, IF('PAH data'!Q33<'PAH data'!Q$38, \"ERROR\", 'PAH data'!Q33/1000), IF('PAH data'!Q33=\"<LOD\",'PAH data'!Q$38/1000, \"ERROR\")))","v":""},{"$f":"IF('PAH data'!R33=\"\",\"\",IF(ISNUMBER('PAH data'!R33)=TRUE, IF('PAH data'!R33<'PAH data'!R$38, \"ERROR\", 'PAH data'!R33/1000), IF('PAH data'!R33=\"<LOD\",'PAH data'!R$38/1000, \"ERROR\")))","v":""},{"$f":"IF('PAH data'!S33=\"\",\"\",IF(ISNUMBER('PAH data'!S33)=TRUE, IF('PAH data'!S33<'PAH data'!S$38, \"ERROR\", 'PAH data'!S33/1000), IF('PAH data'!S33=\"<LOD\",'PAH data'!S$38/1000, \"ERROR\")))","v":""},{"$f":"IF('PAH data'!T33=\"\",\"\",IF(ISNUMBER('PAH data'!T33)=TRUE, IF('PAH data'!T33<'PAH data'!T$38, \"ERROR\", 'PAH data'!T33/1000), IF('PAH data'!T33=\"<LOD\",'PAH data'!T$38/1000, \"ERROR\")))","v":""},{"$f":"IF('PAH data'!U33=\"\",\"\",IF(ISNUMBER('PAH data'!U33)=TRUE, IF('PAH data'!U33<'PAH data'!U$38, \"ERROR\", 'PAH data'!U33/1000), IF('PAH data'!U33=\"<LOD\",'PAH data'!U$38/1000, \"ERROR\")))","v":""},{"$f":"IF('PAH data'!V33=\"\",\"\",IF(ISNUMBER('PAH data'!V33)=TRUE, IF('PAH data'!V33<'PAH data'!V$38, \"ERROR\", 'PAH data'!V33/1000), IF('PAH data'!V33=\"<LOD\",'PAH data'!V$38/1000, \"ERROR\")))","v":""},{"$f":"IF('PAH data'!W33=\"\",\"\",IF(ISNUMBER('PAH data'!W33)=TRUE, IF('PAH data'!W33<'PAH data'!W$38, \"ERROR\", 'PAH data'!W33/1000), IF('PAH data'!W33=\"<LOD\",'PAH data'!W$38/1000, \"ERROR\")))","v":""},{"$f":"IF('PAH data'!X33=\"\",\"\",IF(ISNUMBER('PAH data'!X33)=TRUE, IF('PAH data'!X33<'PAH data'!X$38, \"ERROR\", 'PAH data'!X33/1000), IF('PAH data'!X33=\"<LOD\",'PAH data'!X$38/1000, \"ERROR\")))","v":""},{"$f":"IF('PAH data'!Y33=\"\",\"\",IF(ISNUMBER('PAH data'!Y33)=TRUE, IF('PAH data'!Y33<'PAH data'!Y$38, \"ERROR\", 'PAH data'!Y33/1000), IF('PAH data'!Y33=\"<LOD\",'PAH data'!Y$38/1000, \"ERROR\")))","v":""},{"$f":"IF('PAH data'!Z33=\"\",\"\",IF(ISNUMBER('PAH data'!Z33)=TRUE, IF('PAH data'!Z33<'PAH data'!Z$38, \"ERROR\", 'PAH data'!Z33/1000), IF('PAH data'!Z33=\"<LOD\",'PAH data'!Z$38/1000, \"ERROR\")))","v":""},{"$f":"IF('PAH data'!AA33=\"\",\"\",IF(ISNUMBER('PAH data'!AA33)=TRUE, IF('PAH data'!AA33<'PAH data'!AA$38, \"ERROR\", 'PAH data'!AA33/1000), IF('PAH data'!AA33=\"<LOD\",'PAH data'!AA$38/1000, \"ERROR\")))","v":""},{"$f":"IF('PAH data'!AB33=\"\",\"\",IF(ISNUMBER('PAH data'!AB33)=TRUE, IF('PAH data'!AB33<'PAH data'!AB$38, \"ERROR\", 'PAH data'!AB33/1000), IF('PAH data'!AB33=\"<LOD\",'PAH data'!AB$38/1000, \"ERROR\")))","v":""},{"$f":"IF('PAH data'!AC33=\"\",\"\",IF(ISNUMBER('PAH data'!AC33)=TRUE, IF('PAH data'!AC33<'PAH data'!AC$38, \"ERROR\", 'PAH data'!AC33/1000), IF('PAH data'!AC33=\"<LOD\",'PAH data'!AC$38/1000, \"ERROR\")))","v":""},{"$f":"IF('PAH data'!AD33=\"\",\"\",IF(ISNUMBER('PAH data'!AD33)=TRUE, IF('PAH data'!AD33<'PAH data'!AD$38, \"ERROR\", 'PAH data'!AD33/1000), IF('PAH data'!AD33=\"<LOD\",'PAH data'!AD$38/1000, \"ERROR\")))","v":""},{"$f":"IF('PAH data'!AE33=\"\",\"\",IF(ISNUMBER('PAH data'!AE33)=TRUE, IF('PAH data'!AE33<'PAH data'!AE$38, \"ERROR\", 'PAH data'!AE33/1000), IF('PAH data'!AE33=\"<LOD\",'PAH data'!AE$38/1000, \"ERROR\")))","v":""},{"$f":"IF('PAH data'!AF33=\"\",\"\",IF(ISNUMBER('PAH data'!AF33)=TRUE, IF('PAH data'!AF33<'PAH data'!AF$38, \"ERROR\", 'PAH data'!AF33/1000), IF('PAH data'!AF33=\"<LOD\",'PAH data'!AF$38/1000, \"ERROR\")))","v":""},{"$f":"IF('PAH data'!AG33=\"\",\"\",IF(ISNUMBER('PAH data'!AG33)=TRUE, IF('PAH data'!AG33<'PAH data'!AG$38, \"ERROR\", 'PAH data'!AG33/1000), IF('PAH data'!AG33=\"<LOD\",'PAH data'!AG$38/1000, \"ERROR\")))","v":""},{"$f":"IF('PAH data'!AH33=\"\",\"\",IF(ISNUMBER('PAH data'!AH33)=TRUE, IF('PAH data'!AH33<'PAH data'!AH$38, \"ERROR\", 'PAH data'!AH33), IF('PAH data'!AH33=\"<LOD\",'PAH data'!AH$38, \"ERROR\")))","v":""}]
[null,null,null,null,null,null,null,{"$f":"IF('PAH data'!H34=\"\",\"\",'PAH data'!H34)","v":""},{"$f":"IF('PAH data'!I34=\"\",\"\",'PAH data'!I34)","v":""},{"$f":"IFERROR(IF(K34=\"\",\"\",(IF(VLOOKUP(K34,'Application info'!$K$8:$L$37,2,0)=\"y\",\"y\",\"\"))),\"Manual entry required\")","v":""},{"$f":"IF('PAH data'!J34=\"\",\"\",'PAH data'!J34)","v":""},{"$f":"IF('PAH data'!L34=\"\",\"\",IF(ISNUMBER('PAH data'!L34)=TRUE, IF('PAH data'!L34<'PAH data'!L$38, \"ERROR\", 'PAH data'!L34/1000), IF('PAH data'!L34=\"<LOD\",'PAH data'!L$38/1000, \"ERROR\")))","v":""},{"$f":"IF('PAH data'!M34=\"\",\"\",IF(ISNUMBER('PAH data'!M34)=TRUE, IF('PAH data'!M34<'PAH data'!M$38, \"ERROR\", 'PAH data'!M34/1000), IF('PAH data'!M34=\"<LOD\",'PAH data'!M$38/1000, \"ERROR\")))","v":""},{"$f":"IF('PAH data'!N34=\"\",\"\",IF(ISNUMBER('PAH data'!N34)=TRUE, IF('PAH data'!N34<'PAH data'!N$38, \"ERROR\", 'PAH data'!N34/1000), IF('PAH data'!N34=\"<LOD\",'PAH data'!N$38/1000, \"ERROR\")))","v":""},{"$f":"IF('PAH data'!O34=\"\",\"\",IF(ISNUMBER('PAH data'!O34)=TRUE, IF('PAH data'!O34<'PAH data'!O$38, \"ERROR\", 'PAH data'!O34/1000), IF('PAH data'!O34=\"<LOD\",'PAH data'!O$38/1000, \"ERROR\")))","v":""},{"$f":"IF('PAH data'!P34=\"\",\"\",IF(ISNUMBER('PAH data'!P34)=TRUE, IF('PAH data'!P34<'PAH data'!P$38, \"ERROR\", 'PAH data'!P34/1000), IF('PAH data'!P34=\"<LOD\",'PAH data'!P$38/1000, \"ERROR\")))","v":""},{"$f":"IF('PAH data'!Q34=\"\",\"\",IF(ISNUMBER('PAH data'!Q34)=TRUE, IF('PAH data'!Q34<'PAH data'!Q$38, \"ERROR\", 'PAH data'!Q34/1000), IF('PAH data'!Q34=\"<LOD\",'PAH data'!Q$38/1000, \"ERROR\")))","v":""},{"$f":"IF('PAH data'!R34=\"\",\"\",IF(ISNUMBER('PAH data'!R34)=TRUE, IF('PAH data'!R34<'PAH data'!R$38, \"ERROR\", 'PAH data'!R34/1000), IF('PAH data'!R34=\"<LOD\",'PAH data'!R$38/1000, \"ERROR\")))","v":""},{"$f":"IF('PAH data'!S34=\"\",\"\",IF(ISNUMBER('PAH data'!S34)=TRUE, IF('PAH data'!S34<'PAH data'!S$38, \"ERROR\", 'PAH data'!S34/1000), IF('PAH data'!S34=\"<LOD\",'PAH data'!S$38/1000, \"ERROR\")))","v":""},{"$f":"IF('PAH data'!T34=\"\",\"\",IF(ISNUMBER('PAH data'!T34)=TRUE, IF('PAH data'!T34<'PAH data'!T$38, \"ERROR\", 'PAH data'!T34/1000), IF('PAH data'!T34=\"<LOD\",'PAH data'!T$38/1000, \"ERROR\")))","v":""},{"$f":"IF('PAH data'!U34=\"\",\"\",IF(ISNUMBER('PAH data'!U34)=TRUE, IF('PAH data'!U34<'PAH data'!U$38, \"ERROR\", 'PAH data'!U34/1000), IF('PAH data'!U34=\"<LOD\",'PAH data'!U$38/1000, \"ERROR\")))","v":""},{"$f":"IF('PAH data'!V34=\"\",\"\",IF(ISNUMBER('PAH data'!V34)=TRUE, IF('PAH data'!V34<'PAH data'!V$38, \"ERROR\", 'PAH data'!V34/1000), IF('PAH data'!V34=\"<LOD\",'PAH data'!V$38/1000, \"ERROR\")))","v":""},{"$f":"IF('PAH data'!W34=\"\",\"\",IF(ISNUMBER('PAH data'!W34)=TRUE, IF('PAH data'!W34<'PAH data'!W$38, \"ERROR\", 'PAH data'!W34/1000), IF('PAH data'!W34=\"<LOD\",'PAH data'!W$38/1000, \"ERROR\")))","v":""},{"$f":"IF('PAH data'!X34=\"\",\"\",IF(ISNUMBER('PAH data'!X34)=TRUE, IF('PAH data'!X34<'PAH data'!X$38, \"ERROR\", 'PAH data'!X34/1000), IF('PAH data'!X34=\"<LOD\",'PAH data'!X$38/1000, \"ERROR\")))","v":""},{"$f":"IF('PAH data'!Y34=\"\",\"\",IF(ISNUMBER('PAH data'!Y34)=TRUE, IF('PAH data'!Y34<'PAH data'!Y$38, \"ERROR\", 'PAH data'!Y34/1000), IF('PAH data'!Y34=\"<LOD\",'PAH data'!Y$38/1000, \"ERROR\")))","v":""},{"$f":"IF('PAH data'!Z34=\"\",\"\",IF(ISNUMBER('PAH data'!Z34)=TRUE, IF('PAH data'!Z34<'PAH data'!Z$38, \"ERROR\", 'PAH data'!Z34/1000), IF('PAH data'!Z34=\"<LOD\",'PAH data'!Z$38/1000, \"ERROR\")))","v":""},{"$f":"IF('PAH data'!AA34=\"\",\"\",IF(ISNUMBER('PAH data'!AA34)=TRUE, IF('PAH data'!AA34<'PAH data'!AA$38, \"ERROR\", 'PAH data'!AA34/1000), IF('PAH data'!AA34=\"<LOD\",'PAH data'!AA$38/1000, \"ERROR\")))","v":""},{"$f":"IF('PAH data'!AB34=\"\",\"\",IF(ISNUMBER('PAH data'!AB34)=TRUE, IF('PAH data'!AB34<'PAH data'!AB$38, \"ERROR\", 'PAH data'!AB34/1000), IF('PAH data'!AB34=\"<LOD\",'PAH data'!AB$38/1000, \"ERROR\")))","v":""},{"$f":"IF('PAH data'!AC34=\"\",\"\",IF(ISNUMBER('PAH data'!AC34)=TRUE, IF('PAH data'!AC34<'PAH data'!AC$38, \"ERROR\", 'PAH data'!AC34/1000), IF('PAH data'!AC34=\"<LOD\",'PAH data'!AC$38/1000, \"ERROR\")))","v":""},{"$f":"IF('PAH data'!AD34=\"\",\"\",IF(ISNUMBER('PAH data'!AD34)=TRUE, IF('PAH data'!AD34<'PAH data'!AD$38, \"ERROR\", 'PAH data'!AD34/1000), IF('PAH data'!AD34=\"<LOD\",'PAH data'!AD$38/1000, \"ERROR\")))","v":""},{"$f":"IF('PAH data'!AE34=\"\",\"\",IF(ISNUMBER('PAH data'!AE34)=TRUE, IF('PAH data'!AE34<'PAH data'!AE$38, \"ERROR\", 'PAH data'!AE34/1000), IF('PAH data'!AE34=\"<LOD\",'PAH data'!AE$38/1000, \"ERROR\")))","v":""},{"$f":"IF('PAH data'!AF34=\"\",\"\",IF(ISNUMBER('PAH data'!AF34)=TRUE, IF('PAH data'!AF34<'PAH data'!AF$38, \"ERROR\", 'PAH data'!AF34/1000), IF('PAH data'!AF34=\"<LOD\",'PAH data'!AF$38/1000, \"ERROR\")))","v":""},{"$f":"IF('PAH data'!AG34=\"\",\"\",IF(ISNUMBER('PAH data'!AG34)=TRUE, IF('PAH data'!AG34<'PAH data'!AG$38, \"ERROR\", 'PAH data'!AG34/1000), IF('PAH data'!AG34=\"<LOD\",'PAH data'!AG$38/1000, \"ERROR\")))","v":""},{"$f":"IF('PAH data'!AH34=\"\",\"\",IF(ISNUMBER('PAH data'!AH34)=TRUE, IF('PAH data'!AH34<'PAH data'!AH$38, \"ERROR\", 'PAH data'!AH34), IF('PAH data'!AH34=\"<LOD\",'PAH data'!AH$38, \"ERROR\")))","v":""}]
[null,null,null,null,null,null,null,{"$f":"IF('PAH data'!H35=\"\",\"\",'PAH data'!H35)","v":""},{"$f":"IF('PAH data'!I35=\"\",\"\",'PAH data'!I35)","v":""},{"$f":"IFERROR(IF(K35=\"\",\"\",(IF(VLOOKUP(K35,'Application info'!$K$8:$L$37,2,0)=\"y\",\"y\",\"\"))),\"Manual entry required\")","v":""},{"$f":"IF('PAH data'!J35=\"\",\"\",'PAH data'!J35)","v":""},{"$f":"IF('PAH data'!L35=\"\",\"\",IF(ISNUMBER('PAH data'!L35)=TRUE, IF('PAH data'!L35<'PAH data'!L$38, \"ERROR\", 'PAH data'!L35/1000), IF('PAH data'!L35=\"<LOD\",'PAH data'!L$38/1000, \"ERROR\")))","v":""},{"$f":"IF('PAH data'!M35=\"\",\"\",IF(ISNUMBER('PAH data'!M35)=TRUE, IF('PAH data'!M35<'PAH data'!M$38, \"ERROR\", 'PAH data'!M35/1000), IF('PAH data'!M35=\"<LOD\",'PAH data'!M$38/1000, \"ERROR\")))","v":""},{"$f":"IF('PAH data'!N35=\"\",\"\",IF(ISNUMBER('PAH data'!N35)=TRUE, IF('PAH data'!N35<'PAH data'!N$38, \"ERROR\", 'PAH data'!N35/1000), IF('PAH data'!N35=\"<LOD\",'PAH data'!N$38/1000, \"ERROR\")))","v":""},{"$f":"IF('PAH data'!O35=\"\",\"\",IF(ISNUMBER('PAH data'!O35)=TRUE, IF('PAH data'!O35<'PAH data'!O$38, \"ERROR\", 'PAH data'!O35/1000), IF('PAH data'!O35=\"<LOD\",'PAH data'!O$38/1000, \"ERROR\")))","v":""},{"$f":"IF('PAH data'!P35=\"\",\"\",IF(ISNUMBER('PAH data'!P35)=TRUE, IF('PAH data'!P35<'PAH data'!P$38, \"ERROR\", 'PAH data'!P35/1000), IF('PAH data'!P35=\"<LOD\",'PAH data'!P$38/1000, \"ERROR\")))","v":""},{"$f":"IF('PAH data'!Q35=\"\",\"\",IF(ISNUMBER('PAH data'!Q35)=TRUE, IF('PAH data'!Q35<'PAH data'!Q$38, \"ERROR\", 'PAH data'!Q35/1000), IF('PAH data'!Q35=\"<LOD\",'PAH data'!Q$38/1000, \"ERROR\")))","v":""},{"$f":"IF('PAH data'!R35=\"\",\"\",IF(ISNUMBER('PAH data'!R35)=TRUE, IF('PAH data'!R35<'PAH data'!R$38, \"ERROR\", 'PAH data'!R35/1000), IF('PAH data'!R35=\"<LOD\",'PAH data'!R$38/1000, \"ERROR\")))","v":""},{"$f":"IF('PAH data'!S35=\"\",\"\",IF(ISNUMBER('PAH data'!S35)=TRUE, IF('PAH data'!S35<'PAH data'!S$38, \"ERROR\", 'PAH data'!S35/1000), IF('PAH data'!S35=\"<LOD\",'PAH data'!S$38/1000, \"ERROR\")))","v":""},{"$f":"IF('PAH data'!T35=\"\",\"\",IF(ISNUMBER('PAH data'!T35)=TRUE, IF('PAH data'!T35<'PAH data'!T$38, \"ERROR\", 'PAH data'!T35/1000), IF('PAH data'!T35=\"<LOD\",'PAH data'!T$38/1000, \"ERROR\")))","v":""},{"$f":"IF('PAH data'!U35=\"\",\"\",IF(ISNUMBER('PAH data'!U35)=TRUE, IF('PAH data'!U35<'PAH data'!U$38, \"ERROR\", 'PAH data'!U35/1000), IF('PAH data'!U35=\"<LOD\",'PAH data'!U$38/1000, \"ERROR\")))","v":""},{"$f":"IF('PAH data'!V35=\"\",\"\",IF(ISNUMBER('PAH data'!V35)=TRUE, IF('PAH data'!V35<'PAH data'!V$38, \"ERROR\", 'PAH data'!V35/1000), IF('PAH data'!V35=\"<LOD\",'PAH data'!V$38/1000, \"ERROR\")))","v":""},{"$f":"IF('PAH data'!W35=\"\",\"\",IF(ISNUMBER('PAH data'!W35)=TRUE, IF('PAH data'!W35<'PAH data'!W$38, \"ERROR\", 'PAH data'!W35/1000), IF('PAH data'!W35=\"<LOD\",'PAH data'!W$38/1000, \"ERROR\")))","v":""},{"$f":"IF('PAH data'!X35=\"\",\"\",IF(ISNUMBER('PAH data'!X35)=TRUE, IF('PAH data'!X35<'PAH data'!X$38, \"ERROR\", 'PAH data'!X35/1000), IF('PAH data'!X35=\"<LOD\",'PAH data'!X$38/1000, \"ERROR\")))","v":""},{"$f":"IF('PAH data'!Y35=\"\",\"\",IF(ISNUMBER('PAH data'!Y35)=TRUE, IF('PAH data'!Y35<'PAH data'!Y$38, \"ERROR\", 'PAH data'!Y35/1000), IF('PAH data'!Y35=\"<LOD\",'PAH data'!Y$38/1000, \"ERROR\")))","v":""},{"$f":"IF('PAH data'!Z35=\"\",\"\",IF(ISNUMBER('PAH data'!Z35)=TRUE, IF('PAH data'!Z35<'PAH data'!Z$38, \"ERROR\", 'PAH data'!Z35/1000), IF('PAH data'!Z35=\"<LOD\",'PAH data'!Z$38/1000, \"ERROR\")))","v":""},{"$f":"IF('PAH data'!AA35=\"\",\"\",IF(ISNUMBER('PAH data'!AA35)=TRUE, IF('PAH data'!AA35<'PAH data'!AA$38, \"ERROR\", 'PAH data'!AA35/1000), IF('PAH data'!AA35=\"<LOD\",'PAH data'!AA$38/1000, \"ERROR\")))","v":""},{"$f":"IF('PAH data'!AB35=\"\",\"\",IF(ISNUMBER('PAH data'!AB35)=TRUE, IF('PAH data'!AB35<'PAH data'!AB$38, \"ERROR\", 'PAH data'!AB35/1000), IF('PAH data'!AB35=\"<LOD\",'PAH data'!AB$38/1000, \"ERROR\")))","v":""},{"$f":"IF('PAH data'!AC35=\"\",\"\",IF(ISNUMBER('PAH data'!AC35)=TRUE, IF('PAH data'!AC35<'PAH data'!AC$38, \"ERROR\", 'PAH data'!AC35/1000), IF('PAH data'!AC35=\"<LOD\",'PAH data'!AC$38/1000, \"ERROR\")))","v":""},{"$f":"IF('PAH data'!AD35=\"\",\"\",IF(ISNUMBER('PAH data'!AD35)=TRUE, IF('PAH data'!AD35<'PAH data'!AD$38, \"ERROR\", 'PAH data'!AD35/1000), IF('PAH data'!AD35=\"<LOD\",'PAH data'!AD$38/1000, \"ERROR\")))","v":""},{"$f":"IF('PAH data'!AE35=\"\",\"\",IF(ISNUMBER('PAH data'!AE35)=TRUE, IF('PAH data'!AE35<'PAH data'!AE$38, \"ERROR\", 'PAH data'!AE35/1000), IF('PAH data'!AE35=\"<LOD\",'PAH data'!AE$38/1000, \"ERROR\")))","v":""},{"$f":"IF('PAH data'!AF35=\"\",\"\",IF(ISNUMBER('PAH data'!AF35)=TRUE, IF('PAH data'!AF35<'PAH data'!AF$38, \"ERROR\", 'PAH data'!AF35/1000), IF('PAH data'!AF35=\"<LOD\",'PAH data'!AF$38/1000, \"ERROR\")))","v":""},{"$f":"IF('PAH data'!AG35=\"\",\"\",IF(ISNUMBER('PAH data'!AG35)=TRUE, IF('PAH data'!AG35<'PAH data'!AG$38, \"ERROR\", 'PAH data'!AG35/1000), IF('PAH data'!AG35=\"<LOD\",'PAH data'!AG$38/1000, \"ERROR\")))","v":""},{"$f":"IF('PAH data'!AH35=\"\",\"\",IF(ISNUMBER('PAH data'!AH35)=TRUE, IF('PAH data'!AH35<'PAH data'!AH$38, \"ERROR\", 'PAH data'!AH35), IF('PAH data'!AH35=\"<LOD\",'PAH data'!AH$38, \"ERROR\")))","v":""}]
[null,null,null,null,null,null,null,{"$f":"IF('PAH data'!H36=\"\",\"\",'PAH data'!H36)","v":""},{"$f":"IF('PAH data'!I36=\"\",\"\",'PAH data'!I36)","v":""},{"$f":"IFERROR(IF(K36=\"\",\"\",(IF(VLOOKUP(K36,'Application info'!$K$8:$L$37,2,0)=\"y\",\"y\",\"\"))),\"Manual entry required\")","v":""},{"$f":"IF('PAH data'!J36=\"\",\"\",'PAH data'!J36)","v":""},{"$f":"IF('PAH data'!L36=\"\",\"\",IF(ISNUMBER('PAH data'!L36)=TRUE, IF('PAH data'!L36<'PAH data'!L$38, \"ERROR\", 'PAH data'!L36/1000), IF('PAH data'!L36=\"<LOD\",'PAH data'!L$38/1000, \"ERROR\")))","v":""},{"$f":"IF('PAH data'!M36=\"\",\"\",IF(ISNUMBER('PAH data'!M36)=TRUE, IF('PAH data'!M36<'PAH data'!M$38, \"ERROR\", 'PAH data'!M36/1000), IF('PAH data'!M36=\"<LOD\",'PAH data'!M$38/1000, \"ERROR\")))","v":""},{"$f":"IF('PAH data'!N36=\"\",\"\",IF(ISNUMBER('PAH data'!N36)=TRUE, IF('PAH data'!N36<'PAH data'!N$38, \"ERROR\", 'PAH data'!N36/1000), IF('PAH data'!N36=\"<LOD\",'PAH data'!N$38/1000, \"ERROR\")))","v":""},{"$f":"IF('PAH data'!O36=\"\",\"\",IF(ISNUMBER('PAH data'!O36)=TRUE, IF('PAH data'!O36<'PAH data'!O$38, \"ERROR\", 'PAH data'!O36/1000), IF('PAH data'!O36=\"<LOD\",'PAH data'!O$38/1000, \"ERROR\")))","v":""},{"$f":"IF('PAH data'!P36=\"\",\"\",IF(ISNUMBER('PAH data'!P36)=TRUE, IF('PAH data'!P36<'PAH data'!P$38, \"ERROR\", 'PAH data'!P36/1000), IF('PAH data'!P36=\"<LOD\",'PAH data'!P$38/1000, \"ERROR\")))","v":""},{"$f":"IF('PAH data'!Q36=\"\",\"\",IF(ISNUMBER('PAH data'!Q36)=TRUE, IF('PAH data'!Q36<'PAH data'!Q$38, \"ERROR\", 'PAH data'!Q36/1000), IF('PAH data'!Q36=\"<LOD\",'PAH data'!Q$38/1000, \"ERROR\")))","v":""},{"$f":"IF('PAH data'!R36=\"\",\"\",IF(ISNUMBER('PAH data'!R36)=TRUE, IF('PAH data'!R36<'PAH data'!R$38, \"ERROR\", 'PAH data'!R36/1000), IF('PAH data'!R36=\"<LOD\",'PAH data'!R$38/1000, \"ERROR\")))","v":""},{"$f":"IF('PAH data'!S36=\"\",\"\",IF(ISNUMBER('PAH data'!S36)=TRUE, IF('PAH data'!S36<'PAH data'!S$38, \"ERROR\", 'PAH data'!S36/1000), IF('PAH data'!S36=\"<LOD\",'PAH data'!S$38/1000, \"ERROR\")))","v":""},{"$f":"IF('PAH data'!T36=\"\",\"\",IF(ISNUMBER('PAH data'!T36)=TRUE, IF('PAH data'!T36<'PAH data'!T$38, \"ERROR\", 'PAH data'!T36/1000), IF('PAH data'!T36=\"<LOD\",'PAH data'!T$38/1000, \"ERROR\")))","v":""},{"$f":"IF('PAH data'!U36=\"\",\"\",IF(ISNUMBER('PAH data'!U36)=TRUE, IF('PAH data'!U36<'PAH data'!U$38, \"ERROR\", 'PAH data'!U36/1000), IF('PAH data'!U36=\"<LOD\",'PAH data'!U$38/1000, \"ERROR\")))","v":""},{"$f":"IF('PAH data'!V36=\"\",\"\",IF(ISNUMBER('PAH data'!V36)=TRUE, IF('PAH data'!V36<'PAH data'!V$38, \"ERROR\", 'PAH data'!V36/1000), IF('PAH data'!V36=\"<LOD\",'PAH data'!V$38/1000, \"ERROR\")))","v":""},{"$f":"IF('PAH data'!W36=\"\",\"\",IF(ISNUMBER('PAH data'!W36)=TRUE, IF('PAH data'!W36<'PAH data'!W$38, \"ERROR\", 'PAH data'!W36/1000), IF('PAH data'!W36=\"<LOD\",'PAH data'!W$38/1000, \"ERROR\")))","v":""},{"$f":"IF('PAH data'!X36=\"\",\"\",IF(ISNUMBER('PAH data'!X36)=TRUE, IF('PAH data'!X36<'PAH data'!X$38, \"ERROR\", 'PAH data'!X36/1000), IF('PAH data'!X36=\"<LOD\",'PAH data'!X$38/1000, \"ERROR\")))","v":""},{"$f":"IF('PAH data'!Y36=\"\",\"\",IF(ISNUMBER('PAH data'!Y36)=TRUE, IF('PAH data'!Y36<'PAH data'!Y$38, \"ERROR\", 'PAH data'!Y36/1000), IF('PAH data'!Y36=\"<LOD\",'PAH data'!Y$38/1000, \"ERROR\")))","v":""},{"$f":"IF('PAH data'!Z36=\"\",\"\",IF(ISNUMBER('PAH data'!Z36)=TRUE, IF('PAH data'!Z36<'PAH data'!Z$38, \"ERROR\", 'PAH data'!Z36/1000), IF('PAH data'!Z36=\"<LOD\",'PAH data'!Z$38/1000, \"ERROR\")))","v":""},{"$f":"IF('PAH data'!AA36=\"\",\"\",IF(ISNUMBER('PAH data'!AA36)=TRUE, IF('PAH data'!AA36<'PAH data'!AA$38, \"ERROR\", 'PAH data'!AA36/1000), IF('PAH data'!AA36=\"<LOD\",'PAH data'!AA$38/1000, \"ERROR\")))","v":""},{"$f":"IF('PAH data'!AB36=\"\",\"\",IF(ISNUMBER('PAH data'!AB36)=TRUE, IF('PAH data'!AB36<'PAH data'!AB$38, \"ERROR\", 'PAH data'!AB36/1000), IF('PAH data'!AB36=\"<LOD\",'PAH data'!AB$38/1000, \"ERROR\")))","v":""},{"$f":"IF('PAH data'!AC36=\"\",\"\",IF(ISNUMBER('PAH data'!AC36)=TRUE, IF('PAH data'!AC36<'PAH data'!AC$38, \"ERROR\", 'PAH data'!AC36/1000), IF('PAH data'!AC36=\"<LOD\",'PAH data'!AC$38/1000, \"ERROR\")))","v":""},{"$f":"IF('PAH data'!AD36=\"\",\"\",IF(ISNUMBER('PAH data'!AD36)=TRUE, IF('PAH data'!AD36<'PAH data'!AD$38, \"ERROR\", 'PAH data'!AD36/1000), IF('PAH data'!AD36=\"<LOD\",'PAH data'!AD$38/1000, \"ERROR\")))","v":""},{"$f":"IF('PAH data'!AE36=\"\",\"\",IF(ISNUMBER('PAH data'!AE36)=TRUE, IF('PAH data'!AE36<'PAH data'!AE$38, \"ERROR\", 'PAH data'!AE36/1000), IF('PAH data'!AE36=\"<LOD\",'PAH data'!AE$38/1000, \"ERROR\")))","v":""},{"$f":"IF('PAH data'!AF36=\"\",\"\",IF(ISNUMBER('PAH data'!AF36)=TRUE, IF('PAH data'!AF36<'PAH data'!AF$38, \"ERROR\", 'PAH data'!AF36/1000), IF('PAH data'!AF36=\"<LOD\",'PAH data'!AF$38/1000, \"ERROR\")))","v":""},{"$f":"IF('PAH data'!AG36=\"\",\"\",IF(ISNUMBER('PAH data'!AG36)=TRUE, IF('PAH data'!AG36<'PAH data'!AG$38, \"ERROR\", 'PAH data'!AG36/1000), IF('PAH data'!AG36=\"<LOD\",'PAH data'!AG$38/1000, \"ERROR\")))","v":""},{"$f":"IF('PAH data'!AH36=\"\",\"\",IF(ISNUMBER('PAH data'!AH36)=TRUE, IF('PAH data'!AH36<'PAH data'!AH$38, \"ERROR\", 'PAH data'!AH36), IF('PAH data'!AH36=\"<LOD\",'PAH data'!AH$38, \"ERROR\")))","v":""}]
[null,null,null,null,null,null,null,{"$f":"IF('PAH data'!H37=\"\",\"\",'PAH data'!H37)","v":""},{"$f":"IF('PAH data'!I37=\"\",\"\",'PAH data'!I37)","v":""},{"$f":"IFERROR(IF(K37=\"\",\"\",(IF(VLOOKUP(K37,'Application info'!$K$8:$L$37,2,0)=\"y\",\"y\",\"\"))),\"Manual entry required\")","v":""},{"$f":"IF('PAH data'!J37=\"\",\"\",'PAH data'!J37)","v":""},{"$f":"IF('PAH data'!L37=\"\",\"\",IF(ISNUMBER('PAH data'!L37)=TRUE, IF('PAH data'!L37<'PAH data'!L$38, \"ERROR\", 'PAH data'!L37/1000), IF('PAH data'!L37=\"<LOD\",'PAH data'!L$38/1000, \"ERROR\")))","v":""},{"$f":"IF('PAH data'!M37=\"\",\"\",IF(ISNUMBER('PAH data'!M37)=TRUE, IF('PAH data'!M37<'PAH data'!M$38, \"ERROR\", 'PAH data'!M37/1000), IF('PAH data'!M37=\"<LOD\",'PAH data'!M$38/1000, \"ERROR\")))","v":""},{"$f":"IF('PAH data'!N37=\"\",\"\",IF(ISNUMBER('PAH data'!N37)=TRUE, IF('PAH data'!N37<'PAH data'!N$38, \"ERROR\", 'PAH data'!N37/1000), IF('PAH data'!N37=\"<LOD\",'PAH data'!N$38/1000, \"ERROR\")))","v":""},{"$f":"IF('PAH data'!O37=\"\",\"\",IF(ISNUMBER('PAH data'!O37)=TRUE, IF('PAH data'!O37<'PAH data'!O$38, \"ERROR\", 'PAH data'!O37/1000), IF('PAH data'!O37=\"<LOD\",'PAH data'!O$38/1000, \"ERROR\")))","v":""},{"$f":"IF('PAH data'!P37=\"\",\"\",IF(ISNUMBER('PAH data'!P37)=TRUE, IF('PAH data'!P37<'PAH data'!P$38, \"ERROR\", 'PAH data'!P37/1000), IF('PAH data'!P37=\"<LOD\",'PAH data'!P$38/1000, \"ERROR\")))","v":""},{"$f":"IF('PAH data'!Q37=\"\",\"\",IF(ISNUMBER('PAH data'!Q37)=TRUE, IF('PAH data'!Q37<'PAH data'!Q$38, \"ERROR\", 'PAH data'!Q37/1000), IF('PAH data'!Q37=\"<LOD\",'PAH data'!Q$38/1000, \"ERROR\")))","v":""},{"$f":"IF('PAH data'!R37=\"\",\"\",IF(ISNUMBER('PAH data'!R37)=TRUE, IF('PAH data'!R37<'PAH data'!R$38, \"ERROR\", 'PAH data'!R37/1000), IF('PAH data'!R37=\"<LOD\",'PAH data'!R$38/1000, \"ERROR\")))","v":""},{"$f":"IF('PAH data'!S37=\"\",\"\",IF(ISNUMBER('PAH data'!S37)=TRUE, IF('PAH data'!S37<'PAH data'!S$38, \"ERROR\", 'PAH data'!S37/1000), IF('PAH data'!S37=\"<LOD\",'PAH data'!S$38/1000, \"ERROR\")))","v":""},{"$f":"IF('PAH data'!T37=\"\",\"\",IF(ISNUMBER('PAH data'!T37)=TRUE, IF('PAH data'!T37<'PAH data'!T$38, \"ERROR\", 'PAH data'!T37/1000), IF('PAH data'!T37=\"<LOD\",'PAH data'!T$38/1000, \"ERROR\")))","v":""},{"$f":"IF('PAH data'!U37=\"\",\"\",IF(ISNUMBER('PAH data'!U37)=TRUE, IF('PAH data'!U37<'PAH data'!U$38, \"ERROR\", 'PAH data'!U37/1000), IF('PAH data'!U37=\"<LOD\",'PAH data'!U$38/1000, \"ERROR\")))","v":""},{"$f":"IF('PAH data'!V37=\"\",\"\",IF(ISNUMBER('PAH data'!V37)=TRUE, IF('PAH data'!V37<'PAH data'!V$38, \"ERROR\", 'PAH data'!V37/1000), IF('PAH data'!V37=\"<LOD\",'PAH data'!V$38/1000, \"ERROR\")))","v":""},{"$f":"IF('PAH data'!W37=\"\",\"\",IF(ISNUMBER('PAH data'!W37)=TRUE, IF('PAH data'!W37<'PAH data'!W$38, \"ERROR\", 'PAH data'!W37/1000), IF('PAH data'!W37=\"<LOD\",'PAH data'!W$38/1000, \"ERROR\")))","v":""},{"$f":"IF('PAH data'!X37=\"\",\"\",IF(ISNUMBER('PAH data'!X37)=TRUE, IF('PAH data'!X37<'PAH data'!X$38, \"ERROR\", 'PAH data'!X37/1000), IF('PAH data'!X37=\"<LOD\",'PAH data'!X$38/1000, \"ERROR\")))","v":""},{"$f":"IF('PAH data'!Y37=\"\",\"\",IF(ISNUMBER('PAH data'!Y37)=TRUE, IF('PAH data'!Y37<'PAH data'!Y$38, \"ERROR\", 'PAH data'!Y37/1000), IF('PAH data'!Y37=\"<LOD\",'PAH data'!Y$38/1000, \"ERROR\")))","v":""},{"$f":"IF('PAH data'!Z37=\"\",\"\",IF(ISNUMBER('PAH data'!Z37)=TRUE, IF('PAH data'!Z37<'PAH data'!Z$38, \"ERROR\", 'PAH data'!Z37/1000), IF('PAH data'!Z37=\"<LOD\",'PAH data'!Z$38/1000, \"ERROR\")))","v":""},{"$f":"IF('PAH data'!AA37=\"\",\"\",IF(ISNUMBER('PAH data'!AA37)=TRUE, IF('PAH data'!AA37<'PAH data'!AA$38, \"ERROR\", 'PAH data'!AA37/1000), IF('PAH data'!AA37=\"<LOD\",'PAH data'!AA$38/1000, \"ERROR\")))","v":""},{"$f":"IF('PAH data'!AB37=\"\",\"\",IF(ISNUMBER('PAH data'!AB37)=TRUE, IF('PAH data'!AB37<'PAH data'!AB$38, \"ERROR\", 'PAH data'!AB37/1000), IF('PAH data'!AB37=\"<LOD\",'PAH data'!AB$38/1000, \"ERROR\")))","v":""},{"$f":"IF('PAH data'!AC37=\"\",\"\",IF(ISNUMBER('PAH data'!AC37)=TRUE, IF('PAH data'!AC37<'PAH data'!AC$38, \"ERROR\", 'PAH data'!AC37/1000), IF('PAH data'!AC37=\"<LOD\",'PAH data'!AC$38/1000, \"ERROR\")))","v":""},{"$f":"IF('PAH data'!AD37=\"\",\"\",IF(ISNUMBER('PAH data'!AD37)=TRUE, IF('PAH data'!AD37<'PAH data'!AD$38, \"ERROR\", 'PAH data'!AD37/1000), IF('PAH data'!AD37=\"<LOD\",'PAH data'!AD$38/1000, \"ERROR\")))","v":""},{"$f":"IF('PAH data'!AE37=\"\",\"\",IF(ISNUMBER('PAH data'!AE37)=TRUE, IF('PAH data'!AE37<'PAH data'!AE$38, \"ERROR\", 'PAH data'!AE37/1000), IF('PAH data'!AE37=\"<LOD\",'PAH data'!AE$38/1000, \"ERROR\")))","v":""},{"$f":"IF('PAH data'!AF37=\"\",\"\",IF(ISNUMBER('PAH data'!AF37)=TRUE, IF('PAH data'!AF37<'PAH data'!AF$38, \"ERROR\", 'PAH data'!AF37/1000), IF('PAH data'!AF37=\"<LOD\",'PAH data'!AF$38/1000, \"ERROR\")))","v":""},{"$f":"IF('PAH data'!AG37=\"\",\"\",IF(ISNUMBER('PAH data'!AG37)=TRUE, IF('PAH data'!AG37<'PAH data'!AG$38, \"ERROR\", 'PAH data'!AG37/1000), IF('PAH data'!AG37=\"<LOD\",'PAH data'!AG$38/1000, \"ERROR\")))","v":""},{"$f":"IF('PAH data'!AH37=\"\",\"\",IF(ISNUMBER('PAH data'!AH37)=TRUE, IF('PAH data'!AH37<'PAH data'!AH$38, \"ERROR\", 'PAH data'!AH37), IF('PAH data'!AH37=\"<LOD\",'PAH data'!AH$38, \"ERROR\")))","v":""}]
[null,null,null,null,null,null,null,null,null,"Averages:",null,{"$f":"IF(COUNT(L8:L37)<1,\"\", AVERAGE(L8:L37))","v":0.38799999999999996},{"$f":"IF(COUNT(M8:M37)<1,\"\", AVERAGE(M8:M37))","v":0.17290434782608696},0.28683043478260872,0.61956521739130432,0.67,0.653391304347826,0.53782608695652179,0.51726086956521733,0.5434782608695653,2.7300869565217392,1.2900000000000003,2.4980434782608696,2.1101304347826089,0.71117391304347821,0.11687826086956526,1.2870000000000004,0.42386956521739116,0.42754347826086958,1.009391304347826,0.17092608695652176,1.1761304347826087,1.2552173913043474,""]
[]
[null,null,null,null,null,null,null,null,null,null,"Action level 1:  ",0.1,0.1,0.1,0.1,0.1,0.1,0.1,0.1,0.1,0.1,0.1,0.1,0.1,0.1,0.01,0.1,0.1,0.1,0.1,0.1,0.1,0.1,100]
[]
[]
[]
[null,null,null,null,null,null,null,"Transformation to wet weight and return to µg/kg"]
[]
[null,null,null,null,null,null,null,"Laboratory sample number","Dredge Area","Excluded (y if yes)","Sample ID(s)","PAHs as µg/kg wet weight",null,null,null,null,null,null,null,null,null,null,null,null,null,null,null,null,null,null,null,null,null,"Total hydrocarbon content (mg/kg)"]
[null,null,null,null,null,null,null,null,null,null,null,"Acenapthene","Acenapthylene","Anthracene","Benz[a]anthracene","Benzo[a]pyrene","Benzo[b]fluoranthene","Benzo[g,h,i]perylene","Benzo[e]pyrene","Benzo[k]fluoranthene","C1-Napthalenes","C1-Phenanthrenes","C2-Napthalenes","C3-Napthalenes","Chrysene","Dibenz[a,h]anthracene","Fluoranthene","Fluorene","Indeno[123-c,d]pyrene","Napthalene","Perylene","Phenanthrene","Pyrene"]
[null,null,null,null,null,null,null,{"$f":"IF(H8=\"\",\"\",H8)","v":"MAR02481.001"},"",{"$f":"IF(J8=\"\",\"\",J8)","v":""},{"$f":"IF(K8=\"\",\"\",K8)","v":1},{"$f":"IF(L8=\"\",\"\",((('PAH data'!$K8/100)*L8)*1000))","v":54.708000000000006},{"$f":"IF(M8=\"\",\"\",((('PAH data'!$K8/100)*M8)*1000))","v":28.081500000000005},{"$f":"IF(N8=\"\",\"\",((('PAH data'!$K8/100)*N8)*1000))","v":41.322000000000003},{"$f":"IF(O8=\"\",\"\",((('PAH data'!$K8/100)*O8)*1000))","v":148.41000000000003},{"$f":"IF(P8=\"\",\"\",((('PAH data'!$K8/100)*P8)*1000))","v":177.51000000000002},{"$f":"IF(Q8=\"\",\"\",((('PAH data'!$K8/100)*Q8)*1000))","v":190.60500000000002},{"$f":"IF(R8=\"\",\"\",((('PAH data'!$K8/100)*R8)*1000))","v":148.41000000000003},{"$f":"IF(S8=\"\",\"\",((('PAH data'!$K8/100)*S8)*1000))","v":142.59000000000003},{"$f":"IF(T8=\"\",\"\",((('PAH data'!$K8/100)*T8)*1000))","v":162.96000000000004},{"$f":"IF(U8=\"\",\"\",((('PAH data'!$K8/100)*U8)*1000))","v":252.006},{"$f":"IF(V8=\"\",\"\",((('PAH data'!$K8/100)*V8)*1000))","v":157.14000000000004},{"$f":"IF(W8=\"\",\"\",((('PAH data'!$K8/100)*W8)*1000))","v":218.54100000000005},{"$f":"IF(X8=\"\",\"\",((('PAH data'!$K8/100)*X8)*1000))","v":177.51000000000002},{"$f":"IF(Y8=\"\",\"\",((('PAH data'!$K8/100)*Y8)*1000))","v":188.85900000000004},{"$f":"IF(Z8=\"\",\"\",((('PAH data'!$K8/100)*Z8)*1000))","v":31.137000000000004},{"$f":"IF(AA8=\"\",\"\",((('PAH data'!$K8/100)*AA8)*1000))","v":349.2},{"$f":"IF(AB8=\"\",\"\",((('PAH data'!$K8/100)*AB8)*1000))","v":61.983000000000004},{"$f":"IF(AC8=\"\",\"\",((('PAH data'!$K8/100)*AC8)*1000))","v":123.093},{"$f":"IF(AD8=\"\",\"\",((('PAH data'!$K8/100)*AD8)*1000))","v":132.40500000000003},{"$f":"IF(AE8=\"\",\"\",((('PAH data'!$K8/100)*AE8)*1000))","v":53.253000000000007},{"$f":"IF(AF8=\"\",\"\",((('PAH data'!$K8/100)*AF8)*1000))","v":194.67900000000006},{"$f":"IF(AG8=\"\",\"\",((('PAH data'!$K8/100)*AG8)*1000))","v":311.37000000000006},{"$f":"IF(AH8=\"\",\"\",((('PAH data'!$K8/100)*AH8)))","v":""}]
[null,null,null,null,null,null,null,"MAR02481.002","","",2,{"$f":"IF(L9=\"\",\"\",((('PAH data'!$K9/100)*L9)*1000))","v":75.33},{"$f":"IF(M9=\"\",\"\",((('PAH data'!$K9/100)*M9)*1000))","v":50.777999999999992},{"$f":"IF(N9=\"\",\"\",((('PAH data'!$K9/100)*N9)*1000))","v":59.426999999999992},{"$f":"IF(O9=\"\",\"\",((('PAH data'!$K9/100)*O9)*1000))","v":183.024},{"$f":"IF(P9=\"\",\"\",((('PAH data'!$K9/100)*P9)*1000))","v":215.38800000000001},{"$f":"IF(Q9=\"\",\"\",((('PAH data'!$K9/100)*Q9)*1000))","v":197.81099999999995},{"$f":"IF(R9=\"\",\"\",((('PAH data'!$K9/100)*R9)*1000))","v":167.67899999999997},{"$f":"IF(S9=\"\",\"\",((('PAH data'!$K9/100)*S9)*1000))","v":163.77299999999997},{"$f":"IF(T9=\"\",\"\",((('PAH data'!$K9/100)*T9)*1000))","v":195.57899999999998},{"$f":"IF(U9=\"\",\"\",((('PAH data'!$K9/100)*U9)*1000))","v":268.39799999999997},{"$f":"IF(V9=\"\",\"\",((('PAH data'!$K9/100)*V9)*1000))","v":217.06199999999998},{"$f":"IF(W9=\"\",\"\",((('PAH data'!$K9/100)*W9)*1000))","v":246.07799999999997},{"$f":"IF(X9=\"\",\"\",((('PAH data'!$K9/100)*X9)*1000))","v":214.27199999999999},{"$f":"IF(Y9=\"\",\"\",((('PAH data'!$K9/100)*Y9)*1000))","v":221.80499999999998},{"$f":"IF(Z9=\"\",\"\",((('PAH data'!$K9/100)*Z9)*1000))","v":30.410999999999998},{"$f":"IF(AA9=\"\",\"\",((('PAH data'!$K9/100)*AA9)*1000))","v":407.33999999999992},{"$f":"IF(AB9=\"\",\"\",((('PAH data'!$K9/100)*AB9)*1000))","v":82.304999999999993},{"$f":"IF(AC9=\"\",\"\",((('PAH data'!$K9/100)*AC9)*1000))","v":147.03299999999999},{"$f":"IF(AD9=\"\",\"\",((('PAH data'!$K9/100)*AD9)*1000))","v":147.03299999999999},{"$f":"IF(AE9=\"\",\"\",((('PAH data'!$K9/100)*AE9)*1000))","v":58.589999999999989},{"$f":"IF(AF9=\"\",\"\",((('PAH data'!$K9/100)*AF9)*1000))","v":229.89599999999996},{"$f":"IF(AG9=\"\",\"\",((('PAH data'!$K9/100)*AG9)*1000))","v":365.49},{"$f":"IF(AH9=\"\",\"\",((('PAH data'!$K9/100)*AH9)))","v":""}]
[null,null,null,null,null,null,null,"MAR02481.003","","",3,{"$f":"IF(L10=\"\",\"\",((('PAH data'!$K10/100)*L10)*1000))","v":78.616},{"$f":"IF(M10=\"\",\"\",((('PAH data'!$K10/100)*M10)*1000))","v":37.405999999999999},{"$f":"IF(N10=\"\",\"\",((('PAH data'!$K10/100)*N10)*1000))","v":77.031000000000006},{"$f":"IF(O10=\"\",\"\",((('PAH data'!$K10/100)*O10)*1000))","v":230.77600000000001},{"$f":"IF(P10=\"\",\"\",((('PAH data'!$K10/100)*P10)*1000))","v":265.01199999999994},{"$f":"IF(Q10=\"\",\"\",((('PAH data'!$K10/100)*Q10)*1000))","v":262.476},{"$f":"IF(R10=\"\",\"\",((('PAH data'!$K10/100)*R10)*1000))","v":209.85400000000001},{"$f":"IF(S10=\"\",\"\",((('PAH data'!$K10/100)*S10)*1000))","v":196.22300000000001},{"$f":"IF(T10=\"\",\"\",((('PAH data'!$K10/100)*T10)*1000))","v":251.69800000000004},{"$f":"IF(U10=\"\",\"\",((('PAH data'!$K10/100)*U10)*1000))","v":339.19000000000005},{"$f":"IF(V10=\"\",\"\",((('PAH data'!$K10/100)*V10)*1000))","v":293.54200000000003},{"$f":"IF(W10=\"\",\"\",((('PAH data'!$K10/100)*W10)*1000))","v":264.06099999999998},{"$f":"IF(X10=\"\",\"\",((('PAH data'!$K10/100)*X10)*1000))","v":237.43299999999999},{"$f":"IF(Y10=\"\",\"\",((('PAH data'!$K10/100)*Y10)*1000))","v":257.404},{"$f":"IF(Z10=\"\",\"\",((('PAH data'!$K10/100)*Z10)*1000))","v":44.063000000000002},{"$f":"IF(AA10=\"\",\"\",((('PAH data'!$K10/100)*AA10)*1000))","v":538.90000000000009},{"$f":"IF(AB10=\"\",\"\",((('PAH data'!$K10/100)*AB10)*1000))","v":86.224000000000004},{"$f":"IF(AC10=\"\",\"\",((('PAH data'!$K10/100)*AC10)*1000))","v":184.17699999999999},{"$f":"IF(AD10=\"\",\"\",((('PAH data'!$K10/100)*AD10)*1000))","v":154.696},{"$f":"IF(AE10=\"\",\"\",((('PAH data'!$K10/100)*AE10)*1000))","v":85.907000000000011},{"$f":"IF(AF10=\"\",\"\",((('PAH data'!$K10/100)*AF10)*1000))","v":270.40100000000001},{"$f":"IF(AG10=\"\",\"\",((('PAH data'!$K10/100)*AG10)*1000))","v":481.84},{"$f":"IF(AH10=\"\",\"\",((('PAH data'!$K10/100)*AH10)))","v":""}]
[null,null,null,null,null,null,null,"MAR02481.004","","",4,{"$f":"IF(L11=\"\",\"\",((('PAH data'!$K11/100)*L11)*1000))","v":153.07499999999999},{"$f":"IF(M11=\"\",\"\",((('PAH data'!$K11/100)*M11)*1000))","v":59.8},{"$f":"IF(N11=\"\",\"\",((('PAH data'!$K11/100)*N11)*1000))","v":138.44999999999999},{"$f":"IF(O11=\"\",\"\",((('PAH data'!$K11/100)*O11)*1000))","v":301.60000000000002},{"$f":"IF(P11=\"\",\"\",((('PAH data'!$K11/100)*P11)*1000))","v":325},{"$f":"IF(Q11=\"\",\"\",((('PAH data'!$K11/100)*Q11)*1000))","v":313.625},{"$f":"IF(R11=\"\",\"\",((('PAH data'!$K11/100)*R11)*1000))","v":238.875},{"$f":"IF(S11=\"\",\"\",((('PAH data'!$K11/100)*S11)*1000))","v":228.15},{"$f":"IF(T11=\"\",\"\",((('PAH data'!$K11/100)*T11)*1000))","v":286.97500000000002},{"$f":"IF(U11=\"\",\"\",((('PAH data'!$K11/100)*U11)*1000))","v":468},{"$f":"IF(V11=\"\",\"\",((('PAH data'!$K11/100)*V11)*1000))","v":338},{"$f":"IF(W11=\"\",\"\",((('PAH data'!$K11/100)*W11)*1000))","v":422.50000000000006},{"$f":"IF(X11=\"\",\"\",((('PAH data'!$K11/100)*X11)*1000))","v":334.75000000000006},{"$f":"IF(Y11=\"\",\"\",((('PAH data'!$K11/100)*Y11)*1000))","v":324.35000000000002},{"$f":"IF(Z11=\"\",\"\",((('PAH data'!$K11/100)*Z11)*1000))","v":52.975000000000001},{"$f":"IF(AA11=\"\",\"\",((('PAH data'!$K11/100)*AA11)*1000))","v":711.75},{"$f":"IF(AB11=\"\",\"\",((('PAH data'!$K11/100)*AB11)*1000))","v":154.04999999999998},{"$f":"IF(AC11=\"\",\"\",((('PAH data'!$K11/100)*AC11)*1000))","v":214.50000000000003},{"$f":"IF(AD11=\"\",\"\",((('PAH data'!$K11/100)*AD11)*1000))","v":261.95},{"$f":"IF(AE11=\"\",\"\",((('PAH data'!$K11/100)*AE11)*1000))","v":90.350000000000009},{"$f":"IF(AF11=\"\",\"\",((('PAH data'!$K11/100)*AF11)*1000))","v":422.50000000000006},{"$f":"IF(AG11=\"\",\"\",((('PAH data'!$K11/100)*AG11)*1000))","v":627.25},{"$f":"IF(AH11=\"\",\"\",((('PAH data'!$K11/100)*AH11)))","v":""}]
[null,null,null,null,null,null,null,"MAR02481.005","","",5,{"$f":"IF(L12=\"\",\"\",((('PAH data'!$K12/100)*L12)*1000))","v":167.04},{"$f":"IF(M12=\"\",\"\",((('PAH data'!$K12/100)*M12)*1000))","v":73.311999999999998},{"$f":"IF(N12=\"\",\"\",((('PAH data'!$K12/100)*N12)*1000))","v":136.87999999999997},{"$f":"IF(O12=\"\",\"\",((('PAH data'!$K12/100)*O12)*1000))","v":322.94399999999996},{"$f":"IF(P12=\"\",\"\",((('PAH data'!$K12/100)*P12)*1000))","v":341.96800000000002},{"$f":"IF(Q12=\"\",\"\",((('PAH data'!$K12/100)*Q12)*1000))","v":338.71999999999997},{"$f":"IF(R12=\"\",\"\",((('PAH data'!$K12/100)*R12)*1000))","v":247.31200000000001},{"$f":"IF(S12=\"\",\"\",((('PAH data'!$K12/100)*S12)*1000))","v":245.45600000000002},{"$f":"IF(T12=\"\",\"\",((('PAH data'!$K12/100)*T12)*1000))","v":301.59999999999997},{"$f":"IF(U12=\"\",\"\",((('PAH data'!$K12/100)*U12)*1000))","v":612.48},{"$f":"IF(V12=\"\",\"\",((('PAH data'!$K12/100)*V12)*1000))","v":382.33599999999996},{"$f":"IF(W12=\"\",\"\",((('PAH data'!$K12/100)*W12)*1000))","v":528.95999999999992},{"$f":"IF(X12=\"\",\"\",((('PAH data'!$K12/100)*X12)*1000))","v":416.67199999999997},{"$f":"IF(Y12=\"\",\"\",((('PAH data'!$K12/100)*Y12)*1000))","v":337.32799999999997},{"$f":"IF(Z12=\"\",\"\",((('PAH data'!$K12/100)*Z12)*1000))","v":54.751999999999995},{"$f":"IF(AA12=\"\",\"\",((('PAH data'!$K12/100)*AA12)*1000))","v":770.2399999999999},{"$f":"IF(AB12=\"\",\"\",((('PAH data'!$K12/100)*AB12)*1000))","v":167.96799999999999},{"$f":"IF(AC12=\"\",\"\",((('PAH data'!$K12/100)*AC12)*1000))","v":228.75199999999998},{"$f":"IF(AD12=\"\",\"\",((('PAH data'!$K12/100)*AD12)*1000))","v":366.096},{"$f":"IF(AE12=\"\",\"\",((('PAH data'!$K12/100)*AE12)*1000))","v":137.80799999999999},{"$f":"IF(AF12=\"\",\"\",((('PAH data'!$K12/100)*AF12)*1000))","v":437.55199999999996},{"$f":"IF(AG12=\"\",\"\",((('PAH data'!$K12/100)*AG12)*1000))","v":802.72},{"$f":"IF(AH12=\"\",\"\",((('PAH data'!$K12/100)*AH12)))","v":""}]
[null,null,null,null,null,null,null,"MAR02481.006","","",6,{"$f":"IF(L13=\"\",\"\",((('PAH data'!$K13/100)*L13)*1000))","v":230.59799999999998},{"$f":"IF(M13=\"\",\"\",((('PAH data'!$K13/100)*M13)*1000))","v":116.74799999999998},{"$f":"IF(N13=\"\",\"\",((('PAH data'!$K13/100)*N13)*1000))","v":172.22399999999999},{"$f":"IF(O13=\"\",\"\",((('PAH data'!$K13/100)*O13)*1000))","v":447.12},{"$f":"IF(P13=\"\",\"\",((('PAH data'!$K13/100)*P13)*1000))","v":430.56},{"$f":"IF(Q13=\"\",\"\",((('PAH data'!$K13/100)*Q13)*1000))","v":426.41999999999996},{"$f":"IF(R13=\"\",\"\",((('PAH data'!$K13/100)*R13)*1000))","v":291.86999999999995},{"$f":"IF(S13=\"\",\"\",((('PAH data'!$K13/100)*S13)*1000))","v":294.35399999999993},{"$f":"IF(T13=\"\",\"\",((('PAH data'!$K13/100)*T13)*1000))","v":361.42199999999997},{"$f":"IF(U13=\"\",\"\",((('PAH data'!$K13/100)*U13)*1000))","v":695.51999999999987},{"$f":"IF(V13=\"\",\"\",((('PAH data'!$K13/100)*V13)*1000))","v":488.52},{"$f":"IF(W13=\"\",\"\",((('PAH data'!$K13/100)*W13)*1000))","v":616.86},{"$f":"IF(X13=\"\",\"\",((('PAH data'!$K13/100)*X13)*1000))","v":500.93999999999994},{"$f":"IF(Y13=\"\",\"\",((('PAH data'!$K13/100)*Y13)*1000))","v":451.26},{"$f":"IF(Z13=\"\",\"\",((('PAH data'!$K13/100)*Z13)*1000))","v":66.654000000000011},{"$f":"IF(AA13=\"\",\"\",((('PAH data'!$K13/100)*AA13)*1000))","v":1072.26},{"$f":"IF(AB13=\"\",\"\",((('PAH data'!$K13/100)*AB13)*1000))","v":212.38199999999998},{"$f":"IF(AC13=\"\",\"\",((('PAH data'!$K13/100)*AC13)*1000))","v":269.51399999999995},{"$f":"IF(AD13=\"\",\"\",((('PAH data'!$K13/100)*AD13)*1000))","v":384.60599999999999},{"$f":"IF(AE13=\"\",\"\",((('PAH data'!$K13/100)*AE13)*1000))","v":127.09799999999998},{"$f":"IF(AF13=\"\",\"\",((('PAH data'!$K13/100)*AF13)*1000))","v":492.65999999999991},{"$f":"IF(AG13=\"\",\"\",((('PAH data'!$K13/100)*AG13)*1000))","v":1026.7199999999998},{"$f":"IF(AH13=\"\",\"\",((('PAH data'!$K13/100)*AH13)))","v":""}]
[null,null,null,null,null,null,null,"MAR02481.007","","",7,{"$f":"IF(L14=\"\",\"\",((('PAH data'!$K14/100)*L14)*1000))","v":207.38900000000001},{"$f":"IF(M14=\"\",\"\",((('PAH data'!$K14/100)*M14)*1000))","v":79.765000000000001},{"$f":"IF(N14=\"\",\"\",((('PAH data'!$K14/100)*N14)*1000))","v":143.94799999999998},{"$f":"IF(O14=\"\",\"\",((('PAH data'!$K14/100)*O14)*1000))","v":274.54000000000002},{"$f":"IF(P14=\"\",\"\",((('PAH data'!$K14/100)*P14)*1000))","v":296.8},{"$f":"IF(Q14=\"\",\"\",((('PAH data'!$K14/100)*Q14)*1000))","v":293.83200000000005},{"$f":"IF(R14=\"\",\"\",((('PAH data'!$K14/100)*R14)*1000))","v":231.13300000000001},{"$f":"IF(S14=\"\",\"\",((('PAH data'!$K14/100)*S14)*1000))","v":221.48699999999999},{"$f":"IF(T14=\"\",\"\",((('PAH data'!$K14/100)*T14)*1000))","v":237.06899999999999},{"$f":"IF(U14=\"\",\"\",((('PAH data'!$K14/100)*U14)*1000))","v":742},{"$f":"IF(V14=\"\",\"\",((('PAH data'!$K14/100)*V14)*1000))","v":422.94},{"$f":"IF(W14=\"\",\"\",((('PAH data'!$K14/100)*W14)*1000))","v":664.08999999999992},{"$f":"IF(X14=\"\",\"\",((('PAH data'!$K14/100)*X14)*1000))","v":149.51300000000001},{"$f":"IF(Y14=\"\",\"\",((('PAH data'!$K14/100)*Y14)*1000))","v":306.07499999999999},{"$f":"IF(Z14=\"\",\"\",((('PAH data'!$K14/100)*Z14)*1000))","v":50.085000000000008},{"$f":"IF(AA14=\"\",\"\",((('PAH data'!$K14/100)*AA14)*1000))","v":730.87},{"$f":"IF(AB14=\"\",\"\",((('PAH data'!$K14/100)*AB14)*1000))","v":213.32499999999999},{"$f":"IF(AC14=\"\",\"\",((('PAH data'!$K14/100)*AC14)*1000))","v":200.71100000000001},{"$f":"IF(AD14=\"\",\"\",((('PAH data'!$K14/100)*AD14)*1000))","v":396.97},{"$f":"IF(AE14=\"\",\"\",((('PAH data'!$K14/100)*AE14)*1000))","v":76.425999999999988},{"$f":"IF(AF14=\"\",\"\",((('PAH data'!$K14/100)*AF14)*1000))","v":497.14000000000004},{"$f":"IF(AG14=\"\",\"\",((('PAH data'!$K14/100)*AG14)*1000))","v":630.69999999999993},{"$f":"IF(AH14=\"\",\"\",((('PAH data'!$K14/100)*AH14)))","v":""}]
[null,null,null,null,null,null,null,"MAR02481.008","","",8,{"$f":"IF(L15=\"\",\"\",((('PAH data'!$K15/100)*L15)*1000))","v":327.13200000000001},{"$f":"IF(M15=\"\",\"\",((('PAH data'!$K15/100)*M15)*1000))","v":102.054},{"$f":"IF(N15=\"\",\"\",((('PAH data'!$K15/100)*N15)*1000))","v":255.83400000000006},{"$f":"IF(O15=\"\",\"\",((('PAH data'!$K15/100)*O15)*1000))","v":408.68200000000007},{"$f":"IF(P15=\"\",\"\",((('PAH data'!$K15/100)*P15)*1000))","v":445.49599999999998},{"$f":"IF(Q15=\"\",\"\",((('PAH data'!$K15/100)*Q15)*1000))","v":435.24400000000009},{"$f":"IF(R15=\"\",\"\",((('PAH data'!$K15/100)*R15)*1000))","v":322.93799999999999},{"$f":"IF(S15=\"\",\"\",((('PAH data'!$K15/100)*S15)*1000))","v":314.55000000000007},{"$f":"IF(T15=\"\",\"\",((('PAH data'!$K15/100)*T15)*1000))","v":377.46000000000004},{"$f":"IF(U15=\"\",\"\",((('PAH data'!$K15/100)*U15)*1000))","v":876.07999999999993},{"$f":"IF(V15=\"\",\"\",((('PAH data'!$K15/100)*V15)*1000))","v":601.14},{"$f":"IF(W15=\"\",\"\",((('PAH data'!$K15/100)*W15)*1000))","v":773.56000000000006},{"$f":"IF(X15=\"\",\"\",((('PAH data'!$K15/100)*X15)*1000))","v":605.79999999999995},{"$f":"IF(Y15=\"\",\"\",((('PAH data'!$K15/100)*Y15)*1000))","v":427.78800000000007},{"$f":"IF(Z15=\"\",\"\",((('PAH data'!$K15/100)*Z15)*1000))","v":73.628},{"$f":"IF(AA15=\"\",\"\",((('PAH data'!$K15/100)*AA15)*1000))","v":941.32},{"$f":"IF(AB15=\"\",\"\",((('PAH data'!$K15/100)*AB15)*1000))","v":294.512},{"$f":"IF(AC15=\"\",\"\",((('PAH data'!$K15/100)*AC15)*1000))","v":294.97800000000001},{"$f":"IF(AD15=\"\",\"\",((('PAH data'!$K15/100)*AD15)*1000))","v":577.84},{"$f":"IF(AE15=\"\",\"\",((('PAH data'!$K15/100)*AE15)*1000))","v":114.636},{"$f":"IF(AF15=\"\",\"\",((('PAH data'!$K15/100)*AF15)*1000))","v":619.78000000000009},{"$f":"IF(AG15=\"\",\"\",((('PAH data'!$K15/100)*AG15)*1000))","v":978.60000000000014},{"$f":"IF(AH15=\"\",\"\",((('PAH data'!$K15/100)*AH15)))","v":""}]
[null,null,null,null,null,null,null,"MAR02481.009","","",9,{"$f":"IF(L16=\"\",\"\",((('PAH data'!$K16/100)*L16)*1000))","v":396.416},{"$f":"IF(M16=\"\",\"\",((('PAH data'!$K16/100)*M16)*1000))","v":95.456000000000003},{"$f":"IF(N16=\"\",\"\",((('PAH data'!$K16/100)*N16)*1000))","v":117.952},{"$f":"IF(O16=\"\",\"\",((('PAH data'!$K16/100)*O16)*1000))","v":143.48799999999997},{"$f":"IF(P16=\"\",\"\",((('PAH data'!$K16/100)*P16)*1000))","v":159.904},{"$f":"IF(Q16=\"\",\"\",((('PAH data'!$K16/100)*Q16)*1000))","v":159.29599999999999},{"$f":"IF(R16=\"\",\"\",((('PAH data'!$K16/100)*R16)*1000))","v":136.19200000000001},{"$f":"IF(S16=\"\",\"\",((('PAH data'!$K16/100)*S16)*1000))","v":125.85599999999999},{"$f":"IF(T16=\"\",\"\",((('PAH data'!$K16/100)*T16)*1000))","v":120.992},{"$f":"IF(U16=\"\",\"\",((('PAH data'!$K16/100)*U16)*1000))","v":537.47199999999998},{"$f":"IF(V16=\"\",\"\",((('PAH data'!$K16/100)*V16)*1000))","v":244.41600000000003},{"$f":"IF(W16=\"\",\"\",((('PAH data'!$K16/100)*W16)*1000))","v":467.55200000000002},{"$f":"IF(X16=\"\",\"\",((('PAH data'!$K16/100)*X16)*1000))","v":380},{"$f":"IF(Y16=\"\",\"\",((('PAH data'!$K16/100)*Y16)*1000))","v":167.80800000000002},{"$f":"IF(Z16=\"\",\"\",((('PAH data'!$K16/100)*Z16)*1000))","v":27.603199999999998},{"$f":"IF(AA16=\"\",\"\",((('PAH data'!$K16/100)*AA16)*1000))","v":310.08000000000004},{"$f":"IF(AB16=\"\",\"\",((('PAH data'!$K16/100)*AB16)*1000))","v":283.32800000000003},{"$f":"IF(AC16=\"\",\"\",((('PAH data'!$K16/100)*AC16)*1000))","v":102.14400000000001},{"$f":"IF(AD16=\"\",\"\",((('PAH data'!$K16/100)*AD16)*1000))","v":274.81600000000003},{"$f":"IF(AE16=\"\",\"\",((('PAH data'!$K16/100)*AE16)*1000))","v":38.486399999999996},{"$f":"IF(AF16=\"\",\"\",((('PAH data'!$K16/100)*AF16)*1000))","v":321.63200000000001},{"$f":"IF(AG16=\"\",\"\",((('PAH data'!$K16/100)*AG16)*1000))","v":317.37599999999998},{"$f":"IF(AH16=\"\",\"\",((('PAH data'!$K16/100)*AH16)))","v":""}]
[null,null,null,null,null,null,null,"MAR02481.010","","",10,{"$f":"IF(L17=\"\",\"\",((('PAH data'!$K17/100)*L17)*1000))","v":248.69399999999999},{"$f":"IF(M17=\"\",\"\",((('PAH data'!$K17/100)*M17)*1000))","v":92.974000000000004},{"$f":"IF(N17=\"\",\"\",((('PAH data'!$K17/100)*N17)*1000))","v":123.202},{"$f":"IF(O17=\"\",\"\",((('PAH data'!$K17/100)*O17)*1000))","v":254.648},{"$f":"IF(P17=\"\",\"\",((('PAH data'!$K17/100)*P17)*1000))","v":292.20399999999995},{"$f":"IF(Q17=\"\",\"\",((('PAH data'!$K17/100)*Q17)*1000))","v":298.15799999999996},{"$f":"IF(R17=\"\",\"\",((('PAH data'!$K17/100)*R17)*1000))","v":247.77799999999999},{"$f":"IF(S17=\"\",\"\",((('PAH data'!$K17/100)*S17)*1000))","v":234.03799999999998},{"$f":"IF(T17=\"\",\"\",((('PAH data'!$K17/100)*T17)*1000))","v":233.57999999999998},{"$f":"IF(U17=\"\",\"\",((('PAH data'!$K17/100)*U17)*1000))","v":1286.98},{"$f":"IF(V17=\"\",\"\",((('PAH data'!$K17/100)*V17)*1000))","v":586.24},{"$f":"IF(W17=\"\",\"\",((('PAH data'!$K17/100)*W17)*1000))","v":1204.54},{"$f":"IF(X17=\"\",\"\",((('PAH data'!$K17/100)*X17)*1000))","v":1012.1799999999998},{"$f":"IF(Y17=\"\",\"\",((('PAH data'!$K17/100)*Y17)*1000))","v":299.98999999999995},{"$f":"IF(Z17=\"\",\"\",((('PAH data'!$K17/100)*Z17)*1000))","v":52.669999999999995},{"$f":"IF(AA17=\"\",\"\",((('PAH data'!$K17/100)*AA17)*1000))","v":517.53999999999985},{"$f":"IF(AB17=\"\",\"\",((('PAH data'!$K17/100)*AB17)*1000))","v":228.99999999999997},{"$f":"IF(AC17=\"\",\"\",((('PAH data'!$K17/100)*AC17)*1000))","v":177.70400000000001},{"$f":"IF(AD17=\"\",\"\",((('PAH data'!$K17/100)*AD17)*1000))","v":462.58},{"$f":"IF(AE17=\"\",\"\",((('PAH data'!$K17/100)*AE17)*1000))","v":69.158000000000001},{"$f":"IF(AF17=\"\",\"\",((('PAH data'!$K17/100)*AF17)*1000))","v":545.02},{"$f":"IF(AG17=\"\",\"\",((('PAH data'!$K17/100)*AG17)*1000))","v":517.53999999999985},{"$f":"IF(AH17=\"\",\"\",((('PAH data'!$K17/100)*AH17)))","v":""}]
[null,null,null,null,null,null,null,"MAR02481.011","","",11,{"$f":"IF(L18=\"\",\"\",((('PAH data'!$K18/100)*L18)*1000))","v":366.62600000000003},{"$f":"IF(M18=\"\",\"\",((('PAH data'!$K18/100)*M18)*1000))","v":190.244},{"$f":"IF(N18=\"\",\"\",((('PAH data'!$K18/100)*N18)*1000))","v":247.12599999999998},{"$f":"IF(O18=\"\",\"\",((('PAH data'!$K18/100)*O18)*1000))","v":457.92399999999992},{"$f":"IF(P18=\"\",\"\",((('PAH data'!$K18/100)*P18)*1000))","v":564.04},{"$f":"IF(Q18=\"\",\"\",((('PAH data'!$K18/100)*Q18)*1000))","v":549.69999999999993},{"$f":"IF(R18=\"\",\"\",((('PAH data'!$K18/100)*R18)*1000))","v":406.77799999999996},{"$f":"IF(S18=\"\",\"\",((('PAH data'!$K18/100)*S18)*1000))","v":403.43199999999996},{"$f":"IF(T18=\"\",\"\",((('PAH data'!$K18/100)*T18)*1000))","v":452.18799999999999},{"$f":"IF(U18=\"\",\"\",((('PAH data'!$K18/100)*U18)*1000))","v":1912},{"$f":"IF(V18=\"\",\"\",((('PAH data'!$K18/100)*V18)*1000))","v":817.38},{"$f":"IF(W18=\"\",\"\",((('PAH data'!$K18/100)*W18)*1000))","v":1701.6799999999998},{"$f":"IF(X18=\"\",\"\",((('PAH data'!$K18/100)*X18)*1000))","v":1558.28},{"$f":"IF(Y18=\"\",\"\",((('PAH data'!$K18/100)*Y18)*1000))","v":521.02},{"$f":"IF(Z18=\"\",\"\",((('PAH data'!$K18/100)*Z18)*1000))","v":94.165999999999997},{"$f":"IF(AA18=\"\",\"\",((('PAH data'!$K18/100)*AA18)*1000))","v":826.94},{"$f":"IF(AB18=\"\",\"\",((('PAH data'!$K18/100)*AB18)*1000))","v":349.89599999999996},{"$f":"IF(AC18=\"\",\"\",((('PAH data'!$K18/100)*AC18)*1000))","v":366.14799999999997},{"$f":"IF(AD18=\"\",\"\",((('PAH data'!$K18/100)*AD18)*1000))","v":702.66},{"$f":"IF(AE18=\"\",\"\",((('PAH data'!$K18/100)*AE18)*1000))","v":152.482},{"$f":"IF(AF18=\"\",\"\",((('PAH data'!$K18/100)*AF18)*1000))","v":779.14},{"$f":"IF(AG18=\"\",\"\",((('PAH data'!$K18/100)*AG18)*1000))","v":936.87999999999988},{"$f":"IF(AH18=\"\",\"\",((('PAH data'!$K18/100)*AH18)))","v":""}]
[null,null,null,null,null,null,null,"MAR02481.012","","",12,{"$f":"IF(L19=\"\",\"\",((('PAH data'!$K19/100)*L19)*1000))","v":325.452},{"$f":"IF(M19=\"\",\"\",((('PAH data'!$K19/100)*M19)*1000))","v":150.96},{"$f":"IF(N19=\"\",\"\",((('PAH data'!$K19/100)*N19)*1000))","v":150.96},{"$f":"IF(O19=\"\",\"\",((('PAH data'!$K19/100)*O19)*1000))","v":322.78800000000001},{"$f":"IF(P19=\"\",\"\",((('PAH data'!$K19/100)*P19)*1000))","v":378.73200000000003},{"$f":"IF(Q19=\"\",\"\",((('PAH data'!$K19/100)*Q19)*1000))","v":363.63599999999997},{"$f":"IF(R19=\"\",\"\",((('PAH data'!$K19/100)*R19)*1000))","v":300.58800000000002},{"$f":"IF(S19=\"\",\"\",((('PAH data'!$K19/100)*S19)*1000))","v":285.048},{"$f":"IF(T19=\"\",\"\",((('PAH data'!$K19/100)*T19)*1000))","v":299.70000000000005},{"$f":"IF(U19=\"\",\"\",((('PAH data'!$K19/100)*U19)*1000))","v":1491.8400000000001},{"$f":"IF(V19=\"\",\"\",((('PAH data'!$K19/100)*V19)*1000))","v":661.56000000000006},{"$f":"IF(W19=\"\",\"\",((('PAH data'!$K19/100)*W19)*1000))","v":1451.88},{"$f":"IF(X19=\"\",\"\",((('PAH data'!$K19/100)*X19)*1000))","v":1283.1600000000001},{"$f":"IF(Y19=\"\",\"\",((('PAH data'!$K19/100)*Y19)*1000))","v":362.74799999999993},{"$f":"IF(Z19=\"\",\"\",((('PAH data'!$K19/100)*Z19)*1000))","v":65.267999999999986},{"$f":"IF(AA19=\"\",\"\",((('PAH data'!$K19/100)*AA19)*1000))","v":634.91999999999996},{"$f":"IF(AB19=\"\",\"\",((('PAH data'!$K19/100)*AB19)*1000))","v":304.584},{"$f":"IF(AC19=\"\",\"\",((('PAH data'!$K19/100)*AC19)*1000))","v":249.52800000000002},{"$f":"IF(AD19=\"\",\"\",((('PAH data'!$K19/100)*AD19)*1000))","v":559.44000000000005},{"$f":"IF(AE19=\"\",\"\",((('PAH data'!$K19/100)*AE19)*1000))","v":89.688000000000002},{"$f":"IF(AF19=\"\",\"\",((('PAH data'!$K19/100)*AF19)*1000))","v":630.4799999999999},{"$f":"IF(AG19=\"\",\"\",((('PAH data'!$K19/100)*AG19)*1000))","v":661.56000000000006},{"$f":"IF(AH19=\"\",\"\",((('PAH data'!$K19/100)*AH19)))","v":""}]
[null,null,null,null,null,null,null,"MAR02481.013","","",13,{"$f":"IF(L20=\"\",\"\",((('PAH data'!$K20/100)*L20)*1000))","v":345.94},{"$f":"IF(M20=\"\",\"\",((('PAH data'!$K20/100)*M20)*1000))","v":128.38},{"$f":"IF(N20=\"\",\"\",((('PAH data'!$K20/100)*N20)*1000))","v":151.9},{"$f":"IF(O20=\"\",\"\",((('PAH data'!$K20/100)*O20)*1000))","v":277.33999999999997},{"$f":"IF(P20=\"\",\"\",((('PAH data'!$K20/100)*P20)*1000))","v":311.14999999999998},{"$f":"IF(Q20=\"\",\"\",((('PAH data'!$K20/100)*Q20)*1000))","v":312.62},{"$f":"IF(R20=\"\",\"\",((('PAH data'!$K20/100)*R20)*1000))","v":247.94},{"$f":"IF(S20=\"\",\"\",((('PAH data'!$K20/100)*S20)*1000))","v":241.07999999999998},{"$f":"IF(T20=\"\",\"\",((('PAH data'!$K20/100)*T20)*1000))","v":245.48999999999998},{"$f":"IF(U20=\"\",\"\",((('PAH data'!$K20/100)*U20)*1000))","v":1416.1000000000001},{"$f":"IF(V20=\"\",\"\",((('PAH data'!$K20/100)*V20)*1000))","v":597.79999999999995},{"$f":"IF(W20=\"\",\"\",((('PAH data'!$K20/100)*W20)*1000))","v":1303.4000000000001},{"$f":"IF(X20=\"\",\"\",((('PAH data'!$K20/100)*X20)*1000))","v":1131.8999999999999},{"$f":"IF(Y20=\"\",\"\",((('PAH data'!$K20/100)*Y20)*1000))","v":315.07},{"$f":"IF(Z20=\"\",\"\",((('PAH data'!$K20/100)*Z20)*1000))","v":55.86},{"$f":"IF(AA20=\"\",\"\",((('PAH data'!$K20/100)*AA20)*1000))","v":529.20000000000005},{"$f":"IF(AB20=\"\",\"\",((('PAH data'!$K20/100)*AB20)*1000))","v":294},{"$f":"IF(AC20=\"\",\"\",((('PAH data'!$K20/100)*AC20)*1000))","v":205.31},{"$f":"IF(AD20=\"\",\"\",((('PAH data'!$K20/100)*AD20)*1000))","v":499.8},{"$f":"IF(AE20=\"\",\"\",((('PAH data'!$K20/100)*AE20)*1000))","v":73.009999999999991},{"$f":"IF(AF20=\"\",\"\",((('PAH data'!$K20/100)*AF20)*1000))","v":578.19999999999993},{"$f":"IF(AG20=\"\",\"\",((('PAH data'!$K20/100)*AG20)*1000))","v":563.5},{"$f":"IF(AH20=\"\",\"\",((('PAH data'!$K20/100)*AH20)))","v":""}]
[null,null,null,null,null,null,null,"MAR02481.014","","",15,{"$f":"IF(L21=\"\",\"\",((('PAH data'!$K21/100)*L21)*1000))","v":227.965},{"$f":"IF(M21=\"\",\"\",((('PAH data'!$K21/100)*M21)*1000))","v":127.63500000000001},{"$f":"IF(N21=\"\",\"\",((('PAH data'!$K21/100)*N21)*1000))","v":205.74},{"$f":"IF(O21=\"\",\"\",((('PAH data'!$K21/100)*O21)*1000))","v":382.90499999999997},{"$f":"IF(P21=\"\",\"\",((('PAH data'!$K21/100)*P21)*1000))","v":417.19500000000005},{"$f":"IF(Q21=\"\",\"\",((('PAH data'!$K21/100)*Q21)*1000))","v":384.81},{"$f":"IF(R21=\"\",\"\",((('PAH data'!$K21/100)*R21)*1000))","v":311.78499999999997},{"$f":"IF(S21=\"\",\"\",((('PAH data'!$K21/100)*S21)*1000))","v":300.35499999999996},{"$f":"IF(T21=\"\",\"\",((('PAH data'!$K21/100)*T21)*1000))","v":320.67500000000001},{"$f":"IF(U21=\"\",\"\",((('PAH data'!$K21/100)*U21)*1000))","v":1581.15},{"$f":"IF(V21=\"\",\"\",((('PAH data'!$K21/100)*V21)*1000))","v":831.85000000000014},{"$f":"IF(W21=\"\",\"\",((('PAH data'!$K21/100)*W21)*1000))","v":1422.4},{"$f":"IF(X21=\"\",\"\",((('PAH data'!$K21/100)*X21)*1000))","v":1295.4000000000001},{"$f":"IF(Y21=\"\",\"\",((('PAH data'!$K21/100)*Y21)*1000))","v":413.38499999999999},{"$f":"IF(Z21=\"\",\"\",((('PAH data'!$K21/100)*Z21)*1000))","v":67.309999999999988},{"$f":"IF(AA21=\"\",\"\",((('PAH data'!$K21/100)*AA21)*1000))","v":768.35},{"$f":"IF(AB21=\"\",\"\",((('PAH data'!$K21/100)*AB21)*1000))","v":256.54000000000002},{"$f":"IF(AC21=\"\",\"\",((('PAH data'!$K21/100)*AC21)*1000))","v":241.3},{"$f":"IF(AD21=\"\",\"\",((('PAH data'!$K21/100)*AD21)*1000))","v":543.56000000000006},{"$f":"IF(AE21=\"\",\"\",((('PAH data'!$K21/100)*AE21)*1000))","v":94.614999999999995},{"$f":"IF(AF21=\"\",\"\",((('PAH data'!$K21/100)*AF21)*1000))","v":768.35},{"$f":"IF(AG21=\"\",\"\",((('PAH data'!$K21/100)*AG21)*1000))","v":774.69999999999993},{"$f":"IF(AH21=\"\",\"\",((('PAH data'!$K21/100)*AH21)))","v":""}]
[null,null,null,null,null,null,null,"MAR02481.015","","",17,{"$f":"IF(L22=\"\",\"\",((('PAH data'!$K22/100)*L22)*1000))","v":117.35999999999999},{"$f":"IF(M22=\"\",\"\",((('PAH data'!$K22/100)*M22)*1000))","v":66.992999999999995},{"$f":"IF(N22=\"\",\"\",((('PAH data'!$K22/100)*N22)*1000))","v":131.05199999999999},{"$f":"IF(O22=\"\",\"\",((('PAH data'!$K22/100)*O22)*1000))","v":272.86199999999997},{"$f":"IF(P22=\"\",\"\",((('PAH data'!$K22/100)*P22)*1000))","v":280.68599999999998},{"$f":"IF(Q22=\"\",\"\",((('PAH data'!$K22/100)*Q22)*1000))","v":279.21899999999999},{"$f":"IF(R22=\"\",\"\",((('PAH data'!$K22/100)*R22)*1000))","v":243.52199999999999},{"$f":"IF(S22=\"\",\"\",((('PAH data'!$K22/100)*S22)*1000))","v":232.27499999999998},{"$f":"IF(T22=\"\",\"\",((('PAH data'!$K22/100)*T22)*1000))","v":213.20400000000001},{"$f":"IF(U22=\"\",\"\",((('PAH data'!$K22/100)*U22)*1000))","v":1760.3999999999999},{"$f":"IF(V22=\"\",\"\",((('PAH data'!$K22/100)*V22)*1000))","v":777.51},{"$f":"IF(W22=\"\",\"\",((('PAH data'!$K22/100)*W22)*1000))","v":1633.26},{"$f":"IF(X22=\"\",\"\",((('PAH data'!$K22/100)*X22)*1000))","v":1437.6599999999999},{"$f":"IF(Y22=\"\",\"\",((('PAH data'!$K22/100)*Y22)*1000))","v":328.608},{"$f":"IF(Z22=\"\",\"\",((('PAH data'!$K22/100)*Z22)*1000))","v":53.79},{"$f":"IF(AA22=\"\",\"\",((('PAH data'!$K22/100)*AA22)*1000))","v":518.34},{"$f":"IF(AB22=\"\",\"\",((('PAH data'!$K22/100)*AB22)*1000))","v":191.68799999999999},{"$f":"IF(AC22=\"\",\"\",((('PAH data'!$K22/100)*AC22)*1000))","v":166.26000000000002},{"$f":"IF(AD22=\"\",\"\",((('PAH data'!$K22/100)*AD22)*1000))","v":537.90000000000009},{"$f":"IF(AE22=\"\",\"\",((('PAH data'!$K22/100)*AE22)*1000))","v":56.234999999999999},{"$f":"IF(AF22=\"\",\"\",((('PAH data'!$K22/100)*AF22)*1000))","v":650.37},{"$f":"IF(AG22=\"\",\"\",((('PAH data'!$K22/100)*AG22)*1000))","v":489},{"$f":"IF(AH22=\"\",\"\",((('PAH data'!$K22/100)*AH22)))","v":""}]
[null,null,null,null,null,null,null,"MAR02481.016","","",18,{"$f":"IF(L23=\"\",\"\",((('PAH data'!$K23/100)*L23)*1000))","v":110.77499999999999},{"$f":"IF(M23=\"\",\"\",((('PAH data'!$K23/100)*M23)*1000))","v":80.850000000000009},{"$f":"IF(N23=\"\",\"\",((('PAH data'!$K23/100)*N23)*1000))","v":130.20000000000002},{"$f":"IF(O23=\"\",\"\",((('PAH data'!$K23/100)*O23)*1000))","v":289.27500000000003},{"$f":"IF(P23=\"\",\"\",((('PAH data'!$K23/100)*P23)*1000))","v":297.67499999999995},{"$f":"IF(Q23=\"\",\"\",((('PAH data'!$K23/100)*Q23)*1000))","v":292.95000000000005},{"$f":"IF(R23=\"\",\"\",((('PAH data'!$K23/100)*R23)*1000))","v":247.27500000000001},{"$f":"IF(S23=\"\",\"\",((('PAH data'!$K23/100)*S23)*1000))","v":240.97500000000002},{"$f":"IF(T23=\"\",\"\",((('PAH data'!$K23/100)*T23)*1000))","v":226.8},{"$f":"IF(U23=\"\",\"\",((('PAH data'!$K23/100)*U23)*1000))","v":1827},{"$f":"IF(V23=\"\",\"\",((('PAH data'!$K23/100)*V23)*1000))","v":735},{"$f":"IF(W23=\"\",\"\",((('PAH data'!$K23/100)*W23)*1000))","v":1695.75},{"$f":"IF(X23=\"\",\"\",((('PAH data'!$K23/100)*X23)*1000))","v":1470},{"$f":"IF(Y23=\"\",\"\",((('PAH data'!$K23/100)*Y23)*1000))","v":340.72500000000002},{"$f":"IF(Z23=\"\",\"\",((('PAH data'!$K23/100)*Z23)*1000))","v":56.175000000000004},{"$f":"IF(AA23=\"\",\"\",((('PAH data'!$K23/100)*AA23)*1000))","v":522.375},{"$f":"IF(AB23=\"\",\"\",((('PAH data'!$K23/100)*AB23)*1000))","v":181.12499999999997},{"$f":"IF(AC23=\"\",\"\",((('PAH data'!$K23/100)*AC23)*1000))","v":178.50000000000003},{"$f":"IF(AD23=\"\",\"\",((('PAH data'!$K23/100)*AD23)*1000))","v":582.75000000000011},{"$f":"IF(AE23=\"\",\"\",((('PAH data'!$K23/100)*AE23)*1000))","v":60.375000000000007},{"$f":"IF(AF23=\"\",\"\",((('PAH data'!$K23/100)*AF23)*1000))","v":645.75},{"$f":"IF(AG23=\"\",\"\",((('PAH data'!$K23/100)*AG23)*1000))","v":497.7},{"$f":"IF(AH23=\"\",\"\",((('PAH data'!$K23/100)*AH23)))","v":""}]
[null,null,null,null,null,null,null,"MAR02481.017","","",19,{"$f":"IF(L24=\"\",\"\",((('PAH data'!$K24/100)*L24)*1000))","v":120},{"$f":"IF(M24=\"\",\"\",((('PAH data'!$K24/100)*M24)*1000))","v":66.72},{"$f":"IF(N24=\"\",\"\",((('PAH data'!$K24/100)*N24)*1000))","v":135.83999999999997},{"$f":"IF(O24=\"\",\"\",((('PAH data'!$K24/100)*O24)*1000))","v":284.15999999999997},{"$f":"IF(P24=\"\",\"\",((('PAH data'!$K24/100)*P24)*1000))","v":280.8},{"$f":"IF(Q24=\"\",\"\",((('PAH data'!$K24/100)*Q24)*1000))","v":262.08000000000004},{"$f":"IF(R24=\"\",\"\",((('PAH data'!$K24/100)*R24)*1000))","v":260.16000000000003},{"$f":"IF(S24=\"\",\"\",((('PAH data'!$K24/100)*S24)*1000))","v":245.28},{"$f":"IF(T24=\"\",\"\",((('PAH data'!$K24/100)*T24)*1000))","v":216.48000000000002},{"$f":"IF(U24=\"\",\"\",((('PAH data'!$K24/100)*U24)*1000))","v":2313.6},{"$f":"IF(V24=\"\",\"\",((('PAH data'!$K24/100)*V24)*1000))","v":940.8},{"$f":"IF(W24=\"\",\"\",((('PAH data'!$K24/100)*W24)*1000))","v":2164.7999999999997},{"$f":"IF(X24=\"\",\"\",((('PAH data'!$K24/100)*X24)*1000))","v":1828.8},{"$f":"IF(Y24=\"\",\"\",((('PAH data'!$K24/100)*Y24)*1000))","v":352.8},{"$f":"IF(Z24=\"\",\"\",((('PAH data'!$K24/100)*Z24)*1000))","v":55.68},{"$f":"IF(AA24=\"\",\"\",((('PAH data'!$K24/100)*AA24)*1000))","v":484.8},{"$f":"IF(AB24=\"\",\"\",((('PAH data'!$K24/100)*AB24)*1000))","v":201.12},{"$f":"IF(AC24=\"\",\"\",((('PAH data'!$K24/100)*AC24)*1000))","v":181.44},{"$f":"IF(AD24=\"\",\"\",((('PAH data'!$K24/100)*AD24)*1000))","v":667.19999999999993},{"$f":"IF(AE24=\"\",\"\",((('PAH data'!$K24/100)*AE24)*1000))","v":56.639999999999993},{"$f":"IF(AF24=\"\",\"\",((('PAH data'!$K24/100)*AF24)*1000))","v":720},{"$f":"IF(AG24=\"\",\"\",((('PAH data'!$K24/100)*AG24)*1000))","v":476.63999999999993},{"$f":"IF(AH24=\"\",\"\",((('PAH data'!$K24/100)*AH24)))","v":""}]
[null,null,null,null,null,null,null,"MAR02481.018","","",20,{"$f":"IF(L25=\"\",\"\",((('PAH data'!$K25/100)*L25)*1000))","v":132.61199999999999},{"$f":"IF(M25=\"\",\"\",((('PAH data'!$K25/100)*M25)*1000))","v":57.792000000000002},{"$f":"IF(N25=\"\",\"\",((('PAH data'!$K25/100)*N25)*1000))","v":136.22400000000002},{"$f":"IF(O25=\"\",\"\",((('PAH data'!$K25/100)*O25)*1000))","v":340.04400000000004},{"$f":"IF(P25=\"\",\"\",((('PAH data'!$K25/100)*P25)*1000))","v":343.65600000000001},{"$f":"IF(Q25=\"\",\"\",((('PAH data'!$K25/100)*Q25)*1000))","v":347.26800000000003},{"$f":"IF(R25=\"\",\"\",((('PAH data'!$K25/100)*R25)*1000))","v":307.536},{"$f":"IF(S25=\"\",\"\",((('PAH data'!$K25/100)*S25)*1000))","v":282.25200000000001},{"$f":"IF(T25=\"\",\"\",((('PAH data'!$K25/100)*T25)*1000))","v":263.67600000000004},{"$f":"IF(U25=\"\",\"\",((('PAH data'!$K25/100)*U25)*1000))","v":2296.2000000000003},{"$f":"IF(V25=\"\",\"\",((('PAH data'!$K25/100)*V25)*1000))","v":1073.28},{"$f":"IF(W25=\"\",\"\",((('PAH data'!$K25/100)*W25)*1000))","v":2110.44},{"$f":"IF(X25=\"\",\"\",((('PAH data'!$K25/100)*X25)*1000))","v":1867.92},{"$f":"IF(Y25=\"\",\"\",((('PAH data'!$K25/100)*Y25)*1000))","v":392.67600000000004},{"$f":"IF(Z25=\"\",\"\",((('PAH data'!$K25/100)*Z25)*1000))","v":61.404000000000003},{"$f":"IF(AA25=\"\",\"\",((('PAH data'!$K25/100)*AA25)*1000))","v":624.36},{"$f":"IF(AB25=\"\",\"\",((('PAH data'!$K25/100)*AB25)*1000))","v":218.268},{"$f":"IF(AC25=\"\",\"\",((('PAH data'!$K25/100)*AC25)*1000))","v":210.012},{"$f":"IF(AD25=\"\",\"\",((('PAH data'!$K25/100)*AD25)*1000))","v":712.07999999999993},{"$f":"IF(AE25=\"\",\"\",((('PAH data'!$K25/100)*AE25)*1000))","v":83.076000000000008},{"$f":"IF(AF25=\"\",\"\",((('PAH data'!$K25/100)*AF25)*1000))","v":815.28},{"$f":"IF(AG25=\"\",\"\",((('PAH data'!$K25/100)*AG25)*1000))","v":583.07999999999993},{"$f":"IF(AH25=\"\",\"\",((('PAH data'!$K25/100)*AH25)))","v":""}]
[null,null,null,null,null,null,null,"MAR02481.019","","",21,{"$f":"IF(L26=\"\",\"\",((('PAH data'!$K26/100)*L26)*1000))","v":143.96399999999997},{"$f":"IF(M26=\"\",\"\",((('PAH data'!$K26/100)*M26)*1000))","v":80.909999999999982},{"$f":"IF(N26=\"\",\"\",((('PAH data'!$K26/100)*N26)*1000))","v":137.82599999999996},{"$f":"IF(O26=\"\",\"\",((('PAH data'!$K26/100)*O26)*1000))","v":342.05399999999997},{"$f":"IF(P26=\"\",\"\",((('PAH data'!$K26/100)*P26)*1000))","v":354.88799999999998},{"$f":"IF(Q26=\"\",\"\",((('PAH data'!$K26/100)*Q26)*1000))","v":351.53999999999996},{"$f":"IF(R26=\"\",\"\",((('PAH data'!$K26/100)*R26)*1000))","v":314.15399999999994},{"$f":"IF(S26=\"\",\"\",((('PAH data'!$K26/100)*S26)*1000))","v":310.80599999999998},{"$f":"IF(T26=\"\",\"\",((('PAH data'!$K26/100)*T26)*1000))","v":228.77999999999994},{"$f":"IF(U26=\"\",\"\",((('PAH data'!$K26/100)*U26)*1000))","v":1852.5599999999997},{"$f":"IF(V26=\"\",\"\",((('PAH data'!$K26/100)*V26)*1000))","v":915.11999999999978},{"$f":"IF(W26=\"\",\"\",((('PAH data'!$K26/100)*W26)*1000))","v":1746.5399999999997},{"$f":"IF(X26=\"\",\"\",((('PAH data'!$K26/100)*X26)*1000))","v":1612.62},{"$f":"IF(Y26=\"\",\"\",((('PAH data'!$K26/100)*Y26)*1000))","v":452.53800000000001},{"$f":"IF(Z26=\"\",\"\",((('PAH data'!$K26/100)*Z26)*1000))","v":85.931999999999988},{"$f":"IF(AA26=\"\",\"\",((('PAH data'!$K26/100)*AA26)*1000))","v":555.76799999999992},{"$f":"IF(AB26=\"\",\"\",((('PAH data'!$K26/100)*AB26)*1000))","v":208.13399999999999},{"$f":"IF(AC26=\"\",\"\",((('PAH data'!$K26/100)*AC26)*1000))","v":204.78599999999997},{"$f":"IF(AD26=\"\",\"\",((('PAH data'!$K26/100)*AD26)*1000))","v":608.22},{"$f":"IF(AE26=\"\",\"\",((('PAH data'!$K26/100)*AE26)*1000))","v":66.959999999999994},{"$f":"IF(AF26=\"\",\"\",((('PAH data'!$K26/100)*AF26)*1000))","v":680.75999999999988},{"$f":"IF(AG26=\"\",\"\",((('PAH data'!$K26/100)*AG26)*1000))","v":552.41999999999996},{"$f":"IF(AH26=\"\",\"\",((('PAH data'!$K26/100)*AH26)))","v":""}]
[null,null,null,null,null,null,null,"MAR02481.020","","",22,{"$f":"IF(L27=\"\",\"\",((('PAH data'!$K27/100)*L27)*1000))","v":74.360000000000014},{"$f":"IF(M27=\"\",\"\",((('PAH data'!$K27/100)*M27)*1000))","v":42.152000000000001},{"$f":"IF(N27=\"\",\"\",((('PAH data'!$K27/100)*N27)*1000))","v":92.839999999999989},{"$f":"IF(O27=\"\",\"\",((('PAH data'!$K27/100)*O27)*1000))","v":190.95999999999998},{"$f":"IF(P27=\"\",\"\",((('PAH data'!$K27/100)*P27)*1000))","v":207.23999999999998},{"$f":"IF(Q27=\"\",\"\",((('PAH data'!$K27/100)*Q27)*1000))","v":200.64000000000001},{"$f":"IF(R27=\"\",\"\",((('PAH data'!$K27/100)*R27)*1000))","v":194.04},{"$f":"IF(S27=\"\",\"\",((('PAH data'!$K27/100)*S27)*1000))","v":177.76},{"$f":"IF(T27=\"\",\"\",((('PAH data'!$K27/100)*T27)*1000))","v":152.67999999999998},{"$f":"IF(U27=\"\",\"\",((('PAH data'!$K27/100)*U27)*1000))","v":1509.2},{"$f":"IF(V27=\"\",\"\",((('PAH data'!$K27/100)*V27)*1000))","v":642.4},{"$f":"IF(W27=\"\",\"\",((('PAH data'!$K27/100)*W27)*1000))","v":1408.0000000000002},{"$f":"IF(X27=\"\",\"\",((('PAH data'!$K27/100)*X27)*1000))","v":1214.3999999999999},{"$f":"IF(Y27=\"\",\"\",((('PAH data'!$K27/100)*Y27)*1000))","v":247.28000000000003},{"$f":"IF(Z27=\"\",\"\",((('PAH data'!$K27/100)*Z27)*1000))","v":39.027999999999999},{"$f":"IF(AA27=\"\",\"\",((('PAH data'!$K27/100)*AA27)*1000))","v":350.68000000000006},{"$f":"IF(AB27=\"\",\"\",((('PAH data'!$K27/100)*AB27)*1000))","v":131.11999999999998},{"$f":"IF(AC27=\"\",\"\",((('PAH data'!$K27/100)*AC27)*1000))","v":132.88},{"$f":"IF(AD27=\"\",\"\",((('PAH data'!$K27/100)*AD27)*1000))","v":475.2},{"$f":"IF(AE27=\"\",\"\",((('PAH data'!$K27/100)*AE27)*1000))","v":41.316000000000003},{"$f":"IF(AF27=\"\",\"\",((('PAH data'!$K27/100)*AF27)*1000))","v":514.79999999999995},{"$f":"IF(AG27=\"\",\"\",((('PAH data'!$K27/100)*AG27)*1000))","v":354.64},{"$f":"IF(AH27=\"\",\"\",((('PAH data'!$K27/100)*AH27)))","v":""}]
[null,null,null,null,null,null,null,"MAR02481.021","","",23,{"$f":"IF(L28=\"\",\"\",((('PAH data'!$K28/100)*L28)*1000))","v":108.19199999999999},{"$f":"IF(M28=\"\",\"\",((('PAH data'!$K28/100)*M28)*1000))","v":46.569600000000001},{"$f":"IF(N28=\"\",\"\",((('PAH data'!$K28/100)*N28)*1000))","v":119.364},{"$f":"IF(O28=\"\",\"\",((('PAH data'!$K28/100)*O28)*1000))","v":283.416},{"$f":"IF(P28=\"\",\"\",((('PAH data'!$K28/100)*P28)*1000))","v":284.00399999999996},{"$f":"IF(Q28=\"\",\"\",((('PAH data'!$K28/100)*Q28)*1000))","v":251.66399999999999},{"$f":"IF(R28=\"\",\"\",((('PAH data'!$K28/100)*R28)*1000))","v":250.488},{"$f":"IF(S28=\"\",\"\",((('PAH data'!$K28/100)*S28)*1000))","v":238.14},{"$f":"IF(T28=\"\",\"\",((('PAH data'!$K28/100)*T28)*1000))","v":204.62399999999997},{"$f":"IF(U28=\"\",\"\",((('PAH data'!$K28/100)*U28)*1000))","v":2546.04},{"$f":"IF(V28=\"\",\"\",((('PAH data'!$K28/100)*V28)*1000))","v":1058.4000000000001},{"$f":"IF(W28=\"\",\"\",((('PAH data'!$K28/100)*W28)*1000))","v":2404.9199999999996},{"$f":"IF(X28=\"\",\"\",((('PAH data'!$K28/100)*X28)*1000))","v":2222.64},{"$f":"IF(Y28=\"\",\"\",((('PAH data'!$K28/100)*Y28)*1000))","v":338.09999999999997},{"$f":"IF(Z28=\"\",\"\",((('PAH data'!$K28/100)*Z28)*1000))","v":52.684799999999996},{"$f":"IF(AA28=\"\",\"\",((('PAH data'!$K28/100)*AA28)*1000))","v":504.50399999999996},{"$f":"IF(AB28=\"\",\"\",((('PAH data'!$K28/100)*AB28)*1000))","v":191.1},{"$f":"IF(AC28=\"\",\"\",((('PAH data'!$K28/100)*AC28)*1000))","v":164.05199999999999},{"$f":"IF(AD28=\"\",\"\",((('PAH data'!$K28/100)*AD28)*1000))","v":776.16},{"$f":"IF(AE28=\"\",\"\",((('PAH data'!$K28/100)*AE28)*1000))","v":55.213200000000001},{"$f":"IF(AF28=\"\",\"\",((('PAH data'!$K28/100)*AF28)*1000))","v":793.80000000000007},{"$f":"IF(AG28=\"\",\"\",((('PAH data'!$K28/100)*AG28)*1000))","v":491.56799999999993},{"$f":"IF(AH28=\"\",\"\",((('PAH data'!$K28/100)*AH28)))","v":""}]
[null,null,null,null,null,null,null,"MAR02481.022","","",24,{"$f":"IF(L29=\"\",\"\",((('PAH data'!$K29/100)*L29)*1000))","v":70.065999999999988},{"$f":"IF(M29=\"\",\"\",((('PAH data'!$K29/100)*M29)*1000))","v":27.299299999999995},{"$f":"IF(N29=\"\",\"\",((('PAH data'!$K29/100)*N29)*1000))","v":62.200099999999985},{"$f":"IF(O29=\"\",\"\",((('PAH data'!$K29/100)*O29)*1000))","v":120.96299999999999},{"$f":"IF(P29=\"\",\"\",((('PAH data'!$K29/100)*P29)*1000))","v":103.11599999999999},{"$f":"IF(Q29=\"\",\"\",((('PAH data'!$K29/100)*Q29)*1000))","v":94.522999999999982},{"$f":"IF(R29=\"\",\"\",((('PAH data'!$K29/100)*R29)*1000))","v":126.91199999999999},{"$f":"IF(S29=\"\",\"\",((('PAH data'!$K29/100)*S29)*1000))","v":120.96299999999999},{"$f":"IF(T29=\"\",\"\",((('PAH data'!$K29/100)*T29)*1000))","v":75.353999999999985},{"$f":"IF(U29=\"\",\"\",((('PAH data'!$K29/100)*U29)*1000))","v":2161.4699999999993},{"$f":"IF(V29=\"\",\"\",((('PAH data'!$K29/100)*V29)*1000))","v":746.92999999999984},{"$f":"IF(W29=\"\",\"\",((('PAH data'!$K29/100)*W29)*1000))","v":1936.7299999999998},{"$f":"IF(X29=\"\",\"\",((('PAH data'!$K29/100)*X29)*1000))","v":1606.2299999999998},{"$f":"IF(Y29=\"\",\"\",((('PAH data'!$K29/100)*Y29)*1000))","v":165.24999999999997},{"$f":"IF(Z29=\"\",\"\",((('PAH data'!$K29/100)*Z29)*1000))","v":20.491},{"$f":"IF(AA29=\"\",\"\",((('PAH data'!$K29/100)*AA29)*1000))","v":193.01199999999997},{"$f":"IF(AB29=\"\",\"\",((('PAH data'!$K29/100)*AB29)*1000))","v":130.21700000000001},{"$f":"IF(AC29=\"\",\"\",((('PAH data'!$K29/100)*AC29)*1000))","v":55.854499999999994},{"$f":"IF(AD29=\"\",\"\",((('PAH data'!$K29/100)*AD29)*1000))","v":637.20399999999984},{"$f":"IF(AE29=\"\",\"\",((('PAH data'!$K29/100)*AE29)*1000))","v":24.390899999999995},{"$f":"IF(AF29=\"\",\"\",((('PAH data'!$K29/100)*AF29)*1000))","v":563.83299999999997},{"$f":"IF(AG29=\"\",\"\",((('PAH data'!$K29/100)*AG29)*1000))","v":222.09599999999998},{"$f":"IF(AH29=\"\",\"\",((('PAH data'!$K29/100)*AH29)))","v":""}]
[null,null,null,null,null,null,null,"MAR02481.023","","",25,{"$f":"IF(L30=\"\",\"\",((('PAH data'!$K30/100)*L30)*1000))","v":84.554000000000002},{"$f":"IF(M30=\"\",\"\",((('PAH data'!$K30/100)*M30)*1000))","v":36.598000000000006},{"$f":"IF(N30=\"\",\"\",((('PAH data'!$K30/100)*N30)*1000))","v":96.543000000000006},{"$f":"IF(O30=\"\",\"\",((('PAH data'!$K30/100)*O30)*1000))","v":200.02700000000002},{"$f":"IF(P30=\"\",\"\",((('PAH data'!$K30/100)*P30)*1000))","v":186.14500000000001},{"$f":"IF(Q30=\"\",\"\",((('PAH data'!$K30/100)*Q30)*1000))","v":160.274},{"$f":"IF(R30=\"\",\"\",((('PAH data'!$K30/100)*R30)*1000))","v":182.35899999999998},{"$f":"IF(S30=\"\",\"\",((('PAH data'!$K30/100)*S30)*1000))","v":174.78700000000003},{"$f":"IF(T30=\"\",\"\",((('PAH data'!$K30/100)*T30)*1000))","v":129.35499999999999},{"$f":"IF(U30=\"\",\"\",((('PAH data'!$K30/100)*U30)*1000))","v":2801.6400000000003},{"$f":"IF(V30=\"\",\"\",((('PAH data'!$K30/100)*V30)*1000))","v":933.88},{"$f":"IF(W30=\"\",\"\",((('PAH data'!$K30/100)*W30)*1000))","v":2498.7599999999998},{"$f":"IF(X30=\"\",\"\",((('PAH data'!$K30/100)*X30)*1000))","v":2019.2},{"$f":"IF(Y30=\"\",\"\",((('PAH data'!$K30/100)*Y30)*1000))","v":249.876},{"$f":"IF(Z30=\"\",\"\",((('PAH data'!$K30/100)*Z30)*1000))","v":36.913499999999999},{"$f":"IF(AA30=\"\",\"\",((('PAH data'!$K30/100)*AA30)*1000))","v":317.39299999999997},{"$f":"IF(AB30=\"\",\"\",((('PAH data'!$K30/100)*AB30)*1000))","v":159.643},{"$f":"IF(AC30=\"\",\"\",((('PAH data'!$K30/100)*AC30)*1000))","v":90.864000000000004},{"$f":"IF(AD30=\"\",\"\",((('PAH data'!$K30/100)*AD30)*1000))","v":889.71},{"$f":"IF(AE30=\"\",\"\",((('PAH data'!$K30/100)*AE30)*1000))","v":29.215299999999996},{"$f":"IF(AF30=\"\",\"\",((('PAH data'!$K30/100)*AF30)*1000))","v":763.51},{"$f":"IF(AG30=\"\",\"\",((('PAH data'!$K30/100)*AG30)*1000))","v":327.48900000000003},{"$f":"IF(AH30=\"\",\"\",((('PAH data'!$K30/100)*AH30)))","v":""}]
[null,null,null,null,null,null,null,"","","","",{"$f":"IF(L31=\"\",\"\",((('PAH data'!$K31/100)*L31)*1000))","v":""},{"$f":"IF(M31=\"\",\"\",((('PAH data'!$K31/100)*M31)*1000))","v":""},{"$f":"IF(N31=\"\",\"\",((('PAH data'!$K31/100)*N31)*1000))","v":""},{"$f":"IF(O31=\"\",\"\",((('PAH data'!$K31/100)*O31)*1000))","v":""},{"$f":"IF(P31=\"\",\"\",((('PAH data'!$K31/100)*P31)*1000))","v":""},{"$f":"IF(Q31=\"\",\"\",((('PAH data'!$K31/100)*Q31)*1000))","v":""},{"$f":"IF(R31=\"\",\"\",((('PAH data'!$K31/100)*R31)*1000))","v":""},{"$f":"IF(S31=\"\",\"\",((('PAH data'!$K31/100)*S31)*1000))","v":""},{"$f":"IF(T31=\"\",\"\",((('PAH data'!$K31/100)*T31)*1000))","v":""},{"$f":"IF(U31=\"\",\"\",((('PAH data'!$K31/100)*U31)*1000))","v":""},{"$f":"IF(V31=\"\",\"\",((('PAH data'!$K31/100)*V31)*1000))","v":""},{"$f":"IF(W31=\"\",\"\",((('PAH data'!$K31/100)*W31)*1000))","v":""},{"$f":"IF(X31=\"\",\"\",((('PAH data'!$K31/100)*X31)*1000))","v":""},{"$f":"IF(Y31=\"\",\"\",((('PAH data'!$K31/100)*Y31)*1000))","v":""},{"$f":"IF(Z31=\"\",\"\",((('PAH data'!$K31/100)*Z31)*1000))","v":""},{"$f":"IF(AA31=\"\",\"\",((('PAH data'!$K31/100)*AA31)*1000))","v":""},{"$f":"IF(AB31=\"\",\"\",((('PAH data'!$K31/100)*AB31)*1000))","v":""},{"$f":"IF(AC31=\"\",\"\",((('PAH data'!$K31/100)*AC31)*1000))","v":""},{"$f":"IF(AD31=\"\",\"\",((('PAH data'!$K31/100)*AD31)*1000))","v":""},{"$f":"IF(AE31=\"\",\"\",((('PAH data'!$K31/100)*AE31)*1000))","v":""},{"$f":"IF(AF31=\"\",\"\",((('PAH data'!$K31/100)*AF31)*1000))","v":""},{"$f":"IF(AG31=\"\",\"\",((('PAH data'!$K31/100)*AG31)*1000))","v":""},{"$f":"IF(AH31=\"\",\"\",((('PAH data'!$K31/100)*AH31)))","v":""}]
[null,null,null,null,null,null,null,"","","","",{"$f":"IF(L32=\"\",\"\",((('PAH data'!$K32/100)*L32)*1000))","v":""},{"$f":"IF(M32=\"\",\"\",((('PAH data'!$K32/100)*M32)*1000))","v":""},{"$f":"IF(N32=\"\",\"\",((('PAH data'!$K32/100)*N32)*1000))","v":""},{"$f":"IF(O32=\"\",\"\",((('PAH data'!$K32/100)*O32)*1000))","v":""},{"$f":"IF(P32=\"\",\"\",((('PAH data'!$K32/100)*P32)*1000))","v":""},{"$f":"IF(Q32=\"\",\"\",((('PAH data'!$K32/100)*Q32)*1000))","v":""},{"$f":"IF(R32=\"\",\"\",((('PAH data'!$K32/100)*R32)*1000))","v":""},{"$f":"IF(S32=\"\",\"\",((('PAH data'!$K32/100)*S32)*1000))","v":""},{"$f":"IF(T32=\"\",\"\",((('PAH data'!$K32/100)*T32)*1000))","v":""},{"$f":"IF(U32=\"\",\"\",((('PAH data'!$K32/100)*U32)*1000))","v":""},{"$f":"IF(V32=\"\",\"\",((('PAH data'!$K32/100)*V32)*1000))","v":""},{"$f":"IF(W32=\"\",\"\",((('PAH data'!$K32/100)*W32)*1000))","v":""},{"$f":"IF(X32=\"\",\"\",((('PAH data'!$K32/100)*X32)*1000))","v":""},{"$f":"IF(Y32=\"\",\"\",((('PAH data'!$K32/100)*Y32)*1000))","v":""},{"$f":"IF(Z32=\"\",\"\",((('PAH data'!$K32/100)*Z32)*1000))","v":""},{"$f":"IF(AA32=\"\",\"\",((('PAH data'!$K32/100)*AA32)*1000))","v":""},{"$f":"IF(AB32=\"\",\"\",((('PAH data'!$K32/100)*AB32)*1000))","v":""},{"$f":"IF(AC32=\"\",\"\",((('PAH data'!$K32/100)*AC32)*1000))","v":""},{"$f":"IF(AD32=\"\",\"\",((('PAH data'!$K32/100)*AD32)*1000))","v":""},{"$f":"IF(AE32=\"\",\"\",((('PAH data'!$K32/100)*AE32)*1000))","v":""},{"$f":"IF(AF32=\"\",\"\",((('PAH data'!$K32/100)*AF32)*1000))","v":""},{"$f":"IF(AG32=\"\",\"\",((('PAH data'!$K32/100)*AG32)*1000))","v":""},{"$f":"IF(AH32=\"\",\"\",((('PAH data'!$K32/100)*AH32)))","v":""}]
[null,null,null,null,null,null,null,"","","","",{"$f":"IF(L33=\"\",\"\",((('PAH data'!$K33/100)*L33)*1000))","v":""},{"$f":"IF(M33=\"\",\"\",((('PAH data'!$K33/100)*M33)*1000))","v":""},{"$f":"IF(N33=\"\",\"\",((('PAH data'!$K33/100)*N33)*1000))","v":""},{"$f":"IF(O33=\"\",\"\",((('PAH data'!$K33/100)*O33)*1000))","v":""},{"$f":"IF(P33=\"\",\"\",((('PAH data'!$K33/100)*P33)*1000))","v":""},{"$f":"IF(Q33=\"\",\"\",((('PAH data'!$K33/100)*Q33)*1000))","v":""},{"$f":"IF(R33=\"\",\"\",((('PAH data'!$K33/100)*R33)*1000))","v":""},{"$f":"IF(S33=\"\",\"\",((('PAH data'!$K33/100)*S33)*1000))","v":""},{"$f":"IF(T33=\"\",\"\",((('PAH data'!$K33/100)*T33)*1000))","v":""},{"$f":"IF(U33=\"\",\"\",((('PAH data'!$K33/100)*U33)*1000))","v":""},{"$f":"IF(V33=\"\",\"\",((('PAH data'!$K33/100)*V33)*1000))","v":""},{"$f":"IF(W33=\"\",\"\",((('PAH data'!$K33/100)*W33)*1000))","v":""},{"$f":"IF(X33=\"\",\"\",((('PAH data'!$K33/100)*X33)*1000))","v":""},{"$f":"IF(Y33=\"\",\"\",((('PAH data'!$K33/100)*Y33)*1000))","v":""},{"$f":"IF(Z33=\"\",\"\",((('PAH data'!$K33/100)*Z33)*1000))","v":""},{"$f":"IF(AA33=\"\",\"\",((('PAH data'!$K33/100)*AA33)*1000))","v":""},{"$f":"IF(AB33=\"\",\"\",((('PAH data'!$K33/100)*AB33)*1000))","v":""},{"$f":"IF(AC33=\"\",\"\",((('PAH data'!$K33/100)*AC33)*1000))","v":""},{"$f":"IF(AD33=\"\",\"\",((('PAH data'!$K33/100)*AD33)*1000))","v":""},{"$f":"IF(AE33=\"\",\"\",((('PAH data'!$K33/100)*AE33)*1000))","v":""},{"$f":"IF(AF33=\"\",\"\",((('PAH data'!$K33/100)*AF33)*1000))","v":""},{"$f":"IF(AG33=\"\",\"\",((('PAH data'!$K33/100)*AG33)*1000))","v":""},{"$f":"IF(AH33=\"\",\"\",((('PAH data'!$K33/100)*AH33)))","v":""}]
[null,null,null,null,null,null,null,"","","","",{"$f":"IF(L34=\"\",\"\",((('PAH data'!$K34/100)*L34)*1000))","v":""},{"$f":"IF(M34=\"\",\"\",((('PAH data'!$K34/100)*M34)*1000))","v":""},{"$f":"IF(N34=\"\",\"\",((('PAH data'!$K34/100)*N34)*1000))","v":""},{"$f":"IF(O34=\"\",\"\",((('PAH data'!$K34/100)*O34)*1000))","v":""},{"$f":"IF(P34=\"\",\"\",((('PAH data'!$K34/100)*P34)*1000))","v":""},{"$f":"IF(Q34=\"\",\"\",((('PAH data'!$K34/100)*Q34)*1000))","v":""},{"$f":"IF(R34=\"\",\"\",((('PAH data'!$K34/100)*R34)*1000))","v":""},{"$f":"IF(S34=\"\",\"\",((('PAH data'!$K34/100)*S34)*1000))","v":""},{"$f":"IF(T34=\"\",\"\",((('PAH data'!$K34/100)*T34)*1000))","v":""},{"$f":"IF(U34=\"\",\"\",((('PAH data'!$K34/100)*U34)*1000))","v":""},{"$f":"IF(V34=\"\",\"\",((('PAH data'!$K34/100)*V34)*1000))","v":""},{"$f":"IF(W34=\"\",\"\",((('PAH data'!$K34/100)*W34)*1000))","v":""},{"$f":"IF(X34=\"\",\"\",((('PAH data'!$K34/100)*X34)*1000))","v":""},{"$f":"IF(Y34=\"\",\"\",((('PAH data'!$K34/100)*Y34)*1000))","v":""},{"$f":"IF(Z34=\"\",\"\",((('PAH data'!$K34/100)*Z34)*1000))","v":""},{"$f":"IF(AA34=\"\",\"\",((('PAH data'!$K34/100)*AA34)*1000))","v":""},{"$f":"IF(AB34=\"\",\"\",((('PAH data'!$K34/100)*AB34)*1000))","v":""},{"$f":"IF(AC34=\"\",\"\",((('PAH data'!$K34/100)*AC34)*1000))","v":""},{"$f":"IF(AD34=\"\",\"\",((('PAH data'!$K34/100)*AD34)*1000))","v":""},{"$f":"IF(AE34=\"\",\"\",((('PAH data'!$K34/100)*AE34)*1000))","v":""},{"$f":"IF(AF34=\"\",\"\",((('PAH data'!$K34/100)*AF34)*1000))","v":""},{"$f":"IF(AG34=\"\",\"\",((('PAH data'!$K34/100)*AG34)*1000))","v":""},{"$f":"IF(AH34=\"\",\"\",((('PAH data'!$K34/100)*AH34)))","v":""}]
[null,null,null,null,null,null,null,"","","","",{"$f":"IF(L35=\"\",\"\",((('PAH data'!$K35/100)*L35)*1000))","v":""},{"$f":"IF(M35=\"\",\"\",((('PAH data'!$K35/100)*M35)*1000))","v":""},{"$f":"IF(N35=\"\",\"\",((('PAH data'!$K35/100)*N35)*1000))","v":""},{"$f":"IF(O35=\"\",\"\",((('PAH data'!$K35/100)*O35)*1000))","v":""},{"$f":"IF(P35=\"\",\"\",((('PAH data'!$K35/100)*P35)*1000))","v":""},{"$f":"IF(Q35=\"\",\"\",((('PAH data'!$K35/100)*Q35)*1000))","v":""},{"$f":"IF(R35=\"\",\"\",((('PAH data'!$K35/100)*R35)*1000))","v":""},{"$f":"IF(S35=\"\",\"\",((('PAH data'!$K35/100)*S35)*1000))","v":""},{"$f":"IF(T35=\"\",\"\",((('PAH data'!$K35/100)*T35)*1000))","v":""},{"$f":"IF(U35=\"\",\"\",((('PAH data'!$K35/100)*U35)*1000))","v":""},{"$f":"IF(V35=\"\",\"\",((('PAH data'!$K35/100)*V35)*1000))","v":""},{"$f":"IF(W35=\"\",\"\",((('PAH data'!$K35/100)*W35)*1000))","v":""},{"$f":"IF(X35=\"\",\"\",((('PAH data'!$K35/100)*X35)*1000))","v":""},{"$f":"IF(Y35=\"\",\"\",((('PAH data'!$K35/100)*Y35)*1000))","v":""},{"$f":"IF(Z35=\"\",\"\",((('PAH data'!$K35/100)*Z35)*1000))","v":""},{"$f":"IF(AA35=\"\",\"\",((('PAH data'!$K35/100)*AA35)*1000))","v":""},{"$f":"IF(AB35=\"\",\"\",((('PAH data'!$K35/100)*AB35)*1000))","v":""},{"$f":"IF(AC35=\"\",\"\",((('PAH data'!$K35/100)*AC35)*1000))","v":""},{"$f":"IF(AD35=\"\",\"\",((('PAH data'!$K35/100)*AD35)*1000))","v":""},{"$f":"IF(AE35=\"\",\"\",((('PAH data'!$K35/100)*AE35)*1000))","v":""},{"$f":"IF(AF35=\"\",\"\",((('PAH data'!$K35/100)*AF35)*1000))","v":""},{"$f":"IF(AG35=\"\",\"\",((('PAH data'!$K35/100)*AG35)*1000))","v":""},{"$f":"IF(AH35=\"\",\"\",((('PAH data'!$K35/100)*AH35)))","v":""}]
[null,null,null,null,null,null,null,"","","","",{"$f":"IF(L36=\"\",\"\",((('PAH data'!$K36/100)*L36)*1000))","v":""},{"$f":"IF(M36=\"\",\"\",((('PAH data'!$K36/100)*M36)*1000))","v":""},{"$f":"IF(N36=\"\",\"\",((('PAH data'!$K36/100)*N36)*1000))","v":""},{"$f":"IF(O36=\"\",\"\",((('PAH data'!$K36/100)*O36)*1000))","v":""},{"$f":"IF(P36=\"\",\"\",((('PAH data'!$K36/100)*P36)*1000))","v":""},{"$f":"IF(Q36=\"\",\"\",((('PAH data'!$K36/100)*Q36)*1000))","v":""},{"$f":"IF(R36=\"\",\"\",((('PAH data'!$K36/100)*R36)*1000))","v":""},{"$f":"IF(S36=\"\",\"\",((('PAH data'!$K36/100)*S36)*1000))","v":""},{"$f":"IF(T36=\"\",\"\",((('PAH data'!$K36/100)*T36)*1000))","v":""},{"$f":"IF(U36=\"\",\"\",((('PAH data'!$K36/100)*U36)*1000))","v":""},{"$f":"IF(V36=\"\",\"\",((('PAH data'!$K36/100)*V36)*1000))","v":""},{"$f":"IF(W36=\"\",\"\",((('PAH data'!$K36/100)*W36)*1000))","v":""},{"$f":"IF(X36=\"\",\"\",((('PAH data'!$K36/100)*X36)*1000))","v":""},{"$f":"IF(Y36=\"\",\"\",((('PAH data'!$K36/100)*Y36)*1000))","v":""},{"$f":"IF(Z36=\"\",\"\",((('PAH data'!$K36/100)*Z36)*1000))","v":""},{"$f":"IF(AA36=\"\",\"\",((('PAH data'!$K36/100)*AA36)*1000))","v":""},{"$f":"IF(AB36=\"\",\"\",((('PAH data'!$K36/100)*AB36)*1000))","v":""},{"$f":"IF(AC36=\"\",\"\",((('PAH data'!$K36/100)*AC36)*1000))","v":""},{"$f":"IF(AD36=\"\",\"\",((('PAH data'!$K36/100)*AD36)*1000))","v":""},{"$f":"IF(AE36=\"\",\"\",((('PAH data'!$K36/100)*AE36)*1000))","v":""},{"$f":"IF(AF36=\"\",\"\",((('PAH data'!$K36/100)*AF36)*1000))","v":""},{"$f":"IF(AG36=\"\",\"\",((('PAH data'!$K36/100)*AG36)*1000))","v":""},{"$f":"IF(AH36=\"\",\"\",((('PAH data'!$K36/100)*AH36)))","v":""}]
[null,null,null,null,null,null,null,"","","","",{"$f":"IF(L37=\"\",\"\",((('PAH data'!$K37/100)*L37)*1000))","v":""},{"$f":"IF(M37=\"\",\"\",((('PAH data'!$K37/100)*M37)*1000))","v":""},{"$f":"IF(N37=\"\",\"\",((('PAH data'!$K37/100)*N37)*1000))","v":""},{"$f":"IF(O37=\"\",\"\",((('PAH data'!$K37/100)*O37)*1000))","v":""},{"$f":"IF(P37=\"\",\"\",((('PAH data'!$K37/100)*P37)*1000))","v":""},{"$f":"IF(Q37=\"\",\"\",((('PAH data'!$K37/100)*Q37)*1000))","v":""},{"$f":"IF(R37=\"\",\"\",((('PAH data'!$K37/100)*R37)*1000))","v":""},{"$f":"IF(S37=\"\",\"\",((('PAH data'!$K37/100)*S37)*1000))","v":""},{"$f":"IF(T37=\"\",\"\",((('PAH data'!$K37/100)*T37)*1000))","v":""},{"$f":"IF(U37=\"\",\"\",((('PAH data'!$K37/100)*U37)*1000))","v":""},{"$f":"IF(V37=\"\",\"\",((('PAH data'!$K37/100)*V37)*1000))","v":""},{"$f":"IF(W37=\"\",\"\",((('PAH data'!$K37/100)*W37)*1000))","v":""},{"$f":"IF(X37=\"\",\"\",((('PAH data'!$K37/100)*X37)*1000))","v":""},{"$f":"IF(Y37=\"\",\"\",((('PAH data'!$K37/100)*Y37)*1000))","v":""},{"$f":"IF(Z37=\"\",\"\",((('PAH data'!$K37/100)*Z37)*1000))","v":""},{"$f":"IF(AA37=\"\",\"\",((('PAH data'!$K37/100)*AA37)*1000))","v":""},{"$f":"IF(AB37=\"\",\"\",((('PAH data'!$K37/100)*AB37)*1000))","v":""},{"$f":"IF(AC37=\"\",\"\",((('PAH data'!$K37/100)*AC37)*1000))","v":""},{"$f":"IF(AD37=\"\",\"\",((('PAH data'!$K37/100)*AD37)*1000))","v":""},{"$f":"IF(AE37=\"\",\"\",((('PAH data'!$K37/100)*AE37)*1000))","v":""},{"$f":"IF(AF37=\"\",\"\",((('PAH data'!$K37/100)*AF37)*1000))","v":""},{"$f":"IF(AG37=\"\",\"\",((('PAH data'!$K37/100)*AG37)*1000))","v":""},{"$f":"IF(AH37=\"\",\"\",((('PAH data'!$K37/100)*AH37)))","v":""}]
[null,null,null,null,null,null,null,null,null,"Averages:",null,{"$f":"IF(COUNT(L48:L77)<1,\"\", AVERAGE(L48:L77))","v":181.16800000000003},{"$f":"IF(COUNT(M48:M77)<1,\"\", AVERAGE(M48:M77))","v":79.977278260869568},133.22109130434785,281.7369565217391,302.57256521739129,294.22221739130435,245.02513043478262,235.63608695652175,241.66699999999997,1371.6228695652173,628.83678260869567,1255.8826956521737,1068.5773913043479,324.46708695652177,53.420891304347826,573.04965217391316,200.10921739130433,190.84958695652179,493.51634782608699,75.431686956521744,562.41447826086949,564.82082608695657,""]
[]
[]
[]
[null,null,null,null,null,null,null,"Removal of excluded areas"]
[]
[null,null,null,null,null,null,null,"Laboratory sample number","Dredge Area","Excluded (y if yes)","Sample ID(s)","PAHs as µg/kg wet weight",null,null,null,null,null,null,null,null,null,null,null,null,null,null,null,null,null,null,null,null,null,"Total hydrocarbon content (mg/kg)"]
[null,null,null,null,null,null,null,null,null,null,null,"Acenapthene","Acenapthylene","Anthracene","Benz[a]anthracene","Benzo[a]pyrene","Benzo[b]fluoranthene","Benzo[g,h,i]perylene","Benzo[e]pyrene","Benzo[k]fluoranthene","C1-Napthalenes","C1-Phenanthrenes","C2-Napthalenes","C3-Napthalenes","Chrysene","Dibenz[a,h]anthracene","Fluoranthene","Fluorene","Indeno[123-c,d]pyrene","Napthalene","Perylene","Phenanthrene","Pyrene"]
[null,null,null,null,null,null,null,{"$f":"IF(H48=\"\",\"\",H48)","v":"MAR02481.001"},{"$f":"IF(J86=\"y\",\"\",I48)","v":""},"",{"$f":"IF(J86=\"y\",\"\",K48)","v":1},{"$f":"IF($J48=\"y\",\"\",L48)","v":54.708000000000006},{"$f":"IF($J48=\"y\",\"\",M48)","v":28.081500000000005},41.322000000000003,148.41000000000003,177.51000000000002,190.60500000000002,148.41000000000003,142.59000000000003,{"$f":"IF($J48=\"y\",\"\",T48)","v":162.96000000000004},252.006,157.14000000000004,218.54100000000005,177.51000000000002,188.85900000000004,31.137000000000004,349.2,61.983000000000004,123.093,132.40500000000003,53.253000000000007,194.67900000000006,311.37000000000006,""]
[null,null,null,null,null,null,null,"MAR02481.002",{"$f":"IF(J87=\"y\",\"\",I49)","v":""},"",{"$f":"IF(J87=\"y\",\"\",K49)","v":2},{"$f":"IF($J49=\"y\",\"\",L49)","v":75.33},50.777999999999992,59.426999999999992,183.024,215.38800000000001,197.81099999999995,167.67899999999997,163.77299999999997,{"$f":"IF($J49=\"y\",\"\",T49)","v":195.57899999999998},268.39799999999997,217.06199999999998,246.07799999999997,214.27199999999999,221.80499999999998,30.410999999999998,407.33999999999992,82.304999999999993,147.03299999999999,147.03299999999999,58.589999999999989,229.89599999999996,365.49,""]
[null,null,null,null,null,null,null,"MAR02481.003","","",3,{"$f":"IF($J50=\"y\",\"\",L50)","v":78.616},37.405999999999999,77.031000000000006,230.77600000000001,265.01199999999994,262.476,209.85400000000001,196.22300000000001,{"$f":"IF($J50=\"y\",\"\",T50)","v":251.69800000000004},339.19000000000005,293.54200000000003,264.06099999999998,237.43299999999999,257.404,44.063000000000002,538.90000000000009,86.224000000000004,184.17699999999999,154.696,85.907000000000011,270.40100000000001,481.84,""]
[null,null,null,null,null,null,null,"MAR02481.004","","",4,{"$f":"IF($J51=\"y\",\"\",L51)","v":153.07499999999999},59.8,138.44999999999999,301.60000000000002,325,313.625,238.875,228.15,{"$f":"IF($J51=\"y\",\"\",T51)","v":286.97500000000002},468,338,422.50000000000006,334.75000000000006,324.35000000000002,52.975000000000001,711.75,154.04999999999998,214.50000000000003,261.95,90.350000000000009,422.50000000000006,627.25,""]
[null,null,null,null,null,null,null,"MAR02481.005","","",5,{"$f":"IF($J52=\"y\",\"\",L52)","v":167.04},73.311999999999998,136.87999999999997,322.94399999999996,341.96800000000002,338.71999999999997,247.31200000000001,245.45600000000002,{"$f":"IF($J52=\"y\",\"\",T52)","v":301.59999999999997},612.48,382.33599999999996,528.95999999999992,416.67199999999997,337.32799999999997,54.751999999999995,770.2399999999999,167.96799999999999,228.75199999999998,366.096,137.80799999999999,437.55199999999996,802.72,""]
[null,null,null,null,null,null,null,"MAR02481.006","","",6,{"$f":"IF($J53=\"y\",\"\",L53)","v":230.59799999999998},116.74799999999998,172.22399999999999,447.12,430.56,426.41999999999996,291.86999999999995,294.35399999999993,{"$f":"IF($J53=\"y\",\"\",T53)","v":361.42199999999997},695.51999999999987,488.52,616.86,500.93999999999994,451.26,66.654000000000011,1072.26,212.38199999999998,269.51399999999995,384.60599999999999,127.09799999999998,492.65999999999991,1026.7199999999998,""]
[null,null,null,null,null,null,null,"MAR02481.007","","",7,{"$f":"IF($J54=\"y\",\"\",L54)","v":207.38900000000001},79.765000000000001,143.94799999999998,274.54000000000002,296.8,293.83200000000005,231.13300000000001,221.48699999999999,{"$f":"IF($J54=\"y\",\"\",T54)","v":237.06899999999999},742,422.94,664.08999999999992,149.51300000000001,306.07499999999999,50.085000000000008,730.87,213.32499999999999,200.71100000000001,396.97,76.425999999999988,497.14000000000004,630.69999999999993,""]
[null,null,null,null,null,null,null,"MAR02481.008","","",8,{"$f":"IF($J55=\"y\",\"\",L55)","v":327.13200000000001},102.054,255.83400000000006,408.68200000000007,445.49599999999998,435.24400000000009,322.93799999999999,314.55000000000007,{"$f":"IF($J55=\"y\",\"\",T55)","v":377.46000000000004},876.07999999999993,601.14,773.56000000000006,605.79999999999995,427.78800000000007,73.628,941.32,294.512,294.97800000000001,577.84,114.636,619.78000000000009,978.60000000000014,""]
[null,null,null,null,null,null,null,"MAR02481.009","","",9,{"$f":"IF($J56=\"y\",\"\",L56)","v":396.416},95.456000000000003,117.952,143.48799999999997,159.904,159.29599999999999,136.19200000000001,125.85599999999999,{"$f":"IF($J56=\"y\",\"\",T56)","v":120.992},537.47199999999998,244.41600000000003,467.55200000000002,380,167.80800000000002,27.603199999999998,310.08000000000004,283.32800000000003,102.14400000000001,274.81600000000003,38.486399999999996,321.63200000000001,317.37599999999998,""]
[null,null,null,null,null,null,null,"MAR02481.010","","",10,{"$f":"IF($J57=\"y\",\"\",L57)","v":248.69399999999999},92.974000000000004,123.202,254.648,292.20399999999995,298.15799999999996,247.77799999999999,234.03799999999998,{"$f":"IF($J57=\"y\",\"\",T57)","v":233.57999999999998},1286.98,586.24,1204.54,1012.1799999999998,299.98999999999995,52.669999999999995,517.53999999999985,228.99999999999997,177.70400000000001,462.58,69.158000000000001,545.02,517.53999999999985,""]
[null,null,null,null,null,null,null,"MAR02481.011","","",11,{"$f":"IF($J58=\"y\",\"\",L58)","v":366.62600000000003},190.244,247.12599999999998,457.92399999999992,564.04,549.69999999999993,406.77799999999996,403.43199999999996,{"$f":"IF($J58=\"y\",\"\",T58)","v":452.18799999999999},1912,817.38,1701.6799999999998,1558.28,521.02,94.165999999999997,826.94,349.89599999999996,366.14799999999997,702.66,152.482,779.14,936.87999999999988,""]
[null,null,null,null,null,null,null,"MAR02481.012","","",12,{"$f":"IF($J59=\"y\",\"\",L59)","v":325.452},150.96,150.96,322.78800000000001,378.73200000000003,363.63599999999997,300.58800000000002,285.048,{"$f":"IF($J59=\"y\",\"\",T59)","v":299.70000000000005},1491.8400000000001,661.56000000000006,1451.88,1283.1600000000001,362.74799999999993,65.267999999999986,634.91999999999996,304.584,249.52800000000002,559.44000000000005,89.688000000000002,630.4799999999999,661.56000000000006,""]
[null,null,null,null,null,null,null,"MAR02481.013","","",13,{"$f":"IF($J60=\"y\",\"\",L60)","v":345.94},128.38,151.9,277.33999999999997,311.14999999999998,312.62,247.94,241.07999999999998,{"$f":"IF($J60=\"y\",\"\",T60)","v":245.48999999999998},1416.1000000000001,597.79999999999995,1303.4000000000001,1131.8999999999999,315.07,55.86,529.20000000000005,294,205.31,499.8,73.009999999999991,578.19999999999993,563.5,""]
[null,null,null,null,null,null,null,"MAR02481.014","","",15,{"$f":"IF($J61=\"y\",\"\",L61)","v":227.965},127.63500000000001,205.74,382.90499999999997,417.19500000000005,384.81,311.78499999999997,300.35499999999996,{"$f":"IF($J61=\"y\",\"\",T61)","v":320.67500000000001},1581.15,831.85000000000014,1422.4,1295.4000000000001,413.38499999999999,67.309999999999988,768.35,256.54000000000002,241.3,543.56000000000006,94.614999999999995,768.35,774.69999999999993,""]
[null,null,null,null,null,null,null,"MAR02481.015","","",17,{"$f":"IF($J62=\"y\",\"\",L62)","v":117.35999999999999},66.992999999999995,131.05199999999999,272.86199999999997,280.68599999999998,279.21899999999999,243.52199999999999,232.27499999999998,{"$f":"IF($J62=\"y\",\"\",T62)","v":213.20400000000001},1760.3999999999999,777.51,1633.26,1437.6599999999999,328.608,53.79,518.34,191.68799999999999,166.26000000000002,537.90000000000009,56.234999999999999,650.37,489,""]
[null,null,null,null,null,null,null,"MAR02481.016","","",18,{"$f":"IF($J63=\"y\",\"\",L63)","v":110.77499999999999},80.850000000000009,130.20000000000002,289.27500000000003,297.67499999999995,292.95000000000005,247.27500000000001,240.97500000000002,{"$f":"IF($J63=\"y\",\"\",T63)","v":226.8},1827,735,1695.75,1470,340.72500000000002,56.175000000000004,522.375,181.12499999999997,178.50000000000003,582.75000000000011,60.375000000000007,645.75,497.7,""]
[null,null,null,null,null,null,null,"MAR02481.017","","",19,{"$f":"IF($J64=\"y\",\"\",L64)","v":120},66.72,135.83999999999997,284.15999999999997,280.8,262.08000000000004,260.16000000000003,245.28,{"$f":"IF($J64=\"y\",\"\",T64)","v":216.48000000000002},2313.6,940.8,2164.7999999999997,1828.8,352.8,55.68,484.8,201.12,181.44,667.19999999999993,56.639999999999993,720,476.63999999999993,""]
[null,null,null,null,null,null,null,"MAR02481.018","","",20,{"$f":"IF($J65=\"y\",\"\",L65)","v":132.61199999999999},57.792000000000002,136.22400000000002,340.04400000000004,343.65600000000001,347.26800000000003,307.536,282.25200000000001,{"$f":"IF($J65=\"y\",\"\",T65)","v":263.67600000000004},2296.2000000000003,1073.28,2110.44,1867.92,392.67600000000004,61.404000000000003,624.36,218.268,210.012,712.07999999999993,83.076000000000008,815.28,583.07999999999993,""]
[null,null,null,null,null,null,null,"MAR02481.019","","",21,{"$f":"IF($J66=\"y\",\"\",L66)","v":143.96399999999997},80.909999999999982,137.82599999999996,342.05399999999997,354.88799999999998,351.53999999999996,314.15399999999994,310.80599999999998,{"$f":"IF($J66=\"y\",\"\",T66)","v":228.77999999999994},1852.5599999999997,915.11999999999978,1746.5399999999997,1612.62,452.53800000000001,85.931999999999988,555.76799999999992,208.13399999999999,204.78599999999997,608.22,66.959999999999994,680.75999999999988,552.41999999999996,""]
[null,null,null,null,null,null,null,"MAR02481.020","","",22,{"$f":"IF($J67=\"y\",\"\",L67)","v":74.360000000000014},42.152000000000001,92.839999999999989,190.95999999999998,207.23999999999998,200.64000000000001,194.04,177.76,{"$f":"IF($J67=\"y\",\"\",T67)","v":152.67999999999998},1509.2,642.4,1408.0000000000002,1214.3999999999999,247.28000000000003,39.027999999999999,350.68000000000006,131.11999999999998,132.88,475.2,41.316000000000003,514.79999999999995,354.64,""]
[null,null,null,null,null,null,null,"MAR02481.021","","",23,{"$f":"IF($J68=\"y\",\"\",L68)","v":108.19199999999999},46.569600000000001,119.364,283.416,284.00399999999996,251.66399999999999,250.488,238.14,{"$f":"IF($J68=\"y\",\"\",T68)","v":204.62399999999997},2546.04,1058.4000000000001,2404.9199999999996,2222.64,338.09999999999997,52.684799999999996,504.50399999999996,191.1,164.05199999999999,776.16,55.213200000000001,793.80000000000007,491.56799999999993,""]
[null,null,null,null,null,null,null,"MAR02481.022","","",24,{"$f":"IF($J69=\"y\",\"\",L69)","v":70.065999999999988},27.299299999999995,62.200099999999985,120.96299999999999,103.11599999999999,94.522999999999982,126.91199999999999,120.96299999999999,{"$f":"IF($J69=\"y\",\"\",T69)","v":75.353999999999985},2161.4699999999993,746.92999999999984,1936.7299999999998,1606.2299999999998,165.24999999999997,20.491,193.01199999999997,130.21700000000001,55.854499999999994,637.20399999999984,24.390899999999995,563.83299999999997,222.09599999999998,""]
[null,null,null,null,null,null,null,"MAR02481.023","","",25,{"$f":"IF($J70=\"y\",\"\",L70)","v":84.554000000000002},36.598000000000006,96.543000000000006,200.02700000000002,186.14500000000001,160.274,182.35899999999998,174.78700000000003,{"$f":"IF($J70=\"y\",\"\",T70)","v":129.35499999999999},2801.6400000000003,933.88,2498.7599999999998,2019.2,249.876,36.913499999999999,317.39299999999997,159.643,90.864000000000004,889.71,29.215299999999996,763.51,327.48900000000003,""]
[null,null,null,null,null,null,null,"","","","",{"$f":"IF($J71=\"y\",\"\",L71)","v":""},"","","","","","","",{"$f":"IF($J71=\"y\",\"\",T71)","v":""},"","","","","","","","","","","","","",""]
[null,null,null,null,null,null,null,"","","","",{"$f":"IF($J72=\"y\",\"\",L72)","v":""},"","","","","","","",{"$f":"IF($J72=\"y\",\"\",T72)","v":""},"","","","","","","","","","","","","",""]
[null,null,null,null,null,null,null,"","","","",{"$f":"IF($J73=\"y\",\"\",L73)","v":""},"","","","","","","",{"$f":"IF($J73=\"y\",\"\",T73)","v":""},"","","","","","","","","","","","","",""]
[null,null,null,null,null,null,null,"","","","",{"$f":"IF($J74=\"y\",\"\",L74)","v":""},"","","","","","","",{"$f":"IF($J74=\"y\",\"\",T74)","v":""},"","","","","","","","","","","","","",""]
[null,null,null,null,null,null,null,"","","","",{"$f":"IF($J75=\"y\",\"\",L75)","v":""},"","","","","","","",{"$f":"IF($J75=\"y\",\"\",T75)","v":""},"","","","","","","","","","","","","",""]
[null,null,null,null,null,null,null,"","","","",{"$f":"IF($J76=\"y\",\"\",L76)","v":""},"","","","","","","",{"$f":"IF($J76=\"y\",\"\",T76)","v":""},"","","","","","","","","","","","","",""]
[null,null,null,null,null,null,null,"","","","",{"$f":"IF($J77=\"y\",\"\",L77)","v":""},"","","","","","","",{"$f":"IF($J77=\"y\",\"\",T77)","v":""},"","","","","","","","","","","","","",""]
[null,null,null,null,null,null,null,null,null,"Averages:",null,{"$f":"IF(COUNT(L86:L115)<1,\"\", AVERAGE(L86:L115))","v":181.16800000000003},79.977278260869568,133.22109130434785,281.7369565217391,302.57256521739129,294.22221739130435,245.02513043478262,235.63608695652175,241.66699999999997,1371.6228695652173,628.83678260869567,1255.8826956521737,1068.5773913043479,324.46708695652177,53.420891304347826,573.04965217391316,200.10921739130433,190.84958695652179,493.51634782608699,75.431686956521744,562.41447826086949,564.82082608695657,""]
[]
[]
[]
[null,null,null,null,null,null,null,"Force significant figures"]
[]
[null,null,null,null,null,null,null,"Laboratory sample number","Dredge Area","Excluded (y if yes)","Sample ID(s)","PAHs as µg/kg wet weight",null,null,null,null,null,null,null,null,null,null,null,null,null,null,null,null,null,null,null,null,null,"Total hydrocarbon content (mg/kg)"]
[null,null,null,null,null,null,null,null,null,null,null,"Acenapthene","Acenapthylene","Anthracene","Benz[a]anthracene","Benzo[a]pyrene","Benzo[b]fluoranthene","Benzo[g,h,i]perylene","Benzo[e]pyrene","Benzo[k]fluoranthene","C1-Napthalenes","C1-Phenanthrenes","C2-Napthalenes","C3-Napthalenes","Chrysene","Dibenz[a,h]anthracene","Fluoranthene","Fluorene","Indeno[123-c,d]pyrene","Napthalene","Perylene","Phenanthrene","Pyrene"]
[null,null,null,null,null,null,null,{"$f":"IF(H86=\"\",\"\",H86)","v":"MAR02481.001"},"","",{"$f":"IF(J124=\"y\",\"\",K86)","v":1},{"$f":"IF(L86=\"\",\"\",IF(L86=0,0,(ROUND(L86,3-1-INT(LOG10(ABS(L86)))))))","v":54.7},{"$f":"IF(M86=\"\",\"\",IF(M86=0,0,(ROUND(M86,3-1-INT(LOG10(ABS(M86)))))))","v":28.1},41.3,148,178,191,148,143,163,252,157,219,178,189,31.1,349,62,123,132,53.3,195,311,""]
[null,null,null,null,null,null,null,{"$f":"IF(H87=\"\",\"\",H87)","v":"MAR02481.002"},"","",{"$f":"IF(J125=\"y\",\"\",K87)","v":2},{"$f":"IF(L87=\"\",\"\",IF(L87=0,0,(ROUND(L87,3-1-INT(LOG10(ABS(L87)))))))","v":75.3},50.8,59.4,183,215,198,168,164,196,268,217,246,214,222,30.4,407,82.3,147,147,58.6,230,365,""]
[null,null,null,null,null,null,null,{"$f":"IF(H88=\"\",\"\",H88)","v":"MAR02481.003"},"","",3,{"$f":"IF(L88=\"\",\"\",IF(L88=0,0,(ROUND(L88,3-1-INT(LOG10(ABS(L88)))))))","v":78.599999999999994},37.4,77,231,265,262,210,196,252,339,294,264,237,257,44.1,539,86.2,184,155,85.9,270,482,""]
[null,null,null,null,null,null,null,{"$f":"IF(H89=\"\",\"\",H89)","v":"MAR02481.004"},"","",4,{"$f":"IF(L89=\"\",\"\",IF(L89=0,0,(ROUND(L89,3-1-INT(LOG10(ABS(L89)))))))","v":153},59.8,138,302,325,314,239,228,287,468,338,423,335,324,53,712,154,215,262,90.4,423,627,""]
[null,null,null,null,null,null,null,{"$f":"IF(H90=\"\",\"\",H90)","v":"MAR02481.005"},"","",5,{"$f":"IF(L90=\"\",\"\",IF(L90=0,0,(ROUND(L90,3-1-INT(LOG10(ABS(L90)))))))","v":167},73.3,137,323,342,339,247,245,302,612,382,529,417,337,54.8,770,168,229,366,138,438,803,""]
[null,null,null,null,null,null,null,{"$f":"IF(H91=\"\",\"\",H91)","v":"MAR02481.006"},"","",6,{"$f":"IF(L91=\"\",\"\",IF(L91=0,0,(ROUND(L91,3-1-INT(LOG10(ABS(L91)))))))","v":231},117,172,447,431,426,292,294,361,696,489,617,501,451,66.7,1070,212,270,385,127,493,1030,""]
[null,null,null,null,null,null,null,{"$f":"IF(H92=\"\",\"\",H92)","v":"MAR02481.007"},"","",7,{"$f":"IF(L92=\"\",\"\",IF(L92=0,0,(ROUND(L92,3-1-INT(LOG10(ABS(L92)))))))","v":207},79.8,144,275,297,294,231,221,237,742,423,664,150,306,50.1,731,213,201,397,76.400000000000006,497,631,""]
[null,null,null,null,null,null,null,{"$f":"IF(H93=\"\",\"\",H93)","v":"MAR02481.008"},"","",8,{"$f":"IF(L93=\"\",\"\",IF(L93=0,0,(ROUND(L93,3-1-INT(LOG10(ABS(L93)))))))","v":327},102,256,409,445,435,323,315,377,876,601,774,606,428,73.599999999999994,941,295,295,578,115,620,979,""]
[null,null,null,null,null,null,null,{"$f":"IF(H94=\"\",\"\",H94)","v":"MAR02481.009"},"","",9,{"$f":"IF(L94=\"\",\"\",IF(L94=0,0,(ROUND(L94,3-1-INT(LOG10(ABS(L94)))))))","v":396},95.5,118,143,160,159,136,126,121,537,244,468,380,168,27.6,310,283,102,275,38.5,322,317,""]
[null,null,null,null,null,null,null,{"$f":"IF(H95=\"\",\"\",H95)","v":"MAR02481.010"},"","",10,{"$f":"IF(L95=\"\",\"\",IF(L95=0,0,(ROUND(L95,3-1-INT(LOG10(ABS(L95)))))))","v":249},93,123,255,292,298,248,234,234,1290,586,1200,1010,300,52.7,518,229,178,463,69.2,545,518,""]
[null,null,null,null,null,null,null,{"$f":"IF(H96=\"\",\"\",H96)","v":"MAR02481.011"},"","",11,{"$f":"IF(L96=\"\",\"\",IF(L96=0,0,(ROUND(L96,3-1-INT(LOG10(ABS(L96)))))))","v":367},190,247,458,564,550,407,403,452,1910,817,1700,1560,521,94.2,827,350,366,703,152,779,937,""]
[null,null,null,null,null,null,null,{"$f":"IF(H97=\"\",\"\",H97)","v":"MAR02481.012"},"","",12,{"$f":"IF(L97=\"\",\"\",IF(L97=0,0,(ROUND(L97,3-1-INT(LOG10(ABS(L97)))))))","v":325},151,151,323,379,364,301,285,300,1490,662,1450,1280,363,65.3,635,305,250,559,89.7,630,662,""]
[null,null,null,null,null,null,null,{"$f":"IF(H98=\"\",\"\",H98)","v":"MAR02481.013"},"","",13,{"$f":"IF(L98=\"\",\"\",IF(L98=0,0,(ROUND(L98,3-1-INT(LOG10(ABS(L98)))))))","v":346},128,152,277,311,313,248,241,245,1420,598,1300,1130,315,55.9,529,294,205,500,73,578,564,""]
[null,null,null,null,null,null,null,{"$f":"IF(H99=\"\",\"\",H99)","v":"MAR02481.014"},"","",15,{"$f":"IF(L99=\"\",\"\",IF(L99=0,0,(ROUND(L99,3-1-INT(LOG10(ABS(L99)))))))","v":228},128,206,383,417,385,312,300,321,1580,832,1420,1300,413,67.3,768,257,241,544,94.6,768,775,""]
[null,null,null,null,null,null,null,{"$f":"IF(H100=\"\",\"\",H100)","v":"MAR02481.015"},"","",17,{"$f":"IF(L100=\"\",\"\",IF(L100=0,0,(ROUND(L100,3-1-INT(LOG10(ABS(L100)))))))","v":117},67,131,273,281,279,244,232,213,1760,778,1630,1440,329,53.8,518,192,166,538,56.2,650,489,""]
[null,null,null,null,null,null,null,{"$f":"IF(H101=\"\",\"\",H101)","v":"MAR02481.016"},"","",18,{"$f":"IF(L101=\"\",\"\",IF(L101=0,0,(ROUND(L101,3-1-INT(LOG10(ABS(L101)))))))","v":111},80.900000000000006,130,289,298,293,247,241,227,1830,735,1700,1470,341,56.2,522,181,179,583,60.4,646,498,""]
[null,null,null,null,null,null,null,{"$f":"IF(H102=\"\",\"\",H102)","v":"MAR02481.017"},"","",19,{"$f":"IF(L102=\"\",\"\",IF(L102=0,0,(ROUND(L102,3-1-INT(LOG10(ABS(L102)))))))","v":120},66.7,136,284,281,262,260,245,216,2310,941,2160,1830,353,55.7,485,201,181,667,56.6,720,477,""]
[null,null,null,null,null,null,null,{"$f":"IF(H103=\"\",\"\",H103)","v":"MAR02481.018"},"","",20,{"$f":"IF(L103=\"\",\"\",IF(L103=0,0,(ROUND(L103,3-1-INT(LOG10(ABS(L103)))))))","v":133},57.8,136,340,344,347,308,282,264,2300,1070,2110,1870,393,61.4,624,218,210,712,83.1,815,583,""]
[null,null,null,null,null,null,null,{"$f":"IF(H104=\"\",\"\",H104)","v":"MAR02481.019"},"","",21,{"$f":"IF(L104=\"\",\"\",IF(L104=0,0,(ROUND(L104,3-1-INT(LOG10(ABS(L104)))))))","v":144},80.900000000000006,138,342,355,352,314,311,229,1850,915,1750,1610,453,85.9,556,208,205,608,67,681,552,""]
[null,null,null,null,null,null,null,{"$f":"IF(H105=\"\",\"\",H105)","v":"MAR02481.020"},"","",22,{"$f":"IF(L105=\"\",\"\",IF(L105=0,0,(ROUND(L105,3-1-INT(LOG10(ABS(L105)))))))","v":74.400000000000006},42.2,92.8,191,207,201,194,178,153,1510,642,1410,1210,247,39,351,131,133,475,41.3,515,355,""]
[null,null,null,null,null,null,null,{"$f":"IF(H106=\"\",\"\",H106)","v":"MAR02481.021"},"","",23,{"$f":"IF(L106=\"\",\"\",IF(L106=0,0,(ROUND(L106,3-1-INT(LOG10(ABS(L106)))))))","v":108},46.6,119,283,284,252,250,238,205,2550,1060,2400,2220,338,52.7,505,191,164,776,55.2,794,492,""]
[null,null,null,null,null,null,null,{"$f":"IF(H107=\"\",\"\",H107)","v":"MAR02481.022"},"","",24,{"$f":"IF(L107=\"\",\"\",IF(L107=0,0,(ROUND(L107,3-1-INT(LOG10(ABS(L107)))))))","v":70.099999999999994},27.3,62.2,121,103,94.5,127,121,75.400000000000006,2160,747,1940,1610,165,20.5,193,130,55.9,637,24.4,564,222,""]
[null,null,null,null,null,null,null,{"$f":"IF(H108=\"\",\"\",H108)","v":"MAR02481.023"},"","",25,{"$f":"IF(L108=\"\",\"\",IF(L108=0,0,(ROUND(L108,3-1-INT(LOG10(ABS(L108)))))))","v":84.6},36.6,96.5,200,186,160,182,175,129,2800,934,2500,2020,250,36.9,317,160,90.9,890,29.2,764,327,""]
[null,null,null,null,null,null,null,{"$f":"IF(H109=\"\",\"\",H109)","v":""},"","","",{"$f":"IF(L109=\"\",\"\",IF(L109=0,0,(ROUND(L109,3-1-INT(LOG10(ABS(L109)))))))","v":""},"","","","","","","","","","","","","","","","","","","","","",""]
[null,null,null,null,null,null,null,{"$f":"IF(H110=\"\",\"\",H110)","v":""},"","","",{"$f":"IF(L110=\"\",\"\",IF(L110=0,0,(ROUND(L110,3-1-INT(LOG10(ABS(L110)))))))","v":""},"","","","","","","","","","","","","","","","","","","","","",""]
[null,null,null,null,null,null,null,{"$f":"IF(H111=\"\",\"\",H111)","v":""},"","","",{"$f":"IF(L111=\"\",\"\",IF(L111=0,0,(ROUND(L111,3-1-INT(LOG10(ABS(L111)))))))","v":""},"","","","","","","","","","","","","","","","","","","","","",""]
[null,null,null,null,null,null,null,{"$f":"IF(H112=\"\",\"\",H112)","v":""},"","","",{"$f":"IF(L112=\"\",\"\",IF(L112=0,0,(ROUND(L112,3-1-INT(LOG10(ABS(L112)))))))","v":""},"","","","","","","","","","","","","","","","","","","","","",""]
[null,null,null,null,null,null,null,{"$f":"IF(H113=\"\",\"\",H113)","v":""},"","","",{"$f":"IF(L113=\"\",\"\",IF(L113=0,0,(ROUND(L113,3-1-INT(LOG10(ABS(L113)))))))","v":""},"","","","","","","","","","","","","","","","","","","","","",""]
[null,null,null,null,null,null,null,{"$f":"IF(H114=\"\",\"\",H114)","v":""},"","","",{"$f":"IF(L114=\"\",\"\",IF(L114=0,0,(ROUND(L114,3-1-INT(LOG10(ABS(L114)))))))","v":""},"","","","","","","","","","","","","","","","","","","","","",""]
[null,null,null,null,null,null,null,{"$f":"IF(H115=\"\",\"\",H115)","v":""},"","","",{"$f":"IF(L115=\"\",\"\",IF(L115=0,0,(ROUND(L115,3-1-INT(LOG10(ABS(L115)))))))","v":""},"","","","","","","","","","","","","","","","","","","","","",""]
[null,null,null,null,null,null,null,null,null,"Averages:",null,{"$f":"IF(COUNT(L124:L153)<1,\"\", AVERAGE(L124:L153))","v":181.16086956521738},79.986956521739131,133.18260869565216,281.73913043478262,302.60869565217394,294.28260869565219,245.04347826086956,235.56521739130434,241.71304347826086,1371.7391304347825,628.78260869565213,1255.391304347826,1068.608695652174,324.47826086956519,53.4304347826087,572.91304347826087,200.10869565217391,190.90434782608693,493.56521739130437,75.434782608695656,562.47826086956525,565.04347826086962,""]
[]
[]
[]
[null,null,null,null,null,null,null,"Average of dredge areas"]
[]
[null,null,null,null,null,null,null,null,null,null,"Dredge Area","PAHs as µg/kg wet weight",null,null,null,null,null,null,null,null,null,null,null,null,null,null,null,null,null,null,null,null,null,"Total hydrocarbon content (mg/kg)"]
[null,null,null,null,null,null,null,null,null,null,null,"Acenapthene","Acenapthylene","Anthracene","Benz[a]anthracene","Benzo[a]pyrene","Benzo[b]fluoranthene","Benzo[g,h,i]perylene","Benzo[e]pyrene","Benzo[k]fluoranthene","C1-Napthalenes","C1-Phenanthrenes","C2-Napthalenes","C3-Napthalenes","Chrysene","Dibenz[a,h]anthracene","Fluoranthene","Fluorene","Indeno[123-c,d]pyrene","Napthalene","Perylene","Phenanthrene","Pyrene"]
[null,null,null,null,null,null,null,null,null,null,"Area i",{"$f":"IF(COUNTIF($I$124:$I$153,\"Area i\")<1,\"\",AVERAGEIF($I$124:$I$153,\"Area i\",L$124:L$153))","v":""},{"$f":"IF(COUNTIF($I$124:$I$153,\"Area i\")<1,\"\",AVERAGEIF($I$124:$I$153,\"Area i\",M$124:M$153))","v":""},"","","","","","","","","","","","","","","","","","","","",""]
[null,null,null,null,null,null,null,null,null,null,"Area ii",{"$f":"IF(COUNTIF($I$124:$I$153,\"Area ii\")<1,\"\",AVERAGEIF($I$124:$I$153,\"Area ii\",L$124:L$153))","v":""},{"$f":"IF(COUNTIF($I$124:$I$153,\"Area ii\")<1,\"\",AVERAGEIF($I$124:$I$153,\"Area ii\",M$124:M$153))","v":""},"","","","","","","","","","","","","","","","","","","","",""]
[null,null,null,null,null,null,null,null,null,null,"Area iii",{"$f":"IF(COUNTIF($I$124:$I$153,\"Area iii\")<1,\"\",AVERAGEIF($I$124:$I$153,\"Area iii\",L$124:L$153))","v":""},{"$f":"IF(COUNTIF($I$124:$I$153,\"Area iii\")<1,\"\",AVERAGEIF($I$124:$I$153,\"Area iii\",M$124:M$153))","v":""},"","","","","","","","","","","","","","","","","","","","",""]
[null,null,null,null,null,null,null,null,null,null,"Area iv",{"$f":"IF(COUNTIF($I$124:$I$153,\"Area iv\")<1,\"\",AVERAGEIF($I$124:$I$153,\"Area iv\",L$124:L$153))","v":""},{"$f":"IF(COUNTIF($I$124:$I$153,\"Area iv\")<1,\"\",AVERAGEIF($I$124:$I$153,\"Area iv\",M$124:M$153))","v":""},"","","","","","","","","","","","","","","","","","","","",""]
[null,null,null,null,null,null,null,null,null,null,"Area v",{"$f":"IF(COUNTIF($I$124:$I$153,\"Area v\")<1,\"\",AVERAGEIF($I$124:$I$153,\"Area v\",L$124:L$153))","v":""},{"$f":"IF(COUNTIF($I$124:$I$153,\"Area v\")<1,\"\",AVERAGEIF($I$124:$I$153,\"Area v\",M$124:M$153))","v":""},"","","","","","","","","","","","","","","","","","","","",""]
[null,null,null,null,null,null,null,null,null,null,"Area vi",{"$f":"IF(COUNTIF($I$124:$I$153,\"Area vi\")<1,\"\",AVERAGEIF($I$124:$I$153,\"Area vi\",L$124:L$153))","v":""},{"$f":"IF(COUNTIF($I$124:$I$153,\"Area vi\")<1,\"\",AVERAGEIF($I$124:$I$153,\"Area vi\",M$124:M$153))","v":""},"","","","","","","","","","","","","","","","","","","","",""]
[null,null,null,null,null,null,null,null,null,null,"Averages:",{"$f":"IF(COUNT(L162:L167)<1,\"\", AVERAGE(L162:L167))","v":""},"","","","","","","","","","","","","","","","","","","","","",""]
[]
[]
[null,null,null,null,null,null,null,null,null,null,null,null,null,null,null," ",null,null,null,null,null,null,null,null,null,null,null,null," "]
[null,null,null,null,null,null,null,"PR weightings (dredge area averages multiplied by dredge area tonnage)"]
[]
[null,null,null,null,null,null,null,null,null,null,"Dredge Area","PAHs as µg/kg wet weight",null,null,null,null,null,null,null,null,null,null,null,null,null,null,null,null,null,null,null,null,null,"Total hydrocarbon content (mg/kg)"]
[null,null,null,null,null,null,null,null,null,null,null,"Acenapthene","Acenapthylene","Anthracene","Benz[a]anthracene","Benzo[a]pyrene","Benzo[b]fluoranthene","Benzo[g,h,i]perylene","Benzo[e]pyrene","Benzo[k]fluoranthene","C1-Napthalenes","C1-Phenanthrenes","C2-Napthalenes","C3-Napthalenes","Chrysene","Dibenz[a,h]anthracene","Fluoranthene","Fluorene","Indeno[123-c,d]pyrene","Napthalene","Perylene","Phenanthrene","Pyrene"]
[null,null,null,null,null,null,null,null,null,null,{"$f":"K162","v":"Area i"},{"$f":"IF(L162=\"\",\"\",L162*'PR details'!$G4)","v":""},{"$f":"IF(M162=\"\",\"\",M162*'PR details'!$G4)","v":""},{"$f":"IF(N162=\"\",\"\",N162*'PR details'!$G4)","v":""},{"$f":"IF(O162=\"\",\"\",O162*'PR details'!$G4)","v":""},{"$f":"IF(P162=\"\",\"\",P162*'PR details'!$G4)","v":""},{"$f":"IF(Q162=\"\",\"\",Q162*'PR details'!$G4)","v":""},{"$f":"IF(R162=\"\",\"\",R162*'PR details'!$G4)","v":""},{"$f":"IF(S162=\"\",\"\",S162*'PR details'!$G4)","v":""},{"$f":"IF(T162=\"\",\"\",T162*'PR details'!$G4)","v":""},{"$f":"IF(U162=\"\",\"\",U162*'PR details'!$G4)","v":""},{"$f":"IF(V162=\"\",\"\",V162*'PR details'!$G4)","v":""},{"$f":"IF(W162=\"\",\"\",W162*'PR details'!$G4)","v":""},{"$f":"IF(X162=\"\",\"\",X162*'PR details'!$G4)","v":""},{"$f":"IF(Y162=\"\",\"\",Y162*'PR details'!$G4)","v":""},{"$f":"IF(Z162=\"\",\"\",Z162*'PR details'!$G4)","v":""},{"$f":"IF(AA162=\"\",\"\",AA162*'PR details'!$G4)","v":""},{"$f":"IF(AB162=\"\",\"\",AB162*'PR details'!$G4)","v":""},{"$f":"IF(AC162=\"\",\"\",AC162*'PR details'!$G4)","v":""},{"$f":"IF(AD162=\"\",\"\",AD162*'PR details'!$G4)","v":""},{"$f":"IF(AE162=\"\",\"\",AE162*'PR details'!$G4)","v":""},{"$f":"IF(AF162=\"\",\"\",AF162*'PR details'!$G4)","v":""},{"$f":"IF(AG162=\"\",\"\",AG162*'PR details'!$G4)","v":""},{"$f":"IF(AH162=\"\",\"\",AH162*'PR details'!$G4)","v":""}]
[null,null,null,null,null,null,null,null,null,null,"Area ii",{"$f":"IF(L163=\"\",\"\",L163*'PR details'!$G5)","v":""},{"$f":"IF(M163=\"\",\"\",M163*'PR details'!$G5)","v":""},{"$f":"IF(N163=\"\",\"\",N163*'PR details'!$G5)","v":""},{"$f":"IF(O163=\"\",\"\",O163*'PR details'!$G5)","v":""},{"$f":"IF(P163=\"\",\"\",P163*'PR details'!$G5)","v":""},{"$f":"IF(Q163=\"\",\"\",Q163*'PR details'!$G5)","v":""},{"$f":"IF(R163=\"\",\"\",R163*'PR details'!$G5)","v":""},{"$f":"IF(S163=\"\",\"\",S163*'PR details'!$G5)","v":""},{"$f":"IF(T163=\"\",\"\",T163*'PR details'!$G5)","v":""},{"$f":"IF(U163=\"\",\"\",U163*'PR details'!$G5)","v":""},{"$f":"IF(V163=\"\",\"\",V163*'PR details'!$G5)","v":""},{"$f":"IF(W163=\"\",\"\",W163*'PR details'!$G5)","v":""},{"$f":"IF(X163=\"\",\"\",X163*'PR details'!$G5)","v":""},{"$f":"IF(Y163=\"\",\"\",Y163*'PR details'!$G5)","v":""},{"$f":"IF(Z163=\"\",\"\",Z163*'PR details'!$G5)","v":""},{"$f":"IF(AA163=\"\",\"\",AA163*'PR details'!$G5)","v":""},{"$f":"IF(AB163=\"\",\"\",AB163*'PR details'!$G5)","v":""},{"$f":"IF(AC163=\"\",\"\",AC163*'PR details'!$G5)","v":""},{"$f":"IF(AD163=\"\",\"\",AD163*'PR details'!$G5)","v":""},{"$f":"IF(AE163=\"\",\"\",AE163*'PR details'!$G5)","v":""},{"$f":"IF(AF163=\"\",\"\",AF163*'PR details'!$G5)","v":""},{"$f":"IF(AG163=\"\",\"\",AG163*'PR details'!$G5)","v":""},{"$f":"IF(AH163=\"\",\"\",AH163*'PR details'!$G5)","v":""}]
[null,null,null,null,null,null,null,null,null,null,"Area iii",{"$f":"IF(L164=\"\",\"\",L164*'PR details'!$G6)","v":""},{"$f":"IF(M164=\"\",\"\",M164*'PR details'!$G6)","v":""},{"$f":"IF(N164=\"\",\"\",N164*'PR details'!$G6)","v":""},{"$f":"IF(O164=\"\",\"\",O164*'PR details'!$G6)","v":""},{"$f":"IF(P164=\"\",\"\",P164*'PR details'!$G6)","v":""},{"$f":"IF(Q164=\"\",\"\",Q164*'PR details'!$G6)","v":""},{"$f":"IF(R164=\"\",\"\",R164*'PR details'!$G6)","v":""},{"$f":"IF(S164=\"\",\"\",S164*'PR details'!$G6)","v":""},{"$f":"IF(T164=\"\",\"\",T164*'PR details'!$G6)","v":""},{"$f":"IF(U164=\"\",\"\",U164*'PR details'!$G6)","v":""},{"$f":"IF(V164=\"\",\"\",V164*'PR details'!$G6)","v":""},{"$f":"IF(W164=\"\",\"\",W164*'PR details'!$G6)","v":""},{"$f":"IF(X164=\"\",\"\",X164*'PR details'!$G6)","v":""},{"$f":"IF(Y164=\"\",\"\",Y164*'PR details'!$G6)","v":""},{"$f":"IF(Z164=\"\",\"\",Z164*'PR details'!$G6)","v":""},{"$f":"IF(AA164=\"\",\"\",AA164*'PR details'!$G6)","v":""},{"$f":"IF(AB164=\"\",\"\",AB164*'PR details'!$G6)","v":""},{"$f":"IF(AC164=\"\",\"\",AC164*'PR details'!$G6)","v":""},{"$f":"IF(AD164=\"\",\"\",AD164*'PR details'!$G6)","v":""},{"$f":"IF(AE164=\"\",\"\",AE164*'PR details'!$G6)","v":""},{"$f":"IF(AF164=\"\",\"\",AF164*'PR details'!$G6)","v":""},{"$f":"IF(AG164=\"\",\"\",AG164*'PR details'!$G6)","v":""},{"$f":"IF(AH164=\"\",\"\",AH164*'PR details'!$G6)","v":""}]
[null,null,null,null,null,null,null,null,null,null,"Area iv",{"$f":"IF(L165=\"\",\"\",L165*'PR details'!$G7)","v":""},{"$f":"IF(M165=\"\",\"\",M165*'PR details'!$G7)","v":""},{"$f":"IF(N165=\"\",\"\",N165*'PR details'!$G7)","v":""},{"$f":"IF(O165=\"\",\"\",O165*'PR details'!$G7)","v":""},{"$f":"IF(P165=\"\",\"\",P165*'PR details'!$G7)","v":""},{"$f":"IF(Q165=\"\",\"\",Q165*'PR details'!$G7)","v":""},{"$f":"IF(R165=\"\",\"\",R165*'PR details'!$G7)","v":""},{"$f":"IF(S165=\"\",\"\",S165*'PR details'!$G7)","v":""},{"$f":"IF(T165=\"\",\"\",T165*'PR details'!$G7)","v":""},{"$f":"IF(U165=\"\",\"\",U165*'PR details'!$G7)","v":""},{"$f":"IF(V165=\"\",\"\",V165*'PR details'!$G7)","v":""},{"$f":"IF(W165=\"\",\"\",W165*'PR details'!$G7)","v":""},{"$f":"IF(X165=\"\",\"\",X165*'PR details'!$G7)","v":""},{"$f":"IF(Y165=\"\",\"\",Y165*'PR details'!$G7)","v":""},{"$f":"IF(Z165=\"\",\"\",Z165*'PR details'!$G7)","v":""},{"$f":"IF(AA165=\"\",\"\",AA165*'PR details'!$G7)","v":""},{"$f":"IF(AB165=\"\",\"\",AB165*'PR details'!$G7)","v":""},{"$f":"IF(AC165=\"\",\"\",AC165*'PR details'!$G7)","v":""},{"$f":"IF(AD165=\"\",\"\",AD165*'PR details'!$G7)","v":""},{"$f":"IF(AE165=\"\",\"\",AE165*'PR details'!$G7)","v":""},{"$f":"IF(AF165=\"\",\"\",AF165*'PR details'!$G7)","v":""},{"$f":"IF(AG165=\"\",\"\",AG165*'PR details'!$G7)","v":""},{"$f":"IF(AH165=\"\",\"\",AH165*'PR details'!$G7)","v":""}]
[null,null,null,null,null,null,null,null,null,null,"Area v",{"$f":"IF(L166=\"\",\"\",L166*'PR details'!$G8)","v":""},{"$f":"IF(M166=\"\",\"\",M166*'PR details'!$G8)","v":""},{"$f":"IF(N166=\"\",\"\",N166*'PR details'!$G8)","v":""},{"$f":"IF(O166=\"\",\"\",O166*'PR details'!$G8)","v":""},{"$f":"IF(P166=\"\",\"\",P166*'PR details'!$G8)","v":""},{"$f":"IF(Q166=\"\",\"\",Q166*'PR details'!$G8)","v":""},{"$f":"IF(R166=\"\",\"\",R166*'PR details'!$G8)","v":""},{"$f":"IF(S166=\"\",\"\",S166*'PR details'!$G8)","v":""},{"$f":"IF(T166=\"\",\"\",T166*'PR details'!$G8)","v":""},{"$f":"IF(U166=\"\",\"\",U166*'PR details'!$G8)","v":""},{"$f":"IF(V166=\"\",\"\",V166*'PR details'!$G8)","v":""},{"$f":"IF(W166=\"\",\"\",W166*'PR details'!$G8)","v":""},{"$f":"IF(X166=\"\",\"\",X166*'PR details'!$G8)","v":""},{"$f":"IF(Y166=\"\",\"\",Y166*'PR details'!$G8)","v":""},{"$f":"IF(Z166=\"\",\"\",Z166*'PR details'!$G8)","v":""},{"$f":"IF(AA166=\"\",\"\",AA166*'PR details'!$G8)","v":""},{"$f":"IF(AB166=\"\",\"\",AB166*'PR details'!$G8)","v":""},{"$f":"IF(AC166=\"\",\"\",AC166*'PR details'!$G8)","v":""},{"$f":"IF(AD166=\"\",\"\",AD166*'PR details'!$G8)","v":""},{"$f":"IF(AE166=\"\",\"\",AE166*'PR details'!$G8)","v":""},{"$f":"IF(AF166=\"\",\"\",AF166*'PR details'!$G8)","v":""},{"$f":"IF(AG166=\"\",\"\",AG166*'PR details'!$G8)","v":""},{"$f":"IF(AH166=\"\",\"\",AH166*'PR details'!$G8)","v":""}]
[null,null,null,null,null,null,null,null,null,null,"Area vi",{"$f":"IF(L167=\"\",\"\",L167*'PR details'!$G9)","v":""},{"$f":"IF(M167=\"\",\"\",M167*'PR details'!$G9)","v":""},{"$f":"IF(N167=\"\",\"\",N167*'PR details'!$G9)","v":""},{"$f":"IF(O167=\"\",\"\",O167*'PR details'!$G9)","v":""},{"$f":"IF(P167=\"\",\"\",P167*'PR details'!$G9)","v":""},{"$f":"IF(Q167=\"\",\"\",Q167*'PR details'!$G9)","v":""},{"$f":"IF(R167=\"\",\"\",R167*'PR details'!$G9)","v":""},{"$f":"IF(S167=\"\",\"\",S167*'PR details'!$G9)","v":""},{"$f":"IF(T167=\"\",\"\",T167*'PR details'!$G9)","v":""},{"$f":"IF(U167=\"\",\"\",U167*'PR details'!$G9)","v":""},{"$f":"IF(V167=\"\",\"\",V167*'PR details'!$G9)","v":""},{"$f":"IF(W167=\"\",\"\",W167*'PR details'!$G9)","v":""},{"$f":"IF(X167=\"\",\"\",X167*'PR details'!$G9)","v":""},{"$f":"IF(Y167=\"\",\"\",Y167*'PR details'!$G9)","v":""},{"$f":"IF(Z167=\"\",\"\",Z167*'PR details'!$G9)","v":""},{"$f":"IF(AA167=\"\",\"\",AA167*'PR details'!$G9)","v":""},{"$f":"IF(AB167=\"\",\"\",AB167*'PR details'!$G9)","v":""},{"$f":"IF(AC167=\"\",\"\",AC167*'PR details'!$G9)","v":""},{"$f":"IF(AD167=\"\",\"\",AD167*'PR details'!$G9)","v":""},{"$f":"IF(AE167=\"\",\"\",AE167*'PR details'!$G9)","v":""},{"$f":"IF(AF167=\"\",\"\",AF167*'PR details'!$G9)","v":""},{"$f":"IF(AG167=\"\",\"\",AG167*'PR details'!$G9)","v":""},{"$f":"IF(AH167=\"\",\"\",AH167*'PR details'!$G9)","v":""}]
[]
[]
[]
[null,null,null,null,null,null,null,"PR average"]
[]
[null,null,null,null,null,null,null,null,null,null,null,"PAHs as µg/kg wet weight",null,null,null,null,null,null,null,null,null,null,null,null,null,null,null,null,null,null,null,null,null,"Total hydrocarbon content (mg/kg)"]
[null,null,null,null,null,null,null,null,null,null,null,"Acenapthene","Acenapthylene","Anthracene","Benz[a]anthracene","Benzo[a]pyrene","Benzo[b]fluoranthene","Benzo[g,h,i]perylene","Benzo[e]pyrene","Benzo[k]fluoranthene","C1-Napthalenes","C1-Phenanthrenes","C2-Napthalenes","C3-Napthalenes","Chrysene","Dibenz[a,h]anthracene","Fluoranthene","Fluorene","Indeno[123-c,d]pyrene","Napthalene","Perylene","Phenanthrene","Pyrene"]
[null,null,null,null,null,null,null,null,null,null,null,{"$f":"IF(COUNT(L176:L181)<1,\"\",SUM(L176:L181))","v":""},"","","","","","","","","","","","","","","","","","","","","",""]

{"sheet":"PCB data","index":11,"n_rows":38,"n_cols":36,"rows_kept":38,"cut":false,"hidden":false,"merged":[[37,7,37,10],[4,11,4,35],[4,7,6,7],[4,8,6,8],[4,9,6,9],[4,10,6,10]]}
[]
[null,"Polychlorinated biphenyl data"]
[null,null,null,null,null,null,null,"determinand analysis outputs:"]
[null,"Instructions:"]
[null,"1. Record the laboratory/contractor responsible for PCB analysis",null,null,null,null,null,"Laboratory sample number","Dredge Area","Sample ID(s)","Total Solids (%)","PCBs as mg/kg dry weight"]
[null,"2. Record the date the samples were analysed.",null,null,null,null,null,null,null,null,null,"2,2',4,5,5'-Pentachlorobiphenyl","2,3,3',4,4'-Pentachlorobiphenyl","2,3,3',4',6-Pentachlorobiphenyl","2,3',4,4',5-Pentachlorobiphenyl","2,2',3,3',4,4'-Hexachlorobiphenyl","2,2',3,4,4',5'-Hexachlorobiphenyl","2,2',3,4,5,5'-Hexachlorobiphenyl","2,2',3,4',5',6-Hexachlorobiphenyl","2,2',3,5,5',6-Hexachlorobiphenyl","2,2',4,4',5,5'-Hexachlorobiphenyl","2,3,3',4,4',5-Hexachlorobiphenyl","2,3,3',4,4',6-Hexachlorobiphenyl","2,2',3,3',4,4',5-Heptachlorobiphenyl","2,2',5- Trichlorobiphenyl","2,2',3,4,4',5,5'-Heptachlorobiphenyl","2,2',3,4,4',5',6-Heptachlorobiphenyl","2,2',3,4',5,5',6-Heptachlorobiphenyl","2,2',3,3',4,4',5,5'-Octachlorobiphenyl","2,4,4'-Trichlorobiphenyl","2,4',5-Trichlorobiphenyl","2,2',3,5'-Tetrachlorobiphenyl","2,2',4,4'-Tetrachlorobiphenyl","2,2',4,5'-Tetrachlorobiphenyl","2,2',5,5'-Tetrachlorobiphenyl","2,3',4,4'-Tetrachlorobiphenyl"]
[null,"3. Enter full dataset for each sample in the analysis results table",null,null,null,null,null,null,null,null,null,"CB101","CB105","CB110","CB118","CB128","CB138","CB141","CB149","CB151","CB153","CB156","CB158","CB170","CB18","CB180","CB183","CB187","CB194","CB28","CB31","CB44","CB47","CB49","CB52","CB66"]
[null,"4. Analysis results should be reported in mg/kg (ppm) dry weight. ",null,null,null,null,null,"MAR02481.001",null,1,29.1,5.9000000000000003E-4,1.6000000000000001E-4,5.5000000000000003E-4,6.8000000000000005E-4,1.2999999999999999E-4,1.06E-3,2.2000000000000001E-4,1.1000000000000001E-3,3.8999999999999999E-4,1.3799999999999999E-3,8.0000000000000007E-5,1.9000000000000001E-4,5.6999999999999998E-4,1.7000000000000001E-4,1.5399999999999999E-3,3.8000000000000002E-4,1.07E-3,5.1999999999999995E-4,4.2999999999999999E-4,3.5E-4,3.1E-4,1.2999999999999999E-4,2.7999999999999998E-4,3.8000000000000002E-4,4.6000000000000001E-4]
[null,"5. Enter methdological limit of detection for each PCB prior to inputting raw data",null,null,null,null,null,"MAR02481.002",null,2,27.9,5.5999999999999995E-4,2.1000000000000001E-4,6.0999999999999997E-4,5.2999999999999998E-4,9.0000000000000006E-5,8.5999999999999998E-4,1.8000000000000001E-4,1.08E-3,5.1999999999999995E-4,1.3799999999999999E-3,1.2E-4,1.6000000000000001E-4,5.8E-4,1.9000000000000001E-4,1.7899999999999999E-3,3.1E-4,1.39E-3,5.2999999999999998E-4,4.4999999999999999E-4,3.8000000000000002E-4,3.4000000000000002E-4,1.3999999999999999E-4,3.3E-4,4.2000000000000002E-4,5.0000000000000001E-4]
[null,"6. Where analysis outputs are less than the limits of detection please enter text \"<LOD\"",null,null,null,null,null,"MAR02481.003",null,3,31.7,7.1000000000000002E-4,2.5000000000000001E-4,7.2000000000000005E-4,7.2000000000000005E-4,2.3000000000000001E-4,7.6999999999999996E-4,2.3000000000000001E-4,1.23E-3,5.1000000000000004E-4,1.6199999999999999E-3,1.1E-4,1.2E-4,5.5999999999999995E-4,2.5000000000000001E-4,1.81E-3,3.3E-4,1.1800000000000001E-3,6.3000000000000003E-4,5.6999999999999998E-4,4.4000000000000002E-4,3.8999999999999999E-4,1.7000000000000001E-4,4.0000000000000002E-4,5.9000000000000003E-4,5.6999999999999998E-4]
[null,"7. ICES 7 PCBs are highlighted in bold",null,null,null,null,null,"MAR02481.004",null,4,32.5,1.06E-3,2.9999999999999997E-4,9.5E-4,1.07E-3,1.9000000000000001E-4,9.6000000000000002E-4,1.7000000000000001E-4,1.1999999999999999E-3,4.0000000000000002E-4,1.58E-3,1.3999999999999999E-4,1.6000000000000001E-4,4.6999999999999999E-4,3.1E-4,1.31E-3,3.8000000000000002E-4,9.8999999999999999E-4,4.4000000000000002E-4,6.8999999999999997E-4,5.5000000000000003E-4,4.6999999999999999E-4,2.3000000000000001E-4,5.4000000000000001E-4,7.2999999999999996E-4,7.2000000000000005E-4]
[null,"8. Where copying and pasting entries please use paste values only",null,null,null,null,null,"MAR02481.015",null,17,48.9,5.1999999999999995E-4,2.2000000000000001E-4,5.5999999999999995E-4,6.2E-4,1.3999999999999999E-4,4.8000000000000001E-4,1.4999999999999999E-4,4.8999999999999998E-4,1.8000000000000001E-4,8.0999999999999996E-4,8.0000000000000007E-5,"<0.00008",1.4999999999999999E-4,1.6000000000000001E-4,3.6999999999999999E-4,9.0000000000000006E-5,3.1E-4,1.2E-4,4.0999999999999999E-4,3.6000000000000002E-4,2.5000000000000001E-4,1E-4,2.5000000000000001E-4,3.6000000000000002E-4,4.0000000000000002E-4]
[null,"9. Where entering multiple Sample IDs please use the pop-up form",null,null,null,null,null,"MAR02481.016",null,18,52.5,6.8999999999999997E-4,2.5999999999999998E-4,7.2999999999999996E-4,9.2000000000000003E-4,1.2999999999999999E-4,1E-3,1E-4,6.4999999999999997E-4,1.6000000000000001E-4,9.3000000000000005E-4,1.2E-4,1.6000000000000001E-4,1.7000000000000001E-4,1.6000000000000001E-4,3.6000000000000002E-4,1.6000000000000001E-4,2.5000000000000001E-4,1.3999999999999999E-4,3.8000000000000002E-4,3.4000000000000002E-4,2.5999999999999998E-4,1E-4,2.7999999999999998E-4,3.8999999999999999E-4,4.8999999999999998E-4]
[null,null,"IDs should be separated by a comma",null,null,null,null,"MAR02481.017",null,19,48,5.5000000000000003E-4,1.9000000000000001E-4,5.8E-4,7.3999999999999999E-4,1.2E-4,4.0000000000000002E-4,1.3999999999999999E-4,5.5999999999999995E-4,1.3999999999999999E-4,6.7000000000000002E-4,1.1E-4,"<0.00008",2.2000000000000001E-4,1.9000000000000001E-4,4.6000000000000001E-4,1E-4,2.7999999999999998E-4,1.2E-4,4.4000000000000002E-4,3.1E-4,2.4000000000000001E-4,1.1E-4,2.4000000000000001E-4,3.8999999999999999E-4,4.0000000000000002E-4]
[null,null,null,null,null,null,null,"MAR02481.018",null,20,51.6,6.4000000000000005E-4,2.5999999999999998E-4,7.3999999999999999E-4,8.1999999999999998E-4,1.9000000000000001E-4,6.8000000000000005E-4,1.9000000000000001E-4,6.0999999999999997E-4,2.0000000000000001E-4,8.3000000000000001E-4,1E-4,1.2E-4,2.0000000000000001E-4,2.2000000000000001E-4,4.6000000000000001E-4,1E-4,3.1E-4,1.2E-4,5.1999999999999995E-4,4.4000000000000002E-4,2.9E-4,9.0000000000000006E-5,2.9999999999999997E-4,4.0999999999999999E-4,5.1000000000000004E-4]
[null,"Analysis information:"]
[]
[null,null,"Laboratory/contractor:","SOCOTEC"]
[null,null,"Date of analysis:","2024-10-17"]
[]
[]
[]
[null,null,"Dredge Areas"]
[null,null,{"$f":"'Application info'!$C$26","v":"Area i"}]
[null,null,{"$f":"'Application info'!$C$27","v":"Area ii"}]
[null,null,{"$f":"'Application info'!$C$28","v":"Area iii"}]
[null,null,{"$f":"'Application info'!$C$29","v":"Area iv"}]
[null,null,{"$f":"'Application info'!$C$30","v":"Area v"}]
[null,null,{"$f":"'Application info'!$C$31","v":"Area vi"}]
[]
[]
[]
[]
[]
[]
[]
[]
[null,null,null,null,null,null,null,"Limits of detection (mg/kg dry weight):  ",null,null,null,8.0000000000000007E-5,8.0000000000000007E-5,8.0000000000000007E-5,8.0000000000000007E-5,8.0000000000000007E-5,8.0000000000000007E-5,8.0000000000000007E-5,8.0000000000000007E-5,8.0000000000000007E-5,8.0000000000000007E-5,8.0000000000000007E-5,8.0000000000000007E-5,8.0000000000000007E-5,8.0000000000000007E-5,8.0000000000000007E-5,8.0000000000000007E-5,8.0000000000000007E-5,8.0000000000000007E-5,8.0000000000000007E-5,8.0000000000000007E-5,8.0000000000000007E-5,8.0000000000000007E-5,8.0000000000000007E-5,8.0000000000000007E-5,8.0000000000000007E-5]

{"sheet":"PCB calcs","index":12,"n_rows":197,"n_cols":38,"rows_kept":197,"cut":false,"hidden":true,"merged":[[125,7,127,7],[125,8,127,8],[125,9,127,9],[125,10,127,10],[125,11,125,35],[193,36,195,36],[193,37,195,37],[193,7,195,7],[193,8,195,8],[193,9,195,9],[193,10,195,10],[193,11,193,35],[5,37,7,37],[5,11,5,35],[164,10,166,10],[179,7,181,7],[179,8,181,8],[179,9,181,9],[179,10,181,10],[86,7,88,7],[47,7,49,7],[47,8,49,8],[47,9,49,9],[5,36,7,36],[86,8,88,8],[86,9,88,9],[86,10,88,10],[5,7,7,7],[5,8,7,8],[5,9,7,9],[5,10,7,10],[47,10,49,10],[47,11,47,35],[47,36,49,36],[179,11,179,35],[179,36,181,36],[179,37,181,37],[86,37,88,37],[164,11,164,35],[164,36,166,36],[164,37,166,37],[86,36,88,36],[86,11,86,35],[47,37,49,37],[125,36,127,36],[125,37,127,37]]}
[]
[null,"Polyaromatic hydrocarbon summary information",null,null,null,null,null,null,null," "]
[]
[null,"Analysis information:",null,null,null,null,null,"determinand analysis outputs - adjusted for limits of detection:"]
[]
[null,null,"Applicant:",{"$f":"IF('Application info'!E16=\"\",\"\",'Application info'!E16)","v":"PD Ports"},null,null,null,"Laboratory sample number","Dredge Area","Excluded (y if yes)","Sample ID(s)","PCBs as mg/kg dry weight",null,null,null,null,null,null,null,null,null,null,null,null,null,null,null,null,null,null,null,null,null,null,null,null,"ICES 7","Total 25 congeners"]
[null,null,"Application number:",{"$f":"IF('Application info'!E17=\"\",\"\",'Application info'!E17)","v":""},null,null,null,null,null,null,null,"2,2',4,5,5'-Pentachlorobiphenyl","2,3,3',4,4'-Pentachlorobiphenyl","2,3,3',4',6-Pentachlorobiphenyl","2,3',4,4',5-Pentachlorobiphenyl","2,2',3,3',4,4'-Hexachlorobiphenyl","2,2',3,4,4',5'-Hexachlorobiphenyl","2,2',3,4,5,5'-Hexachlorobiphenyl","2,2',3,4',5',6-Hexachlorobiphenyl","2,2',3,5,5',6-Hexachlorobiphenyl","2,2',4,4',5,5'-Hexachlorobiphenyl","2,3,3',4,4',5-Hexachlorobiphenyl","2,3,3',4,4',6-Hexachlorobiphenyl","2,2',3,3',4,4',5-Heptachlorobiphenyl","2,2',5- Trichlorobiphenyl","2,2',3,4,4',5,5'-Heptachlorobiphenyl","2,2',3,4,4',5',6-Heptachlorobiphenyl","2,2',3,4',5,5',6-Heptachlorobiphenyl","2,2',3,3',4,4',5,5'-Octachlorobiphenyl","2,4,4'-Trichlorobiphenyl","2,4',5-Trichlorobiphenyl","2,2',3,5'-Tetrachlorobiphenyl","2,2',4,4'-Tetrachlorobiphenyl","2,2',4,5'-Tetrachlorobiphenyl","2,2',5,5'-Tetrachlorobiphenyl","2,3',4,4'-Tetrachlorobiphenyl"]
[null,null,"Application title:",{"$f":"IF('Application info'!E18=\"\",\"\",'Application info'!E18)","v":"Mid licence sampling - year 9"},null,null,null,null,null,null,null,"CB101","CB105","CB110","CB118","CB128","CB138","CB141","CB149","CB151","CB153","CB156","CB158","CB170","CB18","CB180","CB183","CB187","CB194","CB28","CB31","CB44","CB47","CB49","CB52","CB66"]
[null,null,"Date sampled:",{"$f":"IF('Application info'!E19=\"\",\"\",'Application info'!E19)","v":""},null,null,null,{"$f":"IF('PCB data'!H8=\"\",\"\",'PCB data'!H8)","v":"MAR02481.001"},{"$f":"IF('PCB data'!I8=\"\",\"\",'PCB data'!I8)","v":""},{"$f":"IFERROR(IF(K9=\"\",\"\",(IF(VLOOKUP(K9,'Application info'!$K$8:$L$37,2,0)=\"y\",\"y\",\"\"))),\"Manual entry required\")","v":""},{"$f":"IF('PCB data'!J8=\"\",\"\",'PCB data'!J8)","v":1},{"$f":"IF('PCB data'!L8=\"\",\"\",IF(ISNUMBER('PCB data'!L8)=TRUE, IF('PCB data'!L8<'PCB data'!L$38, \"ERROR\", 'PCB data'!L8), IF('PCB data'!L8=\"<LOD\",'PCB data'!L$38, \"ERROR\")))","v":5.9000000000000003E-4},{"$f":"IF('PCB data'!M8=\"\",\"\",IF(ISNUMBER('PCB data'!M8)=TRUE, IF('PCB data'!M8<'PCB data'!M$38, \"ERROR\", 'PCB data'!M8), IF('PCB data'!M8=\"<LOD\",'PCB data'!M$38, \"ERROR\")))","v":1.6000000000000001E-4},{"$f":"IF('PCB data'!N8=\"\",\"\",IF(ISNUMBER('PCB data'!N8)=TRUE, IF('PCB data'!N8<'PCB data'!N$38, \"ERROR\", 'PCB data'!N8), IF('PCB data'!N8=\"<LOD\",'PCB data'!N$38, \"ERROR\")))","v":5.5000000000000003E-4},{"$f":"IF('PCB data'!O8=\"\",\"\",IF(ISNUMBER('PCB data'!O8)=TRUE, IF('PCB data'!O8<'PCB data'!O$38, \"ERROR\", 'PCB data'!O8), IF('PCB data'!O8=\"<LOD\",'PCB data'!O$38, \"ERROR\")))","v":6.8000000000000005E-4},{"$f":"IF('PCB data'!P8=\"\",\"\",IF(ISNUMBER('PCB data'!P8)=TRUE, IF('PCB data'!P8<'PCB data'!P$38, \"ERROR\", 'PCB data'!P8), IF('PCB data'!P8=\"<LOD\",'PCB data'!P$38, \"ERROR\")))","v":1.2999999999999999E-4},{"$f":"IF('PCB data'!Q8=\"\",\"\",IF(ISNUMBER('PCB data'!Q8)=TRUE, IF('PCB data'!Q8<'PCB data'!Q$38, \"ERROR\", 'PCB data'!Q8), IF('PCB data'!Q8=\"<LOD\",'PCB data'!Q$38, \"ERROR\")))","v":1.06E-3},{"$f":"IF('PCB data'!R8=\"\",\"\",IF(ISNUMBER('PCB data'!R8)=TRUE, IF('PCB data'!R8<'PCB data'!R$38, \"ERROR\", 'PCB data'!R8), IF('PCB data'!R8=\"<LOD\",'PCB data'!R$38, \"ERROR\")))","v":2.2000000000000001E-4},{"$f":"IF('PCB data'!S8=\"\",\"\",IF(ISNUMBER('PCB data'!S8)=TRUE, IF('PCB data'!S8<'PCB data'!S$38, \"ERROR\", 'PCB data'!S8), IF('PCB data'!S8=\"<LOD\",'PCB data'!S$38, \"ERROR\")))","v":1.1000000000000001E-3},{"$f":"IF('PCB data'!T8=\"\",\"\",IF(ISNUMBER('PCB data'!T8)=TRUE, IF('PCB data'!T8<'PCB data'!T$38, \"ERROR\", 'PCB data'!T8), IF('PCB data'!T8=\"<LOD\",'PCB data'!T$38, \"ERROR\")))","v":3.8999999999999999E-4},{"$f":"IF('PCB data'!U8=\"\",\"\",IF(ISNUMBER('PCB data'!U8)=TRUE, IF('PCB data'!U8<'PCB data'!U$38, \"ERROR\", 'PCB data'!U8), IF('PCB data'!U8=\"<LOD\",'PCB data'!U$38, \"ERROR\")))","v":1.3799999999999999E-3},{"$f":"IF('PCB data'!V8=\"\",\"\",IF(ISNUMBER('PCB data'!V8)=TRUE, IF('PCB data'!V8<'PCB data'!V$38, \"ERROR\", 'PCB data'!V8), IF('PCB data'!V8=\"<LOD\",'PCB data'!V$38, \"ERROR\")))","v":8.0000000000000007E-5},{"$f":"IF('PCB data'!W8=\"\",\"\",IF(ISNUMBER('PCB data'!W8)=TRUE, IF('PCB data'!W8<'PCB data'!W$38, \"ERROR\", 'PCB data'!W8), IF('PCB data'!W8=\"<LOD\",'PCB data'!W$38, \"ERROR\")))","v":1.9000000000000001E-4},{"$f":"IF('PCB data'!X8=\"\",\"\",IF(ISNUMBER('PCB data'!X8)=TRUE, IF('PCB data'!X8<'PCB data'!X$38, \"ERROR\", 'PCB data'!X8), IF('PCB data'!X8=\"<LOD\",'PCB data'!X$38, \"ERROR\")))","v":5.6999999999999998E-4},{"$f":"IF('PCB data'!Y8=\"\",\"\",IF(ISNUMBER('PCB data'!Y8)=TRUE, IF('PCB data'!Y8<'PCB data'!Y$38, \"ERROR\", 'PCB data'!Y8), IF('PCB data'!Y8=\"<LOD\",'PCB data'!Y$38, \"ERROR\")))","v":1.7000000000000001E-4},{"$f":"IF('PCB data'!Z8=\"\",\"\",IF(ISNUMBER('PCB data'!Z8)=TRUE, IF('PCB data'!Z8<'PCB data'!Z$38, \"ERROR\", 'PCB data'!Z8), IF('PCB data'!Z8=\"<LOD\",'PCB data'!Z$38, \"ERROR\")))","v":1.5399999999999999E-3},{"$f":"IF('PCB data'!AA8=\"\",\"\",IF(ISNUMBER('PCB data'!AA8)=TRUE, IF('PCB data'!AA8<'PCB data'!AA$38, \"ERROR\", 'PCB data'!AA8), IF('PCB data'!AA8=\"<LOD\",'PCB data'!AA$38, \"ERROR\")))","v":3.8000000000000002E-4},{"$f":"IF('PCB data'!AB8=\"\",\"\",IF(ISNUMBER('PCB data'!AB8)=TRUE, IF('PCB data'!AB8<'PCB data'!AB$38, \"ERROR\", 'PCB data'!AB8), IF('PCB data'!AB8=\"<LOD\",'PCB data'!AB$38, \"ERROR\")))","v":1.07E-3},{"$f":"IF('PCB data'!AC8=\"\",\"\",IF(ISNUMBER('PCB data'!AC8)=TRUE, IF('PCB data'!AC8<'PCB data'!AC$38, \"ERROR\", 'PCB data'!AC8), IF('PCB data'!AC8=\"<LOD\",'PCB data'!AC$38, \"ERROR\")))","v":5.1999999999999995E-4},{"$f":"IF('PCB data'!AD8=\"\",\"\",IF(ISNUMBER('PCB data'!AD8)=TRUE, IF('PCB data'!AD8<'PCB data'!AD$38, \"ERROR\", 'PCB data'!AD8), IF('PCB data'!AD8=\"<LOD\",'PCB data'!AD$38, \"ERROR\")))","v":4.2999999999999999E-4},{"$f":"IF('PCB data'!AE8=\"\",\"\",IF(ISNUMBER('PCB data'!AE8)=TRUE, IF('PCB data'!AE8<'PCB data'!AE$38, \"ERROR\", 'PCB data'!AE8), IF('PCB data'!AE8=\"<LOD\",'PCB data'!AE$38, \"ERROR\")))","v":3.5E-4},{"$f":"IF('PCB data'!AF8=\"\",\"\",IF(ISNUMBER('PCB data'!AF8)=TRUE, IF('PCB data'!AF8<'PCB data'!AF$38, \"ERROR\", 'PCB data'!AF8), IF('PCB data'!AF8=\"<LOD\",'PCB data'!AF$38, \"ERROR\")))","v":3.1E-4},{"$f":"IF('PCB data'!AG8=\"\",\"\",IF(ISNUMBER('PCB data'!AG8)=TRUE, IF('PCB data'!AG8<'PCB data'!AG$38, \"ERROR\", 'PCB data'!AG8), IF('PCB data'!AG8=\"<LOD\",'PCB data'!AG$38, \"ERROR\")))","v":1.2999999999999999E-4},{"$f":"IF('PCB data'!AH8=\"\",\"\",IF(ISNUMBER('PCB data'!AH8)=TRUE, IF('PCB data'!AH8<'PCB data'!AH$38, \"ERROR\", 'PCB data'!AH8), IF('PCB data'!AH8=\"<LOD\",'PCB data'!AH$38, \"ERROR\")))","v":2.7999999999999998E-4},{"$f":"IF('PCB data'!AI8=\"\",\"\",IF(ISNUMBER('PCB data'!AI8)=TRUE, IF('PCB data'!AI8<'PCB data'!AI$38, \"ERROR\", 'PCB data'!AI8), IF('PCB data'!AI8=\"<LOD\",'PCB data'!AI$38, \"ERROR\")))","v":3.8000000000000002E-4},{"$f":"IF('PCB data'!AJ8=\"\",\"\",IF(ISNUMBER('PCB data'!AJ8)=TRUE, IF('PCB data'!AJ8<'PCB data'!AJ$38, \"ERROR\", 'PCB data'!AJ8), IF('PCB data'!AJ8=\"<LOD\",'PCB data'!AJ$38, \"ERROR\")))","v":4.6000000000000001E-4},{"$f":"IF(COUNT(AI9,AD9,Z9,U9,Q9,O9,L9)<1,\"\",SUM(AI9,AD9,Z9,U9,Q9,O9,L9))","v":6.0600000000000003E-3},{"$f":"IF(COUNT(L9:AJ9)<1,\"\",(SUM(L9:AJ9)))","v":1.312E-2}]
[null,null,"Sampling location:",{"$f":"IF('Application info'!E20=\"\",\"\",'Application info'!E20)","v":""},null,null,null,{"$f":"IF('PCB data'!H9=\"\",\"\",'PCB data'!H9)","v":"MAR02481.002"},{"$f":"IF('PCB data'!I9=\"\",\"\",'PCB data'!I9)","v":""},{"$f":"IFERROR(IF(K10=\"\",\"\",(IF(VLOOKUP(K10,'Application info'!$K$8:$L$37,2,0)=\"y\",\"y\",\"\"))),\"Manual entry required\")","v":""},{"$f":"IF('PCB data'!J9=\"\",\"\",'PCB data'!J9)","v":2},{"$f":"IF('PCB data'!L9=\"\",\"\",IF(ISNUMBER('PCB data'!L9)=TRUE, IF('PCB data'!L9<'PCB data'!L$38, \"ERROR\", 'PCB data'!L9), IF('PCB data'!L9=\"<LOD\",'PCB data'!L$38, \"ERROR\")))","v":5.5999999999999995E-4},{"$f":"IF('PCB data'!M9=\"\",\"\",IF(ISNUMBER('PCB data'!M9)=TRUE, IF('PCB data'!M9<'PCB data'!M$38, \"ERROR\", 'PCB data'!M9), IF('PCB data'!M9=\"<LOD\",'PCB data'!M$38, \"ERROR\")))","v":2.1000000000000001E-4},{"$f":"IF('PCB data'!N9=\"\",\"\",IF(ISNUMBER('PCB data'!N9)=TRUE, IF('PCB data'!N9<'PCB data'!N$38, \"ERROR\", 'PCB data'!N9), IF('PCB data'!N9=\"<LOD\",'PCB data'!N$38, \"ERROR\")))","v":6.0999999999999997E-4},{"$f":"IF('PCB data'!O9=\"\",\"\",IF(ISNUMBER('PCB data'!O9)=TRUE, IF('PCB data'!O9<'PCB data'!O$38, \"ERROR\", 'PCB data'!O9), IF('PCB data'!O9=\"<LOD\",'PCB data'!O$38, \"ERROR\")))","v":5.2999999999999998E-4},{"$f":"IF('PCB data'!P9=\"\",\"\",IF(ISNUMBER('PCB data'!P9)=TRUE, IF('PCB data'!P9<'PCB data'!P$38, \"ERROR\", 'PCB data'!P9), IF('PCB data'!P9=\"<LOD\",'PCB data'!P$38, \"ERROR\")))","v":9.0000000000000006E-5},{"$f":"IF('PCB data'!Q9=\"\",\"\",IF(ISNUMBER('PCB data'!Q9)=TRUE, IF('PCB data'!Q9<'PCB data'!Q$38, \"ERROR\", 'PCB data'!Q9), IF('PCB data'!Q9=\"<LOD\",'PCB data'!Q$38, \"ERROR\")))","v":8.5999999999999998E-4},{"$f":"IF('PCB data'!R9=\"\",\"\",IF(ISNUMBER('PCB data'!R9)=TRUE, IF('PCB data'!R9<'PCB data'!R$38, \"ERROR\", 'PCB data'!R9), IF('PCB data'!R9=\"<LOD\",'PCB data'!R$38, \"ERROR\")))","v":1.8000000000000001E-4},{"$f":"IF('PCB data'!S9=\"\",\"\",IF(ISNUMBER('PCB data'!S9)=TRUE, IF('PCB data'!S9<'PCB data'!S$38, \"ERROR\", 'PCB data'!S9), IF('PCB data'!S9=\"<LOD\",'PCB data'!S$38, \"ERROR\")))","v":1.08E-3},{"$f":"IF('PCB data'!T9=\"\",\"\",IF(ISNUMBER('PCB data'!T9)=TRUE, IF('PCB data'!T9<'PCB data'!T$38, \"ERROR\", 'PCB data'!T9), IF('PCB data'!T9=\"<LOD\",'PCB data'!T$38, \"ERROR\")))","v":5.1999999999999995E-4},{"$f":"IF('PCB data'!U9=\"\",\"\",IF(ISNUMBER('PCB data'!U9)=TRUE, IF('PCB data'!U9<'PCB data'!U$38, \"ERROR\", 'PCB data'!U9), IF('PCB data'!U9=\"<LOD\",'PCB data'!U$38, \"ERROR\")))","v":1.3799999999999999E-3},{"$f":"IF('PCB data'!V9=\"\",\"\",IF(ISNUMBER('PCB data'!V9)=TRUE, IF('PCB data'!V9<'PCB data'!V$38, \"ERROR\", 'PCB data'!V9), IF('PCB data'!V9=\"<LOD\",'PCB data'!V$38, \"ERROR\")))","v":1.2E-4},{"$f":"IF('PCB data'!W9=\"\",\"\",IF(ISNUMBER('PCB data'!W9)=TRUE, IF('PCB data'!W9<'PCB data'!W$38, \"ERROR\", 'PCB data'!W9), IF('PCB data'!W9=\"<LOD\",'PCB data'!W$38, \"ERROR\")))","v":1.6000000000000001E-4},{"$f":"IF('PCB data'!X9=\"\",\"\",IF(ISNUMBER('PCB data'!X9)=TRUE, IF('PCB data'!X9<'PCB data'!X$38, \"ERROR\", 'PCB data'!X9), IF('PCB data'!X9=\"<LOD\",'PCB data'!X$38, \"ERROR\")))","v":5.8E-4},{"$f":"IF('PCB data'!Y9=\"\",\"\",IF(ISNUMBER('PCB data'!Y9)=TRUE, IF('PCB data'!Y9<'PCB data'!Y$38, \"ERROR\", 'PCB data'!Y9), IF('PCB data'!Y9=\"<LOD\",'PCB data'!Y$38, \"ERROR\")))","v":1.9000000000000001E-4},{"$f":"IF('PCB data'!Z9=\"\",\"\",IF(ISNUMBER('PCB data'!Z9)=TRUE, IF('PCB data'!Z9<'PCB data'!Z$38, \"ERROR\", 'PCB data'!Z9), IF('PCB data'!Z9=\"<LOD\",'PCB data'!Z$38, \"ERROR\")))","v":1.7899999999999999E-3},{"$f":"IF('PCB data'!AA9=\"\",\"\",IF(ISNUMBER('PCB data'!AA9)=TRUE, IF('PCB data'!AA9<'PCB data'!AA$38, \"ERROR\", 'PCB data'!AA9), IF('PCB data'!AA9=\"<LOD\",'PCB data'!AA$38, \"ERROR\")))","v":3.1E-4},{"$f":"IF('PCB data'!AB9=\"\",\"\",IF(ISNUMBER('PCB data'!AB9)=TRUE, IF('PCB data'!AB9<'PCB data'!AB$38, \"ERROR\", 'PCB data'!AB9), IF('PCB data'!AB9=\"<LOD\",'PCB data'!AB$38, \"ERROR\")))","v":1.39E-3},{"$f":"IF('PCB data'!AC9=\"\",\"\",IF(ISNUMBER('PCB data'!AC9)=TRUE, IF('PCB data'!AC9<'PCB data'!AC$38, \"ERROR\", 'PCB data'!AC9), IF('PCB data'!AC9=\"<LOD\",'PCB data'!AC$38, \"ERROR\")))","v":5.2999999999999998E-4},{"$f":"IF('PCB data'!AD9=\"\",\"\",IF(ISNUMBER('PCB data'!AD9)=TRUE, IF('PCB data'!AD9<'PCB data'!AD$38, \"ERROR\", 'PCB data'!AD9), IF('PCB data'!AD9=\"<LOD\",'PCB data'!AD$38, \"ERROR\")))","v":4.4999999999999999E-4},{"$f":"IF('PCB data'!AE9=\"\",\"\",IF(ISNUMBER('PCB data'!AE9)=TRUE, IF('PCB data'!AE9<'PCB data'!AE$38, \"ERROR\", 'PCB data'!AE9), IF('PCB data'!AE9=\"<LOD\",'PCB data'!AE$38, \"ERROR\")))","v":3.8000000000000002E-4},{"$f":"IF('PCB data'!AF9=\"\",\"\",IF(ISNUMBER('PCB data'!AF9)=TRUE, IF('PCB data'!AF9<'PCB data'!AF$38, \"ERROR\", 'PCB data'!AF9), IF('PCB data'!AF9=\"<LOD\",'PCB data'!AF$38, \"ERROR\")))","v":3.4000000000000002E-4},{"$f":"IF('PCB data'!AG9=\"\",\"\",IF(ISNUMBER('PCB data'!AG9)=TRUE, IF('PCB data'!AG9<'PCB data'!AG$38, \"ERROR\", 'PCB data'!AG9), IF('PCB data'!AG9=\"<LOD\",'PCB data'!AG$38, \"ERROR\")))","v":1.3999999999999999E-4},{"$f":"IF('PCB data'!AH9=\"\",\"\",IF(ISNUMBER('PCB data'!AH9)=TRUE, IF('PCB data'!AH9<'PCB data'!AH$38, \"ERROR\", 'PCB data'!AH9), IF('PCB data'!AH9=\"<LOD\",'PCB data'!AH$38, \"ERROR\")))","v":3.3E-4},{"$f":"IF('PCB data'!AI9=\"\",\"\",IF(ISNUMBER('PCB data'!AI9)=TRUE, IF('PCB data'!AI9<'PCB data'!AI$38, \"ERROR\", 'PCB data'!AI9), IF('PCB data'!AI9=\"<LOD\",'PCB data'!AI$38, \"ERROR\")))","v":4.2000000000000002E-4},{"$f":"IF('PCB data'!AJ9=\"\",\"\",IF(ISNUMBER('PCB data'!AJ9)=TRUE, IF('PCB data'!AJ9<'PCB data'!AJ$38, \"ERROR\", 'PCB data'!AJ9), IF('PCB data'!AJ9=\"<LOD\",'PCB data'!AJ$38, \"ERROR\")))","v":5.0000000000000001E-4},5.9899999999999997E-3,1.3650000000000001E-2]
[null,null,null,null,null,null,null,{"$f":"IF('PCB data'!H10=\"\",\"\",'PCB data'!H10)","v":"MAR02481.003"},{"$f":"IF('PCB data'!I10=\"\",\"\",'PCB data'!I10)","v":""},{"$f":"IFERROR(IF(K11=\"\",\"\",(IF(VLOOKUP(K11,'Application info'!$K$8:$L$37,2,0)=\"y\",\"y\",\"\"))),\"Manual entry required\")","v":""},{"$f":"IF('PCB data'!J10=\"\",\"\",'PCB data'!J10)","v":3},{"$f":"IF('PCB data'!L10=\"\",\"\",IF(ISNUMBER('PCB data'!L10)=TRUE, IF('PCB data'!L10<'PCB data'!L$38, \"ERROR\", 'PCB data'!L10), IF('PCB data'!L10=\"<LOD\",'PCB data'!L$38, \"ERROR\")))","v":7.1000000000000002E-4},{"$f":"IF('PCB data'!M10=\"\",\"\",IF(ISNUMBER('PCB data'!M10)=TRUE, IF('PCB data'!M10<'PCB data'!M$38, \"ERROR\", 'PCB data'!M10), IF('PCB data'!M10=\"<LOD\",'PCB data'!M$38, \"ERROR\")))","v":2.5000000000000001E-4},{"$f":"IF('PCB data'!N10=\"\",\"\",IF(ISNUMBER('PCB data'!N10)=TRUE, IF('PCB data'!N10<'PCB data'!N$38, \"ERROR\", 'PCB data'!N10), IF('PCB data'!N10=\"<LOD\",'PCB data'!N$38, \"ERROR\")))","v":7.2000000000000005E-4},{"$f":"IF('PCB data'!O10=\"\",\"\",IF(ISNUMBER('PCB data'!O10)=TRUE, IF('PCB data'!O10<'PCB data'!O$38, \"ERROR\", 'PCB data'!O10), IF('PCB data'!O10=\"<LOD\",'PCB data'!O$38, \"ERROR\")))","v":7.2000000000000005E-4},{"$f":"IF('PCB data'!P10=\"\",\"\",IF(ISNUMBER('PCB data'!P10)=TRUE, IF('PCB data'!P10<'PCB data'!P$38, \"ERROR\", 'PCB data'!P10), IF('PCB data'!P10=\"<LOD\",'PCB data'!P$38, \"ERROR\")))","v":2.3000000000000001E-4},{"$f":"IF('PCB data'!Q10=\"\",\"\",IF(ISNUMBER('PCB data'!Q10)=TRUE, IF('PCB data'!Q10<'PCB data'!Q$38, \"ERROR\", 'PCB data'!Q10), IF('PCB data'!Q10=\"<LOD\",'PCB data'!Q$38, \"ERROR\")))","v":7.6999999999999996E-4},{"$f":"IF('PCB data'!R10=\"\",\"\",IF(ISNUMBER('PCB data'!R10)=TRUE, IF('PCB data'!R10<'PCB data'!R$38, \"ERROR\", 'PCB data'!R10), IF('PCB data'!R10=\"<LOD\",'PCB data'!R$38, \"ERROR\")))","v":2.3000000000000001E-4},{"$f":"IF('PCB data'!S10=\"\",\"\",IF(ISNUMBER('PCB data'!S10)=TRUE, IF('PCB data'!S10<'PCB data'!S$38, \"ERROR\", 'PCB data'!S10), IF('PCB data'!S10=\"<LOD\",'PCB data'!S$38, \"ERROR\")))","v":1.23E-3},{"$f":"IF('PCB data'!T10=\"\",\"\",IF(ISNUMBER('PCB data'!T10)=TRUE, IF('PCB data'!T10<'PCB data'!T$38, \"ERROR\", 'PCB data'!T10), IF('PCB data'!T10=\"<LOD\",'PCB data'!T$38, \"ERROR\")))","v":5.1000000000000004E-4},{"$f":"IF('PCB data'!U10=\"\",\"\",IF(ISNUMBER('PCB data'!U10)=TRUE, IF('PCB data'!U10<'PCB data'!U$38, \"ERROR\", 'PCB data'!U10), IF('PCB data'!U10=\"<LOD\",'PCB data'!U$38, \"ERROR\")))","v":1.6199999999999999E-3},{"$f":"IF('PCB data'!V10=\"\",\"\",IF(ISNUMBER('PCB data'!V10)=TRUE, IF('PCB data'!V10<'PCB data'!V$38, \"ERROR\", 'PCB data'!V10), IF('PCB data'!V10=\"<LOD\",'PCB data'!V$38, \"ERROR\")))","v":1.1E-4},{"$f":"IF('PCB data'!W10=\"\",\"\",IF(ISNUMBER('PCB data'!W10)=TRUE, IF('PCB data'!W10<'PCB data'!W$38, \"ERROR\", 'PCB data'!W10), IF('PCB data'!W10=\"<LOD\",'PCB data'!W$38, \"ERROR\")))","v":1.2E-4},{"$f":"IF('PCB data'!X10=\"\",\"\",IF(ISNUMBER('PCB data'!X10)=TRUE, IF('PCB data'!X10<'PCB data'!X$38, \"ERROR\", 'PCB data'!X10), IF('PCB data'!X10=\"<LOD\",'PCB data'!X$38, \"ERROR\")))","v":5.5999999999999995E-4},{"$f":"IF('PCB data'!Y10=\"\",\"\",IF(ISNUMBER('PCB data'!Y10)=TRUE, IF('PCB data'!Y10<'PCB data'!Y$38, \"ERROR\", 'PCB data'!Y10), IF('PCB data'!Y10=\"<LOD\",'PCB data'!Y$38, \"ERROR\")))","v":2.5000000000000001E-4},{"$f":"IF('PCB data'!Z10=\"\",\"\",IF(ISNUMBER('PCB data'!Z10)=TRUE, IF('PCB data'!Z10<'PCB data'!Z$38, \"ERROR\", 'PCB data'!Z10), IF('PCB data'!Z10=\"<LOD\",'PCB data'!Z$38, \"ERROR\")))","v":1.81E-3},{"$f":"IF('PCB data'!AA10=\"\",\"\",IF(ISNUMBER('PCB data'!AA10)=TRUE, IF('PCB data'!AA10<'PCB data'!AA$38, \"ERROR\", 'PCB data'!AA10), IF('PCB data'!AA10=\"<LOD\",'PCB data'!AA$38, \"ERROR\")))","v":3.3E-4},{"$f":"IF('PCB data'!AB10=\"\",\"\",IF(ISNUMBER('PCB data'!AB10)=TRUE, IF('PCB data'!AB10<'PCB data'!AB$38, \"ERROR\", 'PCB data'!AB10), IF('PCB data'!AB10=\"<LOD\",'PCB data'!AB$38, \"ERROR\")))","v":1.1800000000000001E-3},{"$f":"IF('PCB data'!AC10=\"\",\"\",IF(ISNUMBER('PCB data'!AC10)=TRUE, IF('PCB data'!AC10<'PCB data'!AC$38, \"ERROR\", 'PCB data'!AC10), IF('PCB data'!AC10=\"<LOD\",'PCB data'!AC$38, \"ERROR\")))","v":6.3000000000000003E-4},{"$f":"IF('PCB data'!AD10=\"\",\"\",IF(ISNUMBER('PCB data'!AD10)=TRUE, IF('PCB data'!AD10<'PCB data'!AD$38, \"ERROR\", 'PCB data'!AD10), IF('PCB data'!AD10=\"<LOD\",'PCB data'!AD$38, \"ERROR\")))","v":5.6999999999999998E-4},{"$f":"IF('PCB data'!AE10=\"\",\"\",IF(ISNUMBER('PCB data'!AE10)=TRUE, IF('PCB data'!AE10<'PCB data'!AE$38, \"ERROR\", 'PCB data'!AE10), IF('PCB data'!AE10=\"<LOD\",'PCB data'!AE$38, \"ERROR\")))","v":4.4000000000000002E-4},{"$f":"IF('PCB data'!AF10=\"\",\"\",IF(ISNUMBER('PCB data'!AF10)=TRUE, IF('PCB data'!AF10<'PCB data'!AF$38, \"ERROR\", 'PCB data'!AF10), IF('PCB data'!AF10=\"<LOD\",'PCB data'!AF$38, \"ERROR\")))","v":3.8999999999999999E-4},{"$f":"IF('PCB data'!AG10=\"\",\"\",IF(ISNUMBER('PCB data'!AG10)=TRUE, IF('PCB data'!AG10<'PCB data'!AG$38, \"ERROR\", 'PCB data'!AG10), IF('PCB data'!AG10=\"<LOD\",'PCB data'!AG$38, \"ERROR\")))","v":1.7000000000000001E-4},{"$f":"IF('PCB data'!AH10=\"\",\"\",IF(ISNUMBER('PCB data'!AH10)=TRUE, IF('PCB data'!AH10<'PCB data'!AH$38, \"ERROR\", 'PCB data'!AH10), IF('PCB data'!AH10=\"<LOD\",'PCB data'!AH$38, \"ERROR\")))","v":4.0000000000000002E-4},{"$f":"IF('PCB data'!AI10=\"\",\"\",IF(ISNUMBER('PCB data'!AI10)=TRUE, IF('PCB data'!AI10<'PCB data'!AI$38, \"ERROR\", 'PCB data'!AI10), IF('PCB data'!AI10=\"<LOD\",'PCB data'!AI$38, \"ERROR\")))","v":5.9000000000000003E-4},{"$f":"IF('PCB data'!AJ10=\"\",\"\",IF(ISNUMBER('PCB data'!AJ10)=TRUE, IF('PCB data'!AJ10<'PCB data'!AJ$38, \"ERROR\", 'PCB data'!AJ10), IF('PCB data'!AJ10=\"<LOD\",'PCB data'!AJ$38, \"ERROR\")))","v":5.6999999999999998E-4},6.79E-3,1.511E-2]
[null,null,"Laboratory/contractor:",{"$f":"IF('PCB data'!D18=\"\",\"\",'PCB data'!D18)","v":"SOCOTEC"},null,null,null,{"$f":"IF('PCB data'!H11=\"\",\"\",'PCB data'!H11)","v":"MAR02481.004"},{"$f":"IF('PCB data'!I11=\"\",\"\",'PCB data'!I11)","v":""},{"$f":"IFERROR(IF(K12=\"\",\"\",(IF(VLOOKUP(K12,'Application info'!$K$8:$L$37,2,0)=\"y\",\"y\",\"\"))),\"Manual entry required\")","v":""},{"$f":"IF('PCB data'!J11=\"\",\"\",'PCB data'!J11)","v":4},{"$f":"IF('PCB data'!L11=\"\",\"\",IF(ISNUMBER('PCB data'!L11)=TRUE, IF('PCB data'!L11<'PCB data'!L$38, \"ERROR\", 'PCB data'!L11), IF('PCB data'!L11=\"<LOD\",'PCB data'!L$38, \"ERROR\")))","v":1.06E-3},{"$f":"IF('PCB data'!M11=\"\",\"\",IF(ISNUMBER('PCB data'!M11)=TRUE, IF('PCB data'!M11<'PCB data'!M$38, \"ERROR\", 'PCB data'!M11), IF('PCB data'!M11=\"<LOD\",'PCB data'!M$38, \"ERROR\")))","v":2.9999999999999997E-4},{"$f":"IF('PCB data'!N11=\"\",\"\",IF(ISNUMBER('PCB data'!N11)=TRUE, IF('PCB data'!N11<'PCB data'!N$38, \"ERROR\", 'PCB data'!N11), IF('PCB data'!N11=\"<LOD\",'PCB data'!N$38, \"ERROR\")))","v":9.5E-4},{"$f":"IF('PCB data'!O11=\"\",\"\",IF(ISNUMBER('PCB data'!O11)=TRUE, IF('PCB data'!O11<'PCB data'!O$38, \"ERROR\", 'PCB data'!O11), IF('PCB data'!O11=\"<LOD\",'PCB data'!O$38, \"ERROR\")))","v":1.07E-3},{"$f":"IF('PCB data'!P11=\"\",\"\",IF(ISNUMBER('PCB data'!P11)=TRUE, IF('PCB data'!P11<'PCB data'!P$38, \"ERROR\", 'PCB data'!P11), IF('PCB data'!P11=\"<LOD\",'PCB data'!P$38, \"ERROR\")))","v":1.9000000000000001E-4},{"$f":"IF('PCB data'!Q11=\"\",\"\",IF(ISNUMBER('PCB data'!Q11)=TRUE, IF('PCB data'!Q11<'PCB data'!Q$38, \"ERROR\", 'PCB data'!Q11), IF('PCB data'!Q11=\"<LOD\",'PCB data'!Q$38, \"ERROR\")))","v":9.6000000000000002E-4},{"$f":"IF('PCB data'!R11=\"\",\"\",IF(ISNUMBER('PCB data'!R11)=TRUE, IF('PCB data'!R11<'PCB data'!R$38, \"ERROR\", 'PCB data'!R11), IF('PCB data'!R11=\"<LOD\",'PCB data'!R$38, \"ERROR\")))","v":1.7000000000000001E-4},{"$f":"IF('PCB data'!S11=\"\",\"\",IF(ISNUMBER('PCB data'!S11)=TRUE, IF('PCB data'!S11<'PCB data'!S$38, \"ERROR\", 'PCB data'!S11), IF('PCB data'!S11=\"<LOD\",'PCB data'!S$38, \"ERROR\")))","v":1.1999999999999999E-3},{"$f":"IF('PCB data'!T11=\"\",\"\",IF(ISNUMBER('PCB data'!T11)=TRUE, IF('PCB data'!T11<'PCB data'!T$38, \"ERROR\", 'PCB data'!T11), IF('PCB data'!T11=\"<LOD\",'PCB data'!T$38, \"ERROR\")))","v":4.0000000000000002E-4},{"$f":"IF('PCB data'!U11=\"\",\"\",IF(ISNUMBER('PCB data'!U11)=TRUE, IF('PCB data'!U11<'PCB data'!U$38, \"ERROR\", 'PCB data'!U11), IF('PCB data'!U11=\"<LOD\",'PCB data'!U$38, \"ERROR\")))","v":1.58E-3},{"$f":"IF('PCB data'!V11=\"\",\"\",IF(ISNUMBER('PCB data'!V11)=TRUE, IF('PCB data'!V11<'PCB data'!V$38, \"ERROR\", 'PCB data'!V11), IF('PCB data'!V11=\"<LOD\",'PCB data'!V$38, \"ERROR\")))","v":1.3999999999999999E-4},{"$f":"IF('PCB data'!W11=\"\",\"\",IF(ISNUMBER('PCB data'!W11)=TRUE, IF('PCB data'!W11<'PCB data'!W$38, \"ERROR\", 'PCB data'!W11), IF('PCB data'!W11=\"<LOD\",'PCB data'!W$38, \"ERROR\")))","v":1.6000000000000001E-4},{"$f":"IF('PCB data'!X11=\"\",\"\",IF(ISNUMBER('PCB data'!X11)=TRUE, IF('PCB data'!X11<'PCB data'!X$38, \"ERROR\", 'PCB data'!X11), IF('PCB data'!X11=\"<LOD\",'PCB data'!X$38, \"ERROR\")))","v":4.6999999999999999E-4},{"$f":"IF('PCB data'!Y11=\"\",\"\",IF(ISNUMBER('PCB data'!Y11)=TRUE, IF('PCB data'!Y11<'PCB data'!Y$38, \"ERROR\", 'PCB data'!Y11), IF('PCB data'!Y11=\"<LOD\",'PCB data'!Y$38, \"ERROR\")))","v":3.1E-4},{"$f":"IF('PCB data'!Z11=\"\",\"\",IF(ISNUMBER('PCB data'!Z11)=TRUE, IF('PCB data'!Z11<'PCB data'!Z$38, \"ERROR\", 'PCB data'!Z11), IF('PCB data'!Z11=\"<LOD\",'PCB data'!Z$38, \"ERROR\")))","v":1.31E-3},{"$f":"IF('PCB data'!AA11=\"\",\"\",IF(ISNUMBER('PCB data'!AA11)=TRUE, IF('PCB data'!AA11<'PCB data'!AA$38, \"ERROR\", 'PCB data'!AA11), IF('PCB data'!AA11=\"<LOD\",'PCB data'!AA$38, \"ERROR\")))","v":3.8000000000000002E-4},{"$f":"IF('PCB data'!AB11=\"\",\"\",IF(ISNUMBER('PCB data'!AB11)=TRUE, IF('PCB data'!AB11<'PCB data'!AB$38, \"ERROR\", 'PCB data'!AB11), IF('PCB data'!AB11=\"<LOD\",'PCB data'!AB$38, \"ERROR\")))","v":9.8999999999999999E-4},{"$f":"IF('PCB data'!AC11=\"\",\"\",IF(ISNUMBER('PCB data'!AC11)=TRUE, IF('PCB data'!AC11<'PCB data'!AC$38, \"ERROR\", 'PCB data'!AC11), IF('PCB data'!AC11=\"<LOD\",'PCB data'!AC$38, \"ERROR\")))","v":4.4000000000000002E-4},{"$f":"IF('PCB data'!AD11=\"\",\"\",IF(ISNUMBER('PCB data'!AD11)=TRUE, IF('PCB data'!AD11<'PCB data'!AD$38, \"ERROR\", 'PCB data'!AD11), IF('PCB data'!AD11=\"<LOD\",'PCB data'!AD$38, \"ERROR\")))","v":6.8999999999999997E-4},{"$f":"IF('PCB data'!AE11=\"\",\"\",IF(ISNUMBER('PCB data'!AE11)=TRUE, IF('PCB data'!AE11<'PCB data'!AE$38, \"ERROR\", 'PCB data'!AE11), IF('PCB data'!AE11=\"<LOD\",'PCB data'!AE$38, \"ERROR\")))","v":5.5000000000000003E-4},{"$f":"IF('PCB data'!AF11=\"\",\"\",IF(ISNUMBER('PCB data'!AF11)=TRUE, IF('PCB data'!AF11<'PCB data'!AF$38, \"ERROR\", 'PCB data'!AF11), IF('PCB data'!AF11=\"<LOD\",'PCB data'!AF$38, \"ERROR\")))","v":4.6999999999999999E-4},{"$f":"IF('PCB data'!AG11=\"\",\"\",IF(ISNUMBER('PCB data'!AG11)=TRUE, IF('PCB data'!AG11<'PCB data'!AG$38, \"ERROR\", 'PCB data'!AG11), IF('PCB data'!AG11=\"<LOD\",'PCB data'!AG$38, \"ERROR\")))","v":2.3000000000000001E-4},{"$f":"IF('PCB data'!AH11=\"\",\"\",IF(ISNUMBER('PCB data'!AH11)=TRUE, IF('PCB data'!AH11<'PCB data'!AH$38, \"ERROR\", 'PCB data'!AH11), IF('PCB data'!AH11=\"<LOD\",'PCB data'!AH$38, \"ERROR\")))","v":5.4000000000000001E-4},{"$f":"IF('PCB data'!AI11=\"\",\"\",IF(ISNUMBER('PCB data'!AI11)=TRUE, IF('PCB data'!AI11<'PCB data'!AI$38, \"ERROR\", 'PCB data'!AI11), IF('PCB data'!AI11=\"<LOD\",'PCB data'!AI$38, \"ERROR\")))","v":7.2999999999999996E-4},{"$f":"IF('PCB data'!AJ11=\"\",\"\",IF(ISNUMBER('PCB data'!AJ11)=TRUE, IF('PCB data'!AJ11<'PCB data'!AJ$38, \"ERROR\", 'PCB data'!AJ11), IF('PCB data'!AJ11=\"<LOD\",'PCB data'!AJ$38, \"ERROR\")))","v":7.2000000000000005E-4},7.3999999999999995E-3,1.6009999999999996E-2]
[null,null,"Date of analysis:",{"$f":"IF('PCB data'!D19=\"\",\"\",'PCB data'!D19)","v":"2024-10-17"},null,null,null,{"$f":"IF('PCB data'!H12=\"\",\"\",'PCB data'!H12)","v":"MAR02481.015"},{"$f":"IF('PCB data'!I12=\"\",\"\",'PCB data'!I12)","v":""},{"$f":"IFERROR(IF(K13=\"\",\"\",(IF(VLOOKUP(K13,'Application info'!$K$8:$L$37,2,0)=\"y\",\"y\",\"\"))),\"Manual entry required\")","v":""},{"$f":"IF('PCB data'!J12=\"\",\"\",'PCB data'!J12)","v":17},{"$f":"IF('PCB data'!L12=\"\",\"\",IF(ISNUMBER('PCB data'!L12)=TRUE, IF('PCB data'!L12<'PCB data'!L$38, \"ERROR\", 'PCB data'!L12), IF('PCB data'!L12=\"<LOD\",'PCB data'!L$38, \"ERROR\")))","v":5.1999999999999995E-4},{"$f":"IF('PCB data'!M12=\"\",\"\",IF(ISNUMBER('PCB data'!M12)=TRUE, IF('PCB data'!M12<'PCB data'!M$38, \"ERROR\", 'PCB data'!M12), IF('PCB data'!M12=\"<LOD\",'PCB data'!M$38, \"ERROR\")))","v":2.2000000000000001E-4},{"$f":"IF('PCB data'!N12=\"\",\"\",IF(ISNUMBER('PCB data'!N12)=TRUE, IF('PCB data'!N12<'PCB data'!N$38, \"ERROR\", 'PCB data'!N12), IF('PCB data'!N12=\"<LOD\",'PCB data'!N$38, \"ERROR\")))","v":5.5999999999999995E-4},{"$f":"IF('PCB data'!O12=\"\",\"\",IF(ISNUMBER('PCB data'!O12)=TRUE, IF('PCB data'!O12<'PCB data'!O$38, \"ERROR\", 'PCB data'!O12), IF('PCB data'!O12=\"<LOD\",'PCB data'!O$38, \"ERROR\")))","v":6.2E-4},{"$f":"IF('PCB data'!P12=\"\",\"\",IF(ISNUMBER('PCB data'!P12)=TRUE, IF('PCB data'!P12<'PCB data'!P$38, \"ERROR\", 'PCB data'!P12), IF('PCB data'!P12=\"<LOD\",'PCB data'!P$38, \"ERROR\")))","v":1.3999999999999999E-4},{"$f":"IF('PCB data'!Q12=\"\",\"\",IF(ISNUMBER('PCB data'!Q12)=TRUE, IF('PCB data'!Q12<'PCB data'!Q$38, \"ERROR\", 'PCB data'!Q12), IF('PCB data'!Q12=\"<LOD\",'PCB data'!Q$38, \"ERROR\")))","v":4.8000000000000001E-4},{"$f":"IF('PCB data'!R12=\"\",\"\",IF(ISNUMBER('PCB data'!R12)=TRUE, IF('PCB data'!R12<'PCB data'!R$38, \"ERROR\", 'PCB data'!R12), IF('PCB data'!R12=\"<LOD\",'PCB data'!R$38, \"ERROR\")))","v":1.4999999999999999E-4},{"$f":"IF('PCB data'!S12=\"\",\"\",IF(ISNUMBER('PCB data'!S12)=TRUE, IF('PCB data'!S12<'PCB data'!S$38, \"ERROR\", 'PCB data'!S12), IF('PCB data'!S12=\"<LOD\",'PCB data'!S$38, \"ERROR\")))","v":4.8999999999999998E-4},{"$f":"IF('PCB data'!T12=\"\",\"\",IF(ISNUMBER('PCB data'!T12)=TRUE, IF('PCB data'!T12<'PCB data'!T$38, \"ERROR\", 'PCB data'!T12), IF('PCB data'!T12=\"<LOD\",'PCB data'!T$38, \"ERROR\")))","v":1.8000000000000001E-4},{"$f":"IF('PCB data'!U12=\"\",\"\",IF(ISNUMBER('PCB data'!U12)=TRUE, IF('PCB data'!U12<'PCB data'!U$38, \"ERROR\", 'PCB data'!U12), IF('PCB data'!U12=\"<LOD\",'PCB data'!U$38, \"ERROR\")))","v":8.0999999999999996E-4},{"$f":"IF('PCB data'!V12=\"\",\"\",IF(ISNUMBER('PCB data'!V12)=TRUE, IF('PCB data'!V12<'PCB data'!V$38, \"ERROR\", 'PCB data'!V12), IF('PCB data'!V12=\"<LOD\",'PCB data'!V$38, \"ERROR\")))","v":8.0000000000000007E-5},{"$f":"IF('PCB data'!W12=\"\",\"\",IF(ISNUMBER('PCB data'!W12)=TRUE, IF('PCB data'!W12<'PCB data'!W$38, \"ERROR\", 'PCB data'!W12), IF('PCB data'!W12=\"<LOD\",'PCB data'!W$38, \"ERROR\")))","v":"ERROR"},{"$f":"IF('PCB data'!X12=\"\",\"\",IF(ISNUMBER('PCB data'!X12)=TRUE, IF('PCB data'!X12<'PCB data'!X$38, \"ERROR\", 'PCB data'!X12), IF('PCB data'!X12=\"<LOD\",'PCB data'!X$38, \"ERROR\")))","v":1.4999999999999999E-4},{"$f":"IF('PCB data'!Y12=\"\",\"\",IF(ISNUMBER('PCB data'!Y12)=TRUE, IF('PCB data'!Y12<'PCB data'!Y$38, \"ERROR\", 'PCB data'!Y12), IF('PCB data'!Y12=\"<LOD\",'PCB data'!Y$38, \"ERROR\")))","v":1.6000000000000001E-4},{"$f":"IF('PCB data'!Z12=\"\",\"\",IF(ISNUMBER('PCB data'!Z12)=TRUE, IF('PCB data'!Z12<'PCB data'!Z$38, \"ERROR\", 'PCB data'!Z12), IF('PCB data'!Z12=\"<LOD\",'PCB data'!Z$38, \"ERROR\")))","v":3.6999999999999999E-4},{"$f":"IF('PCB data'!AA12=\"\",\"\",IF(ISNUMBER('PCB data'!AA12)=TRUE, IF('PCB data'!AA12<'PCB data'!AA$38, \"ERROR\", 'PCB data'!AA12), IF('PCB data'!AA12=\"<LOD\",'PCB data'!AA$38, \"ERROR\")))","v":9.0000000000000006E-5},{"$f":"IF('PCB data'!AB12=\"\",\"\",IF(ISNUMBER('PCB data'!AB12)=TRUE, IF('PCB data'!AB12<'PCB data'!AB$38, \"ERROR\", 'PCB data'!AB12), IF('PCB data'!AB12=\"<LOD\",'PCB data'!AB$38, \"ERROR\")))","v":3.1E-4},{"$f":"IF('PCB data'!AC12=\"\",\"\",IF(ISNUMBER('PCB data'!AC12)=TRUE, IF('PCB data'!AC12<'PCB data'!AC$38, \"ERROR\", 'PCB data'!AC12), IF('PCB data'!AC12=\"<LOD\",'PCB data'!AC$38, \"ERROR\")))","v":1.2E-4},{"$f":"IF('PCB data'!AD12=\"\",\"\",IF(ISNUMBER('PCB data'!AD12)=TRUE, IF('PCB data'!AD12<'PCB data'!AD$38, \"ERROR\", 'PCB data'!AD12), IF('PCB data'!AD12=\"<LOD\",'PCB data'!AD$38, \"ERROR\")))","v":4.0999999999999999E-4},{"$f":"IF('PCB data'!AE12=\"\",\"\",IF(ISNUMBER('PCB data'!AE12)=TRUE, IF('PCB data'!AE12<'PCB data'!AE$38, \"ERROR\", 'PCB data'!AE12), IF('PCB data'!AE12=\"<LOD\",'PCB data'!AE$38, \"ERROR\")))","v":3.6000000000000002E-4},{"$f":"IF('PCB data'!AF12=\"\",\"\",IF(ISNUMBER('PCB data'!AF12)=TRUE, IF('PCB data'!AF12<'PCB data'!AF$38, \"ERROR\", 'PCB data'!AF12), IF('PCB data'!AF12=\"<LOD\",'PCB data'!AF$38, \"ERROR\")))","v":2.5000000000000001E-4},{"$f":"IF('PCB data'!AG12=\"\",\"\",IF(ISNUMBER('PCB data'!AG12)=TRUE, IF('PCB data'!AG12<'PCB data'!AG$38, \"ERROR\", 'PCB data'!AG12), IF('PCB data'!AG12=\"<LOD\",'PCB data'!AG$38, \"ERROR\")))","v":1E-4},{"$f":"IF('PCB data'!AH12=\"\",\"\",IF(ISNUMBER('PCB data'!AH12)=TRUE, IF('PCB data'!AH12<'PCB data'!AH$38, \"ERROR\", 'PCB data'!AH12), IF('PCB data'!AH12=\"<LOD\",'PCB data'!AH$38, \"ERROR\")))","v":2.5000000000000001E-4},{"$f":"IF('PCB data'!AI12=\"\",\"\",IF(ISNUMBER('PCB data'!AI12)=TRUE, IF('PCB data'!AI12<'PCB data'!AI$38, \"ERROR\", 'PCB data'!AI12), IF('PCB data'!AI12=\"<LOD\",'PCB data'!AI$38, \"ERROR\")))","v":3.6000000000000002E-4},{"$f":"IF('PCB data'!AJ12=\"\",\"\",IF(ISNUMBER('PCB data'!AJ12)=TRUE, IF('PCB data'!AJ12<'PCB data'!AJ$38, \"ERROR\", 'PCB data'!AJ12), IF('PCB data'!AJ12=\"<LOD\",'PCB data'!AJ$38, \"ERROR\")))","v":4.0000000000000002E-4},3.5699999999999998E-3,7.5800000000000017E-3]
[null,null,null,null,null,null,null,{"$f":"IF('PCB data'!H13=\"\",\"\",'PCB data'!H13)","v":"MAR02481.016"},{"$f":"IF('PCB data'!I13=\"\",\"\",'PCB data'!I13)","v":""},{"$f":"IFERROR(IF(K14=\"\",\"\",(IF(VLOOKUP(K14,'Application info'!$K$8:$L$37,2,0)=\"y\",\"y\",\"\"))),\"Manual entry required\")","v":""},{"$f":"IF('PCB data'!J13=\"\",\"\",'PCB data'!J13)","v":18},{"$f":"IF('PCB data'!L13=\"\",\"\",IF(ISNUMBER('PCB data'!L13)=TRUE, IF('PCB data'!L13<'PCB data'!L$38, \"ERROR\", 'PCB data'!L13), IF('PCB data'!L13=\"<LOD\",'PCB data'!L$38, \"ERROR\")))","v":6.8999999999999997E-4},{"$f":"IF('PCB data'!M13=\"\",\"\",IF(ISNUMBER('PCB data'!M13)=TRUE, IF('PCB data'!M13<'PCB data'!M$38, \"ERROR\", 'PCB data'!M13), IF('PCB data'!M13=\"<LOD\",'PCB data'!M$38, \"ERROR\")))","v":2.5999999999999998E-4},{"$f":"IF('PCB data'!N13=\"\",\"\",IF(ISNUMBER('PCB data'!N13)=TRUE, IF('PCB data'!N13<'PCB data'!N$38, \"ERROR\", 'PCB data'!N13), IF('PCB data'!N13=\"<LOD\",'PCB data'!N$38, \"ERROR\")))","v":7.2999999999999996E-4},{"$f":"IF('PCB data'!O13=\"\",\"\",IF(ISNUMBER('PCB data'!O13)=TRUE, IF('PCB data'!O13<'PCB data'!O$38, \"ERROR\", 'PCB data'!O13), IF('PCB data'!O13=\"<LOD\",'PCB data'!O$38, \"ERROR\")))","v":9.2000000000000003E-4},{"$f":"IF('PCB data'!P13=\"\",\"\",IF(ISNUMBER('PCB data'!P13)=TRUE, IF('PCB data'!P13<'PCB data'!P$38, \"ERROR\", 'PCB data'!P13), IF('PCB data'!P13=\"<LOD\",'PCB data'!P$38, \"ERROR\")))","v":1.2999999999999999E-4},{"$f":"IF('PCB data'!Q13=\"\",\"\",IF(ISNUMBER('PCB data'!Q13)=TRUE, IF('PCB data'!Q13<'PCB data'!Q$38, \"ERROR\", 'PCB data'!Q13), IF('PCB data'!Q13=\"<LOD\",'PCB data'!Q$38, \"ERROR\")))","v":1E-3},{"$f":"IF('PCB data'!R13=\"\",\"\",IF(ISNUMBER('PCB data'!R13)=TRUE, IF('PCB data'!R13<'PCB data'!R$38, \"ERROR\", 'PCB data'!R13), IF('PCB data'!R13=\"<LOD\",'PCB data'!R$38, \"ERROR\")))","v":1E-4},{"$f":"IF('PCB data'!S13=\"\",\"\",IF(ISNUMBER('PCB data'!S13)=TRUE, IF('PCB data'!S13<'PCB data'!S$38, \"ERROR\", 'PCB data'!S13), IF('PCB data'!S13=\"<LOD\",'PCB data'!S$38, \"ERROR\")))","v":6.4999999999999997E-4},{"$f":"IF('PCB data'!T13=\"\",\"\",IF(ISNUMBER('PCB data'!T13)=TRUE, IF('PCB data'!T13<'PCB data'!T$38, \"ERROR\", 'PCB data'!T13), IF('PCB data'!T13=\"<LOD\",'PCB data'!T$38, \"ERROR\")))","v":1.6000000000000001E-4},{"$f":"IF('PCB data'!U13=\"\",\"\",IF(ISNUMBER('PCB data'!U13)=TRUE, IF('PCB data'!U13<'PCB data'!U$38, \"ERROR\", 'PCB data'!U13), IF('PCB data'!U13=\"<LOD\",'PCB data'!U$38, \"ERROR\")))","v":9.3000000000000005E-4},{"$f":"IF('PCB data'!V13=\"\",\"\",IF(ISNUMBER('PCB data'!V13)=TRUE, IF('PCB data'!V13<'PCB data'!V$38, \"ERROR\", 'PCB data'!V13), IF('PCB data'!V13=\"<LOD\",'PCB data'!V$38, \"ERROR\")))","v":1.2E-4},{"$f":"IF('PCB data'!W13=\"\",\"\",IF(ISNUMBER('PCB data'!W13)=TRUE, IF('PCB data'!W13<'PCB data'!W$38, \"ERROR\", 'PCB data'!W13), IF('PCB data'!W13=\"<LOD\",'PCB data'!W$38, \"ERROR\")))","v":1.6000000000000001E-4},{"$f":"IF('PCB data'!X13=\"\",\"\",IF(ISNUMBER('PCB data'!X13)=TRUE, IF('PCB data'!X13<'PCB data'!X$38, \"ERROR\", 'PCB data'!X13), IF('PCB data'!X13=\"<LOD\",'PCB data'!X$38, \"ERROR\")))","v":1.7000000000000001E-4},{"$f":"IF('PCB data'!Y13=\"\",\"\",IF(ISNUMBER('PCB data'!Y13)=TRUE, IF('PCB data'!Y13<'PCB data'!Y$38, \"ERROR\", 'PCB data'!Y13), IF('PCB data'!Y13=\"<LOD\",'PCB data'!Y$38, \"ERROR\")))","v":1.6000000000000001E-4},{"$f":"IF('PCB data'!Z13=\"\",\"\",IF(ISNUMBER('PCB data'!Z13)=TRUE, IF('PCB data'!Z13<'PCB data'!Z$38, \"ERROR\", 'PCB data'!Z13), IF('PCB data'!Z13=\"<LOD\",'PCB data'!Z$38, \"ERROR\")))","v":3.6000000000000002E-4},{"$f":"IF('PCB data'!AA13=\"\",\"\",IF(ISNUMBER('PCB data'!AA13)=TRUE, IF('PCB data'!AA13<'PCB data'!AA$38, \"ERROR\", 'PCB data'!AA13), IF('PCB data'!AA13=\"<LOD\",'PCB data'!AA$38, \"ERROR\")))","v":1.6000000000000001E-4},{"$f":"IF('PCB data'!AB13=\"\",\"\",IF(ISNUMBER('PCB data'!AB13)=TRUE, IF('PCB data'!AB13<'PCB data'!AB$38, \"ERROR\", 'PCB data'!AB13), IF('PCB data'!AB13=\"<LOD\",'PCB data'!AB$38, \"ERROR\")))","v":2.5000000000000001E-4},{"$f":"IF('PCB data'!AC13=\"\",\"\",IF(ISNUMBER('PCB data'!AC13)=TRUE, IF('PCB data'!AC13<'PCB data'!AC$38, \"ERROR\", 'PCB data'!AC13), IF('PCB data'!AC13=\"<LOD\",'PCB data'!AC$38, \"ERROR\")))","v":1.3999999999999999E-4},{"$f":"IF('PCB data'!AD13=\"\",\"\",IF(ISNUMBER('PCB data'!AD13)=TRUE, IF('PCB data'!AD13<'PCB data'!AD$38, \"ERROR\", 'PCB data'!AD13), IF('PCB data'!AD13=\"<LOD\",'PCB data'!AD$38, \"ERROR\")))","v":3.8000000000000002E-4},{"$f":"IF('PCB data'!AE13=\"\",\"\",IF(ISNUMBER('PCB data'!AE13)=TRUE, IF('PCB data'!AE13<'PCB data'!AE$38, \"ERROR\", 'PCB data'!AE13), IF('PCB data'!AE13=\"<LOD\",'PCB data'!AE$38, \"ERROR\")))","v":3.4000000000000002E-4},{"$f":"IF('PCB data'!AF13=\"\",\"\",IF(ISNUMBER('PCB data'!AF13)=TRUE, IF('PCB data'!AF13<'PCB data'!AF$38, \"ERROR\", 'PCB data'!AF13), IF('PCB data'!AF13=\"<LOD\",'PCB data'!AF$38, \"ERROR\")))","v":2.5999999999999998E-4},{"$f":"IF('PCB data'!AG13=\"\",\"\",IF(ISNUMBER('PCB data'!AG13)=TRUE, IF('PCB data'!AG13<'PCB data'!AG$38, \"ERROR\", 'PCB data'!AG13), IF('PCB data'!AG13=\"<LOD\",'PCB data'!AG$38, \"ERROR\")))","v":1E-4},{"$f":"IF('PCB data'!AH13=\"\",\"\",IF(ISNUMBER('PCB data'!AH13)=TRUE, IF('PCB data'!AH13<'PCB data'!AH$38, \"ERROR\", 'PCB data'!AH13), IF('PCB data'!AH13=\"<LOD\",'PCB data'!AH$38, \"ERROR\")))","v":2.7999999999999998E-4},{"$f":"IF('PCB data'!AI13=\"\",\"\",IF(ISNUMBER('PCB data'!AI13)=TRUE, IF('PCB data'!AI13<'PCB data'!AI$38, \"ERROR\", 'PCB data'!AI13), IF('PCB data'!AI13=\"<LOD\",'PCB data'!AI$38, \"ERROR\")))","v":3.8999999999999999E-4},{"$f":"IF('PCB data'!AJ13=\"\",\"\",IF(ISNUMBER('PCB data'!AJ13)=TRUE, IF('PCB data'!AJ13<'PCB data'!AJ$38, \"ERROR\", 'PCB data'!AJ13), IF('PCB data'!AJ13=\"<LOD\",'PCB data'!AJ$38, \"ERROR\")))","v":4.8999999999999998E-4},4.6699999999999997E-3,9.3300000000000015E-3]
[null,null,null,null,null,null,null,{"$f":"IF('PCB data'!H14=\"\",\"\",'PCB data'!H14)","v":"MAR02481.017"},{"$f":"IF('PCB data'!I14=\"\",\"\",'PCB data'!I14)","v":""},{"$f":"IFERROR(IF(K15=\"\",\"\",(IF(VLOOKUP(K15,'Application info'!$K$8:$L$37,2,0)=\"y\",\"y\",\"\"))),\"Manual entry required\")","v":""},{"$f":"IF('PCB data'!J14=\"\",\"\",'PCB data'!J14)","v":19},{"$f":"IF('PCB data'!L14=\"\",\"\",IF(ISNUMBER('PCB data'!L14)=TRUE, IF('PCB data'!L14<'PCB data'!L$38, \"ERROR\", 'PCB data'!L14), IF('PCB data'!L14=\"<LOD\",'PCB data'!L$38, \"ERROR\")))","v":5.5000000000000003E-4},{"$f":"IF('PCB data'!M14=\"\",\"\",IF(ISNUMBER('PCB data'!M14)=TRUE, IF('PCB data'!M14<'PCB data'!M$38, \"ERROR\", 'PCB data'!M14), IF('PCB data'!M14=\"<LOD\",'PCB data'!M$38, \"ERROR\")))","v":1.9000000000000001E-4},{"$f":"IF('PCB data'!N14=\"\",\"\",IF(ISNUMBER('PCB data'!N14)=TRUE, IF('PCB data'!N14<'PCB data'!N$38, \"ERROR\", 'PCB data'!N14), IF('PCB data'!N14=\"<LOD\",'PCB data'!N$38, \"ERROR\")))","v":5.8E-4},{"$f":"IF('PCB data'!O14=\"\",\"\",IF(ISNUMBER('PCB data'!O14)=TRUE, IF('PCB data'!O14<'PCB data'!O$38, \"ERROR\", 'PCB data'!O14), IF('PCB data'!O14=\"<LOD\",'PCB data'!O$38, \"ERROR\")))","v":7.3999999999999999E-4},{"$f":"IF('PCB data'!P14=\"\",\"\",IF(ISNUMBER('PCB data'!P14)=TRUE, IF('PCB data'!P14<'PCB data'!P$38, \"ERROR\", 'PCB data'!P14), IF('PCB data'!P14=\"<LOD\",'PCB data'!P$38, \"ERROR\")))","v":1.2E-4},{"$f":"IF('PCB data'!Q14=\"\",\"\",IF(ISNUMBER('PCB data'!Q14)=TRUE, IF('PCB data'!Q14<'PCB data'!Q$38, \"ERROR\", 'PCB data'!Q14), IF('PCB data'!Q14=\"<LOD\",'PCB data'!Q$38, \"ERROR\")))","v":4.0000000000000002E-4},{"$f":"IF('PCB data'!R14=\"\",\"\",IF(ISNUMBER('PCB data'!R14)=TRUE, IF('PCB data'!R14<'PCB data'!R$38, \"ERROR\", 'PCB data'!R14), IF('PCB data'!R14=\"<LOD\",'PCB data'!R$38, \"ERROR\")))","v":1.3999999999999999E-4},{"$f":"IF('PCB data'!S14=\"\",\"\",IF(ISNUMBER('PCB data'!S14)=TRUE, IF('PCB data'!S14<'PCB data'!S$38, \"ERROR\", 'PCB data'!S14), IF('PCB data'!S14=\"<LOD\",'PCB data'!S$38, \"ERROR\")))","v":5.5999999999999995E-4},{"$f":"IF('PCB data'!T14=\"\",\"\",IF(ISNUMBER('PCB data'!T14)=TRUE, IF('PCB data'!T14<'PCB data'!T$38, \"ERROR\", 'PCB data'!T14), IF('PCB data'!T14=\"<LOD\",'PCB data'!T$38, \"ERROR\")))","v":1.3999999999999999E-4},{"$f":"IF('PCB data'!U14=\"\",\"\",IF(ISNUMBER('PCB data'!U14)=TRUE, IF('PCB data'!U14<'PCB data'!U$38, \"ERROR\", 'PCB data'!U14), IF('PCB data'!U14=\"<LOD\",'PCB data'!U$38, \"ERROR\")))","v":6.7000000000000002E-4},{"$f":"IF('PCB data'!V14=\"\",\"\",IF(ISNUMBER('PCB data'!V14)=TRUE, IF('PCB data'!V14<'PCB data'!V$38, \"ERROR\", 'PCB data'!V14), IF('PCB data'!V14=\"<LOD\",'PCB data'!V$38, \"ERROR\")))","v":1.1E-4},{"$f":"IF('PCB data'!W14=\"\",\"\",IF(ISNUMBER('PCB data'!W14)=TRUE, IF('PCB data'!W14<'PCB data'!W$38, \"ERROR\", 'PCB data'!W14), IF('PCB data'!W14=\"<LOD\",'PCB data'!W$38, \"ERROR\")))","v":"ERROR"},{"$f":"IF('PCB data'!X14=\"\",\"\",IF(ISNUMBER('PCB data'!X14)=TRUE, IF('PCB data'!X14<'PCB data'!X$38, \"ERROR\", 'PCB data'!X14), IF('PCB data'!X14=\"<LOD\",'PCB data'!X$38, \"ERROR\")))","v":2.2000000000000001E-4},{"$f":"IF('PCB data'!Y14=\"\",\"\",IF(ISNUMBER('PCB data'!Y14)=TRUE, IF('PCB data'!Y14<'PCB data'!Y$38, \"ERROR\", 'PCB data'!Y14), IF('PCB data'!Y14=\"<LOD\",'PCB data'!Y$38, \"ERROR\")))","v":1.9000000000000001E-4},{"$f":"IF('PCB data'!Z14=\"\",\"\",IF(ISNUMBER('PCB data'!Z14)=TRUE, IF('PCB data'!Z14<'PCB data'!Z$38, \"ERROR\", 'PCB data'!Z14), IF('PCB data'!Z14=\"<LOD\",'PCB data'!Z$38, \"ERROR\")))","v":4.6000000000000001E-4},{"$f":"IF('PCB data'!AA14=\"\",\"\",IF(ISNUMBER('PCB data'!AA14)=TRUE, IF('PCB data'!AA14<'PCB data'!AA$38, \"ERROR\", 'PCB data'!AA14), IF('PCB data'!AA14=\"<LOD\",'PCB data'!AA$38, \"ERROR\")))","v":1E-4},{"$f":"IF('PCB data'!AB14=\"\",\"\",IF(ISNUMBER('PCB data'!AB14)=TRUE, IF('PCB data'!AB14<'PCB data'!AB$38, \"ERROR\", 'PCB data'!AB14), IF('PCB data'!AB14=\"<LOD\",'PCB data'!AB$38, \"ERROR\")))","v":2.7999999999999998E-4},{"$f":"IF('PCB data'!AC14=\"\",\"\",IF(ISNUMBER('PCB data'!AC14)=TRUE, IF('PCB data'!AC14<'PCB data'!AC$38, \"ERROR\", 'PCB data'!AC14), IF('PCB data'!AC14=\"<LOD\",'PCB data'!AC$38, \"ERROR\")))","v":1.2E-4},{"$f":"IF('PCB data'!AD14=\"\",\"\",IF(ISNUMBER('PCB data'!AD14)=TRUE, IF('PCB data'!AD14<'PCB data'!AD$38, \"ERROR\", 'PCB data'!AD14), IF('PCB data'!AD14=\"<LOD\",'PCB data'!AD$38, \"ERROR\")))","v":4.4000000000000002E-4},{"$f":"IF('PCB data'!AE14=\"\",\"\",IF(ISNUMBER('PCB data'!AE14)=TRUE, IF('PCB data'!AE14<'PCB data'!AE$38, \"ERROR\", 'PCB data'!AE14), IF('PCB data'!AE14=\"<LOD\",'PCB data'!AE$38, \"ERROR\")))","v":3.1E-4},{"$f":"IF('PCB data'!AF14=\"\",\"\",IF(ISNUMBER('PCB data'!AF14)=TRUE, IF('PCB data'!AF14<'PCB data'!AF$38, \"ERROR\", 'PCB data'!AF14), IF('PCB data'!AF14=\"<LOD\",'PCB data'!AF$38, \"ERROR\")))","v":2.4000000000000001E-4},{"$f":"IF('PCB data'!AG14=\"\",\"\",IF(ISNUMBER('PCB data'!AG14)=TRUE, IF('PCB data'!AG14<'PCB data'!AG$38, \"ERROR\", 'PCB data'!AG14), IF('PCB data'!AG14=\"<LOD\",'PCB data'!AG$38, \"ERROR\")))","v":1.1E-4},{"$f":"IF('PCB data'!AH14=\"\",\"\",IF(ISNUMBER('PCB data'!AH14)=TRUE, IF('PCB data'!AH14<'PCB data'!AH$38, \"ERROR\", 'PCB data'!AH14), IF('PCB data'!AH14=\"<LOD\",'PCB data'!AH$38, \"ERROR\")))","v":2.4000000000000001E-4},{"$f":"IF('PCB data'!AI14=\"\",\"\",IF(ISNUMBER('PCB data'!AI14)=TRUE, IF('PCB data'!AI14<'PCB data'!AI$38, \"ERROR\", 'PCB data'!AI14), IF('PCB data'!AI14=\"<LOD\",'PCB data'!AI$38, \"ERROR\")))","v":3.8999999999999999E-4},{"$f":"IF('PCB data'!AJ14=\"\",\"\",IF(ISNUMBER('PCB data'!AJ14)=TRUE, IF('PCB data'!AJ14<'PCB data'!AJ$38, \"ERROR\", 'PCB data'!AJ14), IF('PCB data'!AJ14=\"<LOD\",'PCB data'!AJ$38, \"ERROR\")))","v":4.0000000000000002E-4},3.6500000000000005E-3,7.7000000000000002E-3]
[null,null,null,null,null,null,null,{"$f":"IF('PCB data'!H15=\"\",\"\",'PCB data'!H15)","v":"MAR02481.018"},{"$f":"IF('PCB data'!I15=\"\",\"\",'PCB data'!I15)","v":""},{"$f":"IFERROR(IF(K16=\"\",\"\",(IF(VLOOKUP(K16,'Application info'!$K$8:$L$37,2,0)=\"y\",\"y\",\"\"))),\"Manual entry required\")","v":""},{"$f":"IF('PCB data'!J15=\"\",\"\",'PCB data'!J15)","v":20},{"$f":"IF('PCB data'!L15=\"\",\"\",IF(ISNUMBER('PCB data'!L15)=TRUE, IF('PCB data'!L15<'PCB data'!L$38, \"ERROR\", 'PCB data'!L15), IF('PCB data'!L15=\"<LOD\",'PCB data'!L$38, \"ERROR\")))","v":6.4000000000000005E-4},{"$f":"IF('PCB data'!M15=\"\",\"\",IF(ISNUMBER('PCB data'!M15)=TRUE, IF('PCB data'!M15<'PCB data'!M$38, \"ERROR\", 'PCB data'!M15), IF('PCB data'!M15=\"<LOD\",'PCB data'!M$38, \"ERROR\")))","v":2.5999999999999998E-4},{"$f":"IF('PCB data'!N15=\"\",\"\",IF(ISNUMBER('PCB data'!N15)=TRUE, IF('PCB data'!N15<'PCB data'!N$38, \"ERROR\", 'PCB data'!N15), IF('PCB data'!N15=\"<LOD\",'PCB data'!N$38, \"ERROR\")))","v":7.3999999999999999E-4},{"$f":"IF('PCB data'!O15=\"\",\"\",IF(ISNUMBER('PCB data'!O15)=TRUE, IF('PCB data'!O15<'PCB data'!O$38, \"ERROR\", 'PCB data'!O15), IF('PCB data'!O15=\"<LOD\",'PCB data'!O$38, \"ERROR\")))","v":8.1999999999999998E-4},{"$f":"IF('PCB data'!P15=\"\",\"\",IF(ISNUMBER('PCB data'!P15)=TRUE, IF('PCB data'!P15<'PCB data'!P$38, \"ERROR\", 'PCB data'!P15), IF('PCB data'!P15=\"<LOD\",'PCB data'!P$38, \"ERROR\")))","v":1.9000000000000001E-4},{"$f":"IF('PCB data'!Q15=\"\",\"\",IF(ISNUMBER('PCB data'!Q15)=TRUE, IF('PCB data'!Q15<'PCB data'!Q$38, \"ERROR\", 'PCB data'!Q15), IF('PCB data'!Q15=\"<LOD\",'PCB data'!Q$38, \"ERROR\")))","v":6.8000000000000005E-4},{"$f":"IF('PCB data'!R15=\"\",\"\",IF(ISNUMBER('PCB data'!R15)=TRUE, IF('PCB data'!R15<'PCB data'!R$38, \"ERROR\", 'PCB data'!R15), IF('PCB data'!R15=\"<LOD\",'PCB data'!R$38, \"ERROR\")))","v":1.9000000000000001E-4},{"$f":"IF('PCB data'!S15=\"\",\"\",IF(ISNUMBER('PCB data'!S15)=TRUE, IF('PCB data'!S15<'PCB data'!S$38, \"ERROR\", 'PCB data'!S15), IF('PCB data'!S15=\"<LOD\",'PCB data'!S$38, \"ERROR\")))","v":6.0999999999999997E-4},{"$f":"IF('PCB data'!T15=\"\",\"\",IF(ISNUMBER('PCB data'!T15)=TRUE, IF('PCB data'!T15<'PCB data'!T$38, \"ERROR\", 'PCB data'!T15), IF('PCB data'!T15=\"<LOD\",'PCB data'!T$38, \"ERROR\")))","v":2.0000000000000001E-4},{"$f":"IF('PCB data'!U15=\"\",\"\",IF(ISNUMBER('PCB data'!U15)=TRUE, IF('PCB data'!U15<'PCB data'!U$38, \"ERROR\", 'PCB data'!U15), IF('PCB data'!U15=\"<LOD\",'PCB data'!U$38, \"ERROR\")))","v":8.3000000000000001E-4},{"$f":"IF('PCB data'!V15=\"\",\"\",IF(ISNUMBER('PCB data'!V15)=TRUE, IF('PCB data'!V15<'PCB data'!V$38, \"ERROR\", 'PCB data'!V15), IF('PCB data'!V15=\"<LOD\",'PCB data'!V$38, \"ERROR\")))","v":1E-4},{"$f":"IF('PCB data'!W15=\"\",\"\",IF(ISNUMBER('PCB data'!W15)=TRUE, IF('PCB data'!W15<'PCB data'!W$38, \"ERROR\", 'PCB data'!W15), IF('PCB data'!W15=\"<LOD\",'PCB data'!W$38, \"ERROR\")))","v":1.2E-4},{"$f":"IF('PCB data'!X15=\"\",\"\",IF(ISNUMBER('PCB data'!X15)=TRUE, IF('PCB data'!X15<'PCB data'!X$38, \"ERROR\", 'PCB data'!X15), IF('PCB data'!X15=\"<LOD\",'PCB data'!X$38, \"ERROR\")))","v":2.0000000000000001E-4},{"$f":"IF('PCB data'!Y15=\"\",\"\",IF(ISNUMBER('PCB data'!Y15)=TRUE, IF('PCB data'!Y15<'PCB data'!Y$38, \"ERROR\", 'PCB data'!Y15), IF('PCB data'!Y15=\"<LOD\",'PCB data'!Y$38, \"ERROR\")))","v":2.2000000000000001E-4},{"$f":"IF('PCB data'!Z15=\"\",\"\",IF(ISNUMBER('PCB data'!Z15)=TRUE, IF('PCB data'!Z15<'PCB data'!Z$38, \"ERROR\", 'PCB data'!Z15), IF('PCB data'!Z15=\"<LOD\",'PCB data'!Z$38, \"ERROR\")))","v":4.6000000000000001E-4},{"$f":"IF('PCB data'!AA15=\"\",\"\",IF(ISNUMBER('PCB data'!AA15)=TRUE, IF('PCB data'!AA15<'PCB data'!AA$38, \"ERROR\", 'PCB data'!AA15), IF('PCB data'!AA15=\"<LOD\",'PCB data'!AA$38, \"ERROR\")))","v":1E-4},{"$f":"IF('PCB data'!AB15=\"\",\"\",IF(ISNUMBER('PCB data'!AB15)=TRUE, IF('PCB data'!AB15<'PCB data'!AB$38, \"ERROR\", 'PCB data'!AB15), IF('PCB data'!AB15=\"<LOD\",'PCB data'!AB$38, \"ERROR\")))","v":3.1E-4},{"$f":"IF('PCB data'!AC15=\"\",\"\",IF(ISNUMBER('PCB data'!AC15)=TRUE, IF('PCB data'!AC15<'PCB data'!AC$38, \"ERROR\", 'PCB data'!AC15), IF('PCB data'!AC15=\"<LOD\",'PCB data'!AC$38, \"ERROR\")))","v":1.2E-4},{"$f":"IF('PCB data'!AD15=\"\",\"\",IF(ISNUMBER('PCB data'!AD15)=TRUE, IF('PCB data'!AD15<'PCB data'!AD$38, \"ERROR\", 'PCB data'!AD15), IF('PCB data'!AD15=\"<LOD\",'PCB data'!AD$38, \"ERROR\")))","v":5.1999999999999995E-4},{"$f":"IF('PCB data'!AE15=\"\",\"\",IF(ISNUMBER('PCB data'!AE15)=TRUE, IF('PCB data'!AE15<'PCB data'!AE$38, \"ERROR\", 'PCB data'!AE15), IF('PCB data'!AE15=\"<LOD\",'PCB data'!AE$38, \"ERROR\")))","v":4.4000000000000002E-4},{"$f":"IF('PCB data'!AF15=\"\",\"\",IF(ISNUMBER('PCB data'!AF15)=TRUE, IF('PCB data'!AF15<'PCB data'!AF$38, \"ERROR\", 'PCB data'!AF15), IF('PCB data'!AF15=\"<LOD\",'PCB data'!AF$38, \"ERROR\")))","v":2.9E-4},{"$f":"IF('PCB data'!AG15=\"\",\"\",IF(ISNUMBER('PCB data'!AG15)=TRUE, IF('PCB data'!AG15<'PCB data'!AG$38, \"ERROR\", 'PCB data'!AG15), IF('PCB data'!AG15=\"<LOD\",'PCB data'!AG$38, \"ERROR\")))","v":9.0000000000000006E-5},{"$f":"IF('PCB data'!AH15=\"\",\"\",IF(ISNUMBER('PCB data'!AH15)=TRUE, IF('PCB data'!AH15<'PCB data'!AH$38, \"ERROR\", 'PCB data'!AH15), IF('PCB data'!AH15=\"<LOD\",'PCB data'!AH$38, \"ERROR\")))","v":2.9999999999999997E-4},{"$f":"IF('PCB data'!AI15=\"\",\"\",IF(ISNUMBER('PCB data'!AI15)=TRUE, IF('PCB data'!AI15<'PCB data'!AI$38, \"ERROR\", 'PCB data'!AI15), IF('PCB data'!AI15=\"<LOD\",'PCB data'!AI$38, \"ERROR\")))","v":4.0999999999999999E-4},{"$f":"IF('PCB data'!AJ15=\"\",\"\",IF(ISNUMBER('PCB data'!AJ15)=TRUE, IF('PCB data'!AJ15<'PCB data'!AJ$38, \"ERROR\", 'PCB data'!AJ15), IF('PCB data'!AJ15=\"<LOD\",'PCB data'!AJ$38, \"ERROR\")))","v":5.1000000000000004E-4},4.3600000000000002E-3,9.3500000000000007E-3]
[null,null,null,null,null,null,null,{"$f":"IF('PCB data'!H16=\"\",\"\",'PCB data'!H16)","v":""},{"$f":"IF('PCB data'!I16=\"\",\"\",'PCB data'!I16)","v":""},{"$f":"IFERROR(IF(K17=\"\",\"\",(IF(VLOOKUP(K17,'Application info'!$K$8:$L$37,2,0)=\"y\",\"y\",\"\"))),\"Manual entry required\")","v":""},{"$f":"IF('PCB data'!J16=\"\",\"\",'PCB data'!J16)","v":""},{"$f":"IF('PCB data'!L16=\"\",\"\",IF(ISNUMBER('PCB data'!L16)=TRUE, IF('PCB data'!L16<'PCB data'!L$38, \"ERROR\", 'PCB data'!L16), IF('PCB data'!L16=\"<LOD\",'PCB data'!L$38, \"ERROR\")))","v":""},{"$f":"IF('PCB data'!M16=\"\",\"\",IF(ISNUMBER('PCB data'!M16)=TRUE, IF('PCB data'!M16<'PCB data'!M$38, \"ERROR\", 'PCB data'!M16), IF('PCB data'!M16=\"<LOD\",'PCB data'!M$38, \"ERROR\")))","v":""},{"$f":"IF('PCB data'!N16=\"\",\"\",IF(ISNUMBER('PCB data'!N16)=TRUE, IF('PCB data'!N16<'PCB data'!N$38, \"ERROR\", 'PCB data'!N16), IF('PCB data'!N16=\"<LOD\",'PCB data'!N$38, \"ERROR\")))","v":""},{"$f":"IF('PCB data'!O16=\"\",\"\",IF(ISNUMBER('PCB data'!O16)=TRUE, IF('PCB data'!O16<'PCB data'!O$38, \"ERROR\", 'PCB data'!O16), IF('PCB data'!O16=\"<LOD\",'PCB data'!O$38, \"ERROR\")))","v":""},{"$f":"IF('PCB data'!P16=\"\",\"\",IF(ISNUMBER('PCB data'!P16)=TRUE, IF('PCB data'!P16<'PCB data'!P$38, \"ERROR\", 'PCB data'!P16), IF('PCB data'!P16=\"<LOD\",'PCB data'!P$38, \"ERROR\")))","v":""},{"$f":"IF('PCB data'!Q16=\"\",\"\",IF(ISNUMBER('PCB data'!Q16)=TRUE, IF('PCB data'!Q16<'PCB data'!Q$38, \"ERROR\", 'PCB data'!Q16), IF('PCB data'!Q16=\"<LOD\",'PCB data'!Q$38, \"ERROR\")))","v":""},{"$f":"IF('PCB data'!R16=\"\",\"\",IF(ISNUMBER('PCB data'!R16)=TRUE, IF('PCB data'!R16<'PCB data'!R$38, \"ERROR\", 'PCB data'!R16), IF('PCB data'!R16=\"<LOD\",'PCB data'!R$38, \"ERROR\")))","v":""},{"$f":"IF('PCB data'!S16=\"\",\"\",IF(ISNUMBER('PCB data'!S16)=TRUE, IF('PCB data'!S16<'PCB data'!S$38, \"ERROR\", 'PCB data'!S16), IF('PCB data'!S16=\"<LOD\",'PCB data'!S$38, \"ERROR\")))","v":""},{"$f":"IF('PCB data'!T16=\"\",\"\",IF(ISNUMBER('PCB data'!T16)=TRUE, IF('PCB data'!T16<'PCB data'!T$38, \"ERROR\", 'PCB data'!T16), IF('PCB data'!T16=\"<LOD\",'PCB data'!T$38, \"ERROR\")))","v":""},{"$f":"IF('PCB data'!U16=\"\",\"\",IF(ISNUMBER('PCB data'!U16)=TRUE, IF('PCB data'!U16<'PCB data'!U$38, \"ERROR\", 'PCB data'!U16), IF('PCB data'!U16=\"<LOD\",'PCB data'!U$38, \"ERROR\")))","v":""},{"$f":"IF('PCB data'!V16=\"\",\"\",IF(ISNUMBER('PCB data'!V16)=TRUE, IF('PCB data'!V16<'PCB data'!V$38, \"ERROR\", 'PCB data'!V16), IF('PCB data'!V16=\"<LOD\",'PCB data'!V$38, \"ERROR\")))","v":""},{"$f":"IF('PCB data'!W16=\"\",\"\",IF(ISNUMBER('PCB data'!W16)=TRUE, IF('PCB data'!W16<'PCB data'!W$38, \"ERROR\", 'PCB data'!W16), IF('PCB data'!W16=\"<LOD\",'PCB data'!W$38, \"ERROR\")))","v":""},{"$f":"IF('PCB data'!X16=\"\",\"\",IF(ISNUMBER('PCB data'!X16)=TRUE, IF('PCB data'!X16<'PCB data'!X$38, \"ERROR\", 'PCB data'!X16), IF('PCB data'!X16=\"<LOD\",'PCB data'!X$38, \"ERROR\")))","v":""},{"$f":"IF('PCB data'!Y16=\"\",\"\",IF(ISNUMBER('PCB data'!Y16)=TRUE, IF('PCB data'!Y16<'PCB data'!Y$38, \"ERROR\", 'PCB data'!Y16), IF('PCB data'!Y16=\"<LOD\",'PCB data'!Y$38, \"ERROR\")))","v":""},{"$f":"IF('PCB data'!Z16=\"\",\"\",IF(ISNUMBER('PCB data'!Z16)=TRUE, IF('PCB data'!Z16<'PCB data'!Z$38, \"ERROR\", 'PCB data'!Z16), IF('PCB data'!Z16=\"<LOD\",'PCB data'!Z$38, \"ERROR\")))","v":""},{"$f":"IF('PCB data'!AA16=\"\",\"\",IF(ISNUMBER('PCB data'!AA16)=TRUE, IF('PCB data'!AA16<'PCB data'!AA$38, \"ERROR\", 'PCB data'!AA16), IF('PCB data'!AA16=\"<LOD\",'PCB data'!AA$38, \"ERROR\")))","v":""},{"$f":"IF('PCB data'!AB16=\"\",\"\",IF(ISNUMBER('PCB data'!AB16)=TRUE, IF('PCB data'!AB16<'PCB data'!AB$38, \"ERROR\", 'PCB data'!AB16), IF('PCB data'!AB16=\"<LOD\",'PCB data'!AB$38, \"ERROR\")))","v":""},{"$f":"IF('PCB data'!AC16=\"\",\"\",IF(ISNUMBER('PCB data'!AC16)=TRUE, IF('PCB data'!AC16<'PCB data'!AC$38, \"ERROR\", 'PCB data'!AC16), IF('PCB data'!AC16=\"<LOD\",'PCB data'!AC$38, \"ERROR\")))","v":""},{"$f":"IF('PCB data'!AD16=\"\",\"\",IF(ISNUMBER('PCB data'!AD16)=TRUE, IF('PCB data'!AD16<'PCB data'!AD$38, \"ERROR\", 'PCB data'!AD16), IF('PCB data'!AD16=\"<LOD\",'PCB data'!AD$38, \"ERROR\")))","v":""},{"$f":"IF('PCB data'!AE16=\"\",\"\",IF(ISNUMBER('PCB data'!AE16)=TRUE, IF('PCB data'!AE16<'PCB data'!AE$38, \"ERROR\", 'PCB data'!AE16), IF('PCB data'!AE16=\"<LOD\",'PCB data'!AE$38, \"ERROR\")))","v":""},{"$f":"IF('PCB data'!AF16=\"\",\"\",IF(ISNUMBER('PCB data'!AF16)=TRUE, IF('PCB data'!AF16<'PCB data'!AF$38, \"ERROR\", 'PCB data'!AF16), IF('PCB data'!AF16=\"<LOD\",'PCB data'!AF$38, \"ERROR\")))","v":""},{"$f":"IF('PCB data'!AG16=\"\",\"\",IF(ISNUMBER('PCB data'!AG16)=TRUE, IF('PCB data'!AG16<'PCB data'!AG$38, \"ERROR\", 'PCB data'!AG16), IF('PCB data'!AG16=\"<LOD\",'PCB data'!AG$38, \"ERROR\")))","v":""},{"$f":"IF('PCB data'!AH16=\"\",\"\",IF(ISNUMBER('PCB data'!AH16)=TRUE, IF('PCB data'!AH16<'PCB data'!AH$38, \"ERROR\", 'PCB data'!AH16), IF('PCB data'!AH16=\"<LOD\",'PCB data'!AH$38, \"ERROR\")))","v":""},{"$f":"IF('PCB data'!AI16=\"\",\"\",IF(ISNUMBER('PCB data'!AI16)=TRUE, IF('PCB data'!AI16<'PCB data'!AI$38, \"ERROR\", 'PCB data'!AI16), IF('PCB data'!AI16=\"<LOD\",'PCB data'!AI$38, \"ERROR\")))","v":""},{"$f":"IF('PCB data'!AJ16=\"\",\"\",IF(ISNUMBER('PCB data'!AJ16)=TRUE, IF('PCB data'!AJ16<'PCB data'!AJ$38, \"ERROR\", 'PCB data'!AJ16), IF('PCB data'!AJ16=\"<LOD\",'PCB data'!AJ$38, \"ERROR\")))","v":""},"",""]
[null,null,null,null,null,null,null,{"$f":"IF('PCB data'!H17=\"\",\"\",'PCB data'!H17)","v":""},{"$f":"IF('PCB data'!I17=\"\",\"\",'PCB data'!I17)","v":""},{"$f":"IFERROR(IF(K18=\"\",\"\",(IF(VLOOKUP(K18,'Application info'!$K$8:$L$37,2,0)=\"y\",\"y\",\"\"))),\"Manual entry required\")","v":""},{"$f":"IF('PCB data'!J17=\"\",\"\",'PCB data'!J17)","v":""},{"$f":"IF('PCB data'!L17=\"\",\"\",IF(ISNUMBER('PCB data'!L17)=TRUE, IF('PCB data'!L17<'PCB data'!L$38, \"ERROR\", 'PCB data'!L17), IF('PCB data'!L17=\"<LOD\",'PCB data'!L$38, \"ERROR\")))","v":""},{"$f":"IF('PCB data'!M17=\"\",\"\",IF(ISNUMBER('PCB data'!M17)=TRUE, IF('PCB data'!M17<'PCB data'!M$38, \"ERROR\", 'PCB data'!M17), IF('PCB data'!M17=\"<LOD\",'PCB data'!M$38, \"ERROR\")))","v":""},{"$f":"IF('PCB data'!N17=\"\",\"\",IF(ISNUMBER('PCB data'!N17)=TRUE, IF('PCB data'!N17<'PCB data'!N$38, \"ERROR\", 'PCB data'!N17), IF('PCB data'!N17=\"<LOD\",'PCB data'!N$38, \"ERROR\")))","v":""},{"$f":"IF('PCB data'!O17=\"\",\"\",IF(ISNUMBER('PCB data'!O17)=TRUE, IF('PCB data'!O17<'PCB data'!O$38, \"ERROR\", 'PCB data'!O17), IF('PCB data'!O17=\"<LOD\",'PCB data'!O$38, \"ERROR\")))","v":""},{"$f":"IF('PCB data'!P17=\"\",\"\",IF(ISNUMBER('PCB data'!P17)=TRUE, IF('PCB data'!P17<'PCB data'!P$38, \"ERROR\", 'PCB data'!P17), IF('PCB data'!P17=\"<LOD\",'PCB data'!P$38, \"ERROR\")))","v":""},{"$f":"IF('PCB data'!Q17=\"\",\"\",IF(ISNUMBER('PCB data'!Q17)=TRUE, IF('PCB data'!Q17<'PCB data'!Q$38, \"ERROR\", 'PCB data'!Q17), IF('PCB data'!Q17=\"<LOD\",'PCB data'!Q$38, \"ERROR\")))","v":""},{"$f":"IF('PCB data'!R17=\"\",\"\",IF(ISNUMBER('PCB data'!R17)=TRUE, IF('PCB data'!R17<'PCB data'!R$38, \"ERROR\", 'PCB data'!R17), IF('PCB data'!R17=\"<LOD\",'PCB data'!R$38, \"ERROR\")))","v":""},{"$f":"IF('PCB data'!S17=\"\",\"\",IF(ISNUMBER('PCB data'!S17)=TRUE, IF('PCB data'!S17<'PCB data'!S$38, \"ERROR\", 'PCB data'!S17), IF('PCB data'!S17=\"<LOD\",'PCB data'!S$38, \"ERROR\")))","v":""},{"$f":"IF('PCB data'!T17=\"\",\"\",IF(ISNUMBER('PCB data'!T17)=TRUE, IF('PCB data'!T17<'PCB data'!T$38, \"ERROR\", 'PCB data'!T17), IF('PCB data'!T17=\"<LOD\",'PCB data'!T$38, \"ERROR\")))","v":""},{"$f":"IF('PCB data'!U17=\"\",\"\",IF(ISNUMBER('PCB data'!U17)=TRUE, IF('PCB data'!U17<'PCB data'!U$38, \"ERROR\", 'PCB data'!U17), IF('PCB data'!U17=\"<LOD\",'PCB data'!U$38, \"ERROR\")))","v":""},{"$f":"IF('PCB data'!V17=\"\",\"\",IF(ISNUMBER('PCB data'!V17)=TRUE, IF('PCB data'!V17<'PCB data'!V$38, \"ERROR\", 'PCB data'!V17), IF('PCB data'!V17=\"<LOD\",'PCB data'!V$38, \"ERROR\")))","v":""},{"$f":"IF('PCB data'!W17=\"\",\"\",IF(ISNUMBER('PCB data'!W17)=TRUE, IF('PCB data'!W17<'PCB data'!W$38, \"ERROR\", 'PCB data'!W17), IF('PCB data'!W17=\"<LOD\",'PCB data'!W$38, \"ERROR\")))","v":""},{"$f":"IF('PCB data'!X17=\"\",\"\",IF(ISNUMBER('PCB data'!X17)=TRUE, IF('PCB data'!X17<'PCB data'!X$38, \"ERROR\", 'PCB data'!X17), IF('PCB data'!X17=\"<LOD\",'PCB data'!X$38, \"ERROR\")))","v":""},{"$f":"IF('PCB data'!Y17=\"\",\"\",IF(ISNUMBER('PCB data'!Y17)=TRUE, IF('PCB data'!Y17<'PCB data'!Y$38, \"ERROR\", 'PCB data'!Y17), IF('PCB data'!Y17=\"<LOD\",'PCB data'!Y$38, \"ERROR\")))","v":""},{"$f":"IF('PCB data'!Z17=\"\",\"\",IF(ISNUMBER('PCB data'!Z17)=TRUE, IF('PCB data'!Z17<'PCB data'!Z$38, \"ERROR\", 'PCB data'!Z17), IF('PCB data'!Z17=\"<LOD\",'PCB data'!Z$38, \"ERROR\")))","v":""},{"$f":"IF('PCB data'!AA17=\"\",\"\",IF(ISNUMBER('PCB data'!AA17)=TRUE, IF('PCB data'!AA17<'PCB data'!AA$38, \"ERROR\", 'PCB data'!AA17), IF('PCB data'!AA17=\"<LOD\",'PCB data'!AA$38, \"ERROR\")))","v":""},{"$f":"IF('PCB data'!AB17=\"\",\"\",IF(ISNUMBER('PCB data'!AB17)=TRUE, IF('PCB data'!AB17<'PCB data'!AB$38, \"ERROR\", 'PCB data'!AB17), IF('PCB data'!AB17=\"<LOD\",'PCB data'!AB$38, \"ERROR\")))","v":""},{"$f":"IF('PCB data'!AC17=\"\",\"\",IF(ISNUMBER('PCB data'!AC17)=TRUE, IF('PCB data'!AC17<'PCB data'!AC$38, \"ERROR\", 'PCB data'!AC17), IF('PCB data'!AC17=\"<LOD\",'PCB data'!AC$38, \"ERROR\")))","v":""},{"$f":"IF('PCB data'!AD17=\"\",\"\",IF(ISNUMBER('PCB data'!AD17)=TRUE, IF('PCB data'!AD17<'PCB data'!AD$38, \"ERROR\", 'PCB data'!AD17), IF('PCB data'!AD17=\"<LOD\",'PCB data'!AD$38, \"ERROR\")))","v":""},{"$f":"IF('PCB data'!AE17=\"\",\"\",IF(ISNUMBER('PCB data'!AE17)=TRUE, IF('PCB data'!AE17<'PCB data'!AE$38, \"ERROR\", 'PCB data'!AE17), IF('PCB data'!AE17=\"<LOD\",'PCB data'!AE$38, \"ERROR\")))","v":""},{"$f":"IF('PCB data'!AF17=\"\",\"\",IF(ISNUMBER('PCB data'!AF17)=TRUE, IF('PCB data'!AF17<'PCB data'!AF$38, \"ERROR\", 'PCB data'!AF17), IF('PCB data'!AF17=\"<LOD\",'PCB data'!AF$38, \"ERROR\")))","v":""},{"$f":"IF('PCB data'!AG17=\"\",\"\",IF(ISNUMBER('PCB data'!AG17)=TRUE, IF('PCB data'!AG17<'PCB data'!AG$38, \"ERROR\", 'PCB data'!AG17), IF('PCB data'!AG17=\"<LOD\",'PCB data'!AG$38, \"ERROR\")))","v":""},{"$f":"IF('PCB data'!AH17=\"\",\"\",IF(ISNUMBER('PCB data'!AH17)=TRUE, IF('PCB data'!AH17<'PCB data'!AH$38, \"ERROR\", 'PCB data'!AH17), IF('PCB data'!AH17=\"<LOD\",'PCB data'!AH$38, \"ERROR\")))","v":""},{"$f":"IF('PCB data'!AI17=\"\",\"\",IF(ISNUMBER('PCB data'!AI17)=TRUE, IF('PCB data'!AI17<'PCB data'!AI$38, \"ERROR\", 'PCB data'!AI17), IF('PCB data'!AI17=\"<LOD\",'PCB data'!AI$38, \"ERROR\")))","v":""},{"$f":"IF('PCB data'!AJ17=\"\",\"\",IF(ISNUMBER('PCB data'!AJ17)=TRUE, IF('PCB data'!AJ17<'PCB data'!AJ$38, \"ERROR\", 'PCB data'!AJ17), IF('PCB data'!AJ17=\"<LOD\",'PCB data'!AJ$38, \"ERROR\")))","v":""},"",""]
[null,null,null,null,null,null,null,{"$f":"IF('PCB data'!H18=\"\",\"\",'PCB data'!H18)","v":""},{"$f":"IF('PCB data'!I18=\"\",\"\",'PCB data'!I18)","v":""},{"$f":"IFERROR(IF(K19=\"\",\"\",(IF(VLOOKUP(K19,'Application info'!$K$8:$L$37,2,0)=\"y\",\"y\",\"\"))),\"Manual entry required\")","v":""},{"$f":"IF('PCB data'!J18=\"\",\"\",'PCB data'!J18)","v":""},{"$f":"IF('PCB data'!L18=\"\",\"\",IF(ISNUMBER('PCB data'!L18)=TRUE, IF('PCB data'!L18<'PCB data'!L$38, \"ERROR\", 'PCB data'!L18), IF('PCB data'!L18=\"<LOD\",'PCB data'!L$38, \"ERROR\")))","v":""},{"$f":"IF('PCB data'!M18=\"\",\"\",IF(ISNUMBER('PCB data'!M18)=TRUE, IF('PCB data'!M18<'PCB data'!M$38, \"ERROR\", 'PCB data'!M18), IF('PCB data'!M18=\"<LOD\",'PCB data'!M$38, \"ERROR\")))","v":""},{"$f":"IF('PCB data'!N18=\"\",\"\",IF(ISNUMBER('PCB data'!N18)=TRUE, IF('PCB data'!N18<'PCB data'!N$38, \"ERROR\", 'PCB data'!N18), IF('PCB data'!N18=\"<LOD\",'PCB data'!N$38, \"ERROR\")))","v":""},{"$f":"IF('PCB data'!O18=\"\",\"\",IF(ISNUMBER('PCB data'!O18)=TRUE, IF('PCB data'!O18<'PCB data'!O$38, \"ERROR\", 'PCB data'!O18), IF('PCB data'!O18=\"<LOD\",'PCB data'!O$38, \"ERROR\")))","v":""},{"$f":"IF('PCB data'!P18=\"\",\"\",IF(ISNUMBER('PCB data'!P18)=TRUE, IF('PCB data'!P18<'PCB data'!P$38, \"ERROR\", 'PCB data'!P18), IF('PCB data'!P18=\"<LOD\",'PCB data'!P$38, \"ERROR\")))","v":""},{"$f":"IF('PCB data'!Q18=\"\",\"\",IF(ISNUMBER('PCB data'!Q18)=TRUE, IF('PCB data'!Q18<'PCB data'!Q$38, \"ERROR\", 'PCB data'!Q18), IF('PCB data'!Q18=\"<LOD\",'PCB data'!Q$38, \"ERROR\")))","v":""},{"$f":"IF('PCB data'!R18=\"\",\"\",IF(ISNUMBER('PCB data'!R18)=TRUE, IF('PCB data'!R18<'PCB data'!R$38, \"ERROR\", 'PCB data'!R18), IF('PCB data'!R18=\"<LOD\",'PCB data'!R$38, \"ERROR\")))","v":""},{"$f":"IF('PCB data'!S18=\"\",\"\",IF(ISNUMBER('PCB data'!S18)=TRUE, IF('PCB data'!S18<'PCB data'!S$38, \"ERROR\", 'PCB data'!S18), IF('PCB data'!S18=\"<LOD\",'PCB data'!S$38, \"ERROR\")))","v":""},{"$f":"IF('PCB data'!T18=\"\",\"\",IF(ISNUMBER('PCB data'!T18)=TRUE, IF('PCB data'!T18<'PCB data'!T$38, \"ERROR\", 'PCB data'!T18), IF('PCB data'!T18=\"<LOD\",'PCB data'!T$38, \"ERROR\")))","v":""},{"$f":"IF('PCB data'!U18=\"\",\"\",IF(ISNUMBER('PCB data'!U18)=TRUE, IF('PCB data'!U18<'PCB data'!U$38, \"ERROR\", 'PCB data'!U18), IF('PCB data'!U18=\"<LOD\",'PCB data'!U$38, \"ERROR\")))","v":""},{"$f":"IF('PCB data'!V18=\"\",\"\",IF(ISNUMBER('PCB data'!V18)=TRUE, IF('PCB data'!V18<'PCB data'!V$38, \"ERROR\", 'PCB data'!V18), IF('PCB data'!V18=\"<LOD\",'PCB data'!V$38, \"ERROR\")))","v":""},{"$f":"IF('PCB data'!W18=\"\",\"\",IF(ISNUMBER('PCB data'!W18)=TRUE, IF('PCB data'!W18<'PCB data'!W$38, \"ERROR\", 'PCB data'!W18), IF('PCB data'!W18=\"<LOD\",'PCB data'!W$38, \"ERROR\")))","v":""},{"$f":"IF('PCB data'!X18=\"\",\"\",IF(ISNUMBER('PCB data'!X18)=TRUE, IF('PCB data'!X18<'PCB data'!X$38, \"ERROR\", 'PCB data'!X18), IF('PCB data'!X18=\"<LOD\",'PCB data'!X$38, \"ERROR\")))","v":""},{"$f":"IF('PCB data'!Y18=\"\",\"\",IF(ISNUMBER('PCB data'!Y18)=TRUE, IF('PCB data'!Y18<'PCB data'!Y$38, \"ERROR\", 'PCB data'!Y18), IF('PCB data'!Y18=\"<LOD\",'PCB data'!Y$38, \"ERROR\")))","v":""},{"$f":"IF('PCB data'!Z18=\"\",\"\",IF(ISNUMBER('PCB data'!Z18)=TRUE, IF('PCB data'!Z18<'PCB data'!Z$38, \"ERROR\", 'PCB data'!Z18), IF('PCB data'!Z18=\"<LOD\",'PCB data'!Z$38, \"ERROR\")))","v":""},{"$f":"IF('PCB data'!AA18=\"\",\"\",IF(ISNUMBER('PCB data'!AA18)=TRUE, IF('PCB data'!AA18<'PCB data'!AA$38, \"ERROR\", 'PCB data'!AA18), IF('PCB data'!AA18=\"<LOD\",'PCB data'!AA$38, \"ERROR\")))","v":""},{"$f":"IF('PCB data'!AB18=\"\",\"\",IF(ISNUMBER('PCB data'!AB18)=TRUE, IF('PCB data'!AB18<'PCB data'!AB$38, \"ERROR\", 'PCB data'!AB18), IF('PCB data'!AB18=\"<LOD\",'PCB data'!AB$38, \"ERROR\")))","v":""},{"$f":"IF('PCB data'!AC18=\"\",\"\",IF(ISNUMBER('PCB data'!AC18)=TRUE, IF('PCB data'!AC18<'PCB data'!AC$38, \"ERROR\", 'PCB data'!AC18), IF('PCB data'!AC18=\"<LOD\",'PCB data'!AC$38, \"ERROR\")))","v":""},{"$f":"IF('PCB data'!AD18=\"\",\"\",IF(ISNUMBER('PCB data'!AD18)=TRUE, IF('PCB data'!AD18<'PCB data'!AD$38, \"ERROR\", 'PCB data'!AD18), IF('PCB data'!AD18=\"<LOD\",'PCB data'!AD$38, \"ERROR\")))","v":""},{"$f":"IF('PCB data'!AE18=\"\",\"\",IF(ISNUMBER('PCB data'!AE18)=TRUE, IF('PCB data'!AE18<'PCB data'!AE$38, \"ERROR\", 'PCB data'!AE18), IF('PCB data'!AE18=\"<LOD\",'PCB data'!AE$38, \"ERROR\")))","v":""},{"$f":"IF('PCB data'!AF18=\"\",\"\",IF(ISNUMBER('PCB data'!AF18)=TRUE, IF('PCB data'!AF18<'PCB data'!AF$38, \"ERROR\", 'PCB data'!AF18), IF('PCB data'!AF18=\"<LOD\",'PCB data'!AF$38, \"ERROR\")))","v":""},{"$f":"IF('PCB data'!AG18=\"\",\"\",IF(ISNUMBER('PCB data'!AG18)=TRUE, IF('PCB data'!AG18<'PCB data'!AG$38, \"ERROR\", 'PCB data'!AG18), IF('PCB data'!AG18=\"<LOD\",'PCB data'!AG$38, \"ERROR\")))","v":""},{"$f":"IF('PCB data'!AH18=\"\",\"\",IF(ISNUMBER('PCB data'!AH18)=TRUE, IF('PCB data'!AH18<'PCB data'!AH$38, \"ERROR\", 'PCB data'!AH18), IF('PCB data'!AH18=\"<LOD\",'PCB data'!AH$38, \"ERROR\")))","v":""},{"$f":"IF('PCB data'!AI18=\"\",\"\",IF(ISNUMBER('PCB data'!AI18)=TRUE, IF('PCB data'!AI18<'PCB data'!AI$38, \"ERROR\", 'PCB data'!AI18), IF('PCB data'!AI18=\"<LOD\",'PCB data'!AI$38, \"ERROR\")))","v":""},{"$f":"IF('PCB data'!AJ18=\"\",\"\",IF(ISNUMBER('PCB data'!AJ18)=TRUE, IF('PCB data'!AJ18<'PCB data'!AJ$38, \"ERROR\", 'PCB data'!AJ18), IF('PCB data'!AJ18=\"<LOD\",'PCB data'!AJ$38, \"ERROR\")))","v":""},"",""]
[null,null,null,null,null,null,null,{"$f":"IF('PCB data'!H19=\"\",\"\",'PCB data'!H19)","v":""},{"$f":"IF('PCB data'!I19=\"\",\"\",'PCB data'!I19)","v":""},{"$f":"IFERROR(IF(K20=\"\",\"\",(IF(VLOOKUP(K20,'Application info'!$K$8:$L$37,2,0)=\"y\",\"y\",\"\"))),\"Manual entry required\")","v":""},{"$f":"IF('PCB data'!J19=\"\",\"\",'PCB data'!J19)","v":""},{"$f":"IF('PCB data'!L19=\"\",\"\",IF(ISNUMBER('PCB data'!L19)=TRUE, IF('PCB data'!L19<'PCB data'!L$38, \"ERROR\", 'PCB data'!L19), IF('PCB data'!L19=\"<LOD\",'PCB data'!L$38, \"ERROR\")))","v":""},{"$f":"IF('PCB data'!M19=\"\",\"\",IF(ISNUMBER('PCB data'!M19)=TRUE, IF('PCB data'!M19<'PCB data'!M$38, \"ERROR\", 'PCB data'!M19), IF('PCB data'!M19=\"<LOD\",'PCB data'!M$38, \"ERROR\")))","v":""},{"$f":"IF('PCB data'!N19=\"\",\"\",IF(ISNUMBER('PCB data'!N19)=TRUE, IF('PCB data'!N19<'PCB data'!N$38, \"ERROR\", 'PCB data'!N19), IF('PCB data'!N19=\"<LOD\",'PCB data'!N$38, \"ERROR\")))","v":""},{"$f":"IF('PCB data'!O19=\"\",\"\",IF(ISNUMBER('PCB data'!O19)=TRUE, IF('PCB data'!O19<'PCB data'!O$38, \"ERROR\", 'PCB data'!O19), IF('PCB data'!O19=\"<LOD\",'PCB data'!O$38, \"ERROR\")))","v":""},{"$f":"IF('PCB data'!P19=\"\",\"\",IF(ISNUMBER('PCB data'!P19)=TRUE, IF('PCB data'!P19<'PCB data'!P$38, \"ERROR\", 'PCB data'!P19), IF('PCB data'!P19=\"<LOD\",'PCB data'!P$38, \"ERROR\")))","v":""},{"$f":"IF('PCB data'!Q19=\"\",\"\",IF(ISNUMBER('PCB data'!Q19)=TRUE, IF('PCB data'!Q19<'PCB data'!Q$38, \"ERROR\", 'PCB data'!Q19), IF('PCB data'!Q19=\"<LOD\",'PCB data'!Q$38, \"ERROR\")))","v":""},{"$f":"IF('PCB data'!R19=\"\",\"\",IF(ISNUMBER('PCB data'!R19)=TRUE, IF('PCB data'!R19<'PCB data'!R$38, \"ERROR\", 'PCB data'!R19), IF('PCB data'!R19=\"<LOD\",'PCB data'!R$38, \"ERROR\")))","v":""},{"$f":"IF('PCB data'!S19=\"\",\"\",IF(ISNUMBER('PCB data'!S19)=TRUE, IF('PCB data'!S19<'PCB data'!S$38, \"ERROR\", 'PCB data'!S19), IF('PCB data'!S19=\"<LOD\",'PCB data'!S$38, \"ERROR\")))","v":""},{"$f":"IF('PCB data'!T19=\"\",\"\",IF(ISNUMBER('PCB data'!T19)=TRUE, IF('PCB data'!T19<'PCB data'!T$38, \"ERROR\", 'PCB data'!T19), IF('PCB data'!T19=\"<LOD\",'PCB data'!T$38, \"ERROR\")))","v":""},{"$f":"IF('PCB data'!U19=\"\",\"\",IF(ISNUMBER('PCB data'!U19)=TRUE, IF('PCB data'!U19<'PCB data'!U$38, \"ERROR\", 'PCB data'!U19), IF('PCB data'!U19=\"<LOD\",'PCB data'!U$38, \"ERROR\")))","v":""},{"$f":"IF('PCB data'!V19=\"\",\"\",IF(ISNUMBER('PCB data'!V19)=TRUE, IF('PCB data'!V19<'PCB data'!V$38, \"ERROR\", 'PCB data'!V19), IF('PCB data'!V19=\"<LOD\",'PCB data'!V$38, \"ERROR\")))","v":""},{"$f":"IF('PCB data'!W19=\"\",\"\",IF(ISNUMBER('PCB data'!W19)=TRUE, IF('PCB data'!W19<'PCB data'!W$38, \"ERROR\", 'PCB data'!W19), IF('PCB data'!W19=\"<LOD\",'PCB data'!W$38, \"ERROR\")))","v":""},{"$f":"IF('PCB data'!X19=\"\",\"\",IF(ISNUMBER('PCB data'!X19)=TRUE, IF('PCB data'!X19<'PCB data'!X$38, \"ERROR\", 'PCB data'!X19), IF('PCB data'!X19=\"<LOD\",'PCB data'!X$38, \"ERROR\")))","v":""},{"$f":"IF('PCB data'!Y19=\"\",\"\",IF(ISNUMBER('PCB data'!Y19)=TRUE, IF('PCB data'!Y19<'PCB data'!Y$38, \"ERROR\", 'PCB data'!Y19), IF('PCB data'!Y19=\"<LOD\",'PCB data'!Y$38, \"ERROR\")))","v":""},{"$f":"IF('PCB data'!Z19=\"\",\"\",IF(ISNUMBER('PCB data'!Z19)=TRUE, IF('PCB data'!Z19<'PCB data'!Z$38, \"ERROR\", 'PCB data'!Z19), IF('PCB data'!Z19=\"<LOD\",'PCB data'!Z$38, \"ERROR\")))","v":""},{"$f":"IF('PCB data'!AA19=\"\",\"\",IF(ISNUMBER('PCB data'!AA19)=TRUE, IF('PCB data'!AA19<'PCB data'!AA$38, \"ERROR\", 'PCB data'!AA19), IF('PCB data'!AA19=\"<LOD\",'PCB data'!AA$38, \"ERROR\")))","v":""},{"$f":"IF('PCB data'!AB19=\"\",\"\",IF(ISNUMBER('PCB data'!AB19)=TRUE, IF('PCB data'!AB19<'PCB data'!AB$38, \"ERROR\", 'PCB data'!AB19), IF('PCB data'!AB19=\"<LOD\",'PCB data'!AB$38, \"ERROR\")))","v":""},{"$f":"IF('PCB data'!AC19=\"\",\"\",IF(ISNUMBER('PCB data'!AC19)=TRUE, IF('PCB data'!AC19<'PCB data'!AC$38, \"ERROR\", 'PCB data'!AC19), IF('PCB data'!AC19=\"<LOD\",'PCB data'!AC$38, \"ERROR\")))","v":""},{"$f":"IF('PCB data'!AD19=\"\",\"\",IF(ISNUMBER('PCB data'!AD19)=TRUE, IF('PCB data'!AD19<'PCB data'!AD$38, \"ERROR\", 'PCB data'!AD19), IF('PCB data'!AD19=\"<LOD\",'PCB data'!AD$38, \"ERROR\")))","v":""},{"$f":"IF('PCB data'!AE19=\"\",\"\",IF(ISNUMBER('PCB data'!AE19)=TRUE, IF('PCB data'!AE19<'PCB data'!AE$38, \"ERROR\", 'PCB data'!AE19), IF('PCB data'!AE19=\"<LOD\",'PCB data'!AE$38, \"ERROR\")))","v":""},{"$f":"IF('PCB data'!AF19=\"\",\"\",IF(ISNUMBER('PCB data'!AF19)=TRUE, IF('PCB data'!AF19<'PCB data'!AF$38, \"ERROR\", 'PCB data'!AF19), IF('PCB data'!AF19=\"<LOD\",'PCB data'!AF$38, \"ERROR\")))","v":""},{"$f":"IF('PCB data'!AG19=\"\",\"\",IF(ISNUMBER('PCB data'!AG19)=TRUE, IF('PCB data'!AG19<'PCB data'!AG$38, \"ERROR\", 'PCB data'!AG19), IF('PCB data'!AG19=\"<LOD\",'PCB data'!AG$38, \"ERROR\")))","v":""},{"$f":"IF('PCB data'!AH19=\"\",\"\",IF(ISNUMBER('PCB data'!AH19)=TRUE, IF('PCB data'!AH19<'PCB data'!AH$38, \"ERROR\", 'PCB data'!AH19), IF('PCB data'!AH19=\"<LOD\",'PCB data'!AH$38, \"ERROR\")))","v":""},{"$f":"IF('PCB data'!AI19=\"\",\"\",IF(ISNUMBER('PCB data'!AI19)=TRUE, IF('PCB data'!AI19<'PCB data'!AI$38, \"ERROR\", 'PCB data'!AI19), IF('PCB data'!AI19=\"<LOD\",'PCB data'!AI$38, \"ERROR\")))","v":""},{"$f":"IF('PCB data'!AJ19=\"\",\"\",IF(ISNUMBER('PCB data'!AJ19)=TRUE, IF('PCB data'!AJ19<'PCB data'!AJ$38, \"ERROR\", 'PCB data'!AJ19), IF('PCB data'!AJ19=\"<LOD\",'PCB data'!AJ$38, \"ERROR\")))","v":""},"",""]
[null,null,null,null,null,null,null,{"$f":"IF('PCB data'!H20=\"\",\"\",'PCB data'!H20)","v":""},{"$f":"IF('PCB data'!I20=\"\",\"\",'PCB data'!I20)","v":""},{"$f":"IFERROR(IF(K21=\"\",\"\",(IF(VLOOKUP(K21,'Application info'!$K$8:$L$37,2,0)=\"y\",\"y\",\"\"))),\"Manual entry required\")","v":""},{"$f":"IF('PCB data'!J20=\"\",\"\",'PCB data'!J20)","v":""},{"$f":"IF('PCB data'!L20=\"\",\"\",IF(ISNUMBER('PCB data'!L20)=TRUE, IF('PCB data'!L20<'PCB data'!L$38, \"ERROR\", 'PCB data'!L20), IF('PCB data'!L20=\"<LOD\",'PCB data'!L$38, \"ERROR\")))","v":""},{"$f":"IF('PCB data'!M20=\"\",\"\",IF(ISNUMBER('PCB data'!M20)=TRUE, IF('PCB data'!M20<'PCB data'!M$38, \"ERROR\", 'PCB data'!M20), IF('PCB data'!M20=\"<LOD\",'PCB data'!M$38, \"ERROR\")))","v":""},{"$f":"IF('PCB data'!N20=\"\",\"\",IF(ISNUMBER('PCB data'!N20)=TRUE, IF('PCB data'!N20<'PCB data'!N$38, \"ERROR\", 'PCB data'!N20), IF('PCB data'!N20=\"<LOD\",'PCB data'!N$38, \"ERROR\")))","v":""},{"$f":"IF('PCB data'!O20=\"\",\"\",IF(ISNUMBER('PCB data'!O20)=TRUE, IF('PCB data'!O20<'PCB data'!O$38, \"ERROR\", 'PCB data'!O20), IF('PCB data'!O20=\"<LOD\",'PCB data'!O$38, \"ERROR\")))","v":""},{"$f":"IF('PCB data'!P20=\"\",\"\",IF(ISNUMBER('PCB data'!P20)=TRUE, IF('PCB data'!P20<'PCB data'!P$38, \"ERROR\", 'PCB data'!P20), IF('PCB data'!P20=\"<LOD\",'PCB data'!P$38, \"ERROR\")))","v":""},{"$f":"IF('PCB data'!Q20=\"\",\"\",IF(ISNUMBER('PCB data'!Q20)=TRUE, IF('PCB data'!Q20<'PCB data'!Q$38, \"ERROR\", 'PCB data'!Q20), IF('PCB data'!Q20=\"<LOD\",'PCB data'!Q$38, \"ERROR\")))","v":""},{"$f":"IF('PCB data'!R20=\"\",\"\",IF(ISNUMBER('PCB data'!R20)=TRUE, IF('PCB data'!R20<'PCB data'!R$38, \"ERROR\", 'PCB data'!R20), IF('PCB data'!R20=\"<LOD\",'PCB data'!R$38, \"ERROR\")))","v":""},{"$f":"IF('PCB data'!S20=\"\",\"\",IF(ISNUMBER('PCB data'!S20)=TRUE, IF('PCB data'!S20<'PCB data'!S$38, \"ERROR\", 'PCB data'!S20), IF('PCB data'!S20=\"<LOD\",'PCB data'!S$38, \"ERROR\")))","v":""},{"$f":"IF('PCB data'!T20=\"\",\"\",IF(ISNUMBER('PCB data'!T20)=TRUE, IF('PCB data'!T20<'PCB data'!T$38, \"ERROR\", 'PCB data'!T20), IF('PCB data'!T20=\"<LOD\",'PCB data'!T$38, \"ERROR\")))","v":""},{"$f":"IF('PCB data'!U20=\"\",\"\",IF(ISNUMBER('PCB data'!U20)=TRUE, IF('PCB data'!U20<'PCB data'!U$38, \"ERROR\", 'PCB data'!U20), IF('PCB data'!U20=\"<LOD\",'PCB data'!U$38, \"ERROR\")))","v":""},{"$f":"IF('PCB data'!V20=\"\",\"\",IF(ISNUMBER('PCB data'!V20)=TRUE, IF('PCB data'!V20<'PCB data'!V$38, \"ERROR\", 'PCB data'!V20), IF('PCB data'!V20=\"<LOD\",'PCB data'!V$38, \"ERROR\")))","v":""},{"$f":"IF('PCB data'!W20=\"\",\"\",IF(ISNUMBER('PCB data'!W20)=TRUE, IF('PCB data'!W20<'PCB data'!W$38, \"ERROR\", 'PCB data'!W20), IF('PCB data'!W20=\"<LOD\",'PCB data'!W$38, \"ERROR\")))","v":""},{"$f":"IF('PCB data'!X20=\"\",\"\",IF(ISNUMBER('PCB data'!X20)=TRUE, IF('PCB data'!X20<'PCB data'!X$38, \"ERROR\", 'PCB data'!X20), IF('PCB data'!X20=\"<LOD\",'PCB data'!X$38, \"ERROR\")))","v":""},{"$f":"IF('PCB data'!Y20=\"\",\"\",IF(ISNUMBER('PCB data'!Y20)=TRUE, IF('PCB data'!Y20<'PCB data'!Y$38, \"ERROR\", 'PCB data'!Y20), IF('PCB data'!Y20=\"<LOD\",'PCB data'!Y$38, \"ERROR\")))","v":""},{"$f":"IF('PCB data'!Z20=\"\",\"\",IF(ISNUMBER('PCB data'!Z20)=TRUE, IF('PCB data'!Z20<'PCB data'!Z$38, \"ERROR\", 'PCB data'!Z20), IF('PCB data'!Z20=\"<LOD\",'PCB data'!Z$38, \"ERROR\")))","v":""},{"$f":"IF('PCB data'!AA20=\"\",\"\",IF(ISNUMBER('PCB data'!AA20)=TRUE, IF('PCB data'!AA20<'PCB data'!AA$38, \"ERROR\", 'PCB data'!AA20), IF('PCB data'!AA20=\"<LOD\",'PCB data'!AA$38, \"ERROR\")))","v":""},{"$f":"IF('PCB data'!AB20=\"\",\"\",IF(ISNUMBER('PCB data'!AB20)=TRUE, IF('PCB data'!AB20<'PCB data'!AB$38, \"ERROR\", 'PCB data'!AB20), IF('PCB data'!AB20=\"<LOD\",'PCB data'!AB$38, \"ERROR\")))","v":""},{"$f":"IF('PCB data'!AC20=\"\",\"\",IF(ISNUMBER('PCB data'!AC20)=TRUE, IF('PCB data'!AC20<'PCB data'!AC$38, \"ERROR\", 'PCB data'!AC20), IF('PCB data'!AC20=\"<LOD\",'PCB data'!AC$38, \"ERROR\")))","v":""},{"$f":"IF('PCB data'!AD20=\"\",\"\",IF(ISNUMBER('PCB data'!AD20)=TRUE, IF('PCB data'!AD20<'PCB data'!AD$38, \"ERROR\", 'PCB data'!AD20), IF('PCB data'!AD20=\"<LOD\",'PCB data'!AD$38, \"ERROR\")))","v":""},{"$f":"IF('PCB data'!AE20=\"\",\"\",IF(ISNUMBER('PCB data'!AE20)=TRUE, IF('PCB data'!AE20<'PCB data'!AE$38, \"ERROR\", 'PCB data'!AE20), IF('PCB data'!AE20=\"<LOD\",'PCB data'!AE$38, \"ERROR\")))","v":""},{"$f":"IF('PCB data'!AF20=\"\",\"\",IF(ISNUMBER('PCB data'!AF20)=TRUE, IF('PCB data'!AF20<'PCB data'!AF$38, \"ERROR\", 'PCB data'!AF20), IF('PCB data'!AF20=\"<LOD\",'PCB data'!AF$38, \"ERROR\")))","v":""},{"$f":"IF('PCB data'!AG20=\"\",\"\",IF(ISNUMBER('PCB data'!AG20)=TRUE, IF('PCB data'!AG20<'PCB data'!AG$38, \"ERROR\", 'PCB data'!AG20), IF('PCB data'!AG20=\"<LOD\",'PCB data'!AG$38, \"ERROR\")))","v":""},{"$f":"IF('PCB data'!AH20=\"\",\"\",IF(ISNUMBER('PCB data'!AH20)=TRUE, IF('PCB data'!AH20<'PCB data'!AH$38, \"ERROR\", 'PCB data'!AH20), IF('PCB data'!AH20=\"<LOD\",'PCB data'!AH$38, \"ERROR\")))","v":""},{"$f":"IF('PCB data'!AI20=\"\",\"\",IF(ISNUMBER('PCB data'!AI20)=TRUE, IF('PCB data'!AI20<'PCB data'!AI$38, \"ERROR\", 'PCB data'!AI20), IF('PCB data'!AI20=\"<LOD\",'PCB data'!AI$38, \"ERROR\")))","v":""},{"$f":"IF('PCB data'!AJ20=\"\",\"\",IF(ISNUMBER('PCB data'!AJ20)=TRUE, IF('PCB data'!AJ20<'PCB data'!AJ$38, \"ERROR\", 'PCB data'!AJ20), IF('PCB data'!AJ20=\"<LOD\",'PCB data'!AJ$38, \"ERROR\")))","v":""},"",""]
[null,null,null,null,null,null,null,{"$f":"IF('PCB data'!H21=\"\",\"\",'PCB data'!H21)","v":""},{"$f":"IF('PCB data'!I21=\"\",\"\",'PCB data'!I21)","v":""},{"$f":"IFERROR(IF(K22=\"\",\"\",(IF(VLOOKUP(K22,'Application info'!$K$8:$L$37,2,0)=\"y\",\"y\",\"\"))),\"Manual entry required\")","v":""},{"$f":"IF('PCB data'!J21=\"\",\"\",'PCB data'!J21)","v":""},{"$f":"IF('PCB data'!L21=\"\",\"\",IF(ISNUMBER('PCB data'!L21)=TRUE, IF('PCB data'!L21<'PCB data'!L$38, \"ERROR\", 'PCB data'!L21), IF('PCB data'!L21=\"<LOD\",'PCB data'!L$38, \"ERROR\")))","v":""},{"$f":"IF('PCB data'!M21=\"\",\"\",IF(ISNUMBER('PCB data'!M21)=TRUE, IF('PCB data'!M21<'PCB data'!M$38, \"ERROR\", 'PCB data'!M21), IF('PCB data'!M21=\"<LOD\",'PCB data'!M$38, \"ERROR\")))","v":""},{"$f":"IF('PCB data'!N21=\"\",\"\",IF(ISNUMBER('PCB data'!N21)=TRUE, IF('PCB data'!N21<'PCB data'!N$38, \"ERROR\", 'PCB data'!N21), IF('PCB data'!N21=\"<LOD\",'PCB data'!N$38, \"ERROR\")))","v":""},{"$f":"IF('PCB data'!O21=\"\",\"\",IF(ISNUMBER('PCB data'!O21)=TRUE, IF('PCB data'!O21<'PCB data'!O$38, \"ERROR\", 'PCB data'!O21), IF('PCB data'!O21=\"<LOD\",'PCB data'!O$38, \"ERROR\")))","v":""},{"$f":"IF('PCB data'!P21=\"\",\"\",IF(ISNUMBER('PCB data'!P21)=TRUE, IF('PCB data'!P21<'PCB data'!P$38, \"ERROR\", 'PCB data'!P21), IF('PCB data'!P21=\"<LOD\",'PCB data'!P$38, \"ERROR\")))","v":""},{"$f":"IF('PCB data'!Q21=\"\",\"\",IF(ISNUMBER('PCB data'!Q21)=TRUE, IF('PCB data'!Q21<'PCB data'!Q$38, \"ERROR\", 'PCB data'!Q21), IF('PCB data'!Q21=\"<LOD\",'PCB data'!Q$38, \"ERROR\")))","v":""},{"$f":"IF('PCB data'!R21=\"\",\"\",IF(ISNUMBER('PCB data'!R21)=TRUE, IF('PCB data'!R21<'PCB data'!R$38, \"ERROR\", 'PCB data'!R21), IF('PCB data'!R21=\"<LOD\",'PCB data'!R$38, \"ERROR\")))","v":""},{"$f":"IF('PCB data'!S21=\"\",\"\",IF(ISNUMBER('PCB data'!S21)=TRUE, IF('PCB data'!S21<'PCB data'!S$38, \"ERROR\", 'PCB data'!S21), IF('PCB data'!S21=\"<LOD\",'PCB data'!S$38, \"ERROR\")))","v":""},{"$f":"IF('PCB data'!T21=\"\",\"\",IF(ISNUMBER('PCB data'!T21)=TRUE, IF('PCB data'!T21<'PCB data'!T$38, \"ERROR\", 'PCB data'!T21), IF('PCB data'!T21=\"<LOD\",'PCB data'!T$38, \"ERROR\")))","v":""},{"$f":"IF('PCB data'!U21=\"\",\"\",IF(ISNUMBER('PCB data'!U21)=TRUE, IF('PCB data'!U21<'PCB data'!U$38, \"ERROR\", 'PCB data'!U21), IF('PCB data'!U21=\"<LOD\",'PCB data'!U$38, \"ERROR\")))","v":""},{"$f":"IF('PCB data'!V21=\"\",\"\",IF(ISNUMBER('PCB data'!V21)=TRUE, IF('PCB data'!V21<'PCB data'!V$38, \"ERROR\", 'PCB data'!V21), IF('PCB data'!V21=\"<LOD\",'PCB data'!V$38, \"ERROR\")))","v":""},{"$f":"IF('PCB data'!W21=\"\",\"\",IF(ISNUMBER('PCB data'!W21)=TRUE, IF('PCB data'!W21<'PCB data'!W$38, \"ERROR\", 'PCB data'!W21), IF('PCB data'!W21=\"<LOD\",'PCB data'!W$38, \"ERROR\")))","v":""},{"$f":"IF('PCB data'!X21=\"\",\"\",IF(ISNUMBER('PCB data'!X21)=TRUE, IF('PCB data'!X21<'PCB data'!X$38, \"ERROR\", 'PCB data'!X21), IF('PCB data'!X21=\"<LOD\",'PCB data'!X$38, \"ERROR\")))","v":""},{"$f":"IF('PCB data'!Y21=\"\",\"\",IF(ISNUMBER('PCB data'!Y21)=TRUE, IF('PCB data'!Y21<'PCB data'!Y$38, \"ERROR\", 'PCB data'!Y21), IF('PCB data'!Y21=\"<LOD\",'PCB data'!Y$38, \"ERROR\")))","v":""},{"$f":"IF('PCB data'!Z21=\"\",\"\",IF(ISNUMBER('PCB data'!Z21)=TRUE, IF('PCB data'!Z21<'PCB data'!Z$38, \"ERROR\", 'PCB data'!Z21), IF('PCB data'!Z21=\"<LOD\",'PCB data'!Z$38, \"ERROR\")))","v":""},{"$f":"IF('PCB data'!AA21=\"\",\"\",IF(ISNUMBER('PCB data'!AA21)=TRUE, IF('PCB data'!AA21<'PCB data'!AA$38, \"ERROR\", 'PCB data'!AA21), IF('PCB data'!AA21=\"<LOD\",'PCB data'!AA$38, \"ERROR\")))","v":""},{"$f":"IF('PCB data'!AB21=\"\",\"\",IF(ISNUMBER('PCB data'!AB21)=TRUE, IF('PCB data'!AB21<'PCB data'!AB$38, \"ERROR\", 'PCB data'!AB21), IF('PCB data'!AB21=\"<LOD\",'PCB data'!AB$38, \"ERROR\")))","v":""},{"$f":"IF('PCB data'!AC21=\"\",\"\",IF(ISNUMBER('PCB data'!AC21)=TRUE, IF('PCB data'!AC21<'PCB data'!AC$38, \"ERROR\", 'PCB data'!AC21), IF('PCB data'!AC21=\"<LOD\",'PCB data'!AC$38, \"ERROR\")))","v":""},{"$f":"IF('PCB data'!AD21=\"\",\"\",IF(ISNUMBER('PCB data'!AD21)=TRUE, IF('PCB data'!AD21<'PCB data'!AD$38, \"ERROR\", 'PCB data'!AD21), IF('PCB data'!AD21=\"<LOD\",'PCB data'!AD$38, \"ERROR\")))","v":""},{"$f":"IF('PCB data'!AE21=\"\",\"\",IF(ISNUMBER('PCB data'!AE21)=TRUE, IF('PCB data'!AE21<'PCB data'!AE$38, \"ERROR\", 'PCB data'!AE21), IF('PCB data'!AE21=\"<LOD\",'PCB data'!AE$38, \"ERROR\")))","v":""},{"$f":"IF('PCB data'!AF21=\"\",\"\",IF(ISNUMBER('PCB data'!AF21)=TRUE, IF('PCB data'!AF21<'PCB data'!AF$38, \"ERROR\", 'PCB data'!AF21), IF('PCB data'!AF21=\"<LOD\",'PCB data'!AF$38, \"ERROR\")))","v":""},{"$f":"IF('PCB data'!AG21=\"\",\"\",IF(ISNUMBER('PCB data'!AG21)=TRUE, IF('PCB data'!AG21<'PCB data'!AG$38, \"ERROR\", 'PCB data'!AG21), IF('PCB data'!AG21=\"<LOD\",'PCB data'!AG$38, \"ERROR\")))","v":""},{"$f":"IF('PCB data'!AH21=\"\",\"\",IF(ISNUMBER('PCB data'!AH21)=TRUE, IF('PCB data'!AH21<'PCB data'!AH$38, \"ERROR\", 'PCB data'!AH21), IF('PCB data'!AH21=\"<LOD\",'PCB data'!AH$38, \"ERROR\")))","v":""},{"$f":"IF('PCB data'!AI21=\"\",\"\",IF(ISNUMBER('PCB data'!AI21)=TRUE, IF('PCB data'!AI21<'PCB data'!AI$38, \"ERROR\", 'PCB data'!AI21), IF('PCB data'!AI21=\"<LOD\",'PCB data'!AI$38, \"ERROR\")))","v":""},{"$f":"IF('PCB data'!AJ21=\"\",\"\",IF(ISNUMBER('PCB data'!AJ21)=TRUE, IF('PCB data'!AJ21<'PCB data'!AJ$38, \"ERROR\", 'PCB data'!AJ21), IF('PCB data'!AJ21=\"<LOD\",'PCB data'!AJ$38, \"ERROR\")))","v":""},"",""]
[null,null,null,null,null,null,null,{"$f":"IF('PCB data'!H22=\"\",\"\",'PCB data'!H22)","v":""},{"$f":"IF('PCB data'!I22=\"\",\"\",'PCB data'!I22)","v":""},{"$f":"IFERROR(IF(K23=\"\",\"\",(IF(VLOOKUP(K23,'Application info'!$K$8:$L$37,2,0)=\"y\",\"y\",\"\"))),\"Manual entry required\")","v":""},{"$f":"IF('PCB data'!J22=\"\",\"\",'PCB data'!J22)","v":""},{"$f":"IF('PCB data'!L22=\"\",\"\",IF(ISNUMBER('PCB data'!L22)=TRUE, IF('PCB data'!L22<'PCB data'!L$38, \"ERROR\", 'PCB data'!L22), IF('PCB data'!L22=\"<LOD\",'PCB data'!L$38, \"ERROR\")))","v":""},{"$f":"IF('PCB data'!M22=\"\",\"\",IF(ISNUMBER('PCB data'!M22)=TRUE, IF('PCB data'!M22<'PCB data'!M$38, \"ERROR\", 'PCB data'!M22), IF('PCB data'!M22=\"<LOD\",'PCB data'!M$38, \"ERROR\")))","v":""},{"$f":"IF('PCB data'!N22=\"\",\"\",IF(ISNUMBER('PCB data'!N22)=TRUE, IF('PCB data'!N22<'PCB data'!N$38, \"ERROR\", 'PCB data'!N22), IF('PCB data'!N22=\"<LOD\",'PCB data'!N$38, \"ERROR\")))","v":""},{"$f":"IF('PCB data'!O22=\"\",\"\",IF(ISNUMBER('PCB data'!O22)=TRUE, IF('PCB data'!O22<'PCB data'!O$38, \"ERROR\", 'PCB data'!O22), IF('PCB data'!O22=\"<LOD\",'PCB data'!O$38, \"ERROR\")))","v":""},{"$f":"IF('PCB data'!P22=\"\",\"\",IF(ISNUMBER('PCB data'!P22)=TRUE, IF('PCB data'!P22<'PCB data'!P$38, \"ERROR\", 'PCB data'!P22), IF('PCB data'!P22=\"<LOD\",'PCB data'!P$38, \"ERROR\")))","v":""},{"$f":"IF('PCB data'!Q22=\"\",\"\",IF(ISNUMBER('PCB data'!Q22)=TRUE, IF('PCB data'!Q22<'PCB data'!Q$38, \"ERROR\", 'PCB data'!Q22), IF('PCB data'!Q22=\"<LOD\",'PCB data'!Q$38, \"ERROR\")))","v":""},{"$f":"IF('PCB data'!R22=\"\",\"\",IF(ISNUMBER('PCB data'!R22)=TRUE, IF('PCB data'!R22<'PCB data'!R$38, \"ERROR\", 'PCB data'!R22), IF('PCB data'!R22=\"<LOD\",'PCB data'!R$38, \"ERROR\")))","v":""},{"$f":"IF('PCB data'!S22=\"\",\"\",IF(ISNUMBER('PCB data'!S22)=TRUE, IF('PCB data'!S22<'PCB data'!S$38, \"ERROR\", 'PCB data'!S22), IF('PCB data'!S22=\"<LOD\",'PCB data'!S$38, \"ERROR\")))","v":""},{"$f":"IF('PCB data'!T22=\"\",\"\",IF(ISNUMBER('PCB data'!T22)=TRUE, IF('PCB data'!T22<'PCB data'!T$38, \"ERROR\", 'PCB data'!T22), IF('PCB data'!T22=\"<LOD\",'PCB data'!T$38, \"ERROR\")))","v":""},{"$f":"IF('PCB data'!U22=\"\",\"\",IF(ISNUMBER('PCB data'!U22)=TRUE, IF('PCB data'!U22<'PCB data'!U$38, \"ERROR\", 'PCB data'!U22), IF('PCB data'!U22=\"<LOD\",'PCB data'!U$38, \"ERROR\")))","v":""},{"$f":"IF('PCB data'!V22=\"\",\"\",IF(ISNUMBER('PCB data'!V22)=TRUE, IF('PCB data'!V22<'PCB data'!V$38, \"ERROR\", 'PCB data'!V22), IF('PCB data'!V22=\"<LOD\",'PCB data'!V$38, \"ERROR\")))","v":""},{"$f":"IF('PCB data'!W22=\"\",\"\",IF(ISNUMBER('PCB data'!W22)=TRUE, IF('PCB data'!W22<'PCB data'!W$38, \"ERROR\", 'PCB data'!W22), IF('PCB data'!W22=\"<LOD\",'PCB data'!W$38, \"ERROR\")))","v":""},{"$f":"IF('PCB data'!X22=\"\",\"\",IF(ISNUMBER('PCB data'!X22)=TRUE, IF('PCB data'!X22<'PCB data'!X$38, \"ERROR\", 'PCB data'!X22), IF('PCB data'!X22=\"<LOD\",'PCB data'!X$38, \"ERROR\")))","v":""},{"$f":"IF('PCB data'!Y22=\"\",\"\",IF(ISNUMBER('PCB data'!Y22)=TRUE, IF('PCB data'!Y22<'PCB data'!Y$38, \"ERROR\", 'PCB data'!Y22), IF('PCB data'!Y22=\"<LOD\",'PCB data'!Y$38, \"ERROR\")))","v":""},{"$f":"IF('PCB data'!Z22=\"\",\"\",IF(ISNUMBER('PCB data'!Z22)=TRUE, IF('PCB data'!Z22<'PCB data'!Z$38, \"ERROR\", 'PCB data'!Z22), IF('PCB data'!Z22=\"<LOD\",'PCB data'!Z$38, \"ERROR\")))","v":""},{"$f":"IF('PCB data'!AA22=\"\",\"\",IF(ISNUMBER('PCB data'!AA22)=TRUE, IF('PCB data'!AA22<'PCB data'!AA$38, \"ERROR\", 'PCB data'!AA22), IF('PCB data'!AA22=\"<LOD\",'PCB data'!AA$38, \"ERROR\")))","v":""},{"$f":"IF('PCB data'!AB22=\"\",\"\",IF(ISNUMBER('PCB data'!AB22)=TRUE, IF('PCB data'!AB22<'PCB data'!AB$38, \"ERROR\", 'PCB data'!AB22), IF('PCB data'!AB22=\"<LOD\",'PCB data'!AB$38, \"ERROR\")))","v":""},{"$f":"IF('PCB data'!AC22=\"\",\"\",IF(ISNUMBER('PCB data'!AC22)=TRUE, IF('PCB data'!AC22<'PCB data'!AC$38, \"ERROR\", 'PCB data'!AC22), IF('PCB data'!AC22=\"<LOD\",'PCB data'!AC$38, \"ERROR\")))","v":""},{"$f":"IF('PCB data'!AD22=\"\",\"\",IF(ISNUMBER('PCB data'!AD22)=TRUE, IF('PCB data'!AD22<'PCB data'!AD$38, \"ERROR\", 'PCB data'!AD22), IF('PCB data'!AD22=\"<LOD\",'PCB data'!AD$38, \"ERROR\")))","v":""},{"$f":"IF('PCB data'!AE22=\"\",\"\",IF(ISNUMBER('PCB data'!AE22)=TRUE, IF('PCB data'!AE22<'PCB data'!AE$38, \"ERROR\", 'PCB data'!AE22), IF('PCB data'!AE22=\"<LOD\",'PCB data'!AE$38, \"ERROR\")))","v":""},{"$f":"IF('PCB data'!AF22=\"\",\"\",IF(ISNUMBER('PCB data'!AF22)=TRUE, IF('PCB data'!AF22<'PCB data'!AF$38, \"ERROR\", 'PCB data'!AF22), IF('PCB data'!AF22=\"<LOD\",'PCB data'!AF$38, \"ERROR\")))","v":""},{"$f":"IF('PCB data'!AG22=\"\",\"\",IF(ISNUMBER('PCB data'!AG22)=TRUE, IF('PCB data'!AG22<'PCB data'!AG$38, \"ERROR\", 'PCB data'!AG22), IF('PCB data'!AG22=\"<LOD\",'PCB data'!AG$38, \"ERROR\")))","v":""},{"$f":"IF('PCB data'!AH22=\"\",\"\",IF(ISNUMBER('PCB data'!AH22)=TRUE, IF('PCB data'!AH22<'PCB data'!AH$38, \"ERROR\", 'PCB data'!AH22), IF('PCB data'!AH22=\"<LOD\",'PCB data'!AH$38, \"ERROR\")))","v":""},{"$f":"IF('PCB data'!AI22=\"\",\"\",IF(ISNUMBER('PCB data'!AI22)=TRUE, IF('PCB data'!AI22<'PCB data'!AI$38, \"ERROR\", 'PCB data'!AI22), IF('PCB data'!AI22=\"<LOD\",'PCB data'!AI$38, \"ERROR\")))","v":""},{"$f":"IF('PCB data'!AJ22=\"\",\"\",IF(ISNUMBER('PCB data'!AJ22)=TRUE, IF('PCB data'!AJ22<'PCB data'!AJ$38, \"ERROR\", 'PCB data'!AJ22), IF('PCB data'!AJ22=\"<LOD\",'PCB data'!AJ$38, \"ERROR\")))","v":""},"",""]
[null,null,null,null,null,null,null,{"$f":"IF('PCB data'!H23=\"\",\"\",'PCB data'!H23)","v":""},{"$f":"IF('PCB data'!I23=\"\",\"\",'PCB data'!I23)","v":""},{"$f":"IFERROR(IF(K24=\"\",\"\",(IF(VLOOKUP(K24,'Application info'!$K$8:$L$37,2,0)=\"y\",\"y\",\"\"))),\"Manual entry required\")","v":""},{"$f":"IF('PCB data'!J23=\"\",\"\",'PCB data'!J23)","v":""},{"$f":"IF('PCB data'!L23=\"\",\"\",IF(ISNUMBER('PCB data'!L23)=TRUE, IF('PCB data'!L23<'PCB data'!L$38, \"ERROR\", 'PCB data'!L23), IF('PCB data'!L23=\"<LOD\",'PCB data'!L$38, \"ERROR\")))","v":""},{"$f":"IF('PCB data'!M23=\"\",\"\",IF(ISNUMBER('PCB data'!M23)=TRUE, IF('PCB data'!M23<'PCB data'!M$38, \"ERROR\", 'PCB data'!M23), IF('PCB data'!M23=\"<LOD\",'PCB data'!M$38, \"ERROR\")))","v":""},{"$f":"IF('PCB data'!N23=\"\",\"\",IF(ISNUMBER('PCB data'!N23)=TRUE, IF('PCB data'!N23<'PCB data'!N$38, \"ERROR\", 'PCB data'!N23), IF('PCB data'!N23=\"<LOD\",'PCB data'!N$38, \"ERROR\")))","v":""},{"$f":"IF('PCB data'!O23=\"\",\"\",IF(ISNUMBER('PCB data'!O23)=TRUE, IF('PCB data'!O23<'PCB data'!O$38, \"ERROR\", 'PCB data'!O23), IF('PCB data'!O23=\"<LOD\",'PCB data'!O$38, \"ERROR\")))","v":""},{"$f":"IF('PCB data'!P23=\"\",\"\",IF(ISNUMBER('PCB data'!P23)=TRUE, IF('PCB data'!P23<'PCB data'!P$38, \"ERROR\", 'PCB data'!P23), IF('PCB data'!P23=\"<LOD\",'PCB data'!P$38, \"ERROR\")))","v":""},{"$f":"IF('PCB data'!Q23=\"\",\"\",IF(ISNUMBER('PCB data'!Q23)=TRUE, IF('PCB data'!Q23<'PCB data'!Q$38, \"ERROR\", 'PCB data'!Q23), IF('PCB data'!Q23=\"<LOD\",'PCB data'!Q$38, \"ERROR\")))","v":""},{"$f":"IF('PCB data'!R23=\"\",\"\",IF(ISNUMBER('PCB data'!R23)=TRUE, IF('PCB data'!R23<'PCB data'!R$38, \"ERROR\", 'PCB data'!R23), IF('PCB data'!R23=\"<LOD\",'PCB data'!R$38, \"ERROR\")))","v":""},{"$f":"IF('PCB data'!S23=\"\",\"\",IF(ISNUMBER('PCB data'!S23)=TRUE, IF('PCB data'!S23<'PCB data'!S$38, \"ERROR\", 'PCB data'!S23), IF('PCB data'!S23=\"<LOD\",'PCB data'!S$38, \"ERROR\")))","v":""},{"$f":"IF('PCB data'!T23=\"\",\"\",IF(ISNUMBER('PCB data'!T23)=TRUE, IF('PCB data'!T23<'PCB data'!T$38, \"ERROR\", 'PCB data'!T23), IF('PCB data'!T23=\"<LOD\",'PCB data'!T$38, \"ERROR\")))","v":""},{"$f":"IF('PCB data'!U23=\"\",\"\",IF(ISNUMBER('PCB data'!U23)=TRUE, IF('PCB data'!U23<'PCB data'!U$38, \"ERROR\", 'PCB data'!U23), IF('PCB data'!U23=\"<LOD\",'PCB data'!U$38, \"ERROR\")))","v":""},{"$f":"IF('PCB data'!V23=\"\",\"\",IF(ISNUMBER('PCB data'!V23)=TRUE, IF('PCB data'!V23<'PCB data'!V$38, \"ERROR\", 'PCB data'!V23), IF('PCB data'!V23=\"<LOD\",'PCB data'!V$38, \"ERROR\")))","v":""},{"$f":"IF('PCB data'!W23=\"\",\"\",IF(ISNUMBER('PCB data'!W23)=TRUE, IF('PCB data'!W23<'PCB data'!W$38, \"ERROR\", 'PCB data'!W23), IF('PCB data'!W23=\"<LOD\",'PCB data'!W$38, \"ERROR\")))","v":""},{"$f":"IF('PCB data'!X23=\"\",\"\",IF(ISNUMBER('PCB data'!X23)=TRUE, IF('PCB data'!X23<'PCB data'!X$38, \"ERROR\", 'PCB data'!X23), IF('PCB data'!X23=\"<LOD\",'PCB data'!X$38, \"ERROR\")))","v":""},{"$f":"IF('PCB data'!Y23=\"\",\"\",IF(ISNUMBER('PCB data'!Y23)=TRUE, IF('PCB data'!Y23<'PCB data'!Y$38, \"ERROR\", 'PCB data'!Y23), IF('PCB data'!Y23=\"<LOD\",'PCB data'!Y$38, \"ERROR\")))","v":""},{"$f":"IF('PCB data'!Z23=\"\",\"\",IF(ISNUMBER('PCB data'!Z23)=TRUE, IF('PCB data'!Z23<'PCB data'!Z$38, \"ERROR\", 'PCB data'!Z23), IF('PCB data'!Z23=\"<LOD\",'PCB data'!Z$38, \"ERROR\")))","v":""},{"$f":"IF('PCB data'!AA23=\"\",\"\",IF(ISNUMBER('PCB data'!AA23)=TRUE, IF('PCB data'!AA23<'PCB data'!AA$38, \"ERROR\", 'PCB data'!AA23), IF('PCB data'!AA23=\"<LOD\",'PCB data'!AA$38, \"ERROR\")))","v":""},{"$f":"IF('PCB data'!AB23=\"\",\"\",IF(ISNUMBER('PCB data'!AB23)=TRUE, IF('PCB data'!AB23<'PCB data'!AB$38, \"ERROR\", 'PCB data'!AB23), IF('PCB data'!AB23=\"<LOD\",'PCB data'!AB$38, \"ERROR\")))","v":""},{"$f":"IF('PCB data'!AC23=\"\",\"\",IF(ISNUMBER('PCB data'!AC23)=TRUE, IF('PCB data'!AC23<'PCB data'!AC$38, \"ERROR\", 'PCB data'!AC23), IF('PCB data'!AC23=\"<LOD\",'PCB data'!AC$38, \"ERROR\")))","v":""},{"$f":"IF('PCB data'!AD23=\"\",\"\",IF(ISNUMBER('PCB data'!AD23)=TRUE, IF('PCB data'!AD23<'PCB data'!AD$38, \"ERROR\", 'PCB data'!AD23), IF('PCB data'!AD23=\"<LOD\",'PCB data'!AD$38, \"ERROR\")))","v":""},{"$f":"IF('PCB data'!AE23=\"\",\"\",IF(ISNUMBER('PCB data'!AE23)=TRUE, IF('PCB data'!AE23<'PCB data'!AE$38, \"ERROR\", 'PCB data'!AE23), IF('PCB data'!AE23=\"<LOD\",'PCB data'!AE$38, \"ERROR\")))","v":""},{"$f":"IF('PCB data'!AF23=\"\",\"\",IF(ISNUMBER('PCB data'!AF23)=TRUE, IF('PCB data'!AF23<'PCB data'!AF$38, \"ERROR\", 'PCB data'!AF23), IF('PCB data'!AF23=\"<LOD\",'PCB data'!AF$38, \"ERROR\")))","v":""},{"$f":"IF('PCB data'!AG23=\"\",\"\",IF(ISNUMBER('PCB data'!AG23)=TRUE, IF('PCB data'!AG23<'PCB data'!AG$38, \"ERROR\", 'PCB data'!AG23), IF('PCB data'!AG23=\"<LOD\",'PCB data'!AG$38, \"ERROR\")))","v":""},{"$f":"IF('PCB data'!AH23=\"\",\"\",IF(ISNUMBER('PCB data'!AH23)=TRUE, IF('PCB data'!AH23<'PCB data'!AH$38, \"ERROR\", 'PCB data'!AH23), IF('PCB data'!AH23=\"<LOD\",'PCB data'!AH$38, \"ERROR\")))","v":""},{"$f":"IF('PCB data'!AI23=\"\",\"\",IF(ISNUMBER('PCB data'!AI23)=TRUE, IF('PCB data'!AI23<'PCB data'!AI$38, \"ERROR\", 'PCB data'!AI23), IF('PCB data'!AI23=\"<LOD\",'PCB data'!AI$38, \"ERROR\")))","v":""},{"$f":"IF('PCB data'!AJ23=\"\",\"\",IF(ISNUMBER('PCB data'!AJ23)=TRUE, IF('PCB data'!AJ23<'PCB data'!AJ$38, \"ERROR\", 'PCB data'!AJ23), IF('PCB data'!AJ23=\"<LOD\",'PCB data'!AJ$38, \"ERROR\")))","v":""},"",""]
[null,null,null,null,null,null,null,{"$f":"IF('PCB data'!H24=\"\",\"\",'PCB data'!H24)","v":""},{"$f":"IF('PCB data'!I24=\"\",\"\",'PCB data'!I24)","v":""},{"$f":"IFERROR(IF(K25=\"\",\"\",(IF(VLOOKUP(K25,'Application info'!$K$8:$L$37,2,0)=\"y\",\"y\",\"\"))),\"Manual entry required\")","v":""},{"$f":"IF('PCB data'!J24=\"\",\"\",'PCB data'!J24)","v":""},{"$f":"IF('PCB data'!L24=\"\",\"\",IF(ISNUMBER('PCB data'!L24)=TRUE, IF('PCB data'!L24<'PCB data'!L$38, \"ERROR\", 'PCB data'!L24), IF('PCB data'!L24=\"<LOD\",'PCB data'!L$38, \"ERROR\")))","v":""},{"$f":"IF('PCB data'!M24=\"\",\"\",IF(ISNUMBER('PCB data'!M24)=TRUE, IF('PCB data'!M24<'PCB data'!M$38, \"ERROR\", 'PCB data'!M24), IF('PCB data'!M24=\"<LOD\",'PCB data'!M$38, \"ERROR\")))","v":""},{"$f":"IF('PCB data'!N24=\"\",\"\",IF(ISNUMBER('PCB data'!N24)=TRUE, IF('PCB data'!N24<'PCB data'!N$38, \"ERROR\", 'PCB data'!N24), IF('PCB data'!N24=\"<LOD\",'PCB data'!N$38, \"ERROR\")))","v":""},{"$f":"IF('PCB data'!O24=\"\",\"\",IF(ISNUMBER('PCB data'!O24)=TRUE, IF('PCB data'!O24<'PCB data'!O$38, \"ERROR\", 'PCB data'!O24), IF('PCB data'!O24=\"<LOD\",'PCB data'!O$38, \"ERROR\")))","v":""},{"$f":"IF('PCB data'!P24=\"\",\"\",IF(ISNUMBER('PCB data'!P24)=TRUE, IF('PCB data'!P24<'PCB data'!P$38, \"ERROR\", 'PCB data'!P24), IF('PCB data'!P24=\"<LOD\",'PCB data'!P$38, \"ERROR\")))","v":""},{"$f":"IF('PCB data'!Q24=\"\",\"\",IF(ISNUMBER('PCB data'!Q24)=TRUE, IF('PCB data'!Q24<'PCB data'!Q$38, \"ERROR\", 'PCB data'!Q24), IF('PCB data'!Q24=\"<LOD\",'PCB data'!Q$38, \"ERROR\")))","v":""},{"$f":"IF('PCB data'!R24=\"\",\"\",IF(ISNUMBER('PCB data'!R24)=TRUE, IF('PCB data'!R24<'PCB data'!R$38, \"ERROR\", 'PCB data'!R24), IF('PCB data'!R24=\"<LOD\",'PCB data'!R$38, \"ERROR\")))","v":""},{"$f":"IF('PCB data'!S24=\"\",\"\",IF(ISNUMBER('PCB data'!S24)=TRUE, IF('PCB data'!S24<'PCB data'!S$38, \"ERROR\", 'PCB data'!S24), IF('PCB data'!S24=\"<LOD\",'PCB data'!S$38, \"ERROR\")))","v":""},{"$f":"IF('PCB data'!T24=\"\",\"\",IF(ISNUMBER('PCB data'!T24)=TRUE, IF('PCB data'!T24<'PCB data'!T$38, \"ERROR\", 'PCB data'!T24), IF('PCB data'!T24=\"<LOD\",'PCB data'!T$38, \"ERROR\")))","v":""},{"$f":"IF('PCB data'!U24=\"\",\"\",IF(ISNUMBER('PCB data'!U24)=TRUE, IF('PCB data'!U24<'PCB data'!U$38, \"ERROR\", 'PCB data'!U24), IF('PCB data'!U24=\"<LOD\",'PCB data'!U$38, \"ERROR\")))","v":""},{"$f":"IF('PCB data'!V24=\"\",\"\",IF(ISNUMBER('PCB data'!V24)=TRUE, IF('PCB data'!V24<'PCB data'!V$38, \"ERROR\", 'PCB data'!V24), IF('PCB data'!V24=\"<LOD\",'PCB data'!V$38, \"ERROR\")))","v":""},{"$f":"IF('PCB data'!W24=\"\",\"\",IF(ISNUMBER('PCB data'!W24)=TRUE, IF('PCB data'!W24<'PCB data'!W$38, \"ERROR\", 'PCB data'!W24), IF('PCB data'!W24=\"<LOD\",'PCB data'!W$38, \"ERROR\")))","v":""},{"$f":"IF('PCB data'!X24=\"\",\"\",IF(ISNUMBER('PCB data'!X24)=TRUE, IF('PCB data'!X24<'PCB data'!X$38, \"ERROR\", 'PCB data'!X24), IF('PCB data'!X24=\"<LOD\",'PCB data'!X$38, \"ERROR\")))","v":""},{"$f":"IF('PCB data'!Y24=\"\",\"\",IF(ISNUMBER('PCB data'!Y24)=TRUE, IF('PCB data'!Y24<'PCB data'!Y$38, \"ERROR\", 'PCB data'!Y24), IF('PCB data'!Y24=\"<LOD\",'PCB data'!Y$38, \"ERROR\")))","v":""},{"$f":"IF('PCB data'!Z24=\"\",\"\",IF(ISNUMBER('PCB data'!Z24)=TRUE, IF('PCB data'!Z24<'PCB data'!Z$38, \"ERROR\", 'PCB data'!Z24), IF('PCB data'!Z24=\"<LOD\",'PCB data'!Z$38, \"ERROR\")))","v":""},{"$f":"IF('PCB data'!AA24=\"\",\"\",IF(ISNUMBER('PCB data'!AA24)=TRUE, IF('PCB data'!AA24<'PCB data'!AA$38, \"ERROR\", 'PCB data'!AA24), IF('PCB data'!AA24=\"<LOD\",'PCB data'!AA$38, \"ERROR\")))","v":""},{"$f":"IF('PCB data'!AB24=\"\",\"\",IF(ISNUMBER('PCB data'!AB24)=TRUE, IF('PCB data'!AB24<'PCB data'!AB$38, \"ERROR\", 'PCB data'!AB24), IF('PCB data'!AB24=\"<LOD\",'PCB data'!AB$38, \"ERROR\")))","v":""},{"$f":"IF('PCB data'!AC24=\"\",\"\",IF(ISNUMBER('PCB data'!AC24)=TRUE, IF('PCB data'!AC24<'PCB data'!AC$38, \"ERROR\", 'PCB data'!AC24), IF('PCB data'!AC24=\"<LOD\",'PCB data'!AC$38, \"ERROR\")))","v":""},{"$f":"IF('PCB data'!AD24=\"\",\"\",IF(ISNUMBER('PCB data'!AD24)=TRUE, IF('PCB data'!AD24<'PCB data'!AD$38, \"ERROR\", 'PCB data'!AD24), IF('PCB data'!AD24=\"<LOD\",'PCB data'!AD$38, \"ERROR\")))","v":""},{"$f":"IF('PCB data'!AE24=\"\",\"\",IF(ISNUMBER('PCB data'!AE24)=TRUE, IF('PCB data'!AE24<'PCB data'!AE$38, \"ERROR\", 'PCB data'!AE24), IF('PCB data'!AE24=\"<LOD\",'PCB data'!AE$38, \"ERROR\")))","v":""},{"$f":"IF('PCB data'!AF24=\"\",\"\",IF(ISNUMBER('PCB data'!AF24)=TRUE, IF('PCB data'!AF24<'PCB data'!AF$38, \"ERROR\", 'PCB data'!AF24), IF('PCB data'!AF24=\"<LOD\",'PCB data'!AF$38, \"ERROR\")))","v":""},{"$f":"IF('PCB data'!AG24=\"\",\"\",IF(ISNUMBER('PCB data'!AG24)=TRUE, IF('PCB data'!AG24<'PCB data'!AG$38, \"ERROR\", 'PCB data'!AG24), IF('PCB data'!AG24=\"<LOD\",'PCB data'!AG$38, \"ERROR\")))","v":""},{"$f":"IF('PCB data'!AH24=\"\",\"\",IF(ISNUMBER('PCB data'!AH24)=TRUE, IF('PCB data'!AH24<'PCB data'!AH$38, \"ERROR\", 'PCB data'!AH24), IF('PCB data'!AH24=\"<LOD\",'PCB data'!AH$38, \"ERROR\")))","v":""},{"$f":"IF('PCB data'!AI24=\"\",\"\",IF(ISNUMBER('PCB data'!AI24)=TRUE, IF('PCB data'!AI24<'PCB data'!AI$38, \"ERROR\", 'PCB data'!AI24), IF('PCB data'!AI24=\"<LOD\",'PCB data'!AI$38, \"ERROR\")))","v":""},{"$f":"IF('PCB data'!AJ24=\"\",\"\",IF(ISNUMBER('PCB data'!AJ24)=TRUE, IF('PCB data'!AJ24<'PCB data'!AJ$38, \"ERROR\", 'PCB data'!AJ24), IF('PCB data'!AJ24=\"<LOD\",'PCB data'!AJ$38, \"ERROR\")))","v":""},"",""]
[null,null,null,null,null,null,null,{"$f":"IF('PCB data'!H25=\"\",\"\",'PCB data'!H25)","v":""},{"$f":"IF('PCB data'!I25=\"\",\"\",'PCB data'!I25)","v":""},{"$f":"IFERROR(IF(K26=\"\",\"\",(IF(VLOOKUP(K26,'Application info'!$K$8:$L$37,2,0)=\"y\",\"y\",\"\"))),\"Manual entry required\")","v":""},{"$f":"IF('PCB data'!J25=\"\",\"\",'PCB data'!J25)","v":""},{"$f":"IF('PCB data'!L25=\"\",\"\",IF(ISNUMBER('PCB data'!L25)=TRUE, IF('PCB data'!L25<'PCB data'!L$38, \"ERROR\", 'PCB data'!L25), IF('PCB data'!L25=\"<LOD\",'PCB data'!L$38, \"ERROR\")))","v":""},{"$f":"IF('PCB data'!M25=\"\",\"\",IF(ISNUMBER('PCB data'!M25)=TRUE, IF('PCB data'!M25<'PCB data'!M$38, \"ERROR\", 'PCB data'!M25), IF('PCB data'!M25=\"<LOD\",'PCB data'!M$38, \"ERROR\")))","v":""},{"$f":"IF('PCB data'!N25=\"\",\"\",IF(ISNUMBER('PCB data'!N25)=TRUE, IF('PCB data'!N25<'PCB data'!N$38, \"ERROR\", 'PCB data'!N25), IF('PCB data'!N25=\"<LOD\",'PCB data'!N$38, \"ERROR\")))","v":""},{"$f":"IF('PCB data'!O25=\"\",\"\",IF(ISNUMBER('PCB data'!O25)=TRUE, IF('PCB data'!O25<'PCB data'!O$38, \"ERROR\", 'PCB data'!O25), IF('PCB data'!O25=\"<LOD\",'PCB data'!O$38, \"ERROR\")))","v":""},{"$f":"IF('PCB data'!P25=\"\",\"\",IF(ISNUMBER('PCB data'!P25)=TRUE, IF('PCB data'!P25<'PCB data'!P$38, \"ERROR\", 'PCB data'!P25), IF('PCB data'!P25=\"<LOD\",'PCB data'!P$38, \"ERROR\")))","v":""},{"$f":"IF('PCB data'!Q25=\"\",\"\",IF(ISNUMBER('PCB data'!Q25)=TRUE, IF('PCB data'!Q25<'PCB data'!Q$38, \"ERROR\", 'PCB data'!Q25), IF('PCB data'!Q25=\"<LOD\",'PCB data'!Q$38, \"ERROR\")))","v":""},{"$f":"IF('PCB data'!R25=\"\",\"\",IF(ISNUMBER('PCB data'!R25)=TRUE, IF('PCB data'!R25<'PCB data'!R$38, \"ERROR\", 'PCB data'!R25), IF('PCB data'!R25=\"<LOD\",'PCB data'!R$38, \"ERROR\")))","v":""},{"$f":"IF('PCB data'!S25=\"\",\"\",IF(ISNUMBER('PCB data'!S25)=TRUE, IF('PCB data'!S25<'PCB data'!S$38, \"ERROR\", 'PCB data'!S25), IF('PCB data'!S25=\"<LOD\",'PCB data'!S$38, \"ERROR\")))","v":""},{"$f":"IF('PCB data'!T25=\"\",\"\",IF(ISNUMBER('PCB data'!T25)=TRUE, IF('PCB data'!T25<'PCB data'!T$38, \"ERROR\", 'PCB data'!T25), IF('PCB data'!T25=\"<LOD\",'PCB data'!T$38, \"ERROR\")))","v":""},{"$f":"IF('PCB data'!U25=\"\",\"\",IF(ISNUMBER('PCB data'!U25)=TRUE, IF('PCB data'!U25<'PCB data'!U$38, \"ERROR\", 'PCB data'!U25), IF('PCB data'!U25=\"<LOD\",'PCB data'!U$38, \"ERROR\")))","v":""},{"$f":"IF('PCB data'!V25=\"\",\"\",IF(ISNUMBER('PCB data'!V25)=TRUE, IF('PCB data'!V25<'PCB data'!V$38, \"ERROR\", 'PCB data'!V25), IF('PCB data'!V25=\"<LOD\",'PCB data'!V$38, \"ERROR\")))","v":""},{"$f":"IF('PCB data'!W25=\"\",\"\",IF(ISNUMBER('PCB data'!W25)=TRUE, IF('PCB data'!W25<'PCB data'!W$38, \"ERROR\", 'PCB data'!W25), IF('PCB data'!W25=\"<LOD\",'PCB data'!W$38, \"ERROR\")))","v":""},{"$f":"IF('PCB data'!X25=\"\",\"\",IF(ISNUMBER('PCB data'!X25)=TRUE, IF('PCB data'!X25<'PCB data'!X$38, \"ERROR\", 'PCB data'!X25), IF('PCB data'!X25=\"<LOD\",'PCB data'!X$38, \"ERROR\")))","v":""},{"$f":"IF('PCB data'!Y25=\"\",\"\",IF(ISNUMBER('PCB data'!Y25)=TRUE, IF('PCB data'!Y25<'PCB data'!Y$38, \"ERROR\", 'PCB data'!Y25), IF('PCB data'!Y25=\"<LOD\",'PCB data'!Y$38, \"ERROR\")))","v":""},{"$f":"IF('PCB data'!Z25=\"\",\"\",IF(ISNUMBER('PCB data'!Z25)=TRUE, IF('PCB data'!Z25<'PCB data'!Z$38, \"ERROR\", 'PCB data'!Z25), IF('PCB data'!Z25=\"<LOD\",'PCB data'!Z$38, \"ERROR\")))","v":""},{"$f":"IF('PCB data'!AA25=\"\",\"\",IF(ISNUMBER('PCB data'!AA25)=TRUE, IF('PCB data'!AA25<'PCB data'!AA$38, \"ERROR\", 'PCB data'!AA25), IF('PCB data'!AA25=\"<LOD\",'PCB data'!AA$38, \"ERROR\")))","v":""},{"$f":"IF('PCB data'!AB25=\"\",\"\",IF(ISNUMBER('PCB data'!AB25)=TRUE, IF('PCB data'!AB25<'PCB data'!AB$38, \"ERROR\", 'PCB data'!AB25), IF('PCB data'!AB25=\"<LOD\",'PCB data'!AB$38, \"ERROR\")))","v":""},{"$f":"IF('PCB data'!AC25=\"\",\"\",IF(ISNUMBER('PCB data'!AC25)=TRUE, IF('PCB data'!AC25<'PCB data'!AC$38, \"ERROR\", 'PCB data'!AC25), IF('PCB data'!AC25=\"<LOD\",'PCB data'!AC$38, \"ERROR\")))","v":""},{"$f":"IF('PCB data'!AD25=\"\",\"\",IF(ISNUMBER('PCB data'!AD25)=TRUE, IF('PCB data'!AD25<'PCB data'!AD$38, \"ERROR\", 'PCB data'!AD25), IF('PCB data'!AD25=\"<LOD\",'PCB data'!AD$38, \"ERROR\")))","v":""},{"$f":"IF('PCB data'!AE25=\"\",\"\",IF(ISNUMBER('PCB data'!AE25)=TRUE, IF('PCB data'!AE25<'PCB data'!AE$38, \"ERROR\", 'PCB data'!AE25), IF('PCB data'!AE25=\"<LOD\",'PCB data'!AE$38, \"ERROR\")))","v":""},{"$f":"IF('PCB data'!AF25=\"\",\"\",IF(ISNUMBER('PCB data'!AF25)=TRUE, IF('PCB data'!AF25<'PCB data'!AF$38, \"ERROR\", 'PCB data'!AF25), IF('PCB data'!AF25=\"<LOD\",'PCB data'!AF$38, \"ERROR\")))","v":""},{"$f":"IF('PCB data'!AG25=\"\",\"\",IF(ISNUMBER('PCB data'!AG25)=TRUE, IF('PCB data'!AG25<'PCB data'!AG$38, \"ERROR\", 'PCB data'!AG25), IF('PCB data'!AG25=\"<LOD\",'PCB data'!AG$38, \"ERROR\")))","v":""},{"$f":"IF('PCB data'!AH25=\"\",\"\",IF(ISNUMBER('PCB data'!AH25)=TRUE, IF('PCB data'!AH25<'PCB data'!AH$38, \"ERROR\", 'PCB data'!AH25), IF('PCB data'!AH25=\"<LOD\",'PCB data'!AH$38, \"ERROR\")))","v":""},{"$f":"IF('PCB data'!AI25=\"\",\"\",IF(ISNUMBER('PCB data'!AI25)=TRUE, IF('PCB data'!AI25<'PCB data'!AI$38, \"ERROR\", 'PCB data'!AI25), IF('PCB data'!AI25=\"<LOD\",'PCB data'!AI$38, \"ERROR\")))","v":""},{"$f":"IF('PCB data'!AJ25=\"\",\"\",IF(ISNUMBER('PCB data'!AJ25)=TRUE, IF('PCB data'!AJ25<'PCB data'!AJ$38, \"ERROR\", 'PCB data'!AJ25), IF('PCB data'!AJ25=\"<LOD\",'PCB data'!AJ$38, \"ERROR\")))","v":""},"",""]
[null,null,null,null,null,null,null,{"$f":"IF('PCB data'!H26=\"\",\"\",'PCB data'!H26)","v":""},{"$f":"IF('PCB data'!I26=\"\",\"\",'PCB data'!I26)","v":""},{"$f":"IFERROR(IF(K27=\"\",\"\",(IF(VLOOKUP(K27,'Application info'!$K$8:$L$37,2,0)=\"y\",\"y\",\"\"))),\"Manual entry required\")","v":""},{"$f":"IF('PCB data'!J26=\"\",\"\",'PCB data'!J26)","v":""},{"$f":"IF('PCB data'!L26=\"\",\"\",IF(ISNUMBER('PCB data'!L26)=TRUE, IF('PCB data'!L26<'PCB data'!L$38, \"ERROR\", 'PCB data'!L26), IF('PCB data'!L26=\"<LOD\",'PCB data'!L$38, \"ERROR\")))","v":""},{"$f":"IF('PCB data'!M26=\"\",\"\",IF(ISNUMBER('PCB data'!M26)=TRUE, IF('PCB data'!M26<'PCB data'!M$38, \"ERROR\", 'PCB data'!M26), IF('PCB data'!M26=\"<LOD\",'PCB data'!M$38, \"ERROR\")))","v":""},{"$f":"IF('PCB data'!N26=\"\",\"\",IF(ISNUMBER('PCB data'!N26)=TRUE, IF('PCB data'!N26<'PCB data'!N$38, \"ERROR\", 'PCB data'!N26), IF('PCB data'!N26=\"<LOD\",'PCB data'!N$38, \"ERROR\")))","v":""},{"$f":"IF('PCB data'!O26=\"\",\"\",IF(ISNUMBER('PCB data'!O26)=TRUE, IF('PCB data'!O26<'PCB data'!O$38, \"ERROR\", 'PCB data'!O26), IF('PCB data'!O26=\"<LOD\",'PCB data'!O$38, \"ERROR\")))","v":""},{"$f":"IF('PCB data'!P26=\"\",\"\",IF(ISNUMBER('PCB data'!P26)=TRUE, IF('PCB data'!P26<'PCB data'!P$38, \"ERROR\", 'PCB data'!P26), IF('PCB data'!P26=\"<LOD\",'PCB data'!P$38, \"ERROR\")))","v":""},{"$f":"IF('PCB data'!Q26=\"\",\"\",IF(ISNUMBER('PCB data'!Q26)=TRUE, IF('PCB data'!Q26<'PCB data'!Q$38, \"ERROR\", 'PCB data'!Q26), IF('PCB data'!Q26=\"<LOD\",'PCB data'!Q$38, \"ERROR\")))","v":""},{"$f":"IF('PCB data'!R26=\"\",\"\",IF(ISNUMBER('PCB data'!R26)=TRUE, IF('PCB data'!R26<'PCB data'!R$38, \"ERROR\", 'PCB data'!R26), IF('PCB data'!R26=\"<LOD\",'PCB data'!R$38, \"ERROR\")))","v":""},{"$f":"IF('PCB data'!S26=\"\",\"\",IF(ISNUMBER('PCB data'!S26)=TRUE, IF('PCB data'!S26<'PCB data'!S$38, \"ERROR\", 'PCB data'!S26), IF('PCB data'!S26=\"<LOD\",'PCB data'!S$38, \"ERROR\")))","v":""},{"$f":"IF('PCB data'!T26=\"\",\"\",IF(ISNUMBER('PCB data'!T26)=TRUE, IF('PCB data'!T26<'PCB data'!T$38, \"ERROR\", 'PCB data'!T26), IF('PCB data'!T26=\"<LOD\",'PCB data'!T$38, \"ERROR\")))","v":""},{"$f":"IF('PCB data'!U26=\"\",\"\",IF(ISNUMBER('PCB data'!U26)=TRUE, IF('PCB data'!U26<'PCB data'!U$38, \"ERROR\", 'PCB data'!U26), IF('PCB data'!U26=\"<LOD\",'PCB data'!U$38, \"ERROR\")))","v":""},{"$f":"IF('PCB data'!V26=\"\",\"\",IF(ISNUMBER('PCB data'!V26)=TRUE, IF('PCB data'!V26<'PCB data'!V$38, \"ERROR\", 'PCB data'!V26), IF('PCB data'!V26=\"<LOD\",'PCB data'!V$38, \"ERROR\")))","v":""},{"$f":"IF('PCB data'!W26=\"\",\"\",IF(ISNUMBER('PCB data'!W26)=TRUE, IF('PCB data'!W26<'PCB data'!W$38, \"ERROR\", 'PCB data'!W26), IF('PCB data'!W26=\"<LOD\",'PCB data'!W$38, \"ERROR\")))","v":""},{"$f":"IF('PCB data'!X26=\"\",\"\",IF(ISNUMBER('PCB data'!X26)=TRUE, IF('PCB data'!X26<'PCB data'!X$38, \"ERROR\", 'PCB data'!X26), IF('PCB data'!X26=\"<LOD\",'PCB data'!X$38, \"ERROR\")))","v":""},{"$f":"IF('PCB data'!Y26=\"\",\"\",IF(ISNUMBER('PCB data'!Y26)=TRUE, IF('PCB data'!Y26<'PCB data'!Y$38, \"ERROR\", 'PCB data'!Y26), IF('PCB data'!Y26=\"<LOD\",'PCB data'!Y$38, \"ERROR\")))","v":""},{"$f":"IF('PCB data'!Z26=\"\",\"\",IF(ISNUMBER('PCB data'!Z26)=TRUE, IF('PCB data'!Z26<'PCB data'!Z$38, \"ERROR\", 'PCB data'!Z26), IF('PCB data'!Z26=\"<LOD\",'PCB data'!Z$38, \"ERROR\")))","v":""},{"$f":"IF('PCB data'!AA26=\"\",\"\",IF(ISNUMBER('PCB data'!AA26)=TRUE, IF('PCB data'!AA26<'PCB data'!AA$38, \"ERROR\", 'PCB data'!AA26), IF('PCB data'!AA26=\"<LOD\",'PCB data'!AA$38, \"ERROR\")))","v":""},{"$f":"IF('PCB data'!AB26=\"\",\"\",IF(ISNUMBER('PCB data'!AB26)=TRUE, IF('PCB data'!AB26<'PCB data'!AB$38, \"ERROR\", 'PCB data'!AB26), IF('PCB data'!AB26=\"<LOD\",'PCB data'!AB$38, \"ERROR\")))","v":""},{"$f":"IF('PCB data'!AC26=\"\",\"\",IF(ISNUMBER('PCB data'!AC26)=TRUE, IF('PCB data'!AC26<'PCB data'!AC$38, \"ERROR\", 'PCB data'!AC26), IF('PCB data'!AC26=\"<LOD\",'PCB data'!AC$38, \"ERROR\")))","v":""},{"$f":"IF('PCB data'!AD26=\"\",\"\",IF(ISNUMBER('PCB data'!AD26)=TRUE, IF('PCB data'!AD26<'PCB data'!AD$38, \"ERROR\", 'PCB data'!AD26), IF('PCB data'!AD26=\"<LOD\",'PCB data'!AD$38, \"ERROR\")))","v":""},{"$f":"IF('PCB data'!AE26=\"\",\"\",IF(ISNUMBER('PCB data'!AE26)=TRUE, IF('PCB data'!AE26<'PCB data'!AE$38, \"ERROR\", 'PCB data'!AE26), IF('PCB data'!AE26=\"<LOD\",'PCB data'!AE$38, \"ERROR\")))","v":""},{"$f":"IF('PCB data'!AF26=\"\",\"\",IF(ISNUMBER('PCB data'!AF26)=TRUE, IF('PCB data'!AF26<'PCB data'!AF$38, \"ERROR\", 'PCB data'!AF26), IF('PCB data'!AF26=\"<LOD\",'PCB data'!AF$38, \"ERROR\")))","v":""},{"$f":"IF('PCB data'!AG26=\"\",\"\",IF(ISNUMBER('PCB data'!AG26)=TRUE, IF('PCB data'!AG26<'PCB data'!AG$38, \"ERROR\", 'PCB data'!AG26), IF('PCB data'!AG26=\"<LOD\",'PCB data'!AG$38, \"ERROR\")))","v":""},{"$f":"IF('PCB data'!AH26=\"\",\"\",IF(ISNUMBER('PCB data'!AH26)=TRUE, IF('PCB data'!AH26<'PCB data'!AH$38, \"ERROR\", 'PCB data'!AH26), IF('PCB data'!AH26=\"<LOD\",'PCB data'!AH$38, \"ERROR\")))","v":""},{"$f":"IF('PCB data'!AI26=\"\",\"\",IF(ISNUMBER('PCB data'!AI26)=TRUE, IF('PCB data'!AI26<'PCB data'!AI$38, \"ERROR\", 'PCB data'!AI26), IF('PCB data'!AI26=\"<LOD\",'PCB data'!AI$38, \"ERROR\")))","v":""},{"$f":"IF('PCB data'!AJ26=\"\",\"\",IF(ISNUMBER('PCB data'!AJ26)=TRUE, IF('PCB data'!AJ26<'PCB data'!AJ$38, \"ERROR\", 'PCB data'!AJ26), IF('PCB data'!AJ26=\"<LOD\",'PCB data'!AJ$38, \"ERROR\")))","v":""},"",""]
[null,null,null,null,null,null,null,{"$f":"IF('PCB data'!H27=\"\",\"\",'PCB data'!H27)","v":""},{"$f":"IF('PCB data'!I27=\"\",\"\",'PCB data'!I27)","v":""},{"$f":"IFERROR(IF(K28=\"\",\"\",(IF(VLOOKUP(K28,'Application info'!$K$8:$L$37,2,0)=\"y\",\"y\",\"\"))),\"Manual entry required\")","v":""},{"$f":"IF('PCB data'!J27=\"\",\"\",'PCB data'!J27)","v":""},{"$f":"IF('PCB data'!L27=\"\",\"\",IF(ISNUMBER('PCB data'!L27)=TRUE, IF('PCB data'!L27<'PCB data'!L$38, \"ERROR\", 'PCB data'!L27), IF('PCB data'!L27=\"<LOD\",'PCB data'!L$38, \"ERROR\")))","v":""},{"$f":"IF('PCB data'!M27=\"\",\"\",IF(ISNUMBER('PCB data'!M27)=TRUE, IF('PCB data'!M27<'PCB data'!M$38, \"ERROR\", 'PCB data'!M27), IF('PCB data'!M27=\"<LOD\",'PCB data'!M$38, \"ERROR\")))","v":""},{"$f":"IF('PCB data'!N27=\"\",\"\",IF(ISNUMBER('PCB data'!N27)=TRUE, IF('PCB data'!N27<'PCB data'!N$38, \"ERROR\", 'PCB data'!N27), IF('PCB data'!N27=\"<LOD\",'PCB data'!N$38, \"ERROR\")))","v":""},{"$f":"IF('PCB data'!O27=\"\",\"\",IF(ISNUMBER('PCB data'!O27)=TRUE, IF('PCB data'!O27<'PCB data'!O$38, \"ERROR\", 'PCB data'!O27), IF('PCB data'!O27=\"<LOD\",'PCB data'!O$38, \"ERROR\")))","v":""},{"$f":"IF('PCB data'!P27=\"\",\"\",IF(ISNUMBER('PCB data'!P27)=TRUE, IF('PCB data'!P27<'PCB data'!P$38, \"ERROR\", 'PCB data'!P27), IF('PCB data'!P27=\"<LOD\",'PCB data'!P$38, \"ERROR\")))","v":""},{"$f":"IF('PCB data'!Q27=\"\",\"\",IF(ISNUMBER('PCB data'!Q27)=TRUE, IF('PCB data'!Q27<'PCB data'!Q$38, \"ERROR\", 'PCB data'!Q27), IF('PCB data'!Q27=\"<LOD\",'PCB data'!Q$38, \"ERROR\")))","v":""},{"$f":"IF('PCB data'!R27=\"\",\"\",IF(ISNUMBER('PCB data'!R27)=TRUE, IF('PCB data'!R27<'PCB data'!R$38, \"ERROR\", 'PCB data'!R27), IF('PCB data'!R27=\"<LOD\",'PCB data'!R$38, \"ERROR\")))","v":""},{"$f":"IF('PCB data'!S27=\"\",\"\",IF(ISNUMBER('PCB data'!S27)=TRUE, IF('PCB data'!S27<'PCB data'!S$38, \"ERROR\", 'PCB data'!S27), IF('PCB data'!S27=\"<LOD\",'PCB data'!S$38, \"ERROR\")))","v":""},{"$f":"IF('PCB data'!T27=\"\",\"\",IF(ISNUMBER('PCB data'!T27)=TRUE, IF('PCB data'!T27<'PCB data'!T$38, \"ERROR\", 'PCB data'!T27), IF('PCB data'!T27=\"<LOD\",'PCB data'!T$38, \"ERROR\")))","v":""},{"$f":"IF('PCB data'!U27=\"\",\"\",IF(ISNUMBER('PCB data'!U27)=TRUE, IF('PCB data'!U27<'PCB data'!U$38, \"ERROR\", 'PCB data'!U27), IF('PCB data'!U27=\"<LOD\",'PCB data'!U$38, \"ERROR\")))","v":""},{"$f":"IF('PCB data'!V27=\"\",\"\",IF(ISNUMBER('PCB data'!V27)=TRUE, IF('PCB data'!V27<'PCB data'!V$38, \"ERROR\", 'PCB data'!V27), IF('PCB data'!V27=\"<LOD\",'PCB data'!V$38, \"ERROR\")))","v":""},{"$f":"IF('PCB data'!W27=\"\",\"\",IF(ISNUMBER('PCB data'!W27)=TRUE, IF('PCB data'!W27<'PCB data'!W$38, \"ERROR\", 'PCB data'!W27), IF('PCB data'!W27=\"<LOD\",'PCB data'!W$38, \"ERROR\")))","v":""},{"$f":"IF('PCB data'!X27=\"\",\"\",IF(ISNUMBER('PCB data'!X27)=TRUE, IF('PCB data'!X27<'PCB data'!X$38, \"ERROR\", 'PCB data'!X27), IF('PCB data'!X27=\"<LOD\",'PCB data'!X$38, \"ERROR\")))","v":""},{"$f":"IF('PCB data'!Y27=\"\",\"\",IF(ISNUMBER('PCB data'!Y27)=TRUE, IF('PCB data'!Y27<'PCB data'!Y$38, \"ERROR\", 'PCB data'!Y27), IF('PCB data'!Y27=\"<LOD\",'PCB data'!Y$38, \"ERROR\")))","v":""},{"$f":"IF('PCB data'!Z27=\"\",\"\",IF(ISNUMBER('PCB data'!Z27)=TRUE, IF('PCB data'!Z27<'PCB data'!Z$38, \"ERROR\", 'PCB data'!Z27), IF('PCB data'!Z27=\"<LOD\",'PCB data'!Z$38, \"ERROR\")))","v":""},{"$f":"IF('PCB data'!AA27=\"\",\"\",IF(ISNUMBER('PCB data'!AA27)=TRUE, IF('PCB data'!AA27<'PCB data'!AA$38, \"ERROR\", 'PCB data'!AA27), IF('PCB data'!AA27=\"<LOD\",'PCB data'!AA$38, \"ERROR\")))","v":""},{"$f":"IF('PCB data'!AB27=\"\",\"\",IF(ISNUMBER('PCB data'!AB27)=TRUE, IF('PCB data'!AB27<'PCB data'!AB$38, \"ERROR\", 'PCB data'!AB27), IF('PCB data'!AB27=\"<LOD\",'PCB data'!AB$38, \"ERROR\")))","v":""},{"$f":"IF('PCB data'!AC27=\"\",\"\",IF(ISNUMBER('PCB data'!AC27)=TRUE, IF('PCB data'!AC27<'PCB data'!AC$38, \"ERROR\", 'PCB data'!AC27), IF('PCB data'!AC27=\"<LOD\",'PCB data'!AC$38, \"ERROR\")))","v":""},{"$f":"IF('PCB data'!AD27=\"\",\"\",IF(ISNUMBER('PCB data'!AD27)=TRUE, IF('PCB data'!AD27<'PCB data'!AD$38, \"ERROR\", 'PCB data'!AD27), IF('PCB data'!AD27=\"<LOD\",'PCB data'!AD$38, \"ERROR\")))","v":""},{"$f":"IF('PCB data'!AE27=\"\",\"\",IF(ISNUMBER('PCB data'!AE27)=TRUE, IF('PCB data'!AE27<'PCB data'!AE$38, \"ERROR\", 'PCB data'!AE27), IF('PCB data'!AE27=\"<LOD\",'PCB data'!AE$38, \"ERROR\")))","v":""},{"$f":"IF('PCB data'!AF27=\"\",\"\",IF(ISNUMBER('PCB data'!AF27)=TRUE, IF('PCB data'!AF27<'PCB data'!AF$38, \"ERROR\", 'PCB data'!AF27), IF('PCB data'!AF27=\"<LOD\",'PCB data'!AF$38, \"ERROR\")))","v":""},{"$f":"IF('PCB data'!AG27=\"\",\"\",IF(ISNUMBER('PCB data'!AG27)=TRUE, IF('PCB data'!AG27<'PCB data'!AG$38, \"ERROR\", 'PCB data'!AG27), IF('PCB data'!AG27=\"<LOD\",'PCB data'!AG$38, \"ERROR\")))","v":""},{"$f":"IF('PCB data'!AH27=\"\",\"\",IF(ISNUMBER('PCB data'!AH27)=TRUE, IF('PCB data'!AH27<'PCB data'!AH$38, \"ERROR\", 'PCB data'!AH27), IF('PCB data'!AH27=\"<LOD\",'PCB data'!AH$38, \"ERROR\")))","v":""},{"$f":"IF('PCB data'!AI27=\"\",\"\",IF(ISNUMBER('PCB data'!AI27)=TRUE, IF('PCB data'!AI27<'PCB data'!AI$38, \"ERROR\", 'PCB data'!AI27), IF('PCB data'!AI27=\"<LOD\",'PCB data'!AI$38, \"ERROR\")))","v":""},{"$f":"IF('PCB data'!AJ27=\"\",\"\",IF(ISNUMBER('PCB data'!AJ27)=TRUE, IF('PCB data'!AJ27<'PCB data'!AJ$38, \"ERROR\", 'PCB data'!AJ27), IF('PCB data'!AJ27=\"<LOD\",'PCB data'!AJ$38, \"ERROR\")))","v":""},"",""]
[null,null,null,null,null,null,null,{"$f":"IF('PCB data'!H28=\"\",\"\",'PCB data'!H28)","v":""},{"$f":"IF('PCB data'!I28=\"\",\"\",'PCB data'!I28)","v":""},{"$f":"IFERROR(IF(K29=\"\",\"\",(IF(VLOOKUP(K29,'Application info'!$K$8:$L$37,2,0)=\"y\",\"y\",\"\"))),\"Manual entry required\")","v":""},{"$f":"IF('PCB data'!J28=\"\",\"\",'PCB data'!J28)","v":""},{"$f":"IF('PCB data'!L28=\"\",\"\",IF(ISNUMBER('PCB data'!L28)=TRUE, IF('PCB data'!L28<'PCB data'!L$38, \"ERROR\", 'PCB data'!L28), IF('PCB data'!L28=\"<LOD\",'PCB data'!L$38, \"ERROR\")))","v":""},{"$f":"IF('PCB data'!M28=\"\",\"\",IF(ISNUMBER('PCB data'!M28)=TRUE, IF('PCB data'!M28<'PCB data'!M$38, \"ERROR\", 'PCB data'!M28), IF('PCB data'!M28=\"<LOD\",'PCB data'!M$38, \"ERROR\")))","v":""},{"$f":"IF('PCB data'!N28=\"\",\"\",IF(ISNUMBER('PCB data'!N28)=TRUE, IF('PCB data'!N28<'PCB data'!N$38, \"ERROR\", 'PCB data'!N28), IF('PCB data'!N28=\"<LOD\",'PCB data'!N$38, \"ERROR\")))","v":""},{"$f":"IF('PCB data'!O28=\"\",\"\",IF(ISNUMBER('PCB data'!O28)=TRUE, IF('PCB data'!O28<'PCB data'!O$38, \"ERROR\", 'PCB data'!O28), IF('PCB data'!O28=\"<LOD\",'PCB data'!O$38, \"ERROR\")))","v":""},{"$f":"IF('PCB data'!P28=\"\",\"\",IF(ISNUMBER('PCB data'!P28)=TRUE, IF('PCB data'!P28<'PCB data'!P$38, \"ERROR\", 'PCB data'!P28), IF('PCB data'!P28=\"<LOD\",'PCB data'!P$38, \"ERROR\")))","v":""},{"$f":"IF('PCB data'!Q28=\"\",\"\",IF(ISNUMBER('PCB data'!Q28)=TRUE, IF('PCB data'!Q28<'PCB data'!Q$38, \"ERROR\", 'PCB data'!Q28), IF('PCB data'!Q28=\"<LOD\",'PCB data'!Q$38, \"ERROR\")))","v":""},{"$f":"IF('PCB data'!R28=\"\",\"\",IF(ISNUMBER('PCB data'!R28)=TRUE, IF('PCB data'!R28<'PCB data'!R$38, \"ERROR\", 'PCB data'!R28), IF('PCB data'!R28=\"<LOD\",'PCB data'!R$38, \"ERROR\")))","v":""},{"$f":"IF('PCB data'!S28=\"\",\"\",IF(ISNUMBER('PCB data'!S28)=TRUE, IF('PCB data'!S28<'PCB data'!S$38, \"ERROR\", 'PCB data'!S28), IF('PCB data'!S28=\"<LOD\",'PCB data'!S$38, \"ERROR\")))","v":""},{"$f":"IF('PCB data'!T28=\"\",\"\",IF(ISNUMBER('PCB data'!T28)=TRUE, IF('PCB data'!T28<'PCB data'!T$38, \"ERROR\", 'PCB data'!T28), IF('PCB data'!T28=\"<LOD\",'PCB data'!T$38, \"ERROR\")))","v":""},{"$f":"IF('PCB data'!U28=\"\",\"\",IF(ISNUMBER('PCB data'!U28)=TRUE, IF('PCB data'!U28<'PCB data'!U$38, \"ERROR\", 'PCB data'!U28), IF('PCB data'!U28=\"<LOD\",'PCB data'!U$38, \"ERROR\")))","v":""},{"$f":"IF('PCB data'!V28=\"\",\"\",IF(ISNUMBER('PCB data'!V28)=TRUE, IF('PCB data'!V28<'PCB data'!V$38, \"ERROR\", 'PCB data'!V28), IF('PCB data'!V28=\"<LOD\",'PCB data'!V$38, \"ERROR\")))","v":""},{"$f":"IF('PCB data'!W28=\"\",\"\",IF(ISNUMBER('PCB data'!W28)=TRUE, IF('PCB data'!W28<'PCB data'!W$38, \"ERROR\", 'PCB data'!W28), IF('PCB data'!W28=\"<LOD\",'PCB data'!W$38, \"ERROR\")))","v":""},{"$f":"IF('PCB data'!X28=\"\",\"\",IF(ISNUMBER('PCB data'!X28)=TRUE, IF('PCB data'!X28<'PCB data'!X$38, \"ERROR\", 'PCB data'!X28), IF('PCB data'!X28=\"<LOD\",'PCB data'!X$38, \"ERROR\")))","v":""},{"$f":"IF('PCB data'!Y28=\"\",\"\",IF(ISNUMBER('PCB data'!Y28)=TRUE, IF('PCB data'!Y28<'PCB data'!Y$38, \"ERROR\", 'PCB data'!Y28), IF('PCB data'!Y28=\"<LOD\",'PCB data'!Y$38, \"ERROR\")))","v":""},{"$f":"IF('PCB data'!Z28=\"\",\"\",IF(ISNUMBER('PCB data'!Z28)=TRUE, IF('PCB data'!Z28<'PCB data'!Z$38, \"ERROR\", 'PCB data'!Z28), IF('PCB data'!Z28=\"<LOD\",'PCB data'!Z$38, \"ERROR\")))","v":""},{"$f":"IF('PCB data'!AA28=\"\",\"\",IF(ISNUMBER('PCB data'!AA28)=TRUE, IF('PCB data'!AA28<'PCB data'!AA$38, \"ERROR\", 'PCB data'!AA28), IF('PCB data'!AA28=\"<LOD\",'PCB data'!AA$38, \"ERROR\")))","v":""},{"$f":"IF('PCB data'!AB28=\"\",\"\",IF(ISNUMBER('PCB data'!AB28)=TRUE, IF('PCB data'!AB28<'PCB data'!AB$38, \"ERROR\", 'PCB data'!AB28), IF('PCB data'!AB28=\"<LOD\",'PCB data'!AB$38, \"ERROR\")))","v":""},{"$f":"IF('PCB data'!AC28=\"\",\"\",IF(ISNUMBER('PCB data'!AC28)=TRUE, IF('PCB data'!AC28<'PCB data'!AC$38, \"ERROR\", 'PCB data'!AC28), IF('PCB data'!AC28=\"<LOD\",'PCB data'!AC$38, \"ERROR\")))","v":""},{"$f":"IF('PCB data'!AD28=\"\",\"\",IF(ISNUMBER('PCB data'!AD28)=TRUE, IF('PCB data'!AD28<'PCB data'!AD$38, \"ERROR\", 'PCB data'!AD28), IF('PCB data'!AD28=\"<LOD\",'PCB data'!AD$38, \"ERROR\")))","v":""},{"$f":"IF('PCB data'!AE28=\"\",\"\",IF(ISNUMBER('PCB data'!AE28)=TRUE, IF('PCB data'!AE28<'PCB data'!AE$38, \"ERROR\", 'PCB data'!AE28), IF('PCB data'!AE28=\"<LOD\",'PCB data'!AE$38, \"ERROR\")))","v":""},{"$f":"IF('PCB data'!AF28=\"\",\"\",IF(ISNUMBER('PCB data'!AF28)=TRUE, IF('PCB data'!AF28<'PCB data'!AF$38, \"ERROR\", 'PCB data'!AF28), IF('PCB data'!AF28=\"<LOD\",'PCB data'!AF$38, \"ERROR\")))","v":""},{"$f":"IF('PCB data'!AG28=\"\",\"\",IF(ISNUMBER('PCB data'!AG28)=TRUE, IF('PCB data'!AG28<'PCB data'!AG$38, \"ERROR\", 'PCB data'!AG28), IF('PCB data'!AG28=\"<LOD\",'PCB data'!AG$38, \"ERROR\")))","v":""},{"$f":"IF('PCB data'!AH28=\"\",\"\",IF(ISNUMBER('PCB data'!AH28)=TRUE, IF('PCB data'!AH28<'PCB data'!AH$38, \"ERROR\", 'PCB data'!AH28), IF('PCB data'!AH28=\"<LOD\",'PCB data'!AH$38, \"ERROR\")))","v":""},{"$f":"IF('PCB data'!AI28=\"\",\"\",IF(ISNUMBER('PCB data'!AI28)=TRUE, IF('PCB data'!AI28<'PCB data'!AI$38, \"ERROR\", 'PCB data'!AI28), IF('PCB data'!AI28=\"<LOD\",'PCB data'!AI$38, \"ERROR\")))","v":""},{"$f":"IF('PCB data'!AJ28=\"\",\"\",IF(ISNUMBER('PCB data'!AJ28)=TRUE, IF('PCB data'!AJ28<'PCB data'!AJ$38, \"ERROR\", 'PCB data'!AJ28), IF('PCB data'!AJ28=\"<LOD\",'PCB data'!AJ$38, \"ERROR\")))","v":""},"",""]
[null,null,null,null,null,null,null,{"$f":"IF('PCB data'!H29=\"\",\"\",'PCB data'!H29)","v":""},{"$f":"IF('PCB data'!I29=\"\",\"\",'PCB data'!I29)","v":""},{"$f":"IFERROR(IF(K30=\"\",\"\",(IF(VLOOKUP(K30,'Application info'!$K$8:$L$37,2,0)=\"y\",\"y\",\"\"))),\"Manual entry required\")","v":""},{"$f":"IF('PCB data'!J29=\"\",\"\",'PCB data'!J29)","v":""},{"$f":"IF('PCB data'!L29=\"\",\"\",IF(ISNUMBER('PCB data'!L29)=TRUE, IF('PCB data'!L29<'PCB data'!L$38, \"ERROR\", 'PCB data'!L29), IF('PCB data'!L29=\"<LOD\",'PCB data'!L$38, \"ERROR\")))","v":""},{"$f":"IF('PCB data'!M29=\"\",\"\",IF(ISNUMBER('PCB data'!M29)=TRUE, IF('PCB data'!M29<'PCB data'!M$38, \"ERROR\", 'PCB data'!M29), IF('PCB data'!M29=\"<LOD\",'PCB data'!M$38, \"ERROR\")))","v":""},{"$f":"IF('PCB data'!N29=\"\",\"\",IF(ISNUMBER('PCB data'!N29)=TRUE, IF('PCB data'!N29<'PCB data'!N$38, \"ERROR\", 'PCB data'!N29), IF('PCB data'!N29=\"<LOD\",'PCB data'!N$38, \"ERROR\")))","v":""},{"$f":"IF('PCB data'!O29=\"\",\"\",IF(ISNUMBER('PCB data'!O29)=TRUE, IF('PCB data'!O29<'PCB data'!O$38, \"ERROR\", 'PCB data'!O29), IF('PCB data'!O29=\"<LOD\",'PCB data'!O$38, \"ERROR\")))","v":""},{"$f":"IF('PCB data'!P29=\"\",\"\",IF(ISNUMBER('PCB data'!P29)=TRUE, IF('PCB data'!P29<'PCB data'!P$38, \"ERROR\", 'PCB data'!P29), IF('PCB data'!P29=\"<LOD\",'PCB data'!P$38, \"ERROR\")))","v":""},{"$f":"IF('PCB data'!Q29=\"\",\"\",IF(ISNUMBER('PCB data'!Q29)=TRUE, IF('PCB data'!Q29<'PCB data'!Q$38, \"ERROR\", 'PCB data'!Q29), IF('PCB data'!Q29=\"<LOD\",'PCB data'!Q$38, \"ERROR\")))","v":""},{"$f":"IF('PCB data'!R29=\"\",\"\",IF(ISNUMBER('PCB data'!R29)=TRUE, IF('PCB data'!R29<'PCB data'!R$38, \"ERROR\", 'PCB data'!R29), IF('PCB data'!R29=\"<LOD\",'PCB data'!R$38, \"ERROR\")))","v":""},{"$f":"IF('PCB data'!S29=\"\",\"\",IF(ISNUMBER('PCB data'!S29)=TRUE, IF('PCB data'!S29<'PCB data'!S$38, \"ERROR\", 'PCB data'!S29), IF('PCB data'!S29=\"<LOD\",'PCB data'!S$38, \"ERROR\")))","v":""},{"$f":"IF('PCB data'!T29=\"\",\"\",IF(ISNUMBER('PCB data'!T29)=TRUE, IF('PCB data'!T29<'PCB data'!T$38, \"ERROR\", 'PCB data'!T29), IF('PCB data'!T29=\"<LOD\",'PCB data'!T$38, \"ERROR\")))","v":""},{"$f":"IF('PCB data'!U29=\"\",\"\",IF(ISNUMBER('PCB data'!U29)=TRUE, IF('PCB data'!U29<'PCB data'!U$38, \"ERROR\", 'PCB data'!U29), IF('PCB data'!U29=\"<LOD\",'PCB data'!U$38, \"ERROR\")))","v":""},{"$f":"IF('PCB data'!V29=\"\",\"\",IF(ISNUMBER('PCB data'!V29)=TRUE, IF('PCB data'!V29<'PCB data'!V$38, \"ERROR\", 'PCB data'!V29), IF('PCB data'!V29=\"<LOD\",'PCB data'!V$38, \"ERROR\")))","v":""},{"$f":"IF('PCB data'!W29=\"\",\"\",IF(ISNUMBER('PCB data'!W29)=TRUE, IF('PCB data'!W29<'PCB data'!W$38, \"ERROR\", 'PCB data'!W29), IF('PCB data'!W29=\"<LOD\",'PCB data'!W$38, \"ERROR\")))","v":""},{"$f":"IF('PCB data'!X29=\"\",\"\",IF(ISNUMBER('PCB data'!X29)=TRUE, IF('PCB data'!X29<'PCB data'!X$38, \"ERROR\", 'PCB data'!X29), IF('PCB data'!X29=\"<LOD\",'PCB data'!X$38, \"ERROR\")))","v":""},{"$f":"IF('PCB data'!Y29=\"\",\"\",IF(ISNUMBER('PCB data'!Y29)=TRUE, IF('PCB data'!Y29<'PCB data'!Y$38, \"ERROR\", 'PCB data'!Y29), IF('PCB data'!Y29=\"<LOD\",'PCB data'!Y$38, \"ERROR\")))","v":""},{"$f":"IF('PCB data'!Z29=\"\",\"\",IF(ISNUMBER('PCB data'!Z29)=TRUE, IF('PCB data'!Z29<'PCB data'!Z$38, \"ERROR\", 'PCB data'!Z29), IF('PCB data'!Z29=\"<LOD\",'PCB data'!Z$38, \"ERROR\")))","v":""},{"$f":"IF('PCB data'!AA29=\"\",\"\",IF(ISNUMBER('PCB data'!AA29)=TRUE, IF('PCB data'!AA29<'PCB data'!AA$38, \"ERROR\", 'PCB data'!AA29), IF('PCB data'!AA29=\"<LOD\",'PCB data'!AA$38, \"ERROR\")))","v":""},{"$f":"IF('PCB data'!AB29=\"\",\"\",IF(ISNUMBER('PCB data'!AB29)=TRUE, IF('PCB data'!AB29<'PCB data'!AB$38, \"ERROR\", 'PCB data'!AB29), IF('PCB data'!AB29=\"<LOD\",'PCB data'!AB$38, \"ERROR\")))","v":""},{"$f":"IF('PCB data'!AC29=\"\",\"\",IF(ISNUMBER('PCB data'!AC29)=TRUE, IF('PCB data'!AC29<'PCB data'!AC$38, \"ERROR\", 'PCB data'!AC29), IF('PCB data'!AC29=\"<LOD\",'PCB data'!AC$38, \"ERROR\")))","v":""},{"$f":"IF('PCB data'!AD29=\"\",\"\",IF(ISNUMBER('PCB data'!AD29)=TRUE, IF('PCB data'!AD29<'PCB data'!AD$38, \"ERROR\", 'PCB data'!AD29), IF('PCB data'!AD29=\"<LOD\",'PCB data'!AD$38, \"ERROR\")))","v":""},{"$f":"IF('PCB data'!AE29=\"\",\"\",IF(ISNUMBER('PCB data'!AE29)=TRUE, IF('PCB data'!AE29<'PCB data'!AE$38, \"ERROR\", 'PCB data'!AE29), IF('PCB data'!AE29=\"<LOD\",'PCB data'!AE$38, \"ERROR\")))","v":""},{"$f":"IF('PCB data'!AF29=\"\",\"\",IF(ISNUMBER('PCB data'!AF29)=TRUE, IF('PCB data'!AF29<'PCB data'!AF$38, \"ERROR\", 'PCB data'!AF29), IF('PCB data'!AF29=\"<LOD\",'PCB data'!AF$38, \"ERROR\")))","v":""},{"$f":"IF('PCB data'!AG29=\"\",\"\",IF(ISNUMBER('PCB data'!AG29)=TRUE, IF('PCB data'!AG29<'PCB data'!AG$38, \"ERROR\", 'PCB data'!AG29), IF('PCB data'!AG29=\"<LOD\",'PCB data'!AG$38, \"ERROR\")))","v":""},{"$f":"IF('PCB data'!AH29=\"\",\"\",IF(ISNUMBER('PCB data'!AH29)=TRUE, IF('PCB data'!AH29<'PCB data'!AH$38, \"ERROR\", 'PCB data'!AH29), IF('PCB data'!AH29=\"<LOD\",'PCB data'!AH$38, \"ERROR\")))","v":""},{"$f":"IF('PCB data'!AI29=\"\",\"\",IF(ISNUMBER('PCB data'!AI29)=TRUE, IF('PCB data'!AI29<'PCB data'!AI$38, \"ERROR\", 'PCB data'!AI29), IF('PCB data'!AI29=\"<LOD\",'PCB data'!AI$38, \"ERROR\")))","v":""},{"$f":"IF('PCB data'!AJ29=\"\",\"\",IF(ISNUMBER('PCB data'!AJ29)=TRUE, IF('PCB data'!AJ29<'PCB data'!AJ$38, \"ERROR\", 'PCB data'!AJ29), IF('PCB data'!AJ29=\"<LOD\",'PCB data'!AJ$38, \"ERROR\")))","v":""},"",""]
[null,null,null,null,null,null,null,{"$f":"IF('PCB data'!H30=\"\",\"\",'PCB data'!H30)","v":""},{"$f":"IF('PCB data'!I30=\"\",\"\",'PCB data'!I30)","v":""},{"$f":"IFERROR(IF(K31=\"\",\"\",(IF(VLOOKUP(K31,'Application info'!$K$8:$L$37,2,0)=\"y\",\"y\",\"\"))),\"Manual entry required\")","v":""},{"$f":"IF('PCB data'!J30=\"\",\"\",'PCB data'!J30)","v":""},{"$f":"IF('PCB data'!L30=\"\",\"\",IF(ISNUMBER('PCB data'!L30)=TRUE, IF('PCB data'!L30<'PCB data'!L$38, \"ERROR\", 'PCB data'!L30), IF('PCB data'!L30=\"<LOD\",'PCB data'!L$38, \"ERROR\")))","v":""},{"$f":"IF('PCB data'!M30=\"\",\"\",IF(ISNUMBER('PCB data'!M30)=TRUE, IF('PCB data'!M30<'PCB data'!M$38, \"ERROR\", 'PCB data'!M30), IF('PCB data'!M30=\"<LOD\",'PCB data'!M$38, \"ERROR\")))","v":""},{"$f":"IF('PCB data'!N30=\"\",\"\",IF(ISNUMBER('PCB data'!N30)=TRUE, IF('PCB data'!N30<'PCB data'!N$38, \"ERROR\", 'PCB data'!N30), IF('PCB data'!N30=\"<LOD\",'PCB data'!N$38, \"ERROR\")))","v":""},{"$f":"IF('PCB data'!O30=\"\",\"\",IF(ISNUMBER('PCB data'!O30)=TRUE, IF('PCB data'!O30<'PCB data'!O$38, \"ERROR\", 'PCB data'!O30), IF('PCB data'!O30=\"<LOD\",'PCB data'!O$38, \"ERROR\")))","v":""},{"$f":"IF('PCB data'!P30=\"\",\"\",IF(ISNUMBER('PCB data'!P30)=TRUE, IF('PCB data'!P30<'PCB data'!P$38, \"ERROR\", 'PCB data'!P30), IF('PCB data'!P30=\"<LOD\",'PCB data'!P$38, \"ERROR\")))","v":""},{"$f":"IF('PCB data'!Q30=\"\",\"\",IF(ISNUMBER('PCB data'!Q30)=TRUE, IF('PCB data'!Q30<'PCB data'!Q$38, \"ERROR\", 'PCB data'!Q30), IF('PCB data'!Q30=\"<LOD\",'PCB data'!Q$38, \"ERROR\")))","v":""},{"$f":"IF('PCB data'!R30=\"\",\"\",IF(ISNUMBER('PCB data'!R30)=TRUE, IF('PCB data'!R30<'PCB data'!R$38, \"ERROR\", 'PCB data'!R30), IF('PCB data'!R30=\"<LOD\",'PCB data'!R$38, \"ERROR\")))","v":""},{"$f":"IF('PCB data'!S30=\"\",\"\",IF(ISNUMBER('PCB data'!S30)=TRUE, IF('PCB data'!S30<'PCB data'!S$38, \"ERROR\", 'PCB data'!S30), IF('PCB data'!S30=\"<LOD\",'PCB data'!S$38, \"ERROR\")))","v":""},{"$f":"IF('PCB data'!T30=\"\",\"\",IF(ISNUMBER('PCB data'!T30)=TRUE, IF('PCB data'!T30<'PCB data'!T$38, \"ERROR\", 'PCB data'!T30), IF('PCB data'!T30=\"<LOD\",'PCB data'!T$38, \"ERROR\")))","v":""},{"$f":"IF('PCB data'!U30=\"\",\"\",IF(ISNUMBER('PCB data'!U30)=TRUE, IF('PCB data'!U30<'PCB data'!U$38, \"ERROR\", 'PCB data'!U30), IF('PCB data'!U30=\"<LOD\",'PCB data'!U$38, \"ERROR\")))","v":""},{"$f":"IF('PCB data'!V30=\"\",\"\",IF(ISNUMBER('PCB data'!V30)=TRUE, IF('PCB data'!V30<'PCB data'!V$38, \"ERROR\", 'PCB data'!V30), IF('PCB data'!V30=\"<LOD\",'PCB data'!V$38, \"ERROR\")))","v":""},{"$f":"IF('PCB data'!W30=\"\",\"\",IF(ISNUMBER('PCB data'!W30)=TRUE, IF('PCB data'!W30<'PCB data'!W$38, \"ERROR\", 'PCB data'!W30), IF('PCB data'!W30=\"<LOD\",'PCB data'!W$38, \"ERROR\")))","v":""},{"$f":"IF('PCB data'!X30=\"\",\"\",IF(ISNUMBER('PCB data'!X30)=TRUE, IF('PCB data'!X30<'PCB data'!X$38, \"ERROR\", 'PCB data'!X30), IF('PCB data'!X30=\"<LOD\",'PCB data'!X$38, \"ERROR\")))","v":""},{"$f":"IF('PCB data'!Y30=\"\",\"\",IF(ISNUMBER('PCB data'!Y30)=TRUE, IF('PCB data'!Y30<'PCB data'!Y$38, \"ERROR\", 'PCB data'!Y30), IF('PCB data'!Y30=\"<LOD\",'PCB data'!Y$38, \"ERROR\")))","v":""},{"$f":"IF('PCB data'!Z30=\"\",\"\",IF(ISNUMBER('PCB data'!Z30)=TRUE, IF('PCB data'!Z30<'PCB data'!Z$38, \"ERROR\", 'PCB data'!Z30), IF('PCB data'!Z30=\"<LOD\",'PCB data'!Z$38, \"ERROR\")))","v":""},{"$f":"IF('PCB data'!AA30=\"\",\"\",IF(ISNUMBER('PCB data'!AA30)=TRUE, IF('PCB data'!AA30<'PCB data'!AA$38, \"ERROR\", 'PCB data'!AA30), IF('PCB data'!AA30=\"<LOD\",'PCB data'!AA$38, \"ERROR\")))","v":""},{"$f":"IF('PCB data'!AB30=\"\",\"\",IF(ISNUMBER('PCB data'!AB30)=TRUE, IF('PCB data'!AB30<'PCB data'!AB$38, \"ERROR\", 'PCB data'!AB30), IF('PCB data'!AB30=\"<LOD\",'PCB data'!AB$38, \"ERROR\")))","v":""},{"$f":"IF('PCB data'!AC30=\"\",\"\",IF(ISNUMBER('PCB data'!AC30)=TRUE, IF('PCB data'!AC30<'PCB data'!AC$38, \"ERROR\", 'PCB data'!AC30), IF('PCB data'!AC30=\"<LOD\",'PCB data'!AC$38, \"ERROR\")))","v":""},{"$f":"IF('PCB data'!AD30=\"\",\"\",IF(ISNUMBER('PCB data'!AD30)=TRUE, IF('PCB data'!AD30<'PCB data'!AD$38, \"ERROR\", 'PCB data'!AD30), IF('PCB data'!AD30=\"<LOD\",'PCB data'!AD$38, \"ERROR\")))","v":""},{"$f":"IF('PCB data'!AE30=\"\",\"\",IF(ISNUMBER('PCB data'!AE30)=TRUE, IF('PCB data'!AE30<'PCB data'!AE$38, \"ERROR\", 'PCB data'!AE30), IF('PCB data'!AE30=\"<LOD\",'PCB data'!AE$38, \"ERROR\")))","v":""},{"$f":"IF('PCB data'!AF30=\"\",\"\",IF(ISNUMBER('PCB data'!AF30)=TRUE, IF('PCB data'!AF30<'PCB data'!AF$38, \"ERROR\", 'PCB data'!AF30), IF('PCB data'!AF30=\"<LOD\",'PCB data'!AF$38, \"ERROR\")))","v":""},{"$f":"IF('PCB data'!AG30=\"\",\"\",IF(ISNUMBER('PCB data'!AG30)=TRUE, IF('PCB data'!AG30<'PCB data'!AG$38, \"ERROR\", 'PCB data'!AG30), IF('PCB data'!AG30=\"<LOD\",'PCB data'!AG$38, \"ERROR\")))","v":""},{"$f":"IF('PCB data'!AH30=\"\",\"\",IF(ISNUMBER('PCB data'!AH30)=TRUE, IF('PCB data'!AH30<'PCB data'!AH$38, \"ERROR\", 'PCB data'!AH30), IF('PCB data'!AH30=\"<LOD\",'PCB data'!AH$38, \"ERROR\")))","v":""},{"$f":"IF('PCB data'!AI30=\"\",\"\",IF(ISNUMBER('PCB data'!AI30)=TRUE, IF('PCB data'!AI30<'PCB data'!AI$38, \"ERROR\", 'PCB data'!AI30), IF('PCB data'!AI30=\"<LOD\",'PCB data'!AI$38, \"ERROR\")))","v":""},{"$f":"IF('PCB data'!AJ30=\"\",\"\",IF(ISNUMBER('PCB data'!AJ30)=TRUE, IF('PCB data'!AJ30<'PCB data'!AJ$38, \"ERROR\", 'PCB data'!AJ30), IF('PCB data'!AJ30=\"<LOD\",'PCB data'!AJ$38, \"ERROR\")))","v":""},{"$f":"IF(COUNT(AI31,AD31,Z31,U31,Q31,O31,L31)<1,\"\",SUM(AI31,AD31,Z31,U31,Q31,O31,L31))","v":""},{"$f":"IF(COUNT(L31:AJ31)<1,\"\",(SUM(L31:AJ31)))","v":""}]
[null,null,null,null,null,null,null,{"$f":"IF('PCB data'!H31=\"\",\"\",'PCB data'!H31)","v":""},{"$f":"IF('PCB data'!I31=\"\",\"\",'PCB data'!I31)","v":""},{"$f":"IFERROR(IF(K32=\"\",\"\",(IF(VLOOKUP(K32,'Application info'!$K$8:$L$37,2,0)=\"y\",\"y\",\"\"))),\"Manual entry required\")","v":""},{"$f":"IF('PCB data'!J31=\"\",\"\",'PCB data'!J31)","v":""},{"$f":"IF('PCB data'!L31=\"\",\"\",IF(ISNUMBER('PCB data'!L31)=TRUE, IF('PCB data'!L31<'PCB data'!L$38, \"ERROR\", 'PCB data'!L31), IF('PCB data'!L31=\"<LOD\",'PCB data'!L$38, \"ERROR\")))","v":""},{"$f":"IF('PCB data'!M31=\"\",\"\",IF(ISNUMBER('PCB data'!M31)=TRUE, IF('PCB data'!M31<'PCB data'!M$38, \"ERROR\", 'PCB data'!M31), IF('PCB data'!M31=\"<LOD\",'PCB data'!M$38, \"ERROR\")))","v":""},{"$f":"IF('PCB data'!N31=\"\",\"\",IF(ISNUMBER('PCB data'!N31)=TRUE, IF('PCB data'!N31<'PCB data'!N$38, \"ERROR\", 'PCB data'!N31), IF('PCB data'!N31=\"<LOD\",'PCB data'!N$38, \"ERROR\")))","v":""},{"$f":"IF('PCB data'!O31=\"\",\"\",IF(ISNUMBER('PCB data'!O31)=TRUE, IF('PCB data'!O31<'PCB data'!O$38, \"ERROR\", 'PCB data'!O31), IF('PCB data'!O31=\"<LOD\",'PCB data'!O$38, \"ERROR\")))","v":""},{"$f":"IF('PCB data'!P31=\"\",\"\",IF(ISNUMBER('PCB data'!P31)=TRUE, IF('PCB data'!P31<'PCB data'!P$38, \"ERROR\", 'PCB data'!P31), IF('PCB data'!P31=\"<LOD\",'PCB data'!P$38, \"ERROR\")))","v":""},{"$f":"IF('PCB data'!Q31=\"\",\"\",IF(ISNUMBER('PCB data'!Q31)=TRUE, IF('PCB data'!Q31<'PCB data'!Q$38, \"ERROR\", 'PCB data'!Q31), IF('PCB data'!Q31=\"<LOD\",'PCB data'!Q$38, \"ERROR\")))","v":""},{"$f":"IF('PCB data'!R31=\"\",\"\",IF(ISNUMBER('PCB data'!R31)=TRUE, IF('PCB data'!R31<'PCB data'!R$38, \"ERROR\", 'PCB data'!R31), IF('PCB data'!R31=\"<LOD\",'PCB data'!R$38, \"ERROR\")))","v":""},{"$f":"IF('PCB data'!S31=\"\",\"\",IF(ISNUMBER('PCB data'!S31)=TRUE, IF('PCB data'!S31<'PCB data'!S$38, \"ERROR\", 'PCB data'!S31), IF('PCB data'!S31=\"<LOD\",'PCB data'!S$38, \"ERROR\")))","v":""},{"$f":"IF('PCB data'!T31=\"\",\"\",IF(ISNUMBER('PCB data'!T31)=TRUE, IF('PCB data'!T31<'PCB data'!T$38, \"ERROR\", 'PCB data'!T31), IF('PCB data'!T31=\"<LOD\",'PCB data'!T$38, \"ERROR\")))","v":""},{"$f":"IF('PCB data'!U31=\"\",\"\",IF(ISNUMBER('PCB data'!U31)=TRUE, IF('PCB data'!U31<'PCB data'!U$38, \"ERROR\", 'PCB data'!U31), IF('PCB data'!U31=\"<LOD\",'PCB data'!U$38, \"ERROR\")))","v":""},{"$f":"IF('PCB data'!V31=\"\",\"\",IF(ISNUMBER('PCB data'!V31)=TRUE, IF('PCB data'!V31<'PCB data'!V$38, \"ERROR\", 'PCB data'!V31), IF('PCB data'!V31=\"<LOD\",'PCB data'!V$38, \"ERROR\")))","v":""},{"$f":"IF('PCB data'!W31=\"\",\"\",IF(ISNUMBER('PCB data'!W31)=TRUE, IF('PCB data'!W31<'PCB data'!W$38, \"ERROR\", 'PCB data'!W31), IF('PCB data'!W31=\"<LOD\",'PCB data'!W$38, \"ERROR\")))","v":""},{"$f":"IF('PCB data'!X31=\"\",\"\",IF(ISNUMBER('PCB data'!X31)=TRUE, IF('PCB data'!X31<'PCB data'!X$38, \"ERROR\", 'PCB data'!X31), IF('PCB data'!X31=\"<LOD\",'PCB data'!X$38, \"ERROR\")))","v":""},{"$f":"IF('PCB data'!Y31=\"\",\"\",IF(ISNUMBER('PCB data'!Y31)=TRUE, IF('PCB data'!Y31<'PCB data'!Y$38, \"ERROR\", 'PCB data'!Y31), IF('PCB data'!Y31=\"<LOD\",'PCB data'!Y$38, \"ERROR\")))","v":""},{"$f":"IF('PCB data'!Z31=\"\",\"\",IF(ISNUMBER('PCB data'!Z31)=TRUE, IF('PCB data'!Z31<'PCB data'!Z$38, \"ERROR\", 'PCB data'!Z31), IF('PCB data'!Z31=\"<LOD\",'PCB data'!Z$38, \"ERROR\")))","v":""},{"$f":"IF('PCB data'!AA31=\"\",\"\",IF(ISNUMBER('PCB data'!AA31)=TRUE, IF('PCB data'!AA31<'PCB data'!AA$38, \"ERROR\", 'PCB data'!AA31), IF('PCB data'!AA31=\"<LOD\",'PCB data'!AA$38, \"ERROR\")))","v":""},{"$f":"IF('PCB data'!AB31=\"\",\"\",IF(ISNUMBER('PCB data'!AB31)=TRUE, IF('PCB data'!AB31<'PCB data'!AB$38, \"ERROR\", 'PCB data'!AB31), IF('PCB data'!AB31=\"<LOD\",'PCB data'!AB$38, \"ERROR\")))","v":""},{"$f":"IF('PCB data'!AC31=\"\",\"\",IF(ISNUMBER('PCB data'!AC31)=TRUE, IF('PCB data'!AC31<'PCB data'!AC$38, \"ERROR\", 'PCB data'!AC31), IF('PCB data'!AC31=\"<LOD\",'PCB data'!AC$38, \"ERROR\")))","v":""},{"$f":"IF('PCB data'!AD31=\"\",\"\",IF(ISNUMBER('PCB data'!AD31)=TRUE, IF('PCB data'!AD31<'PCB data'!AD$38, \"ERROR\", 'PCB data'!AD31), IF('PCB data'!AD31=\"<LOD\",'PCB data'!AD$38, \"ERROR\")))","v":""},{"$f":"IF('PCB data'!AE31=\"\",\"\",IF(ISNUMBER('PCB data'!AE31)=TRUE, IF('PCB data'!AE31<'PCB data'!AE$38, \"ERROR\", 'PCB data'!AE31), IF('PCB data'!AE31=\"<LOD\",'PCB data'!AE$38, \"ERROR\")))","v":""},{"$f":"IF('PCB data'!AF31=\"\",\"\",IF(ISNUMBER('PCB data'!AF31)=TRUE, IF('PCB data'!AF31<'PCB data'!AF$38, \"ERROR\", 'PCB data'!AF31), IF('PCB data'!AF31=\"<LOD\",'PCB data'!AF$38, \"ERROR\")))","v":""},{"$f":"IF('PCB data'!AG31=\"\",\"\",IF(ISNUMBER('PCB data'!AG31)=TRUE, IF('PCB data'!AG31<'PCB data'!AG$38, \"ERROR\", 'PCB data'!AG31), IF('PCB data'!AG31=\"<LOD\",'PCB data'!AG$38, \"ERROR\")))","v":""},{"$f":"IF('PCB data'!AH31=\"\",\"\",IF(ISNUMBER('PCB data'!AH31)=TRUE, IF('PCB data'!AH31<'PCB data'!AH$38, \"ERROR\", 'PCB data'!AH31), IF('PCB data'!AH31=\"<LOD\",'PCB data'!AH$38, \"ERROR\")))","v":""},{"$f":"IF('PCB data'!AI31=\"\",\"\",IF(ISNUMBER('PCB data'!AI31)=TRUE, IF('PCB data'!AI31<'PCB data'!AI$38, \"ERROR\", 'PCB data'!AI31), IF('PCB data'!AI31=\"<LOD\",'PCB data'!AI$38, \"ERROR\")))","v":""},{"$f":"IF('PCB data'!AJ31=\"\",\"\",IF(ISNUMBER('PCB data'!AJ31)=TRUE, IF('PCB data'!AJ31<'PCB data'!AJ$38, \"ERROR\", 'PCB data'!AJ31), IF('PCB data'!AJ31=\"<LOD\",'PCB data'!AJ$38, \"ERROR\")))","v":""},"",""]
[null,null,null,null,null,null,null,{"$f":"IF('PCB data'!H32=\"\",\"\",'PCB data'!H32)","v":""},{"$f":"IF('PCB data'!I32=\"\",\"\",'PCB data'!I32)","v":""},{"$f":"IFERROR(IF(K33=\"\",\"\",(IF(VLOOKUP(K33,'Application info'!$K$8:$L$37,2,0)=\"y\",\"y\",\"\"))),\"Manual entry required\")","v":""},{"$f":"IF('PCB data'!J32=\"\",\"\",'PCB data'!J32)","v":""},{"$f":"IF('PCB data'!L32=\"\",\"\",IF(ISNUMBER('PCB data'!L32)=TRUE, IF('PCB data'!L32<'PCB data'!L$38, \"ERROR\", 'PCB data'!L32), IF('PCB data'!L32=\"<LOD\",'PCB data'!L$38, \"ERROR\")))","v":""},{"$f":"IF('PCB data'!M32=\"\",\"\",IF(ISNUMBER('PCB data'!M32)=TRUE, IF('PCB data'!M32<'PCB data'!M$38, \"ERROR\", 'PCB data'!M32), IF('PCB data'!M32=\"<LOD\",'PCB data'!M$38, \"ERROR\")))","v":""},{"$f":"IF('PCB data'!N32=\"\",\"\",IF(ISNUMBER('PCB data'!N32)=TRUE, IF('PCB data'!N32<'PCB data'!N$38, \"ERROR\", 'PCB data'!N32), IF('PCB data'!N32=\"<LOD\",'PCB data'!N$38, \"ERROR\")))","v":""},{"$f":"IF('PCB data'!O32=\"\",\"\",IF(ISNUMBER('PCB data'!O32)=TRUE, IF('PCB data'!O32<'PCB data'!O$38, \"ERROR\", 'PCB data'!O32), IF('PCB data'!O32=\"<LOD\",'PCB data'!O$38, \"ERROR\")))","v":""},{"$f":"IF('PCB data'!P32=\"\",\"\",IF(ISNUMBER('PCB data'!P32)=TRUE, IF('PCB data'!P32<'PCB data'!P$38, \"ERROR\", 'PCB data'!P32), IF('PCB data'!P32=\"<LOD\",'PCB data'!P$38, \"ERROR\")))","v":""},{"$f":"IF('PCB data'!Q32=\"\",\"\",IF(ISNUMBER('PCB data'!Q32)=TRUE, IF('PCB data'!Q32<'PCB data'!Q$38, \"ERROR\", 'PCB data'!Q32), IF('PCB data'!Q32=\"<LOD\",'PCB data'!Q$38, \"ERROR\")))","v":""},{"$f":"IF('PCB data'!R32=\"\",\"\",IF(ISNUMBER('PCB data'!R32)=TRUE, IF('PCB data'!R32<'PCB data'!R$38, \"ERROR\", 'PCB data'!R32), IF('PCB data'!R32=\"<LOD\",'PCB data'!R$38, \"ERROR\")))","v":""},{"$f":"IF('PCB data'!S32=\"\",\"\",IF(ISNUMBER('PCB data'!S32)=TRUE, IF('PCB data'!S32<'PCB data'!S$38, \"ERROR\", 'PCB data'!S32), IF('PCB data'!S32=\"<LOD\",'PCB data'!S$38, \"ERROR\")))","v":""},{"$f":"IF('PCB data'!T32=\"\",\"\",IF(ISNUMBER('PCB data'!T32)=TRUE, IF('PCB data'!T32<'PCB data'!T$38, \"ERROR\", 'PCB data'!T32), IF('PCB data'!T32=\"<LOD\",'PCB data'!T$38, \"ERROR\")))","v":""},{"$f":"IF('PCB data'!U32=\"\",\"\",IF(ISNUMBER('PCB data'!U32)=TRUE, IF('PCB data'!U32<'PCB data'!U$38, \"ERROR\", 'PCB data'!U32), IF('PCB data'!U32=\"<LOD\",'PCB data'!U$38, \"ERROR\")))","v":""},{"$f":"IF('PCB data'!V32=\"\",\"\",IF(ISNUMBER('PCB data'!V32)=TRUE, IF('PCB data'!V32<'PCB data'!V$38, \"ERROR\", 'PCB data'!V32), IF('PCB data'!V32=\"<LOD\",'PCB data'!V$38, \"ERROR\")))","v":""},{"$f":"IF('PCB data'!W32=\"\",\"\",IF(ISNUMBER('PCB data'!W32)=TRUE, IF('PCB data'!W32<'PCB data'!W$38, \"ERROR\", 'PCB data'!W32), IF('PCB data'!W32=\"<LOD\",'PCB data'!W$38, \"ERROR\")))","v":""},{"$f":"IF('PCB data'!X32=\"\",\"\",IF(ISNUMBER('PCB data'!X32)=TRUE, IF('PCB data'!X32<'PCB data'!X$38, \"ERROR\", 'PCB data'!X32), IF('PCB data'!X32=\"<LOD\",'PCB data'!X$38, \"ERROR\")))","v":""},{"$f":"IF('PCB data'!Y32=\"\",\"\",IF(ISNUMBER('PCB data'!Y32)=TRUE, IF('PCB data'!Y32<'PCB data'!Y$38, \"ERROR\", 'PCB data'!Y32), IF('PCB data'!Y32=\"<LOD\",'PCB data'!Y$38, \"ERROR\")))","v":""},{"$f":"IF('PCB data'!Z32=\"\",\"\",IF(ISNUMBER('PCB data'!Z32)=TRUE, IF('PCB data'!Z32<'PCB data'!Z$38, \"ERROR\", 'PCB data'!Z32), IF('PCB data'!Z32=\"<LOD\",'PCB data'!Z$38, \"ERROR\")))","v":""},{"$f":"IF('PCB data'!AA32=\"\",\"\",IF(ISNUMBER('PCB data'!AA32)=TRUE, IF('PCB data'!AA32<'PCB data'!AA$38, \"ERROR\", 'PCB data'!AA32), IF('PCB data'!AA32=\"<LOD\",'PCB data'!AA$38, \"ERROR\")))","v":""},{"$f":"IF('PCB data'!AB32=\"\",\"\",IF(ISNUMBER('PCB data'!AB32)=TRUE, IF('PCB data'!AB32<'PCB data'!AB$38, \"ERROR\", 'PCB data'!AB32), IF('PCB data'!AB32=\"<LOD\",'PCB data'!AB$38, \"ERROR\")))","v":""},{"$f":"IF('PCB data'!AC32=\"\",\"\",IF(ISNUMBER('PCB data'!AC32)=TRUE, IF('PCB data'!AC32<'PCB data'!AC$38, \"ERROR\", 'PCB data'!AC32), IF('PCB data'!AC32=\"<LOD\",'PCB data'!AC$38, \"ERROR\")))","v":""},{"$f":"IF('PCB data'!AD32=\"\",\"\",IF(ISNUMBER('PCB data'!AD32)=TRUE, IF('PCB data'!AD32<'PCB data'!AD$38, \"ERROR\", 'PCB data'!AD32), IF('PCB data'!AD32=\"<LOD\",'PCB data'!AD$38, \"ERROR\")))","v":""},{"$f":"IF('PCB data'!AE32=\"\",\"\",IF(ISNUMBER('PCB data'!AE32)=TRUE, IF('PCB data'!AE32<'PCB data'!AE$38, \"ERROR\", 'PCB data'!AE32), IF('PCB data'!AE32=\"<LOD\",'PCB data'!AE$38, \"ERROR\")))","v":""},{"$f":"IF('PCB data'!AF32=\"\",\"\",IF(ISNUMBER('PCB data'!AF32)=TRUE, IF('PCB data'!AF32<'PCB data'!AF$38, \"ERROR\", 'PCB data'!AF32), IF('PCB data'!AF32=\"<LOD\",'PCB data'!AF$38, \"ERROR\")))","v":""},{"$f":"IF('PCB data'!AG32=\"\",\"\",IF(ISNUMBER('PCB data'!AG32)=TRUE, IF('PCB data'!AG32<'PCB data'!AG$38, \"ERROR\", 'PCB data'!AG32), IF('PCB data'!AG32=\"<LOD\",'PCB data'!AG$38, \"ERROR\")))","v":""},{"$f":"IF('PCB data'!AH32=\"\",\"\",IF(ISNUMBER('PCB data'!AH32)=TRUE, IF('PCB data'!AH32<'PCB data'!AH$38, \"ERROR\", 'PCB data'!AH32), IF('PCB data'!AH32=\"<LOD\",'PCB data'!AH$38, \"ERROR\")))","v":""},{"$f":"IF('PCB data'!AI32=\"\",\"\",IF(ISNUMBER('PCB data'!AI32)=TRUE, IF('PCB data'!AI32<'PCB data'!AI$38, \"ERROR\", 'PCB data'!AI32), IF('PCB data'!AI32=\"<LOD\",'PCB data'!AI$38, \"ERROR\")))","v":""},{"$f":"IF('PCB data'!AJ32=\"\",\"\",IF(ISNUMBER('PCB data'!AJ32)=TRUE, IF('PCB data'!AJ32<'PCB data'!AJ$38, \"ERROR\", 'PCB data'!AJ32), IF('PCB data'!AJ32=\"<LOD\",'PCB data'!AJ$38, \"ERROR\")))","v":""},"",""]
[null,null,null,null,null,null,null,{"$f":"IF('PCB data'!H33=\"\",\"\",'PCB data'!H33)","v":""},{"$f":"IF('PCB data'!I33=\"\",\"\",'PCB data'!I33)","v":""},{"$f":"IFERROR(IF(K34=\"\",\"\",(IF(VLOOKUP(K34,'Application info'!$K$8:$L$37,2,0)=\"y\",\"y\",\"\"))),\"Manual entry required\")","v":""},{"$f":"IF('PCB data'!J33=\"\",\"\",'PCB data'!J33)","v":""},{"$f":"IF('PCB data'!L33=\"\",\"\",IF(ISNUMBER('PCB data'!L33)=TRUE, IF('PCB data'!L33<'PCB data'!L$38, \"ERROR\", 'PCB data'!L33), IF('PCB data'!L33=\"<LOD\",'PCB data'!L$38, \"ERROR\")))","v":""},{"$f":"IF('PCB data'!M33=\"\",\"\",IF(ISNUMBER('PCB data'!M33)=TRUE, IF('PCB data'!M33<'PCB data'!M$38, \"ERROR\", 'PCB data'!M33), IF('PCB data'!M33=\"<LOD\",'PCB data'!M$38, \"ERROR\")))","v":""},{"$f":"IF('PCB data'!N33=\"\",\"\",IF(ISNUMBER('PCB data'!N33)=TRUE, IF('PCB data'!N33<'PCB data'!N$38, \"ERROR\", 'PCB data'!N33), IF('PCB data'!N33=\"<LOD\",'PCB data'!N$38, \"ERROR\")))","v":""},{"$f":"IF('PCB data'!O33=\"\",\"\",IF(ISNUMBER('PCB data'!O33)=TRUE, IF('PCB data'!O33<'PCB data'!O$38, \"ERROR\", 'PCB data'!O33), IF('PCB data'!O33=\"<LOD\",'PCB data'!O$38, \"ERROR\")))","v":""},{"$f":"IF('PCB data'!P33=\"\",\"\",IF(ISNUMBER('PCB data'!P33)=TRUE, IF('PCB data'!P33<'PCB data'!P$38, \"ERROR\", 'PCB data'!P33), IF('PCB data'!P33=\"<LOD\",'PCB data'!P$38, \"ERROR\")))","v":""},{"$f":"IF('PCB data'!Q33=\"\",\"\",IF(ISNUMBER('PCB data'!Q33)=TRUE, IF('PCB data'!Q33<'PCB data'!Q$38, \"ERROR\", 'PCB data'!Q33), IF('PCB data'!Q33=\"<LOD\",'PCB data'!Q$38, \"ERROR\")))","v":""},{"$f":"IF('PCB data'!R33=\"\",\"\",IF(ISNUMBER('PCB data'!R33)=TRUE, IF('PCB data'!R33<'PCB data'!R$38, \"ERROR\", 'PCB data'!R33), IF('PCB data'!R33=\"<LOD\",'PCB data'!R$38, \"ERROR\")))","v":""},{"$f":"IF('PCB data'!S33=\"\",\"\",IF(ISNUMBER('PCB data'!S33)=TRUE, IF('PCB data'!S33<'PCB data'!S$38, \"ERROR\", 'PCB data'!S33), IF('PCB data'!S33=\"<LOD\",'PCB data'!S$38, \"ERROR\")))","v":""},{"$f":"IF('PCB data'!T33=\"\",\"\",IF(ISNUMBER('PCB data'!T33)=TRUE, IF('PCB data'!T33<'PCB data'!T$38, \"ERROR\", 'PCB data'!T33), IF('PCB data'!T33=\"<LOD\",'PCB data'!T$38, \"ERROR\")))","v":""},{"$f":"IF('PCB data'!U33=\"\",\"\",IF(ISNUMBER('PCB data'!U33)=TRUE, IF('PCB data'!U33<'PCB data'!U$38, \"ERROR\", 'PCB data'!U33), IF('PCB data'!U33=\"<LOD\",'PCB data'!U$38, \"ERROR\")))","v":""},{"$f":"IF('PCB data'!V33=\"\",\"\",IF(ISNUMBER('PCB data'!V33)=TRUE, IF('PCB data'!V33<'PCB data'!V$38, \"ERROR\", 'PCB data'!V33), IF('PCB data'!V33=\"<LOD\",'PCB data'!V$38, \"ERROR\")))","v":""},{"$f":"IF('PCB data'!W33=\"\",\"\",IF(ISNUMBER('PCB data'!W33)=TRUE, IF('PCB data'!W33<'PCB data'!W$38, \"ERROR\", 'PCB data'!W33), IF('PCB data'!W33=\"<LOD\",'PCB data'!W$38, \"ERROR\")))","v":""},{"$f":"IF('PCB data'!X33=\"\",\"\",IF(ISNUMBER('PCB data'!X33)=TRUE, IF('PCB data'!X33<'PCB data'!X$38, \"ERROR\", 'PCB data'!X33), IF('PCB data'!X33=\"<LOD\",'PCB data'!X$38, \"ERROR\")))","v":""},{"$f":"IF('PCB data'!Y33=\"\",\"\",IF(ISNUMBER('PCB data'!Y33)=TRUE, IF('PCB data'!Y33<'PCB data'!Y$38, \"ERROR\", 'PCB data'!Y33), IF('PCB data'!Y33=\"<LOD\",'PCB data'!Y$38, \"ERROR\")))","v":""},{"$f":"IF('PCB data'!Z33=\"\",\"\",IF(ISNUMBER('PCB data'!Z33)=TRUE, IF('PCB data'!Z33<'PCB data'!Z$38, \"ERROR\", 'PCB data'!Z33), IF('PCB data'!Z33=\"<LOD\",'PCB data'!Z$38, \"ERROR\")))","v":""},{"$f":"IF('PCB data'!AA33=\"\",\"\",IF(ISNUMBER('PCB data'!AA33)=TRUE, IF('PCB data'!AA33<'PCB data'!AA$38, \"ERROR\", 'PCB data'!AA33), IF('PCB data'!AA33=\"<LOD\",'PCB data'!AA$38, \"ERROR\")))","v":""},{"$f":"IF('PCB data'!AB33=\"\",\"\",IF(ISNUMBER('PCB data'!AB33)=TRUE, IF('PCB data'!AB33<'PCB data'!AB$38, \"ERROR\", 'PCB data'!AB33), IF('PCB data'!AB33=\"<LOD\",'PCB data'!AB$38, \"ERROR\")))","v":""},{"$f":"IF('PCB data'!AC33=\"\",\"\",IF(ISNUMBER('PCB data'!AC33)=TRUE, IF('PCB data'!AC33<'PCB data'!AC$38, \"ERROR\", 'PCB data'!AC33), IF('PCB data'!AC33=\"<LOD\",'PCB data'!AC$38, \"ERROR\")))","v":""},{"$f":"IF('PCB data'!AD33=\"\",\"\",IF(ISNUMBER('PCB data'!AD33)=TRUE, IF('PCB data'!AD33<'PCB data'!AD$38, \"ERROR\", 'PCB data'!AD33), IF('PCB data'!AD33=\"<LOD\",'PCB data'!AD$38, \"ERROR\")))","v":""},{"$f":"IF('PCB data'!AE33=\"\",\"\",IF(ISNUMBER('PCB data'!AE33)=TRUE, IF('PCB data'!AE33<'PCB data'!AE$38, \"ERROR\", 'PCB data'!AE33), IF('PCB data'!AE33=\"<LOD\",'PCB data'!AE$38, \"ERROR\")))","v":""},{"$f":"IF('PCB data'!AF33=\"\",\"\",IF(ISNUMBER('PCB data'!AF33)=TRUE, IF('PCB data'!AF33<'PCB data'!AF$38, \"ERROR\", 'PCB data'!AF33), IF('PCB data'!AF33=\"<LOD\",'PCB data'!AF$38, \"ERROR\")))","v":""},{"$f":"IF('PCB data'!AG33=\"\",\"\",IF(ISNUMBER('PCB data'!AG33)=TRUE, IF('PCB data'!AG33<'PCB data'!AG$38, \"ERROR\", 'PCB data'!AG33), IF('PCB data'!AG33=\"<LOD\",'PCB data'!AG$38, \"ERROR\")))","v":""},{"$f":"IF('PCB data'!AH33=\"\",\"\",IF(ISNUMBER('PCB data'!AH33)=TRUE, IF('PCB data'!AH33<'PCB data'!AH$38, \"ERROR\", 'PCB data'!AH33), IF('PCB data'!AH33=\"<LOD\",'PCB data'!AH$38, \"ERROR\")))","v":""},{"$f":"IF('PCB data'!AI33=\"\",\"\",IF(ISNUMBER('PCB data'!AI33)=TRUE, IF('PCB data'!AI33<'PCB data'!AI$38, \"ERROR\", 'PCB data'!AI33), IF('PCB data'!AI33=\"<LOD\",'PCB data'!AI$38, \"ERROR\")))","v":""},{"$f":"IF('PCB data'!AJ33=\"\",\"\",IF(ISNUMBER('PCB data'!AJ33)=TRUE, IF('PCB data'!AJ33<'PCB data'!AJ$38, \"ERROR\", 'PCB data'!AJ33), IF('PCB data'!AJ33=\"<LOD\",'PCB data'!AJ$38, \"ERROR\")))","v":""},"",""]
[null,null,null,null,null,null,null,{"$f":"IF('PCB data'!H34=\"\",\"\",'PCB data'!H34)","v":""},{"$f":"IF('PCB data'!I34=\"\",\"\",'PCB data'!I34)","v":""},{"$f":"IFERROR(IF(K35=\"\",\"\",(IF(VLOOKUP(K35,'Application info'!$K$8:$L$37,2,0)=\"y\",\"y\",\"\"))),\"Manual entry required\")","v":""},{"$f":"IF('PCB data'!J34=\"\",\"\",'PCB data'!J34)","v":""},{"$f":"IF('PCB data'!L34=\"\",\"\",IF(ISNUMBER('PCB data'!L34)=TRUE, IF('PCB data'!L34<'PCB data'!L$38, \"ERROR\", 'PCB data'!L34), IF('PCB data'!L34=\"<LOD\",'PCB data'!L$38, \"ERROR\")))","v":""},{"$f":"IF('PCB data'!M34=\"\",\"\",IF(ISNUMBER('PCB data'!M34)=TRUE, IF('PCB data'!M34<'PCB data'!M$38, \"ERROR\", 'PCB data'!M34), IF('PCB data'!M34=\"<LOD\",'PCB data'!M$38, \"ERROR\")))","v":""},{"$f":"IF('PCB data'!N34=\"\",\"\",IF(ISNUMBER('PCB data'!N34)=TRUE, IF('PCB data'!N34<'PCB data'!N$38, \"ERROR\", 'PCB data'!N34), IF('PCB data'!N34=\"<LOD\",'PCB data'!N$38, \"ERROR\")))","v":""},{"$f":"IF('PCB data'!O34=\"\",\"\",IF(ISNUMBER('PCB data'!O34)=TRUE, IF('PCB data'!O34<'PCB data'!O$38, \"ERROR\", 'PCB data'!O34), IF('PCB data'!O34=\"<LOD\",'PCB data'!O$38, \"ERROR\")))","v":""},{"$f":"IF('PCB data'!P34=\"\",\"\",IF(ISNUMBER('PCB data'!P34)=TRUE, IF('PCB data'!P34<'PCB data'!P$38, \"ERROR\", 'PCB data'!P34), IF('PCB data'!P34=\"<LOD\",'PCB data'!P$38, \"ERROR\")))","v":""},{"$f":"IF('PCB data'!Q34=\"\",\"\",IF(ISNUMBER('PCB data'!Q34)=TRUE, IF('PCB data'!Q34<'PCB data'!Q$38, \"ERROR\", 'PCB data'!Q34), IF('PCB data'!Q34=\"<LOD\",'PCB data'!Q$38, \"ERROR\")))","v":""},{"$f":"IF('PCB data'!R34=\"\",\"\",IF(ISNUMBER('PCB data'!R34)=TRUE, IF('PCB data'!R34<'PCB data'!R$38, \"ERROR\", 'PCB data'!R34), IF('PCB data'!R34=\"<LOD\",'PCB data'!R$38, \"ERROR\")))","v":""},{"$f":"IF('PCB data'!S34=\"\",\"\",IF(ISNUMBER('PCB data'!S34)=TRUE, IF('PCB data'!S34<'PCB data'!S$38, \"ERROR\", 'PCB data'!S34), IF('PCB data'!S34=\"<LOD\",'PCB data'!S$38, \"ERROR\")))","v":""},{"$f":"IF('PCB data'!T34=\"\",\"\",IF(ISNUMBER('PCB data'!T34)=TRUE, IF('PCB data'!T34<'PCB data'!T$38, \"ERROR\", 'PCB data'!T34), IF('PCB data'!T34=\"<LOD\",'PCB data'!T$38, \"ERROR\")))","v":""},{"$f":"IF('PCB data'!U34=\"\",\"\",IF(ISNUMBER('PCB data'!U34)=TRUE, IF('PCB data'!U34<'PCB data'!U$38, \"ERROR\", 'PCB data'!U34), IF('PCB data'!U34=\"<LOD\",'PCB data'!U$38, \"ERROR\")))","v":""},{"$f":"IF('PCB data'!V34=\"\",\"\",IF(ISNUMBER('PCB data'!V34)=TRUE, IF('PCB data'!V34<'PCB data'!V$38, \"ERROR\", 'PCB data'!V34), IF('PCB data'!V34=\"<LOD\",'PCB data'!V$38, \"ERROR\")))","v":""},{"$f":"IF('PCB data'!W34=\"\",\"\",IF(ISNUMBER('PCB data'!W34)=TRUE, IF('PCB data'!W34<'PCB data'!W$38, \"ERROR\", 'PCB data'!W34), IF('PCB data'!W34=\"<LOD\",'PCB data'!W$38, \"ERROR\")))","v":""},{"$f":"IF('PCB data'!X34=\"\",\"\",IF(ISNUMBER('PCB data'!X34)=TRUE, IF('PCB data'!X34<'PCB data'!X$38, \"ERROR\", 'PCB data'!X34), IF('PCB data'!X34=\"<LOD\",'PCB data'!X$38, \"ERROR\")))","v":""},{"$f":"IF('PCB data'!Y34=\"\",\"\",IF(ISNUMBER('PCB data'!Y34)=TRUE, IF('PCB data'!Y34<'PCB data'!Y$38, \"ERROR\", 'PCB data'!Y34), IF('PCB data'!Y34=\"<LOD\",'PCB data'!Y$38, \"ERROR\")))","v":""},{"$f":"IF('PCB data'!Z34=\"\",\"\",IF(ISNUMBER('PCB data'!Z34)=TRUE, IF('PCB data'!Z34<'PCB data'!Z$38, \"ERROR\", 'PCB data'!Z34), IF('PCB data'!Z34=\"<LOD\",'PCB data'!Z$38, \"ERROR\")))","v":""},{"$f":"IF('PCB data'!AA34=\"\",\"\",IF(ISNUMBER('PCB data'!AA34)=TRUE, IF('PCB data'!AA34<'PCB data'!AA$38, \"ERROR\", 'PCB data'!AA34), IF('PCB data'!AA34=\"<LOD\",'PCB data'!AA$38, \"ERROR\")))","v":""},{"$f":"IF('PCB data'!AB34=\"\",\"\",IF(ISNUMBER('PCB data'!AB34)=TRUE, IF('PCB data'!AB34<'PCB data'!AB$38, \"ERROR\", 'PCB data'!AB34), IF('PCB data'!AB34=\"<LOD\",'PCB data'!AB$38, \"ERROR\")))","v":""},{"$f":"IF('PCB data'!AC34=\"\",\"\",IF(ISNUMBER('PCB data'!AC34)=TRUE, IF('PCB data'!AC34<'PCB data'!AC$38, \"ERROR\", 'PCB data'!AC34), IF('PCB data'!AC34=\"<LOD\",'PCB data'!AC$38, \"ERROR\")))","v":""},{"$f":"IF('PCB data'!AD34=\"\",\"\",IF(ISNUMBER('PCB data'!AD34)=TRUE, IF('PCB data'!AD34<'PCB data'!AD$38, \"ERROR\", 'PCB data'!AD34), IF('PCB data'!AD34=\"<LOD\",'PCB data'!AD$38, \"ERROR\")))","v":""},{"$f":"IF('PCB data'!AE34=\"\",\"\",IF(ISNUMBER('PCB data'!AE34)=TRUE, IF('PCB data'!AE34<'PCB data'!AE$38, \"ERROR\", 'PCB data'!AE34), IF('PCB data'!AE34=\"<LOD\",'PCB data'!AE$38, \"ERROR\")))","v":""},{"$f":"IF('PCB data'!AF34=\"\",\"\",IF(ISNUMBER('PCB data'!AF34)=TRUE, IF('PCB data'!AF34<'PCB data'!AF$38, \"ERROR\", 'PCB data'!AF34), IF('PCB data'!AF34=\"<LOD\",'PCB data'!AF$38, \"ERROR\")))","v":""},{"$f":"IF('PCB data'!AG34=\"\",\"\",IF(ISNUMBER('PCB data'!AG34)=TRUE, IF('PCB data'!AG34<'PCB data'!AG$38, \"ERROR\", 'PCB data'!AG34), IF('PCB data'!AG34=\"<LOD\",'PCB data'!AG$38, \"ERROR\")))","v":""},{"$f":"IF('PCB data'!AH34=\"\",\"\",IF(ISNUMBER('PCB data'!AH34)=TRUE, IF('PCB data'!AH34<'PCB data'!AH$38, \"ERROR\", 'PCB data'!AH34), IF('PCB data'!AH34=\"<LOD\",'PCB data'!AH$38, \"ERROR\")))","v":""},{"$f":"IF('PCB data'!AI34=\"\",\"\",IF(ISNUMBER('PCB data'!AI34)=TRUE, IF('PCB data'!AI34<'PCB data'!AI$38, \"ERROR\", 'PCB data'!AI34), IF('PCB data'!AI34=\"<LOD\",'PCB data'!AI$38, \"ERROR\")))","v":""},{"$f":"IF('PCB data'!AJ34=\"\",\"\",IF(ISNUMBER('PCB data'!AJ34)=TRUE, IF('PCB data'!AJ34<'PCB data'!AJ$38, \"ERROR\", 'PCB data'!AJ34), IF('PCB data'!AJ34=\"<LOD\",'PCB data'!AJ$38, \"ERROR\")))","v":""},"",""]
[null,null,null,null,null,null,null,{"$f":"IF('PCB data'!H35=\"\",\"\",'PCB data'!H35)","v":""},{"$f":"IF('PCB data'!I35=\"\",\"\",'PCB data'!I35)","v":""},{"$f":"IFERROR(IF(K36=\"\",\"\",(IF(VLOOKUP(K36,'Application info'!$K$8:$L$37,2,0)=\"y\",\"y\",\"\"))),\"Manual entry required\")","v":""},{"$f":"IF('PCB data'!J35=\"\",\"\",'PCB data'!J35)","v":""},{"$f":"IF('PCB data'!L35=\"\",\"\",IF(ISNUMBER('PCB data'!L35)=TRUE, IF('PCB data'!L35<'PCB data'!L$38, \"ERROR\", 'PCB data'!L35), IF('PCB data'!L35=\"<LOD\",'PCB data'!L$38, \"ERROR\")))","v":""},{"$f":"IF('PCB data'!M35=\"\",\"\",IF(ISNUMBER('PCB data'!M35)=TRUE, IF('PCB data'!M35<'PCB data'!M$38, \"ERROR\", 'PCB data'!M35), IF('PCB data'!M35=\"<LOD\",'PCB data'!M$38, \"ERROR\")))","v":""},{"$f":"IF('PCB data'!N35=\"\",\"\",IF(ISNUMBER('PCB data'!N35)=TRUE, IF('PCB data'!N35<'PCB data'!N$38, \"ERROR\", 'PCB data'!N35), IF('PCB data'!N35=\"<LOD\",'PCB data'!N$38, \"ERROR\")))","v":""},{"$f":"IF('PCB data'!O35=\"\",\"\",IF(ISNUMBER('PCB data'!O35)=TRUE, IF('PCB data'!O35<'PCB data'!O$38, \"ERROR\", 'PCB data'!O35), IF('PCB data'!O35=\"<LOD\",'PCB data'!O$38, \"ERROR\")))","v":""},{"$f":"IF('PCB data'!P35=\"\",\"\",IF(ISNUMBER('PCB data'!P35)=TRUE, IF('PCB data'!P35<'PCB data'!P$38, \"ERROR\", 'PCB data'!P35), IF('PCB data'!P35=\"<LOD\",'PCB data'!P$38, \"ERROR\")))","v":""},{"$f":"IF('PCB data'!Q35=\"\",\"\",IF(ISNUMBER('PCB data'!Q35)=TRUE, IF('PCB data'!Q35<'PCB data'!Q$38, \"ERROR\", 'PCB data'!Q35), IF('PCB data'!Q35=\"<LOD\",'PCB data'!Q$38, \"ERROR\")))","v":""},{"$f":"IF('PCB data'!R35=\"\",\"\",IF(ISNUMBER('PCB data'!R35)=TRUE, IF('PCB data'!R35<'PCB data'!R$38, \"ERROR\", 'PCB data'!R35), IF('PCB data'!R35=\"<LOD\",'PCB data'!R$38, \"ERROR\")))","v":""},{"$f":"IF('PCB data'!S35=\"\",\"\",IF(ISNUMBER('PCB data'!S35)=TRUE, IF('PCB data'!S35<'PCB data'!S$38, \"ERROR\", 'PCB data'!S35), IF('PCB data'!S35=\"<LOD\",'PCB data'!S$38, \"ERROR\")))","v":""},{"$f":"IF('PCB data'!T35=\"\",\"\",IF(ISNUMBER('PCB data'!T35)=TRUE, IF('PCB data'!T35<'PCB data'!T$38, \"ERROR\", 'PCB data'!T35), IF('PCB data'!T35=\"<LOD\",'PCB data'!T$38, \"ERROR\")))","v":""},{"$f":"IF('PCB data'!U35=\"\",\"\",IF(ISNUMBER('PCB data'!U35)=TRUE, IF('PCB data'!U35<'PCB data'!U$38, \"ERROR\", 'PCB data'!U35), IF('PCB data'!U35=\"<LOD\",'PCB data'!U$38, \"ERROR\")))","v":""},{"$f":"IF('PCB data'!V35=\"\",\"\",IF(ISNUMBER('PCB data'!V35)=TRUE, IF('PCB data'!V35<'PCB data'!V$38, \"ERROR\", 'PCB data'!V35), IF('PCB data'!V35=\"<LOD\",'PCB data'!V$38, \"ERROR\")))","v":""},{"$f":"IF('PCB data'!W35=\"\",\"\",IF(ISNUMBER('PCB data'!W35)=TRUE, IF('PCB data'!W35<'PCB data'!W$38, \"ERROR\", 'PCB data'!W35), IF('PCB data'!W35=\"<LOD\",'PCB data'!W$38, \"ERROR\")))","v":""},{"$f":"IF('PCB data'!X35=\"\",\"\",IF(ISNUMBER('PCB data'!X35)=TRUE, IF('PCB data'!X35<'PCB data'!X$38, \"ERROR\", 'PCB data'!X35), IF('PCB data'!X35=\"<LOD\",'PCB data'!X$38, \"ERROR\")))","v":""},{"$f":"IF('PCB data'!Y35=\"\",\"\",IF(ISNUMBER('PCB data'!Y35)=TRUE, IF('PCB data'!Y35<'PCB data'!Y$38, \"ERROR\", 'PCB data'!Y35), IF('PCB data'!Y35=\"<LOD\",'PCB data'!Y$38, \"ERROR\")))","v":""},{"$f":"IF('PCB data'!Z35=\"\",\"\",IF(ISNUMBER('PCB data'!Z35)=TRUE, IF('PCB data'!Z35<'PCB data'!Z$38, \"ERROR\", 'PCB data'!Z35), IF('PCB data'!Z35=\"<LOD\",'PCB data'!Z$38, \"ERROR\")))","v":""},{"$f":"IF('PCB data'!AA35=\"\",\"\",IF(ISNUMBER('PCB data'!AA35)=TRUE, IF('PCB data'!AA35<'PCB data'!AA$38, \"ERROR\", 'PCB data'!AA35), IF('PCB data'!AA35=\"<LOD\",'PCB data'!AA$38, \"ERROR\")))","v":""},{"$f":"IF('PCB data'!AB35=\"\",\"\",IF(ISNUMBER('PCB data'!AB35)=TRUE, IF('PCB data'!AB35<'PCB data'!AB$38, \"ERROR\", 'PCB data'!AB35), IF('PCB data'!AB35=\"<LOD\",'PCB data'!AB$38, \"ERROR\")))","v":""},{"$f":"IF('PCB data'!AC35=\"\",\"\",IF(ISNUMBER('PCB data'!AC35)=TRUE, IF('PCB data'!AC35<'PCB data'!AC$38, \"ERROR\", 'PCB data'!AC35), IF('PCB data'!AC35=\"<LOD\",'PCB data'!AC$38, \"ERROR\")))","v":""},{"$f":"IF('PCB data'!AD35=\"\",\"\",IF(ISNUMBER('PCB data'!AD35)=TRUE, IF('PCB data'!AD35<'PCB data'!AD$38, \"ERROR\", 'PCB data'!AD35), IF('PCB data'!AD35=\"<LOD\",'PCB data'!AD$38, \"ERROR\")))","v":""},{"$f":"IF('PCB data'!AE35=\"\",\"\",IF(ISNUMBER('PCB data'!AE35)=TRUE, IF('PCB data'!AE35<'PCB data'!AE$38, \"ERROR\", 'PCB data'!AE35), IF('PCB data'!AE35=\"<LOD\",'PCB data'!AE$38, \"ERROR\")))","v":""},{"$f":"IF('PCB data'!AF35=\"\",\"\",IF(ISNUMBER('PCB data'!AF35)=TRUE, IF('PCB data'!AF35<'PCB data'!AF$38, \"ERROR\", 'PCB data'!AF35), IF('PCB data'!AF35=\"<LOD\",'PCB data'!AF$38, \"ERROR\")))","v":""},{"$f":"IF('PCB data'!AG35=\"\",\"\",IF(ISNUMBER('PCB data'!AG35)=TRUE, IF('PCB data'!AG35<'PCB data'!AG$38, \"ERROR\", 'PCB data'!AG35), IF('PCB data'!AG35=\"<LOD\",'PCB data'!AG$38, \"ERROR\")))","v":""},{"$f":"IF('PCB data'!AH35=\"\",\"\",IF(ISNUMBER('PCB data'!AH35)=TRUE, IF('PCB data'!AH35<'PCB data'!AH$38, \"ERROR\", 'PCB data'!AH35), IF('PCB data'!AH35=\"<LOD\",'PCB data'!AH$38, \"ERROR\")))","v":""},{"$f":"IF('PCB data'!AI35=\"\",\"\",IF(ISNUMBER('PCB data'!AI35)=TRUE, IF('PCB data'!AI35<'PCB data'!AI$38, \"ERROR\", 'PCB data'!AI35), IF('PCB data'!AI35=\"<LOD\",'PCB data'!AI$38, \"ERROR\")))","v":""},{"$f":"IF('PCB data'!AJ35=\"\",\"\",IF(ISNUMBER('PCB data'!AJ35)=TRUE, IF('PCB data'!AJ35<'PCB data'!AJ$38, \"ERROR\", 'PCB data'!AJ35), IF('PCB data'!AJ35=\"<LOD\",'PCB data'!AJ$38, \"ERROR\")))","v":""},"",""]
[null,null,null,null,null,null,null,{"$f":"IF('PCB data'!H36=\"\",\"\",'PCB data'!H36)","v":""},{"$f":"IF('PCB data'!I36=\"\",\"\",'PCB data'!I36)","v":""},{"$f":"IFERROR(IF(K37=\"\",\"\",(IF(VLOOKUP(K37,'Application info'!$K$8:$L$37,2,0)=\"y\",\"y\",\"\"))),\"Manual entry required\")","v":""},{"$f":"IF('PCB data'!J36=\"\",\"\",'PCB data'!J36)","v":""},{"$f":"IF('PCB data'!L36=\"\",\"\",IF(ISNUMBER('PCB data'!L36)=TRUE, IF('PCB data'!L36<'PCB data'!L$38, \"ERROR\", 'PCB data'!L36), IF('PCB data'!L36=\"<LOD\",'PCB data'!L$38, \"ERROR\")))","v":""},{"$f":"IF('PCB data'!M36=\"\",\"\",IF(ISNUMBER('PCB data'!M36)=TRUE, IF('PCB data'!M36<'PCB data'!M$38, \"ERROR\", 'PCB data'!M36), IF('PCB data'!M36=\"<LOD\",'PCB data'!M$38, \"ERROR\")))","v":""},{"$f":"IF('PCB data'!N36=\"\",\"\",IF(ISNUMBER('PCB data'!N36)=TRUE, IF('PCB data'!N36<'PCB data'!N$38, \"ERROR\", 'PCB data'!N36), IF('PCB data'!N36=\"<LOD\",'PCB data'!N$38, \"ERROR\")))","v":""},{"$f":"IF('PCB data'!O36=\"\",\"\",IF(ISNUMBER('PCB data'!O36)=TRUE, IF('PCB data'!O36<'PCB data'!O$38, \"ERROR\", 'PCB data'!O36), IF('PCB data'!O36=\"<LOD\",'PCB data'!O$38, \"ERROR\")))","v":""},{"$f":"IF('PCB data'!P36=\"\",\"\",IF(ISNUMBER('PCB data'!P36)=TRUE, IF('PCB data'!P36<'PCB data'!P$38, \"ERROR\", 'PCB data'!P36), IF('PCB data'!P36=\"<LOD\",'PCB data'!P$38, \"ERROR\")))","v":""},{"$f":"IF('PCB data'!Q36=\"\",\"\",IF(ISNUMBER('PCB data'!Q36)=TRUE, IF('PCB data'!Q36<'PCB data'!Q$38, \"ERROR\", 'PCB data'!Q36), IF('PCB data'!Q36=\"<LOD\",'PCB data'!Q$38, \"ERROR\")))","v":""},{"$f":"IF('PCB data'!R36=\"\",\"\",IF(ISNUMBER('PCB data'!R36)=TRUE, IF('PCB data'!R36<'PCB data'!R$38, \"ERROR\", 'PCB data'!R36), IF('PCB data'!R36=\"<LOD\",'PCB data'!R$38, \"ERROR\")))","v":""},{"$f":"IF('PCB data'!S36=\"\",\"\",IF(ISNUMBER('PCB data'!S36)=TRUE, IF('PCB data'!S36<'PCB data'!S$38, \"ERROR\", 'PCB data'!S36), IF('PCB data'!S36=\"<LOD\",'PCB data'!S$38, \"ERROR\")))","v":""},{"$f":"IF('PCB data'!T36=\"\",\"\",IF(ISNUMBER('PCB data'!T36)=TRUE, IF('PCB data'!T36<'PCB data'!T$38, \"ERROR\", 'PCB data'!T36), IF('PCB data'!T36=\"<LOD\",'PCB data'!T$38, \"ERROR\")))","v":""},{"$f":"IF('PCB data'!U36=\"\",\"\",IF(ISNUMBER('PCB data'!U36)=TRUE, IF('PCB data'!U36<'PCB data'!U$38, \"ERROR\", 'PCB data'!U36), IF('PCB data'!U36=\"<LOD\",'PCB data'!U$38, \"ERROR\")))","v":""},{"$f":"IF('PCB data'!V36=\"\",\"\",IF(ISNUMBER('PCB data'!V36)=TRUE, IF('PCB data'!V36<'PCB data'!V$38, \"ERROR\", 'PCB data'!V36), IF('PCB data'!V36=\"<LOD\",'PCB data'!V$38, \"ERROR\")))","v":""},{"$f":"IF('PCB data'!W36=\"\",\"\",IF(ISNUMBER('PCB data'!W36)=TRUE, IF('PCB data'!W36<'PCB data'!W$38, \"ERROR\", 'PCB data'!W36), IF('PCB data'!W36=\"<LOD\",'PCB data'!W$38, \"ERROR\")))","v":""},{"$f":"IF('PCB data'!X36=\"\",\"\",IF(ISNUMBER('PCB data'!X36)=TRUE, IF('PCB data'!X36<'PCB data'!X$38, \"ERROR\", 'PCB data'!X36), IF('PCB data'!X36=\"<LOD\",'PCB data'!X$38, \"ERROR\")))","v":""},{"$f":"IF('PCB data'!Y36=\"\",\"\",IF(ISNUMBER('PCB data'!Y36)=TRUE, IF('PCB data'!Y36<'PCB data'!Y$38, \"ERROR\", 'PCB data'!Y36), IF('PCB data'!Y36=\"<LOD\",'PCB data'!Y$38, \"ERROR\")))","v":""},{"$f":"IF('PCB data'!Z36=\"\",\"\",IF(ISNUMBER('PCB data'!Z36)=TRUE, IF('PCB data'!Z36<'PCB data'!Z$38, \"ERROR\", 'PCB data'!Z36), IF('PCB data'!Z36=\"<LOD\",'PCB data'!Z$38, \"ERROR\")))","v":""},{"$f":"IF('PCB data'!AA36=\"\",\"\",IF(ISNUMBER('PCB data'!AA36)=TRUE, IF('PCB data'!AA36<'PCB data'!AA$38, \"ERROR\", 'PCB data'!AA36), IF('PCB data'!AA36=\"<LOD\",'PCB data'!AA$38, \"ERROR\")))","v":""},{"$f":"IF('PCB data'!AB36=\"\",\"\",IF(ISNUMBER('PCB data'!AB36)=TRUE, IF('PCB data'!AB36<'PCB data'!AB$38, \"ERROR\", 'PCB data'!AB36), IF('PCB data'!AB36=\"<LOD\",'PCB data'!AB$38, \"ERROR\")))","v":""},{"$f":"IF('PCB data'!AC36=\"\",\"\",IF(ISNUMBER('PCB data'!AC36)=TRUE, IF('PCB data'!AC36<'PCB data'!AC$38, \"ERROR\", 'PCB data'!AC36), IF('PCB data'!AC36=\"<LOD\",'PCB data'!AC$38, \"ERROR\")))","v":""},{"$f":"IF('PCB data'!AD36=\"\",\"\",IF(ISNUMBER('PCB data'!AD36)=TRUE, IF('PCB data'!AD36<'PCB data'!AD$38, \"ERROR\", 'PCB data'!AD36), IF('PCB data'!AD36=\"<LOD\",'PCB data'!AD$38, \"ERROR\")))","v":""},{"$f":"IF('PCB data'!AE36=\"\",\"\",IF(ISNUMBER('PCB data'!AE36)=TRUE, IF('PCB data'!AE36<'PCB data'!AE$38, \"ERROR\", 'PCB data'!AE36), IF('PCB data'!AE36=\"<LOD\",'PCB data'!AE$38, \"ERROR\")))","v":""},{"$f":"IF('PCB data'!AF36=\"\",\"\",IF(ISNUMBER('PCB data'!AF36)=TRUE, IF('PCB data'!AF36<'PCB data'!AF$38, \"ERROR\", 'PCB data'!AF36), IF('PCB data'!AF36=\"<LOD\",'PCB data'!AF$38, \"ERROR\")))","v":""},{"$f":"IF('PCB data'!AG36=\"\",\"\",IF(ISNUMBER('PCB data'!AG36)=TRUE, IF('PCB data'!AG36<'PCB data'!AG$38, \"ERROR\", 'PCB data'!AG36), IF('PCB data'!AG36=\"<LOD\",'PCB data'!AG$38, \"ERROR\")))","v":""},{"$f":"IF('PCB data'!AH36=\"\",\"\",IF(ISNUMBER('PCB data'!AH36)=TRUE, IF('PCB data'!AH36<'PCB data'!AH$38, \"ERROR\", 'PCB data'!AH36), IF('PCB data'!AH36=\"<LOD\",'PCB data'!AH$38, \"ERROR\")))","v":""},{"$f":"IF('PCB data'!AI36=\"\",\"\",IF(ISNUMBER('PCB data'!AI36)=TRUE, IF('PCB data'!AI36<'PCB data'!AI$38, \"ERROR\", 'PCB data'!AI36), IF('PCB data'!AI36=\"<LOD\",'PCB data'!AI$38, \"ERROR\")))","v":""},{"$f":"IF('PCB data'!AJ36=\"\",\"\",IF(ISNUMBER('PCB data'!AJ36)=TRUE, IF('PCB data'!AJ36<'PCB data'!AJ$38, \"ERROR\", 'PCB data'!AJ36), IF('PCB data'!AJ36=\"<LOD\",'PCB data'!AJ$38, \"ERROR\")))","v":""},"",""]
[null,null,null,null,null,null,null,{"$f":"IF('PCB data'!H37=\"\",\"\",'PCB data'!H37)","v":""},{"$f":"IF('PCB data'!I37=\"\",\"\",'PCB data'!I37)","v":""},{"$f":"IFERROR(IF(K38=\"\",\"\",(IF(VLOOKUP(K38,'Application info'!$K$8:$L$37,2,0)=\"y\",\"y\",\"\"))),\"Manual entry required\")","v":""},{"$f":"IF('PCB data'!J37=\"\",\"\",'PCB data'!J37)","v":""},{"$f":"IF('PCB data'!L37=\"\",\"\",IF(ISNUMBER('PCB data'!L37)=TRUE, IF('PCB data'!L37<'PCB data'!L$38, \"ERROR\", 'PCB data'!L37), IF('PCB data'!L37=\"<LOD\",'PCB data'!L$38, \"ERROR\")))","v":""},{"$f":"IF('PCB data'!M37=\"\",\"\",IF(ISNUMBER('PCB data'!M37)=TRUE, IF('PCB data'!M37<'PCB data'!M$38, \"ERROR\", 'PCB data'!M37), IF('PCB data'!M37=\"<LOD\",'PCB data'!M$38, \"ERROR\")))","v":""},{"$f":"IF('PCB data'!N37=\"\",\"\",IF(ISNUMBER('PCB data'!N37)=TRUE, IF('PCB data'!N37<'PCB data'!N$38, \"ERROR\", 'PCB data'!N37), IF('PCB data'!N37=\"<LOD\",'PCB data'!N$38, \"ERROR\")))","v":""},{"$f":"IF('PCB data'!O37=\"\",\"\",IF(ISNUMBER('PCB data'!O37)=TRUE, IF('PCB data'!O37<'PCB data'!O$38, \"ERROR\", 'PCB data'!O37), IF('PCB data'!O37=\"<LOD\",'PCB data'!O$38, \"ERROR\")))","v":""},{"$f":"IF('PCB data'!P37=\"\",\"\",IF(ISNUMBER('PCB data'!P37)=TRUE, IF('PCB data'!P37<'PCB data'!P$38, \"ERROR\", 'PCB data'!P37), IF('PCB data'!P37=\"<LOD\",'PCB data'!P$38, \"ERROR\")))","v":""},{"$f":"IF('PCB data'!Q37=\"\",\"\",IF(ISNUMBER('PCB data'!Q37)=TRUE, IF('PCB data'!Q37<'PCB data'!Q$38, \"ERROR\", 'PCB data'!Q37), IF('PCB data'!Q37=\"<LOD\",'PCB data'!Q$38, \"ERROR\")))","v":""},{"$f":"IF('PCB data'!R37=\"\",\"\",IF(ISNUMBER('PCB data'!R37)=TRUE, IF('PCB data'!R37<'PCB data'!R$38, \"ERROR\", 'PCB data'!R37), IF('PCB data'!R37=\"<LOD\",'PCB data'!R$38, \"ERROR\")))","v":""},{"$f":"IF('PCB data'!S37=\"\",\"\",IF(ISNUMBER('PCB data'!S37)=TRUE, IF('PCB data'!S37<'PCB data'!S$38, \"ERROR\", 'PCB data'!S37), IF('PCB data'!S37=\"<LOD\",'PCB data'!S$38, \"ERROR\")))","v":""},{"$f":"IF('PCB data'!T37=\"\",\"\",IF(ISNUMBER('PCB data'!T37)=TRUE, IF('PCB data'!T37<'PCB data'!T$38, \"ERROR\", 'PCB data'!T37), IF('PCB data'!T37=\"<LOD\",'PCB data'!T$38, \"ERROR\")))","v":""},{"$f":"IF('PCB data'!U37=\"\",\"\",IF(ISNUMBER('PCB data'!U37)=TRUE, IF('PCB data'!U37<'PCB data'!U$38, \"ERROR\", 'PCB data'!U37), IF('PCB data'!U37=\"<LOD\",'PCB data'!U$38, \"ERROR\")))","v":""},{"$f":"IF('PCB data'!V37=\"\",\"\",IF(ISNUMBER('PCB data'!V37)=TRUE, IF('PCB data'!V37<'PCB data'!V$38, \"ERROR\", 'PCB data'!V37), IF('PCB data'!V37=\"<LOD\",'PCB data'!V$38, \"ERROR\")))","v":""},{"$f":"IF('PCB data'!W37=\"\",\"\",IF(ISNUMBER('PCB data'!W37)=TRUE, IF('PCB data'!W37<'PCB data'!W$38, \"ERROR\", 'PCB data'!W37), IF('PCB data'!W37=\"<LOD\",'PCB data'!W$38, \"ERROR\")))","v":""},{"$f":"IF('PCB data'!X37=\"\",\"\",IF(ISNUMBER('PCB data'!X37)=TRUE, IF('PCB data'!X37<'PCB data'!X$38, \"ERROR\", 'PCB data'!X37), IF('PCB data'!X37=\"<LOD\",'PCB data'!X$38, \"ERROR\")))","v":""},{"$f":"IF('PCB data'!Y37=\"\",\"\",IF(ISNUMBER('PCB data'!Y37)=TRUE, IF('PCB data'!Y37<'PCB data'!Y$38, \"ERROR\", 'PCB data'!Y37), IF('PCB data'!Y37=\"<LOD\",'PCB data'!Y$38, \"ERROR\")))","v":""},{"$f":"IF('PCB data'!Z37=\"\",\"\",IF(ISNUMBER('PCB data'!Z37)=TRUE, IF('PCB data'!Z37<'PCB data'!Z$38, \"ERROR\", 'PCB data'!Z37), IF('PCB data'!Z37=\"<LOD\",'PCB data'!Z$38, \"ERROR\")))","v":""},{"$f":"IF('PCB data'!AA37=\"\",\"\",IF(ISNUMBER('PCB data'!AA37)=TRUE, IF('PCB data'!AA37<'PCB data'!AA$38, \"ERROR\", 'PCB data'!AA37), IF('PCB data'!AA37=\"<LOD\",'PCB data'!AA$38, \"ERROR\")))","v":""},{"$f":"IF('PCB data'!AB37=\"\",\"\",IF(ISNUMBER('PCB data'!AB37)=TRUE, IF('PCB data'!AB37<'PCB data'!AB$38, \"ERROR\", 'PCB data'!AB37), IF('PCB data'!AB37=\"<LOD\",'PCB data'!AB$38, \"ERROR\")))","v":""},{"$f":"IF('PCB data'!AC37=\"\",\"\",IF(ISNUMBER('PCB data'!AC37)=TRUE, IF('PCB data'!AC37<'PCB data'!AC$38, \"ERROR\", 'PCB data'!AC37), IF('PCB data'!AC37=\"<LOD\",'PCB data'!AC$38, \"ERROR\")))","v":""},{"$f":"IF('PCB data'!AD37=\"\",\"\",IF(ISNUMBER('PCB data'!AD37)=TRUE, IF('PCB data'!AD37<'PCB data'!AD$38, \"ERROR\", 'PCB data'!AD37), IF('PCB data'!AD37=\"<LOD\",'PCB data'!AD$38, \"ERROR\")))","v":""},{"$f":"IF('PCB data'!AE37=\"\",\"\",IF(ISNUMBER('PCB data'!AE37)=TRUE, IF('PCB data'!AE37<'PCB data'!AE$38, \"ERROR\", 'PCB data'!AE37), IF('PCB data'!AE37=\"<LOD\",'PCB data'!AE$38, \"ERROR\")))","v":""},{"$f":"IF('PCB data'!AF37=\"\",\"\",IF(ISNUMBER('PCB data'!AF37)=TRUE, IF('PCB data'!AF37<'PCB data'!AF$38, \"ERROR\", 'PCB data'!AF37), IF('PCB data'!AF37=\"<LOD\",'PCB data'!AF$38, \"ERROR\")))","v":""},{"$f":"IF('PCB data'!AG37=\"\",\"\",IF(ISNUMBER('PCB data'!AG37)=TRUE, IF('PCB data'!AG37<'PCB data'!AG$38, \"ERROR\", 'PCB data'!AG37), IF('PCB data'!AG37=\"<LOD\",'PCB data'!AG$38, \"ERROR\")))","v":""},{"$f":"IF('PCB data'!AH37=\"\",\"\",IF(ISNUMBER('PCB data'!AH37)=TRUE, IF('PCB data'!AH37<'PCB data'!AH$38, \"ERROR\", 'PCB data'!AH37), IF('PCB data'!AH37=\"<LOD\",'PCB data'!AH$38, \"ERROR\")))","v":""},{"$f":"IF('PCB data'!AI37=\"\",\"\",IF(ISNUMBER('PCB data'!AI37)=TRUE, IF('PCB data'!AI37<'PCB data'!AI$38, \"ERROR\", 'PCB data'!AI37), IF('PCB data'!AI37=\"<LOD\",'PCB data'!AI$38, \"ERROR\")))","v":""},{"$f":"IF('PCB data'!AJ37=\"\",\"\",IF(ISNUMBER('PCB data'!AJ37)=TRUE, IF('PCB data'!AJ37<'PCB data'!AJ$38, \"ERROR\", 'PCB data'!AJ37), IF('PCB data'!AJ37=\"<LOD\",'PCB data'!AJ$38, \"ERROR\")))","v":""},"",""]
[null,null,null,null,null,null,null,null,null,"Averages:",null,{"$f":"IF(COUNT(L9:L38)<1,\"\", AVERAGE(L9:L38))","v":6.6500000000000001E-4},2.3125000000000001E-4,6.7999999999999994E-4,7.6249999999999994E-4,1.5249999999999999E-4,7.7625000000000003E-4,1.7249999999999999E-4,8.6499999999999999E-4,3.1250000000000001E-4,1.15E-3,1.075E-4,1.5166666666666668E-4,3.6500000000000004E-4,2.0625E-4,1.0124999999999999E-3,2.3125000000000004E-4,7.2250000000000016E-4,3.2749999999999994E-4,4.8625000000000003E-4,3.9625000000000001E-4,3.1874999999999997E-4,1.3375000000000003E-4,3.2750000000000005E-4,4.5875000000000006E-4,5.0625000000000008E-4,5.31125E-3,1.148125E-2]
[]
[null,null,null,null,null,null,null,null,null,null,"Action level 1:  ",null,null,null,null,null,null,null,null,null,null,null,null,null,null,null,null,null,null,null,null,null,null,null,null,null,0.01,0.02]
[null,null,null,null,null,null,null,null,null,null,"Action level 2:  ",null,null,null,null,null,null,null,null,null,null,null,null,null,null,null,null,null,null,null,null,null,null,null,null,null,null,0.2]
[]
[]
[]
[null,null,null,null,null,null,null,"Transformation to wet weight (mg/kg)"]
[]
[null,null,null,null,null,null,null,"Laboratory sample number","Dredge Area","Excluded (y if yes)","Sample ID(s)","PCBs as mg/kg wet weight",null,null,null,null,null,null,null,null,null,null,null,null,null,null,null,null,null,null,null,null,null,null,null,null,"ICES 7","Total 25 congeners"]
[null,null,null,null,null,null,null,null,null,null,null,"2,2',4,5,5'-Pentachlorobiphenyl","2,3,3',4,4'-Pentachlorobiphenyl","2,3,3',4',6-Pentachlorobiphenyl","2,3',4,4',5-Pentachlorobiphenyl","2,2',3,3',4,4'-Hexachlorobiphenyl","2,2',3,4,4',5'-Hexachlorobiphenyl","2,2',3,4,5,5'-Hexachlorobiphenyl","2,2',3,4',5',6-Hexachlorobiphenyl","2,2',3,5,5',6-Hexachlorobiphenyl","2,2',4,4',5,5'-Hexachlorobiphenyl","2,3,3',4,4',5-Hexachlorobiphenyl","2,3,3',4,4',6-Hexachlorobiphenyl","2,2',3,3',4,4',5-Heptachlorobiphenyl","2,2',5- Trichlorobiphenyl","2,2',3,4,4',5,5'-Heptachlorobiphenyl","2,2',3,4,4',5',6-Heptachlorobiphenyl","2,2',3,4',5,5',6-Heptachlorobiphenyl","2,2',3,3',4,4',5,5'-Octachlorobiphenyl","2,4,4'-Trichlorobiphenyl","2,4',5-Trichlorobiphenyl","2,2',3,5'-Tetrachlorobiphenyl","2,2',4,4'-Tetrachlorobiphenyl","2,2',4,5'-Tetrachlorobiphenyl","2,2',5,5'-Tetrachlorobiphenyl","2,3',4,4'-Tetrachlorobiphenyl"]
[null,null,null,null,null,null,null,null,null,null,null,"CB101","CB105","CB110","CB118","CB128","CB138","CB141","CB149","CB151","CB153","CB156","CB158","CB170","CB18","CB180","CB183","CB187","CB194","CB28","CB31","CB44","CB47","CB49","CB52","CB66"]
[null,null,null,null,null,null,null,{"$f":"IF(H9=\"\",\"\",H9)","v":"MAR02481.001"},"","",1,{"$f":"IF(L9=\"\",\"\",(('PCB data'!$K8/100)*L9))","v":1.7169000000000003E-4},{"$f":"IF(M9=\"\",\"\",(('PCB data'!$K8/100)*M9))","v":4.6560000000000008E-5},{"$f":"IF(N9=\"\",\"\",(('PCB data'!$K8/100)*N9))","v":1.6005000000000004E-4},{"$f":"IF(O9=\"\",\"\",(('PCB data'!$K8/100)*O9))","v":1.9788000000000005E-4},{"$f":"IF(P9=\"\",\"\",(('PCB data'!$K8/100)*P9))","v":3.7830000000000002E-5},{"$f":"IF(Q9=\"\",\"\",(('PCB data'!$K8/100)*Q9))","v":3.0846000000000004E-4},{"$f":"IF(R9=\"\",\"\",(('PCB data'!$K8/100)*R9))","v":6.4020000000000014E-5},{"$f":"IF(S9=\"\",\"\",(('PCB data'!$K8/100)*S9))","v":3.2010000000000008E-4},{"$f":"IF(T9=\"\",\"\",(('PCB data'!$K8/100)*T9))","v":1.1349000000000001E-4},{"$f":"IF(U9=\"\",\"\",(('PCB data'!$K8/100)*U9))","v":4.0158000000000001E-4},{"$f":"IF(V9=\"\",\"\",(('PCB data'!$K8/100)*V9))","v":2.3280000000000004E-5},{"$f":"IF(W9=\"\",\"\",(('PCB data'!$K8/100)*W9))","v":5.5290000000000008E-5},{"$f":"IF(X9=\"\",\"\",(('PCB data'!$K8/100)*X9))","v":1.6587000000000001E-4},{"$f":"IF(Y9=\"\",\"\",(('PCB data'!$K8/100)*Y9))","v":4.9470000000000013E-5},{"$f":"IF(Z9=\"\",\"\",(('PCB data'!$K8/100)*Z9))","v":4.4814000000000003E-4},{"$f":"IF(AA9=\"\",\"\",(('PCB data'!$K8/100)*AA9))","v":1.1058000000000002E-4},{"$f":"IF(AB9=\"\",\"\",(('PCB data'!$K8/100)*AB9))","v":3.1137000000000005E-4},{"$f":"IF(AC9=\"\",\"\",(('PCB data'!$K8/100)*AC9))","v":1.5132000000000001E-4},{"$f":"IF(AD9=\"\",\"\",(('PCB data'!$K8/100)*AD9))","v":1.2513000000000002E-4},{"$f":"IF(AE9=\"\",\"\",(('PCB data'!$K8/100)*AE9))","v":1.0185000000000001E-4},{"$f":"IF(AF9=\"\",\"\",(('PCB data'!$K8/100)*AF9))","v":9.0210000000000005E-5},{"$f":"IF(AG9=\"\",\"\",(('PCB data'!$K8/100)*AG9))","v":3.7830000000000002E-5},{"$f":"IF(AH9=\"\",\"\",(('PCB data'!$K8/100)*AH9))","v":8.1479999999999999E-5},{"$f":"IF(AI9=\"\",\"\",(('PCB data'!$K8/100)*AI9))","v":1.1058000000000002E-4},{"$f":"IF(AJ9=\"\",\"\",(('PCB data'!$K8/100)*AJ9))","v":1.3386000000000002E-4},{"$f":"IF(AK9=\"\",\"\",(('PCB data'!$K8/100)*AK9))","v":1.7634600000000003E-3},{"$f":"IF(AL9=\"\",\"\",(('PCB data'!$K8/100)*AL9))","v":3.8179200000000003E-3}]
[null,null,null,null,null,null,null,"MAR02481.002","","",2,{"$f":"IF(L10=\"\",\"\",(('PCB data'!$K9/100)*L10))","v":1.5623999999999998E-4},{"$f":"IF(M10=\"\",\"\",(('PCB data'!$K9/100)*M10))","v":5.8589999999999993E-5},{"$f":"IF(N10=\"\",\"\",(('PCB data'!$K9/100)*N10))","v":1.7018999999999997E-4},{"$f":"IF(O10=\"\",\"\",(('PCB data'!$K9/100)*O10))","v":1.4786999999999998E-4},{"$f":"IF(P10=\"\",\"\",(('PCB data'!$K9/100)*P10))","v":2.5109999999999998E-5},{"$f":"IF(Q10=\"\",\"\",(('PCB data'!$K9/100)*Q10))","v":2.3993999999999996E-4},{"$f":"IF(R10=\"\",\"\",(('PCB data'!$K9/100)*R10))","v":5.0219999999999997E-5},{"$f":"IF(S10=\"\",\"\",(('PCB data'!$K9/100)*S10))","v":3.0131999999999999E-4},{"$f":"IF(T10=\"\",\"\",(('PCB data'!$K9/100)*T10))","v":1.4507999999999996E-4},{"$f":"IF(U10=\"\",\"\",(('PCB data'!$K9/100)*U10))","v":3.8501999999999992E-4},{"$f":"IF(V10=\"\",\"\",(('PCB data'!$K9/100)*V10))","v":3.3479999999999998E-5},{"$f":"IF(W10=\"\",\"\",(('PCB data'!$K9/100)*W10))","v":4.464E-5},{"$f":"IF(X10=\"\",\"\",(('PCB data'!$K9/100)*X10))","v":1.6181999999999999E-4},{"$f":"IF(Y10=\"\",\"\",(('PCB data'!$K9/100)*Y10))","v":5.3009999999999996E-5},{"$f":"IF(Z10=\"\",\"\",(('PCB data'!$K9/100)*Z10))","v":4.9940999999999994E-4},{"$f":"IF(AA10=\"\",\"\",(('PCB data'!$K9/100)*AA10))","v":8.6489999999999994E-5},{"$f":"IF(AB10=\"\",\"\",(('PCB data'!$K9/100)*AB10))","v":3.8780999999999993E-4},{"$f":"IF(AC10=\"\",\"\",(('PCB data'!$K9/100)*AC10))","v":1.4786999999999998E-4},{"$f":"IF(AD10=\"\",\"\",(('PCB data'!$K9/100)*AD10))","v":1.2554999999999999E-4},{"$f":"IF(AE10=\"\",\"\",(('PCB data'!$K9/100)*AE10))","v":1.0601999999999999E-4},{"$f":"IF(AF10=\"\",\"\",(('PCB data'!$K9/100)*AF10))","v":9.4859999999999996E-5},{"$f":"IF(AG10=\"\",\"\",(('PCB data'!$K9/100)*AG10))","v":3.9059999999999995E-5},{"$f":"IF(AH10=\"\",\"\",(('PCB data'!$K9/100)*AH10))","v":9.2069999999999991E-5},{"$f":"IF(AI10=\"\",\"\",(('PCB data'!$K9/100)*AI10))","v":1.1717999999999999E-4},{"$f":"IF(AJ10=\"\",\"\",(('PCB data'!$K9/100)*AJ10))","v":1.3949999999999998E-4},{"$f":"IF(AK10=\"\",\"\",(('PCB data'!$K9/100)*AK10))","v":1.6712099999999998E-3},{"$f":"IF(AL10=\"\",\"\",(('PCB data'!$K9/100)*AL10))","v":3.8083499999999998E-3}]
[null,null,null,null,null,null,null,"MAR02481.003","","",3,{"$f":"IF(L11=\"\",\"\",(('PCB data'!$K10/100)*L11))","v":2.2507000000000001E-4},{"$f":"IF(M11=\"\",\"\",(('PCB data'!$K10/100)*M11))","v":7.9250000000000002E-5},{"$f":"IF(N11=\"\",\"\",(('PCB data'!$K10/100)*N11))","v":2.2824000000000002E-4},{"$f":"IF(O11=\"\",\"\",(('PCB data'!$K10/100)*O11))","v":2.2824000000000002E-4},{"$f":"IF(P11=\"\",\"\",(('PCB data'!$K10/100)*P11))","v":7.2910000000000005E-5},{"$f":"IF(Q11=\"\",\"\",(('PCB data'!$K10/100)*Q11))","v":2.4409E-4},{"$f":"IF(R11=\"\",\"\",(('PCB data'!$K10/100)*R11))","v":7.2910000000000005E-5},{"$f":"IF(S11=\"\",\"\",(('PCB data'!$K10/100)*S11))","v":3.8990999999999999E-4},{"$f":"IF(T11=\"\",\"\",(('PCB data'!$K10/100)*T11))","v":1.6167000000000002E-4},{"$f":"IF(U11=\"\",\"\",(('PCB data'!$K10/100)*U11))","v":5.1353999999999994E-4},{"$f":"IF(V11=\"\",\"\",(('PCB data'!$K10/100)*V11))","v":3.4870000000000003E-5},{"$f":"IF(W11=\"\",\"\",(('PCB data'!$K10/100)*W11))","v":3.8040000000000002E-5},{"$f":"IF(X11=\"\",\"\",(('PCB data'!$K10/100)*X11))","v":1.7751999999999999E-4},{"$f":"IF(Y11=\"\",\"\",(('PCB data'!$K10/100)*Y11))","v":7.9250000000000002E-5},{"$f":"IF(Z11=\"\",\"\",(('PCB data'!$K10/100)*Z11))","v":5.7377000000000003E-4},{"$f":"IF(AA11=\"\",\"\",(('PCB data'!$K10/100)*AA11))","v":1.0461E-4},{"$f":"IF(AB11=\"\",\"\",(('PCB data'!$K10/100)*AB11))","v":3.7406000000000001E-4},{"$f":"IF(AC11=\"\",\"\",(('PCB data'!$K10/100)*AC11))","v":1.9971000000000002E-4},{"$f":"IF(AD11=\"\",\"\",(('PCB data'!$K10/100)*AD11))","v":1.8069000000000001E-4},{"$f":"IF(AE11=\"\",\"\",(('PCB data'!$K10/100)*AE11))","v":1.3948000000000001E-4},{"$f":"IF(AF11=\"\",\"\",(('PCB data'!$K10/100)*AF11))","v":1.2363000000000001E-4},{"$f":"IF(AG11=\"\",\"\",(('PCB data'!$K10/100)*AG11))","v":5.3890000000000008E-5},{"$f":"IF(AH11=\"\",\"\",(('PCB data'!$K10/100)*AH11))","v":1.2680000000000002E-4},{"$f":"IF(AI11=\"\",\"\",(('PCB data'!$K10/100)*AI11))","v":1.8703E-4},{"$f":"IF(AJ11=\"\",\"\",(('PCB data'!$K10/100)*AJ11))","v":1.8069000000000001E-4},{"$f":"IF(AK11=\"\",\"\",(('PCB data'!$K10/100)*AK11))","v":2.1524299999999999E-3},{"$f":"IF(AL11=\"\",\"\",(('PCB data'!$K10/100)*AL11))","v":4.7898699999999999E-3}]
[null,null,null,null,null,null,null,"MAR02481.004","","",4,{"$f":"IF(L12=\"\",\"\",(('PCB data'!$K11/100)*L12))","v":3.4450000000000003E-4},{"$f":"IF(M12=\"\",\"\",(('PCB data'!$K11/100)*M12))","v":9.7499999999999998E-5},{"$f":"IF(N12=\"\",\"\",(('PCB data'!$K11/100)*N12))","v":3.0875E-4},{"$f":"IF(O12=\"\",\"\",(('PCB data'!$K11/100)*O12))","v":3.4775000000000002E-4},{"$f":"IF(P12=\"\",\"\",(('PCB data'!$K11/100)*P12))","v":6.175000000000001E-5},{"$f":"IF(Q12=\"\",\"\",(('PCB data'!$K11/100)*Q12))","v":3.1199999999999999E-4},{"$f":"IF(R12=\"\",\"\",(('PCB data'!$K11/100)*R12))","v":5.5250000000000008E-5},{"$f":"IF(S12=\"\",\"\",(('PCB data'!$K11/100)*S12))","v":3.8999999999999999E-4},{"$f":"IF(T12=\"\",\"\",(('PCB data'!$K11/100)*T12))","v":1.3000000000000002E-4},{"$f":"IF(U12=\"\",\"\",(('PCB data'!$K11/100)*U12))","v":5.1350000000000007E-4},{"$f":"IF(V12=\"\",\"\",(('PCB data'!$K11/100)*V12))","v":4.5499999999999995E-5},{"$f":"IF(W12=\"\",\"\",(('PCB data'!$K11/100)*W12))","v":5.2000000000000004E-5},{"$f":"IF(X12=\"\",\"\",(('PCB data'!$K11/100)*X12))","v":1.5275E-4},{"$f":"IF(Y12=\"\",\"\",(('PCB data'!$K11/100)*Y12))","v":1.0075000000000001E-4},{"$f":"IF(Z12=\"\",\"\",(('PCB data'!$K11/100)*Z12))","v":4.2575000000000002E-4},{"$f":"IF(AA12=\"\",\"\",(('PCB data'!$K11/100)*AA12))","v":1.2350000000000002E-4},{"$f":"IF(AB12=\"\",\"\",(('PCB data'!$K11/100)*AB12))","v":3.2174999999999999E-4},{"$f":"IF(AC12=\"\",\"\",(('PCB data'!$K11/100)*AC12))","v":1.4300000000000001E-4},{"$f":"IF(AD12=\"\",\"\",(('PCB data'!$K11/100)*AD12))","v":2.2425E-4},{"$f":"IF(AE12=\"\",\"\",(('PCB data'!$K11/100)*AE12))","v":1.7875000000000001E-4},{"$f":"IF(AF12=\"\",\"\",(('PCB data'!$K11/100)*AF12))","v":1.5275E-4},{"$f":"IF(AG12=\"\",\"\",(('PCB data'!$K11/100)*AG12))","v":7.4750000000000001E-5},{"$f":"IF(AH12=\"\",\"\",(('PCB data'!$K11/100)*AH12))","v":1.7550000000000001E-4},{"$f":"IF(AI12=\"\",\"\",(('PCB data'!$K11/100)*AI12))","v":2.3724999999999999E-4},{"$f":"IF(AJ12=\"\",\"\",(('PCB data'!$K11/100)*AJ12))","v":2.3400000000000002E-4},{"$f":"IF(AK12=\"\",\"\",(('PCB data'!$K11/100)*AK12))","v":2.405E-3},{"$f":"IF(AL12=\"\",\"\",(('PCB data'!$K11/100)*AL12))","v":5.2032499999999987E-3}]
[null,null,null,null,null,null,null,"MAR02481.015","","",17,{"$f":"IF(L13=\"\",\"\",(('PCB data'!$K12/100)*L13))","v":2.5427999999999996E-4},{"$f":"IF(M13=\"\",\"\",(('PCB data'!$K12/100)*M13))","v":1.0758E-4},{"$f":"IF(N13=\"\",\"\",(('PCB data'!$K12/100)*N13))","v":2.7383999999999997E-4},{"$f":"IF(O13=\"\",\"\",(('PCB data'!$K12/100)*O13))","v":3.0318000000000001E-4},{"$f":"IF(P13=\"\",\"\",(('PCB data'!$K12/100)*P13))","v":6.8459999999999992E-5},{"$f":"IF(Q13=\"\",\"\",(('PCB data'!$K12/100)*Q13))","v":2.3472E-4},{"$f":"IF(R13=\"\",\"\",(('PCB data'!$K12/100)*R13))","v":7.3349999999999994E-5},{"$f":"IF(S13=\"\",\"\",(('PCB data'!$K12/100)*S13))","v":2.3960999999999999E-4},{"$f":"IF(T13=\"\",\"\",(('PCB data'!$K12/100)*T13))","v":8.8020000000000001E-5},{"$f":"IF(U13=\"\",\"\",(('PCB data'!$K12/100)*U13))","v":3.9608999999999998E-4},{"$f":"IF(V13=\"\",\"\",(('PCB data'!$K12/100)*V13))","v":3.9120000000000005E-5},{"$f":"IF(W13=\"\",\"\",(('PCB data'!$K12/100)*W13))","v":{"$error":"#VALUE!"}},{"$f":"IF(X13=\"\",\"\",(('PCB data'!$K12/100)*X13))","v":7.3349999999999994E-5},{"$f":"IF(Y13=\"\",\"\",(('PCB data'!$K12/100)*Y13))","v":7.824000000000001E-5},{"$f":"IF(Z13=\"\",\"\",(('PCB data'!$K12/100)*Z13))","v":1.8092999999999999E-4},{"$f":"IF(AA13=\"\",\"\",(('PCB data'!$K12/100)*AA13))","v":4.401E-5},{"$f":"IF(AB13=\"\",\"\",(('PCB data'!$K12/100)*AB13))","v":1.5159E-4},{"$f":"IF(AC13=\"\",\"\",(('PCB data'!$K12/100)*AC13))","v":5.8680000000000001E-5},{"$f":"IF(AD13=\"\",\"\",(('PCB data'!$K12/100)*AD13))","v":2.0049E-4},{"$f":"IF(AE13=\"\",\"\",(('PCB data'!$K12/100)*AE13))","v":1.7604E-4},{"$f":"IF(AF13=\"\",\"\",(('PCB data'!$K12/100)*AF13))","v":1.2224999999999999E-4},{"$f":"IF(AG13=\"\",\"\",(('PCB data'!$K12/100)*AG13))","v":4.8900000000000003E-5},{"$f":"IF(AH13=\"\",\"\",(('PCB data'!$K12/100)*AH13))","v":1.2224999999999999E-4},{"$f":"IF(AI13=\"\",\"\",(('PCB data'!$K12/100)*AI13))","v":1.7604E-4},{"$f":"IF(AJ13=\"\",\"\",(('PCB data'!$K12/100)*AJ13))","v":1.9560000000000001E-4},{"$f":"IF(AK13=\"\",\"\",(('PCB data'!$K12/100)*AK13))","v":1.7457299999999998E-3},{"$f":"IF(AL13=\"\",\"\",(('PCB data'!$K12/100)*AL13))","v":3.7066200000000007E-3}]
[null,null,null,null,null,null,null,"MAR02481.016","","",18,{"$f":"IF(L14=\"\",\"\",(('PCB data'!$K13/100)*L14))","v":3.6225E-4},{"$f":"IF(M14=\"\",\"\",(('PCB data'!$K13/100)*M14))","v":1.3649999999999998E-4},{"$f":"IF(N14=\"\",\"\",(('PCB data'!$K13/100)*N14))","v":3.8325000000000002E-4},{"$f":"IF(O14=\"\",\"\",(('PCB data'!$K13/100)*O14))","v":4.8300000000000003E-4},{"$f":"IF(P14=\"\",\"\",(('PCB data'!$K13/100)*P14))","v":6.8249999999999992E-5},{"$f":"IF(Q14=\"\",\"\",(('PCB data'!$K13/100)*Q14))","v":5.2500000000000008E-4},{"$f":"IF(R14=\"\",\"\",(('PCB data'!$K13/100)*R14))","v":5.2500000000000002E-5},{"$f":"IF(S14=\"\",\"\",(('PCB data'!$K13/100)*S14))","v":3.4124999999999997E-4},{"$f":"IF(T14=\"\",\"\",(('PCB data'!$K13/100)*T14))","v":8.4000000000000009E-5},{"$f":"IF(U14=\"\",\"\",(('PCB data'!$K13/100)*U14))","v":4.8825000000000002E-4},{"$f":"IF(V14=\"\",\"\",(('PCB data'!$K13/100)*V14))","v":6.3E-5},{"$f":"IF(W14=\"\",\"\",(('PCB data'!$K13/100)*W14))","v":8.4000000000000009E-5},{"$f":"IF(X14=\"\",\"\",(('PCB data'!$K13/100)*X14))","v":8.9250000000000015E-5},{"$f":"IF(Y14=\"\",\"\",(('PCB data'!$K13/100)*Y14))","v":8.4000000000000009E-5},{"$f":"IF(Z14=\"\",\"\",(('PCB data'!$K13/100)*Z14))","v":1.8900000000000001E-4},{"$f":"IF(AA14=\"\",\"\",(('PCB data'!$K13/100)*AA14))","v":8.4000000000000009E-5},{"$f":"IF(AB14=\"\",\"\",(('PCB data'!$K13/100)*AB14))","v":1.3125000000000002E-4},{"$f":"IF(AC14=\"\",\"\",(('PCB data'!$K13/100)*AC14))","v":7.3499999999999998E-5},{"$f":"IF(AD14=\"\",\"\",(('PCB data'!$K13/100)*AD14))","v":1.9950000000000002E-4},{"$f":"IF(AE14=\"\",\"\",(('PCB data'!$K13/100)*AE14))","v":1.7850000000000003E-4},{"$f":"IF(AF14=\"\",\"\",(('PCB data'!$K13/100)*AF14))","v":1.3649999999999998E-4},{"$f":"IF(AG14=\"\",\"\",(('PCB data'!$K13/100)*AG14))","v":5.2500000000000002E-5},{"$f":"IF(AH14=\"\",\"\",(('PCB data'!$K13/100)*AH14))","v":1.47E-4},{"$f":"IF(AI14=\"\",\"\",(('PCB data'!$K13/100)*AI14))","v":2.0475000000000002E-4},{"$f":"IF(AJ14=\"\",\"\",(('PCB data'!$K13/100)*AJ14))","v":2.5724999999999999E-4},{"$f":"IF(AK14=\"\",\"\",(('PCB data'!$K13/100)*AK14))","v":2.4517499999999999E-3},{"$f":"IF(AL14=\"\",\"\",(('PCB data'!$K13/100)*AL14))","v":4.8982500000000007E-3}]
[null,null,null,null,null,null,null,"MAR02481.017","","",19,{"$f":"IF(L15=\"\",\"\",(('PCB data'!$K14/100)*L15))","v":2.6400000000000002E-4},{"$f":"IF(M15=\"\",\"\",(('PCB data'!$K14/100)*M15))","v":9.1200000000000008E-5},{"$f":"IF(N15=\"\",\"\",(('PCB data'!$K14/100)*N15))","v":2.7839999999999999E-4},{"$f":"IF(O15=\"\",\"\",(('PCB data'!$K14/100)*O15))","v":3.5519999999999996E-4},{"$f":"IF(P15=\"\",\"\",(('PCB data'!$K14/100)*P15))","v":5.7599999999999997E-5},{"$f":"IF(Q15=\"\",\"\",(('PCB data'!$K14/100)*Q15))","v":1.92E-4},{"$f":"IF(R15=\"\",\"\",(('PCB data'!$K14/100)*R15))","v":6.7199999999999994E-5},{"$f":"IF(S15=\"\",\"\",(('PCB data'!$K14/100)*S15))","v":2.6879999999999997E-4},{"$f":"IF(T15=\"\",\"\",(('PCB data'!$K14/100)*T15))","v":6.7199999999999994E-5},{"$f":"IF(U15=\"\",\"\",(('PCB data'!$K14/100)*U15))","v":3.2160000000000001E-4},{"$f":"IF(V15=\"\",\"\",(('PCB data'!$K14/100)*V15))","v":5.2800000000000003E-5},{"$f":"IF(W15=\"\",\"\",(('PCB data'!$K14/100)*W15))","v":{"$error":"#VALUE!"}},{"$f":"IF(X15=\"\",\"\",(('PCB data'!$K14/100)*X15))","v":1.0560000000000001E-4},{"$f":"IF(Y15=\"\",\"\",(('PCB data'!$K14/100)*Y15))","v":9.1200000000000008E-5},{"$f":"IF(Z15=\"\",\"\",(('PCB data'!$K14/100)*Z15))","v":2.208E-4},{"$f":"IF(AA15=\"\",\"\",(('PCB data'!$K14/100)*AA15))","v":4.8000000000000001E-5},{"$f":"IF(AB15=\"\",\"\",(('PCB data'!$K14/100)*AB15))","v":1.3439999999999999E-4},{"$f":"IF(AC15=\"\",\"\",(('PCB data'!$K14/100)*AC15))","v":5.7599999999999997E-5},{"$f":"IF(AD15=\"\",\"\",(('PCB data'!$K14/100)*AD15))","v":2.1120000000000001E-4},{"$f":"IF(AE15=\"\",\"\",(('PCB data'!$K14/100)*AE15))","v":1.4879999999999998E-4},{"$f":"IF(AF15=\"\",\"\",(('PCB data'!$K14/100)*AF15))","v":1.1519999999999999E-4},{"$f":"IF(AG15=\"\",\"\",(('PCB data'!$K14/100)*AG15))","v":5.2800000000000003E-5},{"$f":"IF(AH15=\"\",\"\",(('PCB data'!$K14/100)*AH15))","v":1.1519999999999999E-4},{"$f":"IF(AI15=\"\",\"\",(('PCB data'!$K14/100)*AI15))","v":1.872E-4},{"$f":"IF(AJ15=\"\",\"\",(('PCB data'!$K14/100)*AJ15))","v":1.92E-4},{"$f":"IF(AK15=\"\",\"\",(('PCB data'!$K14/100)*AK15))","v":1.7520000000000001E-3},{"$f":"IF(AL15=\"\",\"\",(('PCB data'!$K14/100)*AL15))","v":3.6960000000000001E-3}]
[null,null,null,null,null,null,null,"MAR02481.018","","",20,{"$f":"IF(L16=\"\",\"\",(('PCB data'!$K15/100)*L16))","v":3.3024000000000004E-4},{"$f":"IF(M16=\"\",\"\",(('PCB data'!$K15/100)*M16))","v":1.3416E-4},{"$f":"IF(N16=\"\",\"\",(('PCB data'!$K15/100)*N16))","v":3.8183999999999999E-4},{"$f":"IF(O16=\"\",\"\",(('PCB data'!$K15/100)*O16))","v":4.2312000000000003E-4},{"$f":"IF(P16=\"\",\"\",(('PCB data'!$K15/100)*P16))","v":9.8040000000000003E-5},{"$f":"IF(Q16=\"\",\"\",(('PCB data'!$K15/100)*Q16))","v":3.5088000000000003E-4},{"$f":"IF(R16=\"\",\"\",(('PCB data'!$K15/100)*R16))","v":9.8040000000000003E-5},{"$f":"IF(S16=\"\",\"\",(('PCB data'!$K15/100)*S16))","v":3.1475999999999997E-4},{"$f":"IF(T16=\"\",\"\",(('PCB data'!$K15/100)*T16))","v":1.032E-4},{"$f":"IF(U16=\"\",\"\",(('PCB data'!$K15/100)*U16))","v":4.2828000000000001E-4},{"$f":"IF(V16=\"\",\"\",(('PCB data'!$K15/100)*V16))","v":5.1600000000000001E-5},{"$f":"IF(W16=\"\",\"\",(('PCB data'!$K15/100)*W16))","v":6.1920000000000003E-5},{"$f":"IF(X16=\"\",\"\",(('PCB data'!$K15/100)*X16))","v":1.032E-4},{"$f":"IF(Y16=\"\",\"\",(('PCB data'!$K15/100)*Y16))","v":1.1352000000000001E-4},{"$f":"IF(Z16=\"\",\"\",(('PCB data'!$K15/100)*Z16))","v":2.3736000000000002E-4},{"$f":"IF(AA16=\"\",\"\",(('PCB data'!$K15/100)*AA16))","v":5.1600000000000001E-5},{"$f":"IF(AB16=\"\",\"\",(('PCB data'!$K15/100)*AB16))","v":1.5996000000000001E-4},{"$f":"IF(AC16=\"\",\"\",(('PCB data'!$K15/100)*AC16))","v":6.1920000000000003E-5},{"$f":"IF(AD16=\"\",\"\",(('PCB data'!$K15/100)*AD16))","v":2.6832000000000001E-4},{"$f":"IF(AE16=\"\",\"\",(('PCB data'!$K15/100)*AE16))","v":2.2704000000000002E-4},{"$f":"IF(AF16=\"\",\"\",(('PCB data'!$K15/100)*AF16))","v":1.4964000000000001E-4},{"$f":"IF(AG16=\"\",\"\",(('PCB data'!$K15/100)*AG16))","v":4.6440000000000003E-5},{"$f":"IF(AH16=\"\",\"\",(('PCB data'!$K15/100)*AH16))","v":1.548E-4},{"$f":"IF(AI16=\"\",\"\",(('PCB data'!$K15/100)*AI16))","v":2.1156000000000001E-4},{"$f":"IF(AJ16=\"\",\"\",(('PCB data'!$K15/100)*AJ16))","v":2.6316000000000002E-4},{"$f":"IF(AK16=\"\",\"\",(('PCB data'!$K15/100)*AK16))","v":2.24976E-3},{"$f":"IF(AL16=\"\",\"\",(('PCB data'!$K15/100)*AL16))","v":4.8246000000000001E-3}]
[null,null,null,null,null,null,null,"","","","",{"$f":"IF(L17=\"\",\"\",(('PCB data'!$K16/100)*L17))","v":""},{"$f":"IF(M17=\"\",\"\",(('PCB data'!$K16/100)*M17))","v":""},{"$f":"IF(N17=\"\",\"\",(('PCB data'!$K16/100)*N17))","v":""},{"$f":"IF(O17=\"\",\"\",(('PCB data'!$K16/100)*O17))","v":""},{"$f":"IF(P17=\"\",\"\",(('PCB data'!$K16/100)*P17))","v":""},{"$f":"IF(Q17=\"\",\"\",(('PCB data'!$K16/100)*Q17))","v":""},{"$f":"IF(R17=\"\",\"\",(('PCB data'!$K16/100)*R17))","v":""},{"$f":"IF(S17=\"\",\"\",(('PCB data'!$K16/100)*S17))","v":""},{"$f":"IF(T17=\"\",\"\",(('PCB data'!$K16/100)*T17))","v":""},{"$f":"IF(U17=\"\",\"\",(('PCB data'!$K16/100)*U17))","v":""},{"$f":"IF(V17=\"\",\"\",(('PCB data'!$K16/100)*V17))","v":""},{"$f":"IF(W17=\"\",\"\",(('PCB data'!$K16/100)*W17))","v":""},{"$f":"IF(X17=\"\",\"\",(('PCB data'!$K16/100)*X17))","v":""},{"$f":"IF(Y17=\"\",\"\",(('PCB data'!$K16/100)*Y17))","v":""},{"$f":"IF(Z17=\"\",\"\",(('PCB data'!$K16/100)*Z17))","v":""},{"$f":"IF(AA17=\"\",\"\",(('PCB data'!$K16/100)*AA17))","v":""},{"$f":"IF(AB17=\"\",\"\",(('PCB data'!$K16/100)*AB17))","v":""},{"$f":"IF(AC17=\"\",\"\",(('PCB data'!$K16/100)*AC17))","v":""},{"$f":"IF(AD17=\"\",\"\",(('PCB data'!$K16/100)*AD17))","v":""},{"$f":"IF(AE17=\"\",\"\",(('PCB data'!$K16/100)*AE17))","v":""},{"$f":"IF(AF17=\"\",\"\",(('PCB data'!$K16/100)*AF17))","v":""},{"$f":"IF(AG17=\"\",\"\",(('PCB data'!$K16/100)*AG17))","v":""},{"$f":"IF(AH17=\"\",\"\",(('PCB data'!$K16/100)*AH17))","v":""},{"$f":"IF(AI17=\"\",\"\",(('PCB data'!$K16/100)*AI17))","v":""},{"$f":"IF(AJ17=\"\",\"\",(('PCB data'!$K16/100)*AJ17))","v":""},{"$f":"IF(AK17=\"\",\"\",(('PCB data'!$K16/100)*AK17))","v":""},{"$f":"IF(AL17=\"\",\"\",(('PCB data'!$K16/100)*AL17))","v":""}]
[null,null,null,null,null,null,null,"","","","",{"$f":"IF(L18=\"\",\"\",(('PCB data'!$K17/100)*L18))","v":""},{"$f":"IF(M18=\"\",\"\",(('PCB data'!$K17/100)*M18))","v":""},{"$f":"IF(N18=\"\",\"\",(('PCB data'!$K17/100)*N18))","v":""},{"$f":"IF(O18=\"\",\"\",(('PCB data'!$K17/100)*O18))","v":""},{"$f":"IF(P18=\"\",\"\",(('PCB data'!$K17/100)*P18))","v":""},{"$f":"IF(Q18=\"\",\"\",(('PCB data'!$K17/100)*Q18))","v":""},{"$f":"IF(R18=\"\",\"\",(('PCB data'!$K17/100)*R18))","v":""},{"$f":"IF(S18=\"\",\"\",(('PCB data'!$K17/100)*S18))","v":""},{"$f":"IF(T18=\"\",\"\",(('PCB data'!$K17/100)*T18))","v":""},{"$f":"IF(U18=\"\",\"\",(('PCB data'!$K17/100)*U18))","v":""},{"$f":"IF(V18=\"\",\"\",(('PCB data'!$K17/100)*V18))","v":""},{"$f":"IF(W18=\"\",\"\",(('PCB data'!$K17/100)*W18))","v":""},{"$f":"IF(X18=\"\",\"\",(('PCB data'!$K17/100)*X18))","v":""},{"$f":"IF(Y18=\"\",\"\",(('PCB data'!$K17/100)*Y18))","v":""},{"$f":"IF(Z18=\"\",\"\",(('PCB data'!$K17/100)*Z18))","v":""},{"$f":"IF(AA18=\"\",\"\",(('PCB data'!$K17/100)*AA18))","v":""},{"$f":"IF(AB18=\"\",\"\",(('PCB data'!$K17/100)*AB18))","v":""},{"$f":"IF(AC18=\"\",\"\",(('PCB data'!$K17/100)*AC18))","v":""},{"$f":"IF(AD18=\"\",\"\",(('PCB data'!$K17/100)*AD18))","v":""},{"$f":"IF(AE18=\"\",\"\",(('PCB data'!$K17/100)*AE18))","v":""},{"$f":"IF(AF18=\"\",\"\",(('PCB data'!$K17/100)*AF18))","v":""},{"$f":"IF(AG18=\"\",\"\",(('PCB data'!$K17/100)*AG18))","v":""},{"$f":"IF(AH18=\"\",\"\",(('PCB data'!$K17/100)*AH18))","v":""},{"$f":"IF(AI18=\"\",\"\",(('PCB data'!$K17/100)*AI18))","v":""},{"$f":"IF(AJ18=\"\",\"\",(('PCB data'!$K17/100)*AJ18))","v":""},{"$f":"IF(AK18=\"\",\"\",(('PCB data'!$K17/100)*AK18))","v":""},{"$f":"IF(AL18=\"\",\"\",(('PCB data'!$K17/100)*AL18))","v":""}]
[null,null,null,null,null,null,null,{"$f":"IF(H19=\"\",\"\",H19)","v":""},"","","",{"$f":"IF(L19=\"\",\"\",(('PCB data'!$K18/100)*L19))","v":""},{"$f":"IF(M19=\"\",\"\",(('PCB data'!$K18/100)*M19))","v":""},{"$f":"IF(N19=\"\",\"\",(('PCB data'!$K18/100)*N19))","v":""},{"$f":"IF(O19=\"\",\"\",(('PCB data'!$K18/100)*O19))","v":""},{"$f":"IF(P19=\"\",\"\",(('PCB data'!$K18/100)*P19))","v":""},{"$f":"IF(Q19=\"\",\"\",(('PCB data'!$K18/100)*Q19))","v":""},{"$f":"IF(R19=\"\",\"\",(('PCB data'!$K18/100)*R19))","v":""},{"$f":"IF(S19=\"\",\"\",(('PCB data'!$K18/100)*S19))","v":""},{"$f":"IF(T19=\"\",\"\",(('PCB data'!$K18/100)*T19))","v":""},{"$f":"IF(U19=\"\",\"\",(('PCB data'!$K18/100)*U19))","v":""},{"$f":"IF(V19=\"\",\"\",(('PCB data'!$K18/100)*V19))","v":""},{"$f":"IF(W19=\"\",\"\",(('PCB data'!$K18/100)*W19))","v":""},{"$f":"IF(X19=\"\",\"\",(('PCB data'!$K18/100)*X19))","v":""},{"$f":"IF(Y19=\"\",\"\",(('PCB data'!$K18/100)*Y19))","v":""},{"$f":"IF(Z19=\"\",\"\",(('PCB data'!$K18/100)*Z19))","v":""},{"$f":"IF(AA19=\"\",\"\",(('PCB data'!$K18/100)*AA19))","v":""},{"$f":"IF(AB19=\"\",\"\",(('PCB data'!$K18/100)*AB19))","v":""},{"$f":"IF(AC19=\"\",\"\",(('PCB data'!$K18/100)*AC19))","v":""},{"$f":"IF(AD19=\"\",\"\",(('PCB data'!$K18/100)*AD19))","v":""},{"$f":"IF(AE19=\"\",\"\",(('PCB data'!$K18/100)*AE19))","v":""},{"$f":"IF(AF19=\"\",\"\",(('PCB data'!$K18/100)*AF19))","v":""},{"$f":"IF(AG19=\"\",\"\",(('PCB data'!$K18/100)*AG19))","v":""},{"$f":"IF(AH19=\"\",\"\",(('PCB data'!$K18/100)*AH19))","v":""},{"$f":"IF(AI19=\"\",\"\",(('PCB data'!$K18/100)*AI19))","v":""},{"$f":"IF(AJ19=\"\",\"\",(('PCB data'!$K18/100)*AJ19))","v":""},{"$f":"IF(AK19=\"\",\"\",(('PCB data'!$K18/100)*AK19))","v":""},{"$f":"IF(AL19=\"\",\"\",(('PCB data'!$K18/100)*AL19))","v":""}]
[null,null,null,null,null,null,null,"","","","",{"$f":"IF(L20=\"\",\"\",(('PCB data'!$K19/100)*L20))","v":""},{"$f":"IF(M20=\"\",\"\",(('PCB data'!$K19/100)*M20))","v":""},{"$f":"IF(N20=\"\",\"\",(('PCB data'!$K19/100)*N20))","v":""},{"$f":"IF(O20=\"\",\"\",(('PCB data'!$K19/100)*O20))","v":""},{"$f":"IF(P20=\"\",\"\",(('PCB data'!$K19/100)*P20))","v":""},{"$f":"IF(Q20=\"\",\"\",(('PCB data'!$K19/100)*Q20))","v":""},{"$f":"IF(R20=\"\",\"\",(('PCB data'!$K19/100)*R20))","v":""},{"$f":"IF(S20=\"\",\"\",(('PCB data'!$K19/100)*S20))","v":""},{"$f":"IF(T20=\"\",\"\",(('PCB data'!$K19/100)*T20))","v":""},{"$f":"IF(U20=\"\",\"\",(('PCB data'!$K19/100)*U20))","v":""},{"$f":"IF(V20=\"\",\"\",(('PCB data'!$K19/100)*V20))","v":""},{"$f":"IF(W20=\"\",\"\",(('PCB data'!$K19/100)*W20))","v":""},{"$f":"IF(X20=\"\",\"\",(('PCB data'!$K19/100)*X20))","v":""},{"$f":"IF(Y20=\"\",\"\",(('PCB data'!$K19/100)*Y20))","v":""},{"$f":"IF(Z20=\"\",\"\",(('PCB data'!$K19/100)*Z20))","v":""},{"$f":"IF(AA20=\"\",\"\",(('PCB data'!$K19/100)*AA20))","v":""},{"$f":"IF(AB20=\"\",\"\",(('PCB data'!$K19/100)*AB20))","v":""},{"$f":"IF(AC20=\"\",\"\",(('PCB data'!$K19/100)*AC20))","v":""},{"$f":"IF(AD20=\"\",\"\",(('PCB data'!$K19/100)*AD20))","v":""},{"$f":"IF(AE20=\"\",\"\",(('PCB data'!$K19/100)*AE20))","v":""},{"$f":"IF(AF20=\"\",\"\",(('PCB data'!$K19/100)*AF20))","v":""},{"$f":"IF(AG20=\"\",\"\",(('PCB data'!$K19/100)*AG20))","v":""},{"$f":"IF(AH20=\"\",\"\",(('PCB data'!$K19/100)*AH20))","v":""},{"$f":"IF(AI20=\"\",\"\",(('PCB data'!$K19/100)*AI20))","v":""},{"$f":"IF(AJ20=\"\",\"\",(('PCB data'!$K19/100)*AJ20))","v":""},{"$f":"IF(AK20=\"\",\"\",(('PCB data'!$K19/100)*AK20))","v":""},{"$f":"IF(AL20=\"\",\"\",(('PCB data'!$K19/100)*AL20))","v":""}]
[null,null,null,null,null,null,null,"","","","",{"$f":"IF(L21=\"\",\"\",(('PCB data'!$K20/100)*L21))","v":""},{"$f":"IF(M21=\"\",\"\",(('PCB data'!$K20/100)*M21))","v":""},{"$f":"IF(N21=\"\",\"\",(('PCB data'!$K20/100)*N21))","v":""},{"$f":"IF(O21=\"\",\"\",(('PCB data'!$K20/100)*O21))","v":""},{"$f":"IF(P21=\"\",\"\",(('PCB data'!$K20/100)*P21))","v":""},{"$f":"IF(Q21=\"\",\"\",(('PCB data'!$K20/100)*Q21))","v":""},{"$f":"IF(R21=\"\",\"\",(('PCB data'!$K20/100)*R21))","v":""},{"$f":"IF(S21=\"\",\"\",(('PCB data'!$K20/100)*S21))","v":""},{"$f":"IF(T21=\"\",\"\",(('PCB data'!$K20/100)*T21))","v":""},{"$f":"IF(U21=\"\",\"\",(('PCB data'!$K20/100)*U21))","v":""},{"$f":"IF(V21=\"\",\"\",(('PCB data'!$K20/100)*V21))","v":""},{"$f":"IF(W21=\"\",\"\",(('PCB data'!$K20/100)*W21))","v":""},{"$f":"IF(X21=\"\",\"\",(('PCB data'!$K20/100)*X21))","v":""},{"$f":"IF(Y21=\"\",\"\",(('PCB data'!$K20/100)*Y21))","v":""},{"$f":"IF(Z21=\"\",\"\",(('PCB data'!$K20/100)*Z21))","v":""},{"$f":"IF(AA21=\"\",\"\",(('PCB data'!$K20/100)*AA21))","v":""},{"$f":"IF(AB21=\"\",\"\",(('PCB data'!$K20/100)*AB21))","v":""},{"$f":"IF(AC21=\"\",\"\",(('PCB data'!$K20/100)*AC21))","v":""},{"$f":"IF(AD21=\"\",\"\",(('PCB data'!$K20/100)*AD21))","v":""},{"$f":"IF(AE21=\"\",\"\",(('PCB data'!$K20/100)*AE21))","v":""},{"$f":"IF(AF21=\"\",\"\",(('PCB data'!$K20/100)*AF21))","v":""},{"$f":"IF(AG21=\"\",\"\",(('PCB data'!$K20/100)*AG21))","v":""},{"$f":"IF(AH21=\"\",\"\",(('PCB data'!$K20/100)*AH21))","v":""},{"$f":"IF(AI21=\"\",\"\",(('PCB data'!$K20/100)*AI21))","v":""},{"$f":"IF(AJ21=\"\",\"\",(('PCB data'!$K20/100)*AJ21))","v":""},{"$f":"IF(AK21=\"\",\"\",(('PCB data'!$K20/100)*AK21))","v":""},{"$f":"IF(AL21=\"\",\"\",(('PCB data'!$K20/100)*AL21))","v":""}]
[null,null,null,null,null,null,null,"","","","",{"$f":"IF(L22=\"\",\"\",(('PCB data'!$K21/100)*L22))","v":""},{"$f":"IF(M22=\"\",\"\",(('PCB data'!$K21/100)*M22))","v":""},{"$f":"IF(N22=\"\",\"\",(('PCB data'!$K21/100)*N22))","v":""},{"$f":"IF(O22=\"\",\"\",(('PCB data'!$K21/100)*O22))","v":""},{"$f":"IF(P22=\"\",\"\",(('PCB data'!$K21/100)*P22))","v":""},{"$f":"IF(Q22=\"\",\"\",(('PCB data'!$K21/100)*Q22))","v":""},{"$f":"IF(R22=\"\",\"\",(('PCB data'!$K21/100)*R22))","v":""},{"$f":"IF(S22=\"\",\"\",(('PCB data'!$K21/100)*S22))","v":""},{"$f":"IF(T22=\"\",\"\",(('PCB data'!$K21/100)*T22))","v":""},{"$f":"IF(U22=\"\",\"\",(('PCB data'!$K21/100)*U22))","v":""},{"$f":"IF(V22=\"\",\"\",(('PCB data'!$K21/100)*V22))","v":""},{"$f":"IF(W22=\"\",\"\",(('PCB data'!$K21/100)*W22))","v":""},{"$f":"IF(X22=\"\",\"\",(('PCB data'!$K21/100)*X22))","v":""},{"$f":"IF(Y22=\"\",\"\",(('PCB data'!$K21/100)*Y22))","v":""},{"$f":"IF(Z22=\"\",\"\",(('PCB data'!$K21/100)*Z22))","v":""},{"$f":"IF(AA22=\"\",\"\",(('PCB data'!$K21/100)*AA22))","v":""},{"$f":"IF(AB22=\"\",\"\",(('PCB data'!$K21/100)*AB22))","v":""},{"$f":"IF(AC22=\"\",\"\",(('PCB data'!$K21/100)*AC22))","v":""},{"$f":"IF(AD22=\"\",\"\",(('PCB data'!$K21/100)*AD22))","v":""},{"$f":"IF(AE22=\"\",\"\",(('PCB data'!$K21/100)*AE22))","v":""},{"$f":"IF(AF22=\"\",\"\",(('PCB data'!$K21/100)*AF22))","v":""},{"$f":"IF(AG22=\"\",\"\",(('PCB data'!$K21/100)*AG22))","v":""},{"$f":"IF(AH22=\"\",\"\",(('PCB data'!$K21/100)*AH22))","v":""},{"$f":"IF(AI22=\"\",\"\",(('PCB data'!$K21/100)*AI22))","v":""},{"$f":"IF(AJ22=\"\",\"\",(('PCB data'!$K21/100)*AJ22))","v":""},{"$f":"IF(AK22=\"\",\"\",(('PCB data'!$K21/100)*AK22))","v":""},{"$f":"IF(AL22=\"\",\"\",(('PCB data'!$K21/100)*AL22))","v":""}]
[null,null,null,null,null,null,null,"","","","",{"$f":"IF(L23=\"\",\"\",(('PCB data'!$K22/100)*L23))","v":""},{"$f":"IF(M23=\"\",\"\",(('PCB data'!$K22/100)*M23))","v":""},{"$f":"IF(N23=\"\",\"\",(('PCB data'!$K22/100)*N23))","v":""},{"$f":"IF(O23=\"\",\"\",(('PCB data'!$K22/100)*O23))","v":""},{"$f":"IF(P23=\"\",\"\",(('PCB data'!$K22/100)*P23))","v":""},{"$f":"IF(Q23=\"\",\"\",(('PCB data'!$K22/100)*Q23))","v":""},{"$f":"IF(R23=\"\",\"\",(('PCB data'!$K22/100)*R23))","v":""},{"$f":"IF(S23=\"\",\"\",(('PCB data'!$K22/100)*S23))","v":""},{"$f":"IF(T23=\"\",\"\",(('PCB data'!$K22/100)*T23))","v":""},{"$f":"IF(U23=\"\",\"\",(('PCB data'!$K22/100)*U23))","v":""},{"$f":"IF(V23=\"\",\"\",(('PCB data'!$K22/100)*V23))","v":""},{"$f":"IF(W23=\"\",\"\",(('PCB data'!$K22/100)*W23))","v":""},{"$f":"IF(X23=\"\",\"\",(('PCB data'!$K22/100)*X23))","v":""},{"$f":"IF(Y23=\"\",\"\",(('PCB data'!$K22/100)*Y23))","v":""},{"$f":"IF(Z23=\"\",\"\",(('PCB data'!$K22/100)*Z23))","v":""},{"$f":"IF(AA23=\"\",\"\",(('PCB data'!$K22/100)*AA23))","v":""},{"$f":"IF(AB23=\"\",\"\",(('PCB data'!$K22/100)*AB23))","v":""},{"$f":"IF(AC23=\"\",\"\",(('PCB data'!$K22/100)*AC23))","v":""},{"$f":"IF(AD23=\"\",\"\",(('PCB data'!$K22/100)*AD23))","v":""},{"$f":"IF(AE23=\"\",\"\",(('PCB data'!$K22/100)*AE23))","v":""},{"$f":"IF(AF23=\"\",\"\",(('PCB data'!$K22/100)*AF23))","v":""},{"$f":"IF(AG23=\"\",\"\",(('PCB data'!$K22/100)*AG23))","v":""},{"$f":"IF(AH23=\"\",\"\",(('PCB data'!$K22/100)*AH23))","v":""},{"$f":"IF(AI23=\"\",\"\",(('PCB data'!$K22/100)*AI23))","v":""},{"$f":"IF(AJ23=\"\",\"\",(('PCB data'!$K22/100)*AJ23))","v":""},{"$f":"IF(AK23=\"\",\"\",(('PCB data'!$K22/100)*AK23))","v":""},{"$f":"IF(AL23=\"\",\"\",(('PCB data'!$K22/100)*AL23))","v":""}]
[null,null,null,null,null,null,null,"","","","",{"$f":"IF(L24=\"\",\"\",(('PCB data'!$K23/100)*L24))","v":""},{"$f":"IF(M24=\"\",\"\",(('PCB data'!$K23/100)*M24))","v":""},{"$f":"IF(N24=\"\",\"\",(('PCB data'!$K23/100)*N24))","v":""},{"$f":"IF(O24=\"\",\"\",(('PCB data'!$K23/100)*O24))","v":""},{"$f":"IF(P24=\"\",\"\",(('PCB data'!$K23/100)*P24))","v":""},{"$f":"IF(Q24=\"\",\"\",(('PCB data'!$K23/100)*Q24))","v":""},{"$f":"IF(R24=\"\",\"\",(('PCB data'!$K23/100)*R24))","v":""},{"$f":"IF(S24=\"\",\"\",(('PCB data'!$K23/100)*S24))","v":""},{"$f":"IF(T24=\"\",\"\",(('PCB data'!$K23/100)*T24))","v":""},{"$f":"IF(U24=\"\",\"\",(('PCB data'!$K23/100)*U24))","v":""},{"$f":"IF(V24=\"\",\"\",(('PCB data'!$K23/100)*V24))","v":""},{"$f":"IF(W24=\"\",\"\",(('PCB data'!$K23/100)*W24))","v":""},{"$f":"IF(X24=\"\",\"\",(('PCB data'!$K23/100)*X24))","v":""},{"$f":"IF(Y24=\"\",\"\",(('PCB data'!$K23/100)*Y24))","v":""},{"$f":"IF(Z24=\"\",\"\",(('PCB data'!$K23/100)*Z24))","v":""},{"$f":"IF(AA24=\"\",\"\",(('PCB data'!$K23/100)*AA24))","v":""},{"$f":"IF(AB24=\"\",\"\",(('PCB data'!$K23/100)*AB24))","v":""},{"$f":"IF(AC24=\"\",\"\",(('PCB data'!$K23/100)*AC24))","v":""},{"$f":"IF(AD24=\"\",\"\",(('PCB data'!$K23/100)*AD24))","v":""},{"$f":"IF(AE24=\"\",\"\",(('PCB data'!$K23/100)*AE24))","v":""},{"$f":"IF(AF24=\"\",\"\",(('PCB data'!$K23/100)*AF24))","v":""},{"$f":"IF(AG24=\"\",\"\",(('PCB data'!$K23/100)*AG24))","v":""},{"$f":"IF(AH24=\"\",\"\",(('PCB data'!$K23/100)*AH24))","v":""},{"$f":"IF(AI24=\"\",\"\",(('PCB data'!$K23/100)*AI24))","v":""},{"$f":"IF(AJ24=\"\",\"\",(('PCB data'!$K23/100)*AJ24))","v":""},{"$f":"IF(AK24=\"\",\"\",(('PCB data'!$K23/100)*AK24))","v":""},{"$f":"IF(AL24=\"\",\"\",(('PCB data'!$K23/100)*AL24))","v":""}]
[null,null,null,null,null,null,null,"","","","",{"$f":"IF(L25=\"\",\"\",(('PCB data'!$K24/100)*L25))","v":""},{"$f":"IF(M25=\"\",\"\",(('PCB data'!$K24/100)*M25))","v":""},{"$f":"IF(N25=\"\",\"\",(('PCB data'!$K24/100)*N25))","v":""},{"$f":"IF(O25=\"\",\"\",(('PCB data'!$K24/100)*O25))","v":""},{"$f":"IF(P25=\"\",\"\",(('PCB data'!$K24/100)*P25))","v":""},{"$f":"IF(Q25=\"\",\"\",(('PCB data'!$K24/100)*Q25))","v":""},{"$f":"IF(R25=\"\",\"\",(('PCB data'!$K24/100)*R25))","v":""},{"$f":"IF(S25=\"\",\"\",(('PCB data'!$K24/100)*S25))","v":""},{"$f":"IF(T25=\"\",\"\",(('PCB data'!$K24/100)*T25))","v":""},{"$f":"IF(U25=\"\",\"\",(('PCB data'!$K24/100)*U25))","v":""},{"$f":"IF(V25=\"\",\"\",(('PCB data'!$K24/100)*V25))","v":""},{"$f":"IF(W25=\"\",\"\",(('PCB data'!$K24/100)*W25))","v":""},{"$f":"IF(X25=\"\",\"\",(('PCB data'!$K24/100)*X25))","v":""},{"$f":"IF(Y25=\"\",\"\",(('PCB data'!$K24/100)*Y25))","v":""},{"$f":"IF(Z25=\"\",\"\",(('PCB data'!$K24/100)*Z25))","v":""},{"$f":"IF(AA25=\"\",\"\",(('PCB data'!$K24/100)*AA25))","v":""},{"$f":"IF(AB25=\"\",\"\",(('PCB data'!$K24/100)*AB25))","v":""},{"$f":"IF(AC25=\"\",\"\",(('PCB data'!$K24/100)*AC25))","v":""},{"$f":"IF(AD25=\"\",\"\",(('PCB data'!$K24/100)*AD25))","v":""},{"$f":"IF(AE25=\"\",\"\",(('PCB data'!$K24/100)*AE25))","v":""},{"$f":"IF(AF25=\"\",\"\",(('PCB data'!$K24/100)*AF25))","v":""},{"$f":"IF(AG25=\"\",\"\",(('PCB data'!$K24/100)*AG25))","v":""},{"$f":"IF(AH25=\"\",\"\",(('PCB data'!$K24/100)*AH25))","v":""},{"$f":"IF(AI25=\"\",\"\",(('PCB data'!$K24/100)*AI25))","v":""},{"$f":"IF(AJ25=\"\",\"\",(('PCB data'!$K24/100)*AJ25))","v":""},{"$f":"IF(AK25=\"\",\"\",(('PCB data'!$K24/100)*AK25))","v":""},{"$f":"IF(AL25=\"\",\"\",(('PCB data'!$K24/100)*AL25))","v":""}]
[null,null,null,null,null,null,null,"","","","",{"$f":"IF(L26=\"\",\"\",(('PCB data'!$K25/100)*L26))","v":""},{"$f":"IF(M26=\"\",\"\",(('PCB data'!$K25/100)*M26))","v":""},{"$f":"IF(N26=\"\",\"\",(('PCB data'!$K25/100)*N26))","v":""},{"$f":"IF(O26=\"\",\"\",(('PCB data'!$K25/100)*O26))","v":""},{"$f":"IF(P26=\"\",\"\",(('PCB data'!$K25/100)*P26))","v":""},{"$f":"IF(Q26=\"\",\"\",(('PCB data'!$K25/100)*Q26))","v":""},{"$f":"IF(R26=\"\",\"\",(('PCB data'!$K25/100)*R26))","v":""},{"$f":"IF(S26=\"\",\"\",(('PCB data'!$K25/100)*S26))","v":""},{"$f":"IF(T26=\"\",\"\",(('PCB data'!$K25/100)*T26))","v":""},{"$f":"IF(U26=\"\",\"\",(('PCB data'!$K25/100)*U26))","v":""},{"$f":"IF(V26=\"\",\"\",(('PCB data'!$K25/100)*V26))","v":""},{"$f":"IF(W26=\"\",\"\",(('PCB data'!$K25/100)*W26))","v":""},{"$f":"IF(X26=\"\",\"\",(('PCB data'!$K25/100)*X26))","v":""},{"$f":"IF(Y26=\"\",\"\",(('PCB data'!$K25/100)*Y26))","v":""},{"$f":"IF(Z26=\"\",\"\",(('PCB data'!$K25/100)*Z26))","v":""},{"$f":"IF(AA26=\"\",\"\",(('PCB data'!$K25/100)*AA26))","v":""},{"$f":"IF(AB26=\"\",\"\",(('PCB data'!$K25/100)*AB26))","v":""},{"$f":"IF(AC26=\"\",\"\",(('PCB data'!$K25/100)*AC26))","v":""},{"$f":"IF(AD26=\"\",\"\",(('PCB data'!$K25/100)*AD26))","v":""},{"$f":"IF(AE26=\"\",\"\",(('PCB data'!$K25/100)*AE26))","v":""},{"$f":"IF(AF26=\"\",\"\",(('PCB data'!$K25/100)*AF26))","v":""},{"$f":"IF(AG26=\"\",\"\",(('PCB data'!$K25/100)*AG26))","v":""},{"$f":"IF(AH26=\"\",\"\",(('PCB data'!$K25/100)*AH26))","v":""},{"$f":"IF(AI26=\"\",\"\",(('PCB data'!$K25/100)*AI26))","v":""},{"$f":"IF(AJ26=\"\",\"\",(('PCB data'!$K25/100)*AJ26))","v":""},{"$f":"IF(AK26=\"\",\"\",(('PCB data'!$K25/100)*AK26))","v":""},{"$f":"IF(AL26=\"\",\"\",(('PCB data'!$K25/100)*AL26))","v":""}]
[null,null,null,null,null,null,null,"","","","",{"$f":"IF(L27=\"\",\"\",(('PCB data'!$K26/100)*L27))","v":""},{"$f":"IF(M27=\"\",\"\",(('PCB data'!$K26/100)*M27))","v":""},{"$f":"IF(N27=\"\",\"\",(('PCB data'!$K26/100)*N27))","v":""},{"$f":"IF(O27=\"\",\"\",(('PCB data'!$K26/100)*O27))","v":""},{"$f":"IF(P27=\"\",\"\",(('PCB data'!$K26/100)*P27))","v":""},{"$f":"IF(Q27=\"\",\"\",(('PCB data'!$K26/100)*Q27))","v":""},{"$f":"IF(R27=\"\",\"\",(('PCB data'!$K26/100)*R27))","v":""},{"$f":"IF(S27=\"\",\"\",(('PCB data'!$K26/100)*S27))","v":""},{"$f":"IF(T27=\"\",\"\",(('PCB data'!$K26/100)*T27))","v":""},{"$f":"IF(U27=\"\",\"\",(('PCB data'!$K26/100)*U27))","v":""},{"$f":"IF(V27=\"\",\"\",(('PCB data'!$K26/100)*V27))","v":""},{"$f":"IF(W27=\"\",\"\",(('PCB data'!$K26/100)*W27))","v":""},{"$f":"IF(X27=\"\",\"\",(('PCB data'!$K26/100)*X27))","v":""},{"$f":"IF(Y27=\"\",\"\",(('PCB data'!$K26/100)*Y27))","v":""},{"$f":"IF(Z27=\"\",\"\",(('PCB data'!$K26/100)*Z27))","v":""},{"$f":"IF(AA27=\"\",\"\",(('PCB data'!$K26/100)*AA27))","v":""},{"$f":"IF(AB27=\"\",\"\",(('PCB data'!$K26/100)*AB27))","v":""},{"$f":"IF(AC27=\"\",\"\",(('PCB data'!$K26/100)*AC27))","v":""},{"$f":"IF(AD27=\"\",\"\",(('PCB data'!$K26/100)*AD27))","v":""},{"$f":"IF(AE27=\"\",\"\",(('PCB data'!$K26/100)*AE27))","v":""},{"$f":"IF(AF27=\"\",\"\",(('PCB data'!$K26/100)*AF27))","v":""},{"$f":"IF(AG27=\"\",\"\",(('PCB data'!$K26/100)*AG27))","v":""},{"$f":"IF(AH27=\"\",\"\",(('PCB data'!$K26/100)*AH27))","v":""},{"$f":"IF(AI27=\"\",\"\",(('PCB data'!$K26/100)*AI27))","v":""},{"$f":"IF(AJ27=\"\",\"\",(('PCB data'!$K26/100)*AJ27))","v":""},{"$f":"IF(AK27=\"\",\"\",(('PCB data'!$K26/100)*AK27))","v":""},{"$f":"IF(AL27=\"\",\"\",(('PCB data'!$K26/100)*AL27))","v":""}]
[null,null,null,null,null,null,null,"","","","",{"$f":"IF(L28=\"\",\"\",(('PCB data'!$K27/100)*L28))","v":""},{"$f":"IF(M28=\"\",\"\",(('PCB data'!$K27/100)*M28))","v":""},{"$f":"IF(N28=\"\",\"\",(('PCB data'!$K27/100)*N28))","v":""},{"$f":"IF(O28=\"\",\"\",(('PCB data'!$K27/100)*O28))","v":""},{"$f":"IF(P28=\"\",\"\",(('PCB data'!$K27/100)*P28))","v":""},{"$f":"IF(Q28=\"\",\"\",(('PCB data'!$K27/100)*Q28))","v":""},{"$f":"IF(R28=\"\",\"\",(('PCB data'!$K27/100)*R28))","v":""},{"$f":"IF(S28=\"\",\"\",(('PCB data'!$K27/100)*S28))","v":""},{"$f":"IF(T28=\"\",\"\",(('PCB data'!$K27/100)*T28))","v":""},{"$f":"IF(U28=\"\",\"\",(('PCB data'!$K27/100)*U28))","v":""},{"$f":"IF(V28=\"\",\"\",(('PCB data'!$K27/100)*V28))","v":""},{"$f":"IF(W28=\"\",\"\",(('PCB data'!$K27/100)*W28))","v":""},{"$f":"IF(X28=\"\",\"\",(('PCB data'!$K27/100)*X28))","v":""},{"$f":"IF(Y28=\"\",\"\",(('PCB data'!$K27/100)*Y28))","v":""},{"$f":"IF(Z28=\"\",\"\",(('PCB data'!$K27/100)*Z28))","v":""},{"$f":"IF(AA28=\"\",\"\",(('PCB data'!$K27/100)*AA28))","v":""},{"$f":"IF(AB28=\"\",\"\",(('PCB data'!$K27/100)*AB28))","v":""},{"$f":"IF(AC28=\"\",\"\",(('PCB data'!$K27/100)*AC28))","v":""},{"$f":"IF(AD28=\"\",\"\",(('PCB data'!$K27/100)*AD28))","v":""},{"$f":"IF(AE28=\"\",\"\",(('PCB data'!$K27/100)*AE28))","v":""},{"$f":"IF(AF28=\"\",\"\",(('PCB data'!$K27/100)*AF28))","v":""},{"$f":"IF(AG28=\"\",\"\",(('PCB data'!$K27/100)*AG28))","v":""},{"$f":"IF(AH28=\"\",\"\",(('PCB data'!$K27/100)*AH28))","v":""},{"$f":"IF(AI28=\"\",\"\",(('PCB data'!$K27/100)*AI28))","v":""},{"$f":"IF(AJ28=\"\",\"\",(('PCB data'!$K27/100)*AJ28))","v":""},{"$f":"IF(AK28=\"\",\"\",(('PCB data'!$K27/100)*AK28))","v":""},{"$f":"IF(AL28=\"\",\"\",(('PCB data'!$K27/100)*AL28))","v":""}]
[null,null,null,null,null,null,null,{"$f":"IF(H29=\"\",\"\",H29)","v":""},"","","",{"$f":"IF(L29=\"\",\"\",(('PCB data'!$K28/100)*L29))","v":""},{"$f":"IF(M29=\"\",\"\",(('PCB data'!$K28/100)*M29))","v":""},{"$f":"IF(N29=\"\",\"\",(('PCB data'!$K28/100)*N29))","v":""},{"$f":"IF(O29=\"\",\"\",(('PCB data'!$K28/100)*O29))","v":""},{"$f":"IF(P29=\"\",\"\",(('PCB data'!$K28/100)*P29))","v":""},{"$f":"IF(Q29=\"\",\"\",(('PCB data'!$K28/100)*Q29))","v":""},{"$f":"IF(R29=\"\",\"\",(('PCB data'!$K28/100)*R29))","v":""},{"$f":"IF(S29=\"\",\"\",(('PCB data'!$K28/100)*S29))","v":""},{"$f":"IF(T29=\"\",\"\",(('PCB data'!$K28/100)*T29))","v":""},{"$f":"IF(U29=\"\",\"\",(('PCB data'!$K28/100)*U29))","v":""},{"$f":"IF(V29=\"\",\"\",(('PCB data'!$K28/100)*V29))","v":""},{"$f":"IF(W29=\"\",\"\",(('PCB data'!$K28/100)*W29))","v":""},{"$f":"IF(X29=\"\",\"\",(('PCB data'!$K28/100)*X29))","v":""},{"$f":"IF(Y29=\"\",\"\",(('PCB data'!$K28/100)*Y29))","v":""},{"$f":"IF(Z29=\"\",\"\",(('PCB data'!$K28/100)*Z29))","v":""},{"$f":"IF(AA29=\"\",\"\",(('PCB data'!$K28/100)*AA29))","v":""},{"$f":"IF(AB29=\"\",\"\",(('PCB data'!$K28/100)*AB29))","v":""},{"$f":"IF(AC29=\"\",\"\",(('PCB data'!$K28/100)*AC29))","v":""},{"$f":"IF(AD29=\"\",\"\",(('PCB data'!$K28/100)*AD29))","v":""},{"$f":"IF(AE29=\"\",\"\",(('PCB data'!$K28/100)*AE29))","v":""},{"$f":"IF(AF29=\"\",\"\",(('PCB data'!$K28/100)*AF29))","v":""},{"$f":"IF(AG29=\"\",\"\",(('PCB data'!$K28/100)*AG29))","v":""},{"$f":"IF(AH29=\"\",\"\",(('PCB data'!$K28/100)*AH29))","v":""},{"$f":"IF(AI29=\"\",\"\",(('PCB data'!$K28/100)*AI29))","v":""},{"$f":"IF(AJ29=\"\",\"\",(('PCB data'!$K28/100)*AJ29))","v":""},{"$f":"IF(AK29=\"\",\"\",(('PCB data'!$K28/100)*AK29))","v":""},{"$f":"IF(AL29=\"\",\"\",(('PCB data'!$K28/100)*AL29))","v":""}]
[null,null,null,null,null,null,null,"","","","",{"$f":"IF(L30=\"\",\"\",(('PCB data'!$K29/100)*L30))","v":""},{"$f":"IF(M30=\"\",\"\",(('PCB data'!$K29/100)*M30))","v":""},{"$f":"IF(N30=\"\",\"\",(('PCB data'!$K29/100)*N30))","v":""},{"$f":"IF(O30=\"\",\"\",(('PCB data'!$K29/100)*O30))","v":""},{"$f":"IF(P30=\"\",\"\",(('PCB data'!$K29/100)*P30))","v":""},{"$f":"IF(Q30=\"\",\"\",(('PCB data'!$K29/100)*Q30))","v":""},{"$f":"IF(R30=\"\",\"\",(('PCB data'!$K29/100)*R30))","v":""},{"$f":"IF(S30=\"\",\"\",(('PCB data'!$K29/100)*S30))","v":""},{"$f":"IF(T30=\"\",\"\",(('PCB data'!$K29/100)*T30))","v":""},{"$f":"IF(U30=\"\",\"\",(('PCB data'!$K29/100)*U30))","v":""},{"$f":"IF(V30=\"\",\"\",(('PCB data'!$K29/100)*V30))","v":""},{"$f":"IF(W30=\"\",\"\",(('PCB data'!$K29/100)*W30))","v":""},{"$f":"IF(X30=\"\",\"\",(('PCB data'!$K29/100)*X30))","v":""},{"$f":"IF(Y30=\"\",\"\",(('PCB data'!$K29/100)*Y30))","v":""},{"$f":"IF(Z30=\"\",\"\",(('PCB data'!$K29/100)*Z30))","v":""},{"$f":"IF(AA30=\"\",\"\",(('PCB data'!$K29/100)*AA30))","v":""},{"$f":"IF(AB30=\"\",\"\",(('PCB data'!$K29/100)*AB30))","v":""},{"$f":"IF(AC30=\"\",\"\",(('PCB data'!$K29/100)*AC30))","v":""},{"$f":"IF(AD30=\"\",\"\",(('PCB data'!$K29/100)*AD30))","v":""},{"$f":"IF(AE30=\"\",\"\",(('PCB data'!$K29/100)*AE30))","v":""},{"$f":"IF(AF30=\"\",\"\",(('PCB data'!$K29/100)*AF30))","v":""},{"$f":"IF(AG30=\"\",\"\",(('PCB data'!$K29/100)*AG30))","v":""},{"$f":"IF(AH30=\"\",\"\",(('PCB data'!$K29/100)*AH30))","v":""},{"$f":"IF(AI30=\"\",\"\",(('PCB data'!$K29/100)*AI30))","v":""},{"$f":"IF(AJ30=\"\",\"\",(('PCB data'!$K29/100)*AJ30))","v":""},{"$f":"IF(AK30=\"\",\"\",(('PCB data'!$K29/100)*AK30))","v":""},{"$f":"IF(AL30=\"\",\"\",(('PCB data'!$K29/100)*AL30))","v":""}]
[null,null,null,null,null,null,null,"","","","",{"$f":"IF(L31=\"\",\"\",(('PCB data'!$K30/100)*L31))","v":""},{"$f":"IF(M31=\"\",\"\",(('PCB data'!$K30/100)*M31))","v":""},{"$f":"IF(N31=\"\",\"\",(('PCB data'!$K30/100)*N31))","v":""},{"$f":"IF(O31=\"\",\"\",(('PCB data'!$K30/100)*O31))","v":""},{"$f":"IF(P31=\"\",\"\",(('PCB data'!$K30/100)*P31))","v":""},{"$f":"IF(Q31=\"\",\"\",(('PCB data'!$K30/100)*Q31))","v":""},{"$f":"IF(R31=\"\",\"\",(('PCB data'!$K30/100)*R31))","v":""},{"$f":"IF(S31=\"\",\"\",(('PCB data'!$K30/100)*S31))","v":""},{"$f":"IF(T31=\"\",\"\",(('PCB data'!$K30/100)*T31))","v":""},{"$f":"IF(U31=\"\",\"\",(('PCB data'!$K30/100)*U31))","v":""},{"$f":"IF(V31=\"\",\"\",(('PCB data'!$K30/100)*V31))","v":""},{"$f":"IF(W31=\"\",\"\",(('PCB data'!$K30/100)*W31))","v":""},{"$f":"IF(X31=\"\",\"\",(('PCB data'!$K30/100)*X31))","v":""},{"$f":"IF(Y31=\"\",\"\",(('PCB data'!$K30/100)*Y31))","v":""},{"$f":"IF(Z31=\"\",\"\",(('PCB data'!$K30/100)*Z31))","v":""},{"$f":"IF(AA31=\"\",\"\",(('PCB data'!$K30/100)*AA31))","v":""},{"$f":"IF(AB31=\"\",\"\",(('PCB data'!$K30/100)*AB31))","v":""},{"$f":"IF(AC31=\"\",\"\",(('PCB data'!$K30/100)*AC31))","v":""},{"$f":"IF(AD31=\"\",\"\",(('PCB data'!$K30/100)*AD31))","v":""},{"$f":"IF(AE31=\"\",\"\",(('PCB data'!$K30/100)*AE31))","v":""},{"$f":"IF(AF31=\"\",\"\",(('PCB data'!$K30/100)*AF31))","v":""},{"$f":"IF(AG31=\"\",\"\",(('PCB data'!$K30/100)*AG31))","v":""},{"$f":"IF(AH31=\"\",\"\",(('PCB data'!$K30/100)*AH31))","v":""},{"$f":"IF(AI31=\"\",\"\",(('PCB data'!$K30/100)*AI31))","v":""},{"$f":"IF(AJ31=\"\",\"\",(('PCB data'!$K30/100)*AJ31))","v":""},{"$f":"IF(AK31=\"\",\"\",(('PCB data'!$K30/100)*AK31))","v":""},{"$f":"IF(AL31=\"\",\"\",(('PCB data'!$K30/100)*AL31))","v":""}]
[null,null,null,null,null,null,null,"","","","",{"$f":"IF(L32=\"\",\"\",(('PCB data'!$K31/100)*L32))","v":""},{"$f":"IF(M32=\"\",\"\",(('PCB data'!$K31/100)*M32))","v":""},{"$f":"IF(N32=\"\",\"\",(('PCB data'!$K31/100)*N32))","v":""},{"$f":"IF(O32=\"\",\"\",(('PCB data'!$K31/100)*O32))","v":""},{"$f":"IF(P32=\"\",\"\",(('PCB data'!$K31/100)*P32))","v":""},{"$f":"IF(Q32=\"\",\"\",(('PCB data'!$K31/100)*Q32))","v":""},{"$f":"IF(R32=\"\",\"\",(('PCB data'!$K31/100)*R32))","v":""},{"$f":"IF(S32=\"\",\"\",(('PCB data'!$K31/100)*S32))","v":""},{"$f":"IF(T32=\"\",\"\",(('PCB data'!$K31/100)*T32))","v":""},{"$f":"IF(U32=\"\",\"\",(('PCB data'!$K31/100)*U32))","v":""},{"$f":"IF(V32=\"\",\"\",(('PCB data'!$K31/100)*V32))","v":""},{"$f":"IF(W32=\"\",\"\",(('PCB data'!$K31/100)*W32))","v":""},{"$f":"IF(X32=\"\",\"\",(('PCB data'!$K31/100)*X32))","v":""},{"$f":"IF(Y32=\"\",\"\",(('PCB data'!$K31/100)*Y32))","v":""},{"$f":"IF(Z32=\"\",\"\",(('PCB data'!$K31/100)*Z32))","v":""},{"$f":"IF(AA32=\"\",\"\",(('PCB data'!$K31/100)*AA32))","v":""},{"$f":"IF(AB32=\"\",\"\",(('PCB data'!$K31/100)*AB32))","v":""},{"$f":"IF(AC32=\"\",\"\",(('PCB data'!$K31/100)*AC32))","v":""},{"$f":"IF(AD32=\"\",\"\",(('PCB data'!$K31/100)*AD32))","v":""},{"$f":"IF(AE32=\"\",\"\",(('PCB data'!$K31/100)*AE32))","v":""},{"$f":"IF(AF32=\"\",\"\",(('PCB data'!$K31/100)*AF32))","v":""},{"$f":"IF(AG32=\"\",\"\",(('PCB data'!$K31/100)*AG32))","v":""},{"$f":"IF(AH32=\"\",\"\",(('PCB data'!$K31/100)*AH32))","v":""},{"$f":"IF(AI32=\"\",\"\",(('PCB data'!$K31/100)*AI32))","v":""},{"$f":"IF(AJ32=\"\",\"\",(('PCB data'!$K31/100)*AJ32))","v":""},{"$f":"IF(AK32=\"\",\"\",(('PCB data'!$K31/100)*AK32))","v":""},{"$f":"IF(AL32=\"\",\"\",(('PCB data'!$K31/100)*AL32))","v":""}]
[null,null,null,null,null,null,null,"","","","",{"$f":"IF(L33=\"\",\"\",(('PCB data'!$K32/100)*L33))","v":""},{"$f":"IF(M33=\"\",\"\",(('PCB data'!$K32/100)*M33))","v":""},{"$f":"IF(N33=\"\",\"\",(('PCB data'!$K32/100)*N33))","v":""},{"$f":"IF(O33=\"\",\"\",(('PCB data'!$K32/100)*O33))","v":""},{"$f":"IF(P33=\"\",\"\",(('PCB data'!$K32/100)*P33))","v":""},{"$f":"IF(Q33=\"\",\"\",(('PCB data'!$K32/100)*Q33))","v":""},{"$f":"IF(R33=\"\",\"\",(('PCB data'!$K32/100)*R33))","v":""},{"$f":"IF(S33=\"\",\"\",(('PCB data'!$K32/100)*S33))","v":""},{"$f":"IF(T33=\"\",\"\",(('PCB data'!$K32/100)*T33))","v":""},{"$f":"IF(U33=\"\",\"\",(('PCB data'!$K32/100)*U33))","v":""},{"$f":"IF(V33=\"\",\"\",(('PCB data'!$K32/100)*V33))","v":""},{"$f":"IF(W33=\"\",\"\",(('PCB data'!$K32/100)*W33))","v":""},{"$f":"IF(X33=\"\",\"\",(('PCB data'!$K32/100)*X33))","v":""},{"$f":"IF(Y33=\"\",\"\",(('PCB data'!$K32/100)*Y33))","v":""},{"$f":"IF(Z33=\"\",\"\",(('PCB data'!$K32/100)*Z33))","v":""},{"$f":"IF(AA33=\"\",\"\",(('PCB data'!$K32/100)*AA33))","v":""},{"$f":"IF(AB33=\"\",\"\",(('PCB data'!$K32/100)*AB33))","v":""},{"$f":"IF(AC33=\"\",\"\",(('PCB data'!$K32/100)*AC33))","v":""},{"$f":"IF(AD33=\"\",\"\",(('PCB data'!$K32/100)*AD33))","v":""},{"$f":"IF(AE33=\"\",\"\",(('PCB data'!$K32/100)*AE33))","v":""},{"$f":"IF(AF33=\"\",\"\",(('PCB data'!$K32/100)*AF33))","v":""},{"$f":"IF(AG33=\"\",\"\",(('PCB data'!$K32/100)*AG33))","v":""},{"$f":"IF(AH33=\"\",\"\",(('PCB data'!$K32/100)*AH33))","v":""},{"$f":"IF(AI33=\"\",\"\",(('PCB data'!$K32/100)*AI33))","v":""},{"$f":"IF(AJ33=\"\",\"\",(('PCB data'!$K32/100)*AJ33))","v":""},{"$f":"IF(AK33=\"\",\"\",(('PCB data'!$K32/100)*AK33))","v":""},{"$f":"IF(AL33=\"\",\"\",(('PCB data'!$K32/100)*AL33))","v":""}]
[null,null,null,null,null,null,null,"","","","",{"$f":"IF(L34=\"\",\"\",(('PCB data'!$K33/100)*L34))","v":""},{"$f":"IF(M34=\"\",\"\",(('PCB data'!$K33/100)*M34))","v":""},{"$f":"IF(N34=\"\",\"\",(('PCB data'!$K33/100)*N34))","v":""},{"$f":"IF(O34=\"\",\"\",(('PCB data'!$K33/100)*O34))","v":""},{"$f":"IF(P34=\"\",\"\",(('PCB data'!$K33/100)*P34))","v":""},{"$f":"IF(Q34=\"\",\"\",(('PCB data'!$K33/100)*Q34))","v":""},{"$f":"IF(R34=\"\",\"\",(('PCB data'!$K33/100)*R34))","v":""},{"$f":"IF(S34=\"\",\"\",(('PCB data'!$K33/100)*S34))","v":""},{"$f":"IF(T34=\"\",\"\",(('PCB data'!$K33/100)*T34))","v":""},{"$f":"IF(U34=\"\",\"\",(('PCB data'!$K33/100)*U34))","v":""},{"$f":"IF(V34=\"\",\"\",(('PCB data'!$K33/100)*V34))","v":""},{"$f":"IF(W34=\"\",\"\",(('PCB data'!$K33/100)*W34))","v":""},{"$f":"IF(X34=\"\",\"\",(('PCB data'!$K33/100)*X34))","v":""},{"$f":"IF(Y34=\"\",\"\",(('PCB data'!$K33/100)*Y34))","v":""},{"$f":"IF(Z34=\"\",\"\",(('PCB data'!$K33/100)*Z34))","v":""},{"$f":"IF(AA34=\"\",\"\",(('PCB data'!$K33/100)*AA34))","v":""},{"$f":"IF(AB34=\"\",\"\",(('PCB data'!$K33/100)*AB34))","v":""},{"$f":"IF(AC34=\"\",\"\",(('PCB data'!$K33/100)*AC34))","v":""},{"$f":"IF(AD34=\"\",\"\",(('PCB data'!$K33/100)*AD34))","v":""},{"$f":"IF(AE34=\"\",\"\",(('PCB data'!$K33/100)*AE34))","v":""},{"$f":"IF(AF34=\"\",\"\",(('PCB data'!$K33/100)*AF34))","v":""},{"$f":"IF(AG34=\"\",\"\",(('PCB data'!$K33/100)*AG34))","v":""},{"$f":"IF(AH34=\"\",\"\",(('PCB data'!$K33/100)*AH34))","v":""},{"$f":"IF(AI34=\"\",\"\",(('PCB data'!$K33/100)*AI34))","v":""},{"$f":"IF(AJ34=\"\",\"\",(('PCB data'!$K33/100)*AJ34))","v":""},{"$f":"IF(AK34=\"\",\"\",(('PCB data'!$K33/100)*AK34))","v":""},{"$f":"IF(AL34=\"\",\"\",(('PCB data'!$K33/100)*AL34))","v":""}]
[null,null,null,null,null,null,null,"","","","",{"$f":"IF(L35=\"\",\"\",(('PCB data'!$K34/100)*L35))","v":""},{"$f":"IF(M35=\"\",\"\",(('PCB data'!$K34/100)*M35))","v":""},{"$f":"IF(N35=\"\",\"\",(('PCB data'!$K34/100)*N35))","v":""},{"$f":"IF(O35=\"\",\"\",(('PCB data'!$K34/100)*O35))","v":""},{"$f":"IF(P35=\"\",\"\",(('PCB data'!$K34/100)*P35))","v":""},{"$f":"IF(Q35=\"\",\"\",(('PCB data'!$K34/100)*Q35))","v":""},{"$f":"IF(R35=\"\",\"\",(('PCB data'!$K34/100)*R35))","v":""},{"$f":"IF(S35=\"\",\"\",(('PCB data'!$K34/100)*S35))","v":""},{"$f":"IF(T35=\"\",\"\",(('PCB data'!$K34/100)*T35))","v":""},{"$f":"IF(U35=\"\",\"\",(('PCB data'!$K34/100)*U35))","v":""},{"$f":"IF(V35=\"\",\"\",(('PCB data'!$K34/100)*V35))","v":""},{"$f":"IF(W35=\"\",\"\",(('PCB data'!$K34/100)*W35))","v":""},{"$f":"IF(X35=\"\",\"\",(('PCB data'!$K34/100)*X35))","v":""},{"$f":"IF(Y35=\"\",\"\",(('PCB data'!$K34/100)*Y35))","v":""},{"$f":"IF(Z35=\"\",\"\",(('PCB data'!$K34/100)*Z35))","v":""},{"$f":"IF(AA35=\"\",\"\",(('PCB data'!$K34/100)*AA35))","v":""},{"$f":"IF(AB35=\"\",\"\",(('PCB data'!$K34/100)*AB35))","v":""},{"$f":"IF(AC35=\"\",\"\",(('PCB data'!$K34/100)*AC35))","v":""},{"$f":"IF(AD35=\"\",\"\",(('PCB data'!$K34/100)*AD35))","v":""},{"$f":"IF(AE35=\"\",\"\",(('PCB data'!$K34/100)*AE35))","v":""},{"$f":"IF(AF35=\"\",\"\",(('PCB data'!$K34/100)*AF35))","v":""},{"$f":"IF(AG35=\"\",\"\",(('PCB data'!$K34/100)*AG35))","v":""},{"$f":"IF(AH35=\"\",\"\",(('PCB data'!$K34/100)*AH35))","v":""},{"$f":"IF(AI35=\"\",\"\",(('PCB data'!$K34/100)*AI35))","v":""},{"$f":"IF(AJ35=\"\",\"\",(('PCB data'!$K34/100)*AJ35))","v":""},{"$f":"IF(AK35=\"\",\"\",(('PCB data'!$K34/100)*AK35))","v":""},{"$f":"IF(AL35=\"\",\"\",(('PCB data'!$K34/100)*AL35))","v":""}]
[null,null,null,null,null,null,null,"","","","",{"$f":"IF(L36=\"\",\"\",(('PCB data'!$K35/100)*L36))","v":""},{"$f":"IF(M36=\"\",\"\",(('PCB data'!$K35/100)*M36))","v":""},{"$f":"IF(N36=\"\",\"\",(('PCB data'!$K35/100)*N36))","v":""},{"$f":"IF(O36=\"\",\"\",(('PCB data'!$K35/100)*O36))","v":""},{"$f":"IF(P36=\"\",\"\",(('PCB data'!$K35/100)*P36))","v":""},{"$f":"IF(Q36=\"\",\"\",(('PCB data'!$K35/100)*Q36))","v":""},{"$f":"IF(R36=\"\",\"\",(('PCB data'!$K35/100)*R36))","v":""},{"$f":"IF(S36=\"\",\"\",(('PCB data'!$K35/100)*S36))","v":""},{"$f":"IF(T36=\"\",\"\",(('PCB data'!$K35/100)*T36))","v":""},{"$f":"IF(U36=\"\",\"\",(('PCB data'!$K35/100)*U36))","v":""},{"$f":"IF(V36=\"\",\"\",(('PCB data'!$K35/100)*V36))","v":""},{"$f":"IF(W36=\"\",\"\",(('PCB data'!$K35/100)*W36))","v":""},{"$f":"IF(X36=\"\",\"\",(('PCB data'!$K35/100)*X36))","v":""},{"$f":"IF(Y36=\"\",\"\",(('PCB data'!$K35/100)*Y36))","v":""},{"$f":"IF(Z36=\"\",\"\",(('PCB data'!$K35/100)*Z36))","v":""},{"$f":"IF(AA36=\"\",\"\",(('PCB data'!$K35/100)*AA36))","v":""},{"$f":"IF(AB36=\"\",\"\",(('PCB data'!$K35/100)*AB36))","v":""},{"$f":"IF(AC36=\"\",\"\",(('PCB data'!$K35/100)*AC36))","v":""},{"$f":"IF(AD36=\"\",\"\",(('PCB data'!$K35/100)*AD36))","v":""},{"$f":"IF(AE36=\"\",\"\",(('PCB data'!$K35/100)*AE36))","v":""},{"$f":"IF(AF36=\"\",\"\",(('PCB data'!$K35/100)*AF36))","v":""},{"$f":"IF(AG36=\"\",\"\",(('PCB data'!$K35/100)*AG36))","v":""},{"$f":"IF(AH36=\"\",\"\",(('PCB data'!$K35/100)*AH36))","v":""},{"$f":"IF(AI36=\"\",\"\",(('PCB data'!$K35/100)*AI36))","v":""},{"$f":"IF(AJ36=\"\",\"\",(('PCB data'!$K35/100)*AJ36))","v":""},{"$f":"IF(AK36=\"\",\"\",(('PCB data'!$K35/100)*AK36))","v":""},{"$f":"IF(AL36=\"\",\"\",(('PCB data'!$K35/100)*AL36))","v":""}]
[null,null,null,null,null,null,null,"","","","",{"$f":"IF(L37=\"\",\"\",(('PCB data'!$K36/100)*L37))","v":""},{"$f":"IF(M37=\"\",\"\",(('PCB data'!$K36/100)*M37))","v":""},{"$f":"IF(N37=\"\",\"\",(('PCB data'!$K36/100)*N37))","v":""},{"$f":"IF(O37=\"\",\"\",(('PCB data'!$K36/100)*O37))","v":""},{"$f":"IF(P37=\"\",\"\",(('PCB data'!$K36/100)*P37))","v":""},{"$f":"IF(Q37=\"\",\"\",(('PCB data'!$K36/100)*Q37))","v":""},{"$f":"IF(R37=\"\",\"\",(('PCB data'!$K36/100)*R37))","v":""},{"$f":"IF(S37=\"\",\"\",(('PCB data'!$K36/100)*S37))","v":""},{"$f":"IF(T37=\"\",\"\",(('PCB data'!$K36/100)*T37))","v":""},{"$f":"IF(U37=\"\",\"\",(('PCB data'!$K36/100)*U37))","v":""},{"$f":"IF(V37=\"\",\"\",(('PCB data'!$K36/100)*V37))","v":""},{"$f":"IF(W37=\"\",\"\",(('PCB data'!$K36/100)*W37))","v":""},{"$f":"IF(X37=\"\",\"\",(('PCB data'!$K36/100)*X37))","v":""},{"$f":"IF(Y37=\"\",\"\",(('PCB data'!$K36/100)*Y37))","v":""},{"$f":"IF(Z37=\"\",\"\",(('PCB data'!$K36/100)*Z37))","v":""},{"$f":"IF(AA37=\"\",\"\",(('PCB data'!$K36/100)*AA37))","v":""},{"$f":"IF(AB37=\"\",\"\",(('PCB data'!$K36/100)*AB37))","v":""},{"$f":"IF(AC37=\"\",\"\",(('PCB data'!$K36/100)*AC37))","v":""},{"$f":"IF(AD37=\"\",\"\",(('PCB data'!$K36/100)*AD37))","v":""},{"$f":"IF(AE37=\"\",\"\",(('PCB data'!$K36/100)*AE37))","v":""},{"$f":"IF(AF37=\"\",\"\",(('PCB data'!$K36/100)*AF37))","v":""},{"$f":"IF(AG37=\"\",\"\",(('PCB data'!$K36/100)*AG37))","v":""},{"$f":"IF(AH37=\"\",\"\",(('PCB data'!$K36/100)*AH37))","v":""},{"$f":"IF(AI37=\"\",\"\",(('PCB data'!$K36/100)*AI37))","v":""},{"$f":"IF(AJ37=\"\",\"\",(('PCB data'!$K36/100)*AJ37))","v":""},{"$f":"IF(AK37=\"\",\"\",(('PCB data'!$K36/100)*AK37))","v":""},{"$f":"IF(AL37=\"\",\"\",(('PCB data'!$K36/100)*AL37))","v":""}]
[null,null,null,null,null,null,null,"","","","",{"$f":"IF(L38=\"\",\"\",(('PCB data'!$K37/100)*L38))","v":""},{"$f":"IF(M38=\"\",\"\",(('PCB data'!$K37/100)*M38))","v":""},{"$f":"IF(N38=\"\",\"\",(('PCB data'!$K37/100)*N38))","v":""},{"$f":"IF(O38=\"\",\"\",(('PCB data'!$K37/100)*O38))","v":""},{"$f":"IF(P38=\"\",\"\",(('PCB data'!$K37/100)*P38))","v":""},{"$f":"IF(Q38=\"\",\"\",(('PCB data'!$K37/100)*Q38))","v":""},{"$f":"IF(R38=\"\",\"\",(('PCB data'!$K37/100)*R38))","v":""},{"$f":"IF(S38=\"\",\"\",(('PCB data'!$K37/100)*S38))","v":""},{"$f":"IF(T38=\"\",\"\",(('PCB data'!$K37/100)*T38))","v":""},{"$f":"IF(U38=\"\",\"\",(('PCB data'!$K37/100)*U38))","v":""},{"$f":"IF(V38=\"\",\"\",(('PCB data'!$K37/100)*V38))","v":""},{"$f":"IF(W38=\"\",\"\",(('PCB data'!$K37/100)*W38))","v":""},{"$f":"IF(X38=\"\",\"\",(('PCB data'!$K37/100)*X38))","v":""},{"$f":"IF(Y38=\"\",\"\",(('PCB data'!$K37/100)*Y38))","v":""},{"$f":"IF(Z38=\"\",\"\",(('PCB data'!$K37/100)*Z38))","v":""},{"$f":"IF(AA38=\"\",\"\",(('PCB data'!$K37/100)*AA38))","v":""},{"$f":"IF(AB38=\"\",\"\",(('PCB data'!$K37/100)*AB38))","v":""},{"$f":"IF(AC38=\"\",\"\",(('PCB data'!$K37/100)*AC38))","v":""},{"$f":"IF(AD38=\"\",\"\",(('PCB data'!$K37/100)*AD38))","v":""},{"$f":"IF(AE38=\"\",\"\",(('PCB data'!$K37/100)*AE38))","v":""},{"$f":"IF(AF38=\"\",\"\",(('PCB data'!$K37/100)*AF38))","v":""},{"$f":"IF(AG38=\"\",\"\",(('PCB data'!$K37/100)*AG38))","v":""},{"$f":"IF(AH38=\"\",\"\",(('PCB data'!$K37/100)*AH38))","v":""},{"$f":"IF(AI38=\"\",\"\",(('PCB data'!$K37/100)*AI38))","v":""},{"$f":"IF(AJ38=\"\",\"\",(('PCB data'!$K37/100)*AJ38))","v":""},{"$f":"IF(AK38=\"\",\"\",(('PCB data'!$K37/100)*AK38))","v":""},{"$f":"IF(AL38=\"\",\"\",(('PCB data'!$K37/100)*AL38))","v":""}]
[null,null,null,null,null,null,null,null,null,"Averages:",null,{"$f":"IF(COUNT(L51:L80)<1,\"\", AVERAGE(L51:L80))","v":2.6353374999999997E-4},9.391750000000001E-5,2.7306999999999999E-4,3.1077999999999998E-4,6.1243750000000008E-5,3.0088625000000002E-4,6.6686250000000009E-5,3.2071874999999999E-4,1.115825E-4,4.3098250000000001E-4,4.2956250000000004E-5,{"$error":"#VALUE!"},1.2867E-4,8.1180000000000005E-5,3.46895E-4,8.1598749999999999E-5,2.4652375000000005E-4,1.117E-4,1.9189125E-4,1.5706000000000002E-4,1.2313E-4,5.077125000000001E-5,1.2688749999999999E-4,1.7894874999999999E-4,1.9950750000000003E-4,2.0239174999999998E-3,4.3431075000000003E-3]
[]
[]
[]
[null,null,null,null,null,null,null,"Removal of excluded areas"]
[]
[null,null,null,null,null,null,null,"Laboratory sample number","Dredge Area","Excluded (y if yes)","Sample ID(s)","PCBs as mg/kg wet weight",null,null,null,null,null,null,null,null,null,null,null,null,null,null,null,null,null,null,null,null,null,null,null,null,"ICES 7","Total 25 congeners"]
[null,null,null,null,null,null,null,null,null,null,null,"2,2',4,5,5'-Pentachlorobiphenyl","2,3,3',4,4'-Pentachlorobiphenyl","2,3,3',4',6-Pentachlorobiphenyl","2,3',4,4',5-Pentachlorobiphenyl","2,2',3,3',4,4'-Hexachlorobiphenyl","2,2',3,4,4',5'-Hexachlorobiphenyl","2,2',3,4,5,5'-Hexachlorobiphenyl","2,2',3,4',5',6-Hexachlorobiphenyl","2,2',3,5,5',6-Hexachlorobiphenyl","2,2',4,4',5,5'-Hexachlorobiphenyl","2,3,3',4,4',5-Hexachlorobiphenyl","2,3,3',4,4',6-Hexachlorobiphenyl","2,2',3,3',4,4',5-Heptachlorobiphenyl","2,2',5- Trichlorobiphenyl","2,2',3,4,4',5,5'-Heptachlorobiphenyl","2,2',3,4,4',5',6-Heptachlorobiphenyl","2,2',3,4',5,5',6-Heptachlorobiphenyl","2,2',3,3',4,4',5,5'-Octachlorobiphenyl","2,4,4'-Trichlorobiphenyl","2,4',5-Trichlorobiphenyl","2,2',3,5'-Tetrachlorobiphenyl","2,2',4,4'-Tetrachlorobiphenyl","2,2',4,5'-Tetrachlorobiphenyl","2,2',5,5'-Tetrachlorobiphenyl","2,3',4,4'-Tetrachlorobiphenyl"]
[null,null,null,null,null,null,null,null,null,null,null,"CB101","CB105","CB110","CB118","CB128","CB138","CB141","CB149","CB151","CB153","CB156","CB158","CB170","CB18","CB180","CB183","CB187","CB194","CB28","CB31","CB44","CB47","CB49","CB52","CB66"]
[null,null,null,null,null,null,null,{"$f":"IF(H51=\"\",\"\",H51)","v":"MAR02481.001"},{"$f":"IF($J51=\"y\",\"\",I51)","v":""},"",1,{"$f":"IF($J51=\"y\",\"\",L51)","v":1.7169000000000003E-4},{"$f":"IF($J51=\"y\",\"\",M51)","v":4.6560000000000008E-5},1.6005000000000004E-4,1.9788000000000005E-4,3.7830000000000002E-5,3.0846000000000004E-4,6.4020000000000014E-5,3.2010000000000008E-4,1.1349000000000001E-4,4.0158000000000001E-4,2.3280000000000004E-5,5.5290000000000008E-5,1.6587000000000001E-4,4.9470000000000013E-5,4.4814000000000003E-4,1.1058000000000002E-4,3.1137000000000005E-4,1.5132000000000001E-4,1.2513000000000002E-4,1.0185000000000001E-4,9.0210000000000005E-5,3.7830000000000002E-5,8.1479999999999999E-5,1.1058000000000002E-4,1.3386000000000002E-4,{"$f":"IF($J51=\"y\",\"\",AK51)","v":1.7634600000000003E-3},{"$f":"IF($J51=\"y\",\"\",AL51)","v":3.8179200000000003E-3}]
[null,null,null,null,null,null,null,"MAR02481.002","","",2,{"$f":"IF($J52=\"y\",\"\",L52)","v":1.5623999999999998E-4},5.8589999999999993E-5,1.7018999999999997E-4,1.4786999999999998E-4,2.5109999999999998E-5,2.3993999999999996E-4,5.0219999999999997E-5,3.0131999999999999E-4,1.4507999999999996E-4,3.8501999999999992E-4,3.3479999999999998E-5,4.464E-5,1.6181999999999999E-4,5.3009999999999996E-5,4.9940999999999994E-4,8.6489999999999994E-5,3.8780999999999993E-4,1.4786999999999998E-4,1.2554999999999999E-4,1.0601999999999999E-4,9.4859999999999996E-5,3.9059999999999995E-5,9.2069999999999991E-5,1.1717999999999999E-4,1.3949999999999998E-4,1.6712099999999998E-3,3.8083499999999998E-3]
[null,null,null,null,null,null,null,"MAR02481.003","","",3,{"$f":"IF($J53=\"y\",\"\",L53)","v":2.2507000000000001E-4},7.9250000000000002E-5,2.2824000000000002E-4,2.2824000000000002E-4,7.2910000000000005E-5,2.4409E-4,7.2910000000000005E-5,3.8990999999999999E-4,1.6167000000000002E-4,5.1353999999999994E-4,3.4870000000000003E-5,3.8040000000000002E-5,1.7751999999999999E-4,7.9250000000000002E-5,5.7377000000000003E-4,1.0461E-4,3.7406000000000001E-4,1.9971000000000002E-4,1.8069000000000001E-4,1.3948000000000001E-4,1.2363000000000001E-4,5.3890000000000008E-5,1.2680000000000002E-4,1.8703E-4,1.8069000000000001E-4,2.1524299999999999E-3,4.7898699999999999E-3]
[null,null,null,null,null,null,null,"MAR02481.004","","",4,{"$f":"IF($J54=\"y\",\"\",L54)","v":3.4450000000000003E-4},9.7499999999999998E-5,3.0875E-4,3.4775000000000002E-4,6.175000000000001E-5,3.1199999999999999E-4,5.5250000000000008E-5,3.8999999999999999E-4,1.3000000000000002E-4,5.1350000000000007E-4,4.5499999999999995E-5,5.2000000000000004E-5,1.5275E-4,1.0075000000000001E-4,4.2575000000000002E-4,1.2350000000000002E-4,3.2174999999999999E-4,1.4300000000000001E-4,2.2425E-4,1.7875000000000001E-4,1.5275E-4,7.4750000000000001E-5,1.7550000000000001E-4,2.3724999999999999E-4,2.3400000000000002E-4,2.405E-3,5.2032499999999987E-3]
[null,null,null,null,null,null,null,"MAR02481.015","","",17,{"$f":"IF($J55=\"y\",\"\",L55)","v":2.5427999999999996E-4},1.0758E-4,2.7383999999999997E-4,3.0318000000000001E-4,6.8459999999999992E-5,2.3472E-4,7.3349999999999994E-5,2.3960999999999999E-4,8.8020000000000001E-5,3.9608999999999998E-4,3.9120000000000005E-5,{"$error":"#VALUE!"},7.3349999999999994E-5,7.824000000000001E-5,1.8092999999999999E-4,4.401E-5,1.5159E-4,5.8680000000000001E-5,2.0049E-4,1.7604E-4,1.2224999999999999E-4,4.8900000000000003E-5,1.2224999999999999E-4,1.7604E-4,1.9560000000000001E-4,1.7457299999999998E-3,3.7066200000000007E-3]
[null,null,null,null,null,null,null,"MAR02481.016","","",18,{"$f":"IF($J56=\"y\",\"\",L56)","v":3.6225E-4},1.3649999999999998E-4,3.8325000000000002E-4,4.8300000000000003E-4,6.8249999999999992E-5,5.2500000000000008E-4,5.2500000000000002E-5,3.4124999999999997E-4,8.4000000000000009E-5,4.8825000000000002E-4,6.3E-5,8.4000000000000009E-5,8.9250000000000015E-5,8.4000000000000009E-5,1.8900000000000001E-4,8.4000000000000009E-5,1.3125000000000002E-4,7.3499999999999998E-5,1.9950000000000002E-4,1.7850000000000003E-4,1.3649999999999998E-4,5.2500000000000002E-5,1.47E-4,2.0475000000000002E-4,2.5724999999999999E-4,2.4517499999999999E-3,4.8982500000000007E-3]
[null,null,null,null,null,null,null,"MAR02481.017","","",19,{"$f":"IF($J57=\"y\",\"\",L57)","v":2.6400000000000002E-4},9.1200000000000008E-5,2.7839999999999999E-4,3.5519999999999996E-4,5.7599999999999997E-5,1.92E-4,6.7199999999999994E-5,2.6879999999999997E-4,6.7199999999999994E-5,3.2160000000000001E-4,5.2800000000000003E-5,{"$error":"#VALUE!"},1.0560000000000001E-4,9.1200000000000008E-5,2.208E-4,4.8000000000000001E-5,1.3439999999999999E-4,5.7599999999999997E-5,2.1120000000000001E-4,1.4879999999999998E-4,1.1519999999999999E-4,5.2800000000000003E-5,1.1519999999999999E-4,1.872E-4,1.92E-4,1.7520000000000001E-3,3.6960000000000001E-3]
[null,null,null,null,null,null,null,"MAR02481.018","","",20,{"$f":"IF($J58=\"y\",\"\",L58)","v":3.3024000000000004E-4},1.3416E-4,3.8183999999999999E-4,4.2312000000000003E-4,9.8040000000000003E-5,3.5088000000000003E-4,9.8040000000000003E-5,3.1475999999999997E-4,1.032E-4,4.2828000000000001E-4,5.1600000000000001E-5,6.1920000000000003E-5,1.032E-4,1.1352000000000001E-4,2.3736000000000002E-4,5.1600000000000001E-5,1.5996000000000001E-4,6.1920000000000003E-5,2.6832000000000001E-4,2.2704000000000002E-4,1.4964000000000001E-4,4.6440000000000003E-5,1.548E-4,2.1156000000000001E-4,2.6316000000000002E-4,2.24976E-3,4.8246000000000001E-3]
[null,null,null,null,null,null,null,"","","","",{"$f":"IF($J59=\"y\",\"\",L59)","v":""},"","","","","","","","","","","","","","","","","","","","","","","","","",""]
[null,null,null,null,null,null,null,"","","","",{"$f":"IF($J60=\"y\",\"\",L60)","v":""},"","","","","","","","","","","","","","","","","","","","","","","","","",""]
[null,null,null,null,null,null,null,{"$f":"IF(H61=\"\",\"\",H61)","v":""},"","","",{"$f":"IF($J61=\"y\",\"\",L61)","v":""},"","","","","","","","","","","","","","","","","","","","","","","","","",""]
[null,null,null,null,null,null,null,"","","","",{"$f":"IF($J62=\"y\",\"\",L62)","v":""},"","","","","","","","","","","","","","","","","","","","","","","","","",""]
[null,null,null,null,null,null,null,"","","","",{"$f":"IF($J63=\"y\",\"\",L63)","v":""},"","","","","","","","","","","","","","","","","","","","","","","","","",""]
[null,null,null,null,null,null,null,"","","","",{"$f":"IF($J64=\"y\",\"\",L64)","v":""},"","","","","","","","","","","","","","","","","","","","","","","","","",""]
[null,null,null,null,null,null,null,"","","","",{"$f":"IF($J65=\"y\",\"\",L65)","v":""},"","","","","","","","","","","","","","","","","","","","","","","","","",""]
[null,null,null,null,null,null,null,"","","","",{"$f":"IF($J66=\"y\",\"\",L66)","v":""},"","","","","","","","","","","","","","","","","","","","","","","","","",""]
[null,null,null,null,null,null,null,"","","","",{"$f":"IF($J67=\"y\",\"\",L67)","v":""},"","","","","","","","","","","","","","","","","","","","","","","","","",""]
[null,null,null,null,null,null,null,"","","","",{"$f":"IF($J68=\"y\",\"\",L68)","v":""},"","","","","","","","","","","","","","","","","","","","","","","","","",""]
[null,null,null,null,null,null,null,"","","","",{"$f":"IF($J69=\"y\",\"\",L69)","v":""},"","","","","","","","","","","","","","","","","","","","","","","","","",""]
[null,null,null,null,null,null,null,"","","","",{"$f":"IF($J70=\"y\",\"\",L70)","v":""},"","","","","","","","","","","","","","","","","","","","","","","","","",""]
[null,null,null,null,null,null,null,{"$f":"IF(H71=\"\",\"\",H71)","v":""},"","","",{"$f":"IF($J71=\"y\",\"\",L71)","v":""},"","","","","","","","","","","","","","","","","","","","","","","","","",""]
[null,null,null,null,null,null,null,"","","","",{"$f":"IF($J72=\"y\",\"\",L72)","v":""},"","","","","","","","","","","","","","","","","","","","","","","","","",""]
[null,null,null,null,null,null,null,"","","","",{"$f":"IF($J73=\"y\",\"\",L73)","v":""},"","","","","","","","","","","","","","","","","","","","","","","","","",""]
[null,null,null,null,null,null,null,"","","","",{"$f":"IF($J74=\"y\",\"\",L74)","v":""},"","","","","","","","","","","","","","","","","","","","","","","","","",""]
[null,null,null,null,null,null,null,"","","","",{"$f":"IF($J75=\"y\",\"\",L75)","v":""},"","","","","","","","","","","","","","","","","","","","","","","","","",""]
[null,null,null,null,null,null,null,"","","","",{"$f":"IF($J76=\"y\",\"\",L76)","v":""},"","","","","","","","","","","","","","","","","","","","","","","","","",""]
[null,null,null,null,null,null,null,"","","","",{"$f":"IF($J77=\"y\",\"\",L77)","v":""},"","","","","","","","","","","","","","","","","","","","","","","","","",""]
[null,null,null,null,null,null,null,"","","","",{"$f":"IF($J78=\"y\",\"\",L78)","v":""},"","","","","","","","","","","","","","","","","","","","","","","","","",""]
[null,null,null,null,null,null,null,"","","","",{"$f":"IF($J79=\"y\",\"\",L79)","v":""},"","","","","","","","","","","","","","","","","","","","","","","","","",""]
[null,null,null,null,null,null,null,"","","","",{"$f":"IF($J80=\"y\",\"\",L80)","v":""},"","","","","","","","","","","","","","","","","","","","","","","","","",""]
[null,null,null,null,null,null,null,null,null,"Averages:",null,{"$f":"IF(COUNT(L90:L119)<1,\"\", AVERAGE(L90:L119))","v":2.6353374999999997E-4},9.391750000000001E-5,2.7306999999999999E-4,3.1077999999999998E-4,6.1243750000000008E-5,3.0088625000000002E-4,6.6686250000000009E-5,3.2071874999999999E-4,1.115825E-4,4.3098250000000001E-4,4.2956250000000004E-5,{"$error":"#VALUE!"},1.2867E-4,8.1180000000000005E-5,3.46895E-4,8.1598749999999999E-5,2.4652375000000005E-4,1.117E-4,1.9189125E-4,1.5706000000000002E-4,1.2313E-4,5.077125000000001E-5,1.2688749999999999E-4,1.7894874999999999E-4,1.9950750000000003E-4,2.0239174999999998E-3,4.3431075000000003E-3]
[]
[]
[]
[null,null,null,null,null,null,null,"Force significant figures"]
[]
[null,null,null,null,null,null,null,"Laboratory sample number","Dredge Area","Excluded (y if yes)","Sample ID(s)","PCBs as mg/kg wet weight",null,null,null,null,null,null,null,null,null,null,null,null,null,null,null,null,null,null,null,null,null,null,null,null,"ICES 7","Total 25 congeners"]
[null,null,null,null,null,null,null,null,null,null,null,"2,2',4,5,5'-Pentachlorobiphenyl","2,3,3',4,4'-Pentachlorobiphenyl","2,3,3',4',6-Pentachlorobiphenyl","2,3',4,4',5-Pentachlorobiphenyl","2,2',3,3',4,4'-Hexachlorobiphenyl","2,2',3,4,4',5'-Hexachlorobiphenyl","2,2',3,4,5,5'-Hexachlorobiphenyl","2,2',3,4',5',6-Hexachlorobiphenyl","2,2',3,5,5',6-Hexachlorobiphenyl","2,2',4,4',5,5'-Hexachlorobiphenyl","2,3,3',4,4',5-Hexachlorobiphenyl","2,3,3',4,4',6-Hexachlorobiphenyl","2,2',3,3',4,4',5-Heptachlorobiphenyl","2,2',5- Trichlorobiphenyl","2,2',3,4,4',5,5'-Heptachlorobiphenyl","2,2',3,4,4',5',6-Heptachlorobiphenyl","2,2',3,4',5,5',6-Heptachlorobiphenyl","2,2',3,3',4,4',5,5'-Octachlorobiphenyl","2,4,4'-Trichlorobiphenyl","2,4',5-Trichlorobiphenyl","2,2',3,5'-Tetrachlorobiphenyl","2,2',4,4'-Tetrachlorobiphenyl","2,2',4,5'-Tetrachlorobiphenyl","2,2',5,5'-Tetrachlorobiphenyl","2,3',4,4'-Tetrachlorobiphenyl"]
[null,null,null,null,null,null,null,null,null,null,null,"CB101","CB105","CB110","CB118","CB128","CB138","CB141","CB149","CB151","CB153","CB156","CB158","CB170","CB18","CB180","CB183","CB187","CB194","CB28","CB31","CB44","CB47","CB49","CB52","CB66"]
[null,null,null,null,null,null,null,{"$f":"IF(H90=\"\",\"\",H90)","v":"MAR02481.001"},"","",1,{"$f":"IF(L90=\"\",\"\",IF(L90=0,0,(ROUND(L90,3-1-INT(LOG10(ABS(L90)))))))","v":1.7200000000000001E-4},{"$f":"IF(M90=\"\",\"\",IF(M90=0,0,(ROUND(M90,3-1-INT(LOG10(ABS(M90)))))))","v":4.6600000000000001E-5},1.6000000000000001E-4,1.9799999999999999E-4,3.7799999999999997E-5,3.0800000000000001E-4,6.3999999999999997E-5,3.2000000000000003E-4,1.13E-4,4.0200000000000001E-4,2.3300000000000001E-5,5.5300000000000002E-5,1.66E-4,4.9499999999999997E-5,4.4799999999999999E-4,1.11E-4,3.1100000000000002E-4,1.5100000000000001E-4,1.25E-4,1.02E-4,9.0199999999999997E-5,3.7799999999999997E-5,8.1500000000000002E-5,1.11E-4,1.34E-4,1.7600000000000001E-3,3.82E-3]
[null,null,null,null,null,null,null,{"$f":"IF(H91=\"\",\"\",H91)","v":"MAR02481.002"},"","",2,{"$f":"IF(L91=\"\",\"\",IF(L91=0,0,(ROUND(L91,3-1-INT(LOG10(ABS(L91)))))))","v":1.56E-4},5.8600000000000001E-5,1.7000000000000001E-4,1.4799999999999999E-4,2.51E-5,2.4000000000000001E-4,5.02E-5,3.01E-4,1.45E-4,3.8499999999999998E-4,3.3500000000000001E-5,4.46E-5,1.6200000000000001E-4,5.3000000000000001E-5,4.9899999999999999E-4,8.6500000000000002E-5,3.88E-4,1.4799999999999999E-4,1.26E-4,1.06E-4,9.4900000000000003E-5,3.9100000000000002E-5,9.2100000000000003E-5,1.17E-4,1.3999999999999999E-4,1.67E-3,3.81E-3]
[null,null,null,null,null,null,null,{"$f":"IF(H92=\"\",\"\",H92)","v":"MAR02481.003"},"","",3,{"$f":"IF(L92=\"\",\"\",IF(L92=0,0,(ROUND(L92,3-1-INT(LOG10(ABS(L92)))))))","v":2.2499999999999999E-4},7.9300000000000003E-5,2.2800000000000001E-4,2.2800000000000001E-4,7.2899999999999997E-5,2.4399999999999999E-4,7.2899999999999997E-5,3.8999999999999999E-4,1.6200000000000001E-4,5.1400000000000003E-4,3.4900000000000001E-5,3.8000000000000002E-5,1.7799999999999999E-4,7.9300000000000003E-5,5.7399999999999997E-4,1.05E-4,3.7399999999999998E-4,2.0000000000000001E-4,1.8100000000000001E-4,1.3899999999999999E-4,1.2400000000000001E-4,5.3900000000000002E-5,1.27E-4,1.8699999999999999E-4,1.8100000000000001E-4,2.15E-3,4.79E-3]
[null,null,null,null,null,null,null,{"$f":"IF(H93=\"\",\"\",H93)","v":"MAR02481.004"},"","",4,{"$f":"IF(L93=\"\",\"\",IF(L93=0,0,(ROUND(L93,3-1-INT(LOG10(ABS(L93)))))))","v":3.4499999999999998E-4},9.7499999999999998E-5,3.0899999999999998E-4,3.48E-4,6.1799999999999998E-5,3.1199999999999999E-4,5.5300000000000002E-5,3.8999999999999999E-4,1.2999999999999999E-4,5.1400000000000003E-4,4.5500000000000001E-5,5.1999999999999997E-5,1.5300000000000001E-4,1.01E-4,4.26E-4,1.2400000000000001E-4,3.2200000000000002E-4,1.4300000000000001E-4,2.24E-4,1.7899999999999999E-4,1.5300000000000001E-4,7.4800000000000002E-5,1.76E-4,2.3699999999999999E-4,2.34E-4,2.4099999999999998E-3,5.1999999999999998E-3]
[null,null,null,null,null,null,null,{"$f":"IF(H94=\"\",\"\",H94)","v":"MAR02481.015"},"","",17,{"$f":"IF(L94=\"\",\"\",IF(L94=0,0,(ROUND(L94,3-1-INT(LOG10(ABS(L94)))))))","v":2.5399999999999999E-4},1.08E-4,2.7399999999999999E-4,3.0299999999999999E-4,6.8499999999999998E-5,2.3499999999999999E-4,7.3399999999999995E-5,2.4000000000000001E-4,8.7999999999999998E-5,3.9599999999999998E-4,3.9100000000000002E-5,{"$error":"#VALUE!"},7.3399999999999995E-5,7.8200000000000003E-5,1.8100000000000001E-4,4.3999999999999999E-5,1.5200000000000001E-4,5.8699999999999997E-5,2.0000000000000001E-4,1.76E-4,1.22E-4,4.8900000000000003E-5,1.22E-4,1.76E-4,1.9599999999999999E-4,1.75E-3,3.7100000000000002E-3]
[null,null,null,null,null,null,null,{"$f":"IF(H95=\"\",\"\",H95)","v":"MAR02481.016"},"","",18,{"$f":"IF(L95=\"\",\"\",IF(L95=0,0,(ROUND(L95,3-1-INT(LOG10(ABS(L95)))))))","v":3.6200000000000002E-4},1.37E-4,3.8299999999999999E-4,4.8299999999999998E-4,6.8300000000000007E-5,5.2499999999999997E-4,5.2500000000000002E-5,3.4099999999999999E-4,8.3999999999999995E-5,4.8799999999999999E-4,6.3E-5,8.3999999999999995E-5,8.9300000000000002E-5,8.3999999999999995E-5,1.8900000000000001E-4,8.3999999999999995E-5,1.3100000000000001E-4,7.3499999999999998E-5,2.0000000000000001E-4,1.7899999999999999E-4,1.37E-4,5.2500000000000002E-5,1.47E-4,2.05E-4,2.5700000000000001E-4,2.4499999999999999E-3,4.8999999999999998E-3]
[null,null,null,null,null,null,null,{"$f":"IF(H96=\"\",\"\",H96)","v":"MAR02481.017"},"","",19,{"$f":"IF(L96=\"\",\"\",IF(L96=0,0,(ROUND(L96,3-1-INT(LOG10(ABS(L96)))))))","v":2.6400000000000002E-4},9.1199999999999994E-5,2.7799999999999998E-4,3.5500000000000001E-4,5.7599999999999997E-5,1.92E-4,6.7199999999999994E-5,2.6899999999999998E-4,6.7199999999999994E-5,3.2200000000000002E-4,5.2800000000000003E-5,{"$error":"#VALUE!"},1.06E-4,9.1199999999999994E-5,2.2100000000000001E-4,4.8000000000000001E-5,1.34E-4,5.7599999999999997E-5,2.1100000000000001E-4,1.4899999999999999E-4,1.15E-4,5.2800000000000003E-5,1.15E-4,1.8699999999999999E-4,1.92E-4,1.75E-3,3.7000000000000002E-3]
[null,null,null,null,null,null,null,{"$f":"IF(H97=\"\",\"\",H97)","v":"MAR02481.018"},"","",20,{"$f":"IF(L97=\"\",\"\",IF(L97=0,0,(ROUND(L97,3-1-INT(LOG10(ABS(L97)))))))","v":3.3E-4},1.34E-4,3.8200000000000002E-4,4.2299999999999998E-4,9.7999999999999997E-5,3.5100000000000002E-4,9.7999999999999997E-5,3.1500000000000001E-4,1.03E-4,4.28E-4,5.1600000000000001E-5,6.19E-5,1.03E-4,1.1400000000000001E-4,2.3699999999999999E-4,5.1600000000000001E-5,1.6000000000000001E-4,6.19E-5,2.6800000000000001E-4,2.2699999999999999E-4,1.4999999999999999E-4,4.6400000000000003E-5,1.55E-4,2.12E-4,2.63E-4,2.2499999999999998E-3,4.8199999999999996E-3]
[null,null,null,null,null,null,null,{"$f":"IF(H98=\"\",\"\",H98)","v":""},"","","",{"$f":"IF(L98=\"\",\"\",IF(L98=0,0,(ROUND(L98,3-1-INT(LOG10(ABS(L98)))))))","v":""},"","","","","","","","","","","","","","","","","","","","","","","","","",""]
[null,null,null,null,null,null,null,{"$f":"IF(H99=\"\",\"\",H99)","v":""},"","","",{"$f":"IF(L99=\"\",\"\",IF(L99=0,0,(ROUND(L99,3-1-INT(LOG10(ABS(L99)))))))","v":""},"","","","","","","","","","","","","","","","","","","","","","","","","",""]
[null,null,null,null,null,null,null,{"$f":"IF(H100=\"\",\"\",H100)","v":""},"","","",{"$f":"IF(L100=\"\",\"\",IF(L100=0,0,(ROUND(L100,3-1-INT(LOG10(ABS(L100)))))))","v":""},"","","","","","","","","","","","","","","","","","","","","","","","","",""]
[null,null,null,null,null,null,null,{"$f":"IF(H101=\"\",\"\",H101)","v":""},"","","",{"$f":"IF(L101=\"\",\"\",IF(L101=0,0,(ROUND(L101,3-1-INT(LOG10(ABS(L101)))))))","v":""},"","","","","","","","","","","","","","","","","","","","","","","","","",""]
[null,null,null,null,null,null,null,{"$f":"IF(H102=\"\",\"\",H102)","v":""},"","","",{"$f":"IF(L102=\"\",\"\",IF(L102=0,0,(ROUND(L102,3-1-INT(LOG10(ABS(L102)))))))","v":""},"","","","","","","","","","","","","","","","","","","","","","","","","",""]
[null,null,null,null,null,null,null,{"$f":"IF(H103=\"\",\"\",H103)","v":""},"","","",{"$f":"IF(L103=\"\",\"\",IF(L103=0,0,(ROUND(L103,3-1-INT(LOG10(ABS(L103)))))))","v":""},"","","","","","","","","","","","","","","","","","","","","","","","","",""]
[null,null,null,null,null,null,null,{"$f":"IF(H104=\"\",\"\",H104)","v":""},"","","",{"$f":"IF(L104=\"\",\"\",IF(L104=0,0,(ROUND(L104,3-1-INT(LOG10(ABS(L104)))))))","v":""},"","","","","","","","","","","","","","","","","","","","","","","","","",""]
[null,null,null,null,null,null,null,{"$f":"IF(H105=\"\",\"\",H105)","v":""},"","","",{"$f":"IF(L105=\"\",\"\",IF(L105=0,0,(ROUND(L105,3-1-INT(LOG10(ABS(L105)))))))","v":""},"","","","","","","","","","","","","","","","","","","","","","","","","",""]
[null,null,null,null,null,null,null,{"$f":"IF(H106=\"\",\"\",H106)","v":""},"","","",{"$f":"IF(L106=\"\",\"\",IF(L106=0,0,(ROUND(L106,3-1-INT(LOG10(ABS(L106)))))))","v":""},"","","","","","","","","","","","","","","","","","","","","","","","","",""]
[null,null,null,null,null,null,null,{"$f":"IF(H107=\"\",\"\",H107)","v":""},"","","",{"$f":"IF(L107=\"\",\"\",IF(L107=0,0,(ROUND(L107,3-1-INT(LOG10(ABS(L107)))))))","v":""},"","","","","","","","","","","","","","","","","","","","","","","","","",""]
[null,null,null,null,null,null,null,{"$f":"IF(H108=\"\",\"\",H108)","v":""},"","","",{"$f":"IF(L108=\"\",\"\",IF(L108=0,0,(ROUND(L108,3-1-INT(LOG10(ABS(L108)))))))","v":""},"","","","","","","","","","","","","","","","","","","","","","","","","",""]
[null,null,null,null,null,null,null,{"$f":"IF(H109=\"\",\"\",H109)","v":""},"","","",{"$f":"IF(L109=\"\",\"\",IF(L109=0,0,(ROUND(L109,3-1-INT(LOG10(ABS(L109)))))))","v":""},"","","","","","","","","","","","","","","","","","","","","","","","","",""]
[null,null,null,null,null,null,null,{"$f":"IF(H110=\"\",\"\",H110)","v":""},"","","",{"$f":"IF(L110=\"\",\"\",IF(L110=0,0,(ROUND(L110,3-1-INT(LOG10(ABS(L110)))))))","v":""},"","","","","","","","","","","","","","","","","","","","","","","","","",""]
[null,null,null,null,null,null,null,{"$f":"IF(H111=\"\",\"\",H111)","v":""},"","","",{"$f":"IF(L111=\"\",\"\",IF(L111=0,0,(ROUND(L111,3-1-INT(LOG10(ABS(L111)))))))","v":""},"","","","","","","","","","","","","","","","","","","","","","","","","",""]
[null,null,null,null,null,null,null,{"$f":"IF(H112=\"\",\"\",H112)","v":""},"","","",{"$f":"IF(L112=\"\",\"\",IF(L112=0,0,(ROUND(L112,3-1-INT(LOG10(ABS(L112)))))))","v":""},"","","","","","","","","","","","","","","","","","","","","","","","","",""]
[null,null,null,null,null,null,null,{"$f":"IF(H113=\"\",\"\",H113)","v":""},"","","",{"$f":"IF(L113=\"\",\"\",IF(L113=0,0,(ROUND(L113,3-1-INT(LOG10(ABS(L113)))))))","v":""},"","","","","","","","","","","","","","","","","","","","","","","","","",""]
[null,null,null,null,null,null,null,{"$f":"IF(H114=\"\",\"\",H114)","v":""},"","","",{"$f":"IF(L114=\"\",\"\",IF(L114=0,0,(ROUND(L114,3-1-INT(LOG10(ABS(L114)))))))","v":""},"","","","","","","","","","","","","","","","","","","","","","","","","",""]
[null,null,null,null,null,null,null,{"$f":"IF(H115=\"\",\"\",H115)","v":""},"","","",{"$f":"IF(L115=\"\",\"\",IF(L115=0,0,(ROUND(L115,3-1-INT(LOG10(ABS(L115)))))))","v":""},"","","","","","","","","","","","","","","","","","","","","","","","","",""]
[null,null,null,null,null,null,null,{"$f":"IF(H116=\"\",\"\",H116)","v":""},"","","",{"$f":"IF(L116=\"\",\"\",IF(L116=0,0,(ROUND(L116,3-1-INT(LOG10(ABS(L116)))))))","v":""},"","","","","","","","","","","","","","","","","","","","","","","","","",""]
[null,null,null,null,null,null,null,{"$f":"IF(H117=\"\",\"\",H117)","v":""},"","","",{"$f":"IF(L117=\"\",\"\",IF(L117=0,0,(ROUND(L117,3-1-INT(LOG10(ABS(L117)))))))","v":""},"","","","","","","","","","","","","","","","","","","","","","","","","",""]
[null,null,null,null,null,null,null,{"$f":"IF(H118=\"\",\"\",H118)","v":""},"","","",{"$f":"IF(L118=\"\",\"\",IF(L118=0,0,(ROUND(L118,3-1-INT(LOG10(ABS(L118)))))))","v":""},"","","","","","","","","","","","","","","","","","","","","","","","","",""]
[null,null,null,null,null,null,null,{"$f":"IF(H119=\"\",\"\",H119)","v":""},"","","",{"$f":"IF(L119=\"\",\"\",IF(L119=0,0,(ROUND(L119,3-1-INT(LOG10(ABS(L119)))))))","v":""},"","","","","","","","","","","","","","","","","","","","","","","","","",""]
[null,null,null,null,null,null,null,null,null,"Averages:",null,{"$f":"IF(COUNT(L129:L158)<1,\"\", AVERAGE(L129:L158))","v":2.6349999999999995E-4},9.4024999999999995E-5,2.7299999999999997E-4,3.1074999999999994E-4,6.1249999999999998E-5,3.0087499999999998E-4,6.6687500000000001E-5,3.2075000000000002E-4,1.11525E-4,4.3112500000000003E-4,4.2962500000000001E-5,{"$error":"#VALUE!"},1.2883750000000001E-4,8.1274999999999983E-5,3.4687499999999991E-4,8.1762499999999988E-5,2.4650000000000003E-4,1.117125E-4,1.9187500000000002E-4,1.5712499999999998E-4,1.2326249999999999E-4,5.0774999999999994E-5,1.2695E-4,1.7900000000000001E-4,1.9962500000000001E-4,2.0237499999999999E-3,4.3437500000000004E-3]
[]
[]
[]
[null,null,null,null,null,null,null,"Average of dredge areas"]
[]
[null,null,null,null,null,null,null,null,null,null,"Dredge Area","PCBs as mg/kg wet weight",null,null,null,null,null,null,null,null,null,null,null,null,null,null,null,null,null,null,null,null,null,null,null,null,"ICES 7","Total 25 congeners"]
[null,null,null,null,null,null,null,null,null,null,null,"2,2',4,5,5'-Pentachlorobiphenyl","2,3,3',4,4'-Pentachlorobiphenyl","2,3,3',4',6-Pentachlorobiphenyl","2,3',4,4',5-Pentachlorobiphenyl","2,2',3,3',4,4'-Hexachlorobiphenyl","2,2',3,4,4',5'-Hexachlorobiphenyl","2,2',3,4,5,5'-Hexachlorobiphenyl","2,2',3,4',5',6-Hexachlorobiphenyl","2,2',3,5,5',6-Hexachlorobiphenyl","2,2',4,4',5,5'-Hexachlorobiphenyl","2,3,3',4,4',5-Hexachlorobiphenyl","2,3,3',4,4',6-Hexachlorobiphenyl","2,2',3,3',4,4',5-Heptachlorobiphenyl","2,2',5- Trichlorobiphenyl","2,2',3,4,4',5,5'-Heptachlorobiphenyl","2,2',3,4,4',5',6-Heptachlorobiphenyl","2,2',3,4',5,5',6-Heptachlorobiphenyl","2,2',3,3',4,4',5,5'-Octachlorobiphenyl","2,4,4'-Trichlorobiphenyl","2,4',5-Trichlorobiphenyl","2,2',3,5'-Tetrachlorobiphenyl","2,2',4,4'-Tetrachlorobiphenyl","2,2',4,5'-Tetrachlorobiphenyl","2,2',5,5'-Tetrachlorobiphenyl","2,3',4,4'-Tetrachlorobiphenyl"]
[null,null,null,null,null,null,null,null,null,null,null,"CB101","CB105","CB110","CB118","CB128","CB138","CB141","CB149","CB151","CB153","CB156","CB158","CB170","CB18","CB180","CB183","CB187","CB194","CB28","CB31","CB44","CB47","CB49","CB52","CB66"]
[null,null,null,null,null,null,null,null,null,null,"Area i",{"$f":"IF(COUNTIF($I$129:$I$158,\"Area i\")<1,\"\",AVERAGEIF($I$129:$I$158,\"Area i\",L$129:L$158))","v":""},{"$f":"IF(COUNTIF($I$129:$I$158,\"Area i\")<1,\"\",AVERAGEIF($I$129:$I$158,\"Area i\",M$129:M$158))","v":""},"","","","","","","","","","","","","","","","","","","","","","","","",""]
[null,null,null,null,null,null,null,null,null,null,"Area ii",{"$f":"IF(COUNTIF($I$129:$I$158,\"Area ii\")<1,\"\",AVERAGEIF($I$129:$I$158,\"Area ii\",L$129:L$158))","v":""},{"$f":"IF(COUNTIF($I$129:$I$158,\"Area ii\")<1,\"\",AVERAGEIF($I$129:$I$158,\"Area ii\",M$129:M$158))","v":""},"","","","","","","","","","","","","","","","","","","","","","","","",""]
[null,null,null,null,null,null,null,null,null,null,"Area iii",{"$f":"IF(COUNTIF($I$129:$I$158,\"Area iii\")<1,\"\",AVERAGEIF($I$129:$I$158,\"Area iii\",L$129:L$158))","v":""},{"$f":"IF(COUNTIF($I$129:$I$158,\"Area iii\")<1,\"\",AVERAGEIF($I$129:$I$158,\"Area iii\",M$129:M$158))","v":""},"","","","","","","","","","","","","","","","","","","","","","","","",""]
[null,null,null,null,null,null,null,null,null,null,"Area iv",{"$f":"IF(COUNTIF($I$129:$I$158,\"Area iv\")<1,\"\",AVERAGEIF($I$129:$I$158,\"Area iv\",L$129:L$158))","v":""},{"$f":"IF(COUNTIF($I$129:$I$158,\"Area iv\")<1,\"\",AVERAGEIF($I$129:$I$158,\"Area iv\",M$129:M$158))","v":""},"","","","","","","","","","","","","","","","","","","","","","","","",""]
[null,null,null,null,null,null,null,null,null,null,"Area v",{"$f":"IF(COUNTIF($I$129:$I$158,\"Area v\")<1,\"\",AVERAGEIF($I$129:$I$158,\"Area v\",L$129:L$158))","v":""},{"$f":"IF(COUNTIF($I$129:$I$158,\"Area v\")<1,\"\",AVERAGEIF($I$129:$I$158,\"Area v\",M$129:M$158))","v":""},"","","","","","","","","","","","","","","","","","","","","","","","",""]
[null,null,null,null,null,null,null,null,null,null,"Area vi",{"$f":"IF(COUNTIF($I$129:$I$158,\"Area vi\")<1,\"\",AVERAGEIF($I$129:$I$158,\"Area vi\",L$129:L$158))","v":""},{"$f":"IF(COUNTIF($I$129:$I$158,\"Area vi\")<1,\"\",AVERAGEIF($I$129:$I$158,\"Area vi\",M$129:M$158))","v":""},"","","","","","","","","","","","","","","","","","","","","","","","",""]
[null,null,null,null,null,null,null,null,null,null,"Averages:",{"$f":"IF(COUNT(L168:L173)<1,\"\", AVERAGE(L168:L173))","v":""},{"$f":"IF(COUNT(M168:M173)<1,\"\", AVERAGE(M168:M173))","v":""},"","","","","","","","","","","","","","","","","","","","","","","","",""]
[]
[]
[null,null,null,null,null,null,null,null,null,null,null,null,null,null,null," ",null,null,null,null,null,null,null,null,null,null,null,null," "]
[null,null,null,null,null,null,null,"PR weightings (dredge area averages multiplied by dredge area tonnage)"]
[]
[null,null,null,null,null,null,null,null,null,null,"Dredge Area","PCBs as mg/kg wet weight",null,null,null,null,null,null,null,null,null,null,null,null,null,null,null,null,null,null,null,null,null,null,null,null,"ICES 7","Total 25 congeners"]
[null,null,null,null,null,null,null,null,null,null,null,"2,2',4,5,5'-Pentachlorobiphenyl","2,3,3',4,4'-Pentachlorobiphenyl","2,3,3',4',6-Pentachlorobiphenyl","2,3',4,4',5-Pentachlorobiphenyl","2,2',3,3',4,4'-Hexachlorobiphenyl","2,2',3,4,4',5'-Hexachlorobiphenyl","2,2',3,4,5,5'-Hexachlorobiphenyl","2,2',3,4',5',6-Hexachlorobiphenyl","2,2',3,5,5',6-Hexachlorobiphenyl","2,2',4,4',5,5'-Hexachlorobiphenyl","2,3,3',4,4',5-Hexachlorobiphenyl","2,3,3',4,4',6-Hexachlorobiphenyl","2,2',3,3',4,4',5-Heptachlorobiphenyl","2,2',5- Trichlorobiphenyl","2,2',3,4,4',5,5'-Heptachlorobiphenyl","2,2',3,4,4',5',6-Heptachlorobiphenyl","2,2',3,4',5,5',6-Heptachlorobiphenyl","2,2',3,3',4,4',5,5'-Octachlorobiphenyl","2,4,4'-Trichlorobiphenyl","2,4',5-Trichlorobiphenyl","2,2',3,5'-Tetrachlorobiphenyl","2,2',4,4'-Tetrachlorobiphenyl","2,2',4,5'-Tetrachlorobiphenyl","2,2',5,5'-Tetrachlorobiphenyl","2,3',4,4'-Tetrachlorobiphenyl"]
[null,null,null,null,null,null,null,null,null,null,null,"CB101","CB105","CB110","CB118","CB128","CB138","CB141","CB149","CB151","CB153","CB156","CB158","CB170","CB18","CB180","CB183","CB187","CB194","CB28","CB31","CB44","CB47","CB49","CB52","CB66"]
[null,null,null,null,null,null,null,null,null,null,{"$f":"K168","v":"Area i"},{"$f":"IF(L168=\"\",\"\",L168*'PR details'!$G4)","v":""},{"$f":"IF(M168=\"\",\"\",M168*'PR details'!$G4)","v":""},{"$f":"IF(N168=\"\",\"\",N168*'PR details'!$G4)","v":""},{"$f":"IF(O168=\"\",\"\",O168*'PR details'!$G4)","v":""},{"$f":"IF(P168=\"\",\"\",P168*'PR details'!$G4)","v":""},{"$f":"IF(Q168=\"\",\"\",Q168*'PR details'!$G4)","v":""},{"$f":"IF(R168=\"\",\"\",R168*'PR details'!$G4)","v":""},{"$f":"IF(S168=\"\",\"\",S168*'PR details'!$G4)","v":""},{"$f":"IF(T168=\"\",\"\",T168*'PR details'!$G4)","v":""},{"$f":"IF(U168=\"\",\"\",U168*'PR details'!$G4)","v":""},{"$f":"IF(V168=\"\",\"\",V168*'PR details'!$G4)","v":""},{"$f":"IF(W168=\"\",\"\",W168*'PR details'!$G4)","v":""},{"$f":"IF(X168=\"\",\"\",X168*'PR details'!$G4)","v":""},{"$f":"IF(Y168=\"\",\"\",Y168*'PR details'!$G4)","v":""},{"$f":"IF(Z168=\"\",\"\",Z168*'PR details'!$G4)","v":""},{"$f":"IF(AA168=\"\",\"\",AA168*'PR details'!$G4)","v":""},{"$f":"IF(AB168=\"\",\"\",AB168*'PR details'!$G4)","v":""},{"$f":"IF(AC168=\"\",\"\",AC168*'PR details'!$G4)","v":""},{"$f":"IF(AD168=\"\",\"\",AD168*'PR details'!$G4)","v":""},{"$f":"IF(AE168=\"\",\"\",AE168*'PR details'!$G4)","v":""},{"$f":"IF(AF168=\"\",\"\",AF168*'PR details'!$G4)","v":""},{"$f":"IF(AG168=\"\",\"\",AG168*'PR details'!$G4)","v":""},{"$f":"IF(AH168=\"\",\"\",AH168*'PR details'!$G4)","v":""},{"$f":"IF(AI168=\"\",\"\",AI168*'PR details'!$G4)","v":""},{"$f":"IF(AJ168=\"\",\"\",AJ168*'PR details'!$G4)","v":""},{"$f":"IF(AK168=\"\",\"\",AK168*'PR details'!$G4)","v":""},{"$f":"IF(AL168=\"\",\"\",AL168*'PR details'!$G4)","v":""}]
[null,null,null,null,null,null,null,null,null,null,"Area ii",{"$f":"IF(L169=\"\",\"\",L169*'PR details'!$G5)","v":""},{"$f":"IF(M169=\"\",\"\",M169*'PR details'!$G5)","v":""},{"$f":"IF(N169=\"\",\"\",N169*'PR details'!$G5)","v":""},{"$f":"IF(O169=\"\",\"\",O169*'PR details'!$G5)","v":""},{"$f":"IF(P169=\"\",\"\",P169*'PR details'!$G5)","v":""},{"$f":"IF(Q169=\"\",\"\",Q169*'PR details'!$G5)","v":""},{"$f":"IF(R169=\"\",\"\",R169*'PR details'!$G5)","v":""},{"$f":"IF(S169=\"\",\"\",S169*'PR details'!$G5)","v":""},{"$f":"IF(T169=\"\",\"\",T169*'PR details'!$G5)","v":""},{"$f":"IF(U169=\"\",\"\",U169*'PR details'!$G5)","v":""},{"$f":"IF(V169=\"\",\"\",V169*'PR details'!$G5)","v":""},{"$f":"IF(W169=\"\",\"\",W169*'PR details'!$G5)","v":""},{"$f":"IF(X169=\"\",\"\",X169*'PR details'!$G5)","v":""},{"$f":"IF(Y169=\"\",\"\",Y169*'PR details'!$G5)","v":""},{"$f":"IF(Z169=\"\",\"\",Z169*'PR details'!$G5)","v":""},{"$f":"IF(AA169=\"\",\"\",AA169*'PR details'!$G5)","v":""},{"$f":"IF(AB169=\"\",\"\",AB169*'PR details'!$G5)","v":""},{"$f":"IF(AC169=\"\",\"\",AC169*'PR details'!$G5)","v":""},{"$f":"IF(AD169=\"\",\"\",AD169*'PR details'!$G5)","v":""},{"$f":"IF(AE169=\"\",\"\",AE169*'PR details'!$G5)","v":""},{"$f":"IF(AF169=\"\",\"\",AF169*'PR details'!$G5)","v":""},{"$f":"IF(AG169=\"\",\"\",AG169*'PR details'!$G5)","v":""},{"$f":"IF(AH169=\"\",\"\",AH169*'PR details'!$G5)","v":""},{"$f":"IF(AI169=\"\",\"\",AI169*'PR details'!$G5)","v":""},{"$f":"IF(AJ169=\"\",\"\",AJ169*'PR details'!$G5)","v":""},{"$f":"IF(AK169=\"\",\"\",AK169*'PR details'!$G5)","v":""},{"$f":"IF(AL169=\"\",\"\",AL169*'PR details'!$G5)","v":""}]
[null,null,null,null,null,null,null,null,null,null,"Area iii",{"$f":"IF(L170=\"\",\"\",L170*'PR details'!$G6)","v":""},{"$f":"IF(M170=\"\",\"\",M170*'PR details'!$G6)","v":""},{"$f":"IF(N170=\"\",\"\",N170*'PR details'!$G6)","v":""},{"$f":"IF(O170=\"\",\"\",O170*'PR details'!$G6)","v":""},{"$f":"IF(P170=\"\",\"\",P170*'PR details'!$G6)","v":""},{"$f":"IF(Q170=\"\",\"\",Q170*'PR details'!$G6)","v":""},{"$f":"IF(R170=\"\",\"\",R170*'PR details'!$G6)","v":""},{"$f":"IF(S170=\"\",\"\",S170*'PR details'!$G6)","v":""},{"$f":"IF(T170=\"\",\"\",T170*'PR details'!$G6)","v":""},{"$f":"IF(U170=\"\",\"\",U170*'PR details'!$G6)","v":""},{"$f":"IF(V170=\"\",\"\",V170*'PR details'!$G6)","v":""},{"$f":"IF(W170=\"\",\"\",W170*'PR details'!$G6)","v":""},{"$f":"IF(X170=\"\",\"\",X170*'PR details'!$G6)","v":""},{"$f":"IF(Y170=\"\",\"\",Y170*'PR details'!$G6)","v":""},{"$f":"IF(Z170=\"\",\"\",Z170*'PR details'!$G6)","v":""},{"$f":"IF(AA170=\"\",\"\",AA170*'PR details'!$G6)","v":""},{"$f":"IF(AB170=\"\",\"\",AB170*'PR details'!$G6)","v":""},{"$f":"IF(AC170=\"\",\"\",AC170*'PR details'!$G6)","v":""},{"$f":"IF(AD170=\"\",\"\",AD170*'PR details'!$G6)","v":""},{"$f":"IF(AE170=\"\",\"\",AE170*'PR details'!$G6)","v":""},{"$f":"IF(AF170=\"\",\"\",AF170*'PR details'!$G6)","v":""},{"$f":"IF(AG170=\"\",\"\",AG170*'PR details'!$G6)","v":""},{"$f":"IF(AH170=\"\",\"\",AH170*'PR details'!$G6)","v":""},{"$f":"IF(AI170=\"\",\"\",AI170*'PR details'!$G6)","v":""},{"$f":"IF(AJ170=\"\",\"\",AJ170*'PR details'!$G6)","v":""},{"$f":"IF(AK170=\"\",\"\",AK170*'PR details'!$G6)","v":""},{"$f":"IF(AL170=\"\",\"\",AL170*'PR details'!$G6)","v":""}]
[null,null,null,null,null,null,null,null,null,null,"Area iv",{"$f":"IF(L171=\"\",\"\",L171*'PR details'!$G7)","v":""},{"$f":"IF(M171=\"\",\"\",M171*'PR details'!$G7)","v":""},{"$f":"IF(N171=\"\",\"\",N171*'PR details'!$G7)","v":""},{"$f":"IF(O171=\"\",\"\",O171*'PR details'!$G7)","v":""},{"$f":"IF(P171=\"\",\"\",P171*'PR details'!$G7)","v":""},{"$f":"IF(Q171=\"\",\"\",Q171*'PR details'!$G7)","v":""},{"$f":"IF(R171=\"\",\"\",R171*'PR details'!$G7)","v":""},{"$f":"IF(S171=\"\",\"\",S171*'PR details'!$G7)","v":""},{"$f":"IF(T171=\"\",\"\",T171*'PR details'!$G7)","v":""},{"$f":"IF(U171=\"\",\"\",U171*'PR details'!$G7)","v":""},{"$f":"IF(V171=\"\",\"\",V171*'PR details'!$G7)","v":""},{"$f":"IF(W171=\"\",\"\",W171*'PR details'!$G7)","v":""},{"$f":"IF(X171=\"\",\"\",X171*'PR details'!$G7)","v":""},{"$f":"IF(Y171=\"\",\"\",Y171*'PR details'!$G7)","v":""},{"$f":"IF(Z171=\"\",\"\",Z171*'PR details'!$G7)","v":""},{"$f":"IF(AA171=\"\",\"\",AA171*'PR details'!$G7)","v":""},{"$f":"IF(AB171=\"\",\"\",AB171*'PR details'!$G7)","v":""},{"$f":"IF(AC171=\"\",\"\",AC171*'PR details'!$G7)","v":""},{"$f":"IF(AD171=\"\",\"\",AD171*'PR details'!$G7)","v":""},{"$f":"IF(AE171=\"\",\"\",AE171*'PR details'!$G7)","v":""},{"$f":"IF(AF171=\"\",\"\",AF171*'PR details'!$G7)","v":""},{"$f":"IF(AG171=\"\",\"\",AG171*'PR details'!$G7)","v":""},{"$f":"IF(AH171=\"\",\"\",AH171*'PR details'!$G7)","v":""},{"$f":"IF(AI171=\"\",\"\",AI171*'PR details'!$G7)","v":""},{"$f":"IF(AJ171=\"\",\"\",AJ171*'PR details'!$G7)","v":""},{"$f":"IF(AK171=\"\",\"\",AK171*'PR details'!$G7)","v":""},{"$f":"IF(AL171=\"\",\"\",AL171*'PR details'!$G7)","v":""}]
[null,null,null,null,null,null,null,null,null,null,"Area v",{"$f":"IF(L172=\"\",\"\",L172*'PR details'!$G8)","v":""},{"$f":"IF(M172=\"\",\"\",M172*'PR details'!$G8)","v":""},{"$f":"IF(N172=\"\",\"\",N172*'PR details'!$G8)","v":""},{"$f":"IF(O172=\"\",\"\",O172*'PR details'!$G8)","v":""},{"$f":"IF(P172=\"\",\"\",P172*'PR details'!$G8)","v":""},{"$f":"IF(Q172=\"\",\"\",Q172*'PR details'!$G8)","v":""},{"$f":"IF(R172=\"\",\"\",R172*'PR details'!$G8)","v":""},{"$f":"IF(S172=\"\",\"\",S172*'PR details'!$G8)","v":""},{"$f":"IF(T172=\"\",\"\",T172*'PR details'!$G8)","v":""},{"$f":"IF(U172=\"\",\"\",U172*'PR details'!$G8)","v":""},{"$f":"IF(V172=\"\",\"\",V172*'PR details'!$G8)","v":""},{"$f":"IF(W172=\"\",\"\",W172*'PR details'!$G8)","v":""},{"$f":"IF(X172=\"\",\"\",X172*'PR details'!$G8)","v":""},{"$f":"IF(Y172=\"\",\"\",Y172*'PR details'!$G8)","v":""},{"$f":"IF(Z172=\"\",\"\",Z172*'PR details'!$G8)","v":""},{"$f":"IF(AA172=\"\",\"\",AA172*'PR details'!$G8)","v":""},{"$f":"IF(AB172=\"\",\"\",AB172*'PR details'!$G8)","v":""},{"$f":"IF(AC172=\"\",\"\",AC172*'PR details'!$G8)","v":""},{"$f":"IF(AD172=\"\",\"\",AD172*'PR details'!$G8)","v":""},{"$f":"IF(AE172=\"\",\"\",AE172*'PR details'!$G8)","v":""},{"$f":"IF(AF172=\"\",\"\",AF172*'PR details'!$G8)","v":""},{"$f":"IF(AG172=\"\",\"\",AG172*'PR details'!$G8)","v":""},{"$f":"IF(AH172=\"\",\"\",AH172*'PR details'!$G8)","v":""},{"$f":"IF(AI172=\"\",\"\",AI172*'PR details'!$G8)","v":""},{"$f":"IF(AJ172=\"\",\"\",AJ172*'PR details'!$G8)","v":""},{"$f":"IF(AK172=\"\",\"\",AK172*'PR details'!$G8)","v":""},{"$f":"IF(AL172=\"\",\"\",AL172*'PR details'!$G8)","v":""}]
[null,null,null,null,null,null,null,null,null,null,"Area vi",{"$f":"IF(L173=\"\",\"\",L173*'PR details'!$G9)","v":""},{"$f":"IF(M173=\"\",\"\",M173*'PR details'!$G9)","v":""},{"$f":"IF(N173=\"\",\"\",N173*'PR details'!$G9)","v":""},{"$f":"IF(O173=\"\",\"\",O173*'PR details'!$G9)","v":""},{"$f":"IF(P173=\"\",\"\",P173*'PR details'!$G9)","v":""},{"$f":"IF(Q173=\"\",\"\",Q173*'PR details'!$G9)","v":""},{"$f":"IF(R173=\"\",\"\",R173*'PR details'!$G9)","v":""},{"$f":"IF(S173=\"\",\"\",S173*'PR details'!$G9)","v":""},{"$f":"IF(T173=\"\",\"\",T173*'PR details'!$G9)","v":""},{"$f":"IF(U173=\"\",\"\",U173*'PR details'!$G9)","v":""},{"$f":"IF(V173=\"\",\"\",V173*'PR details'!$G9)","v":""},{"$f":"IF(W173=\"\",\"\",W173*'PR details'!$G9)","v":""},{"$f":"IF(X173=\"\",\"\",X173*'PR details'!$G9)","v":""},{"$f":"IF(Y173=\"\",\"\",Y173*'PR details'!$G9)","v":""},{"$f":"IF(Z173=\"\",\"\",Z173*'PR details'!$G9)","v":""},{"$f":"IF(AA173=\"\",\"\",AA173*'PR details'!$G9)","v":""},{"$f":"IF(AB173=\"\",\"\",AB173*'PR details'!$G9)","v":""},{"$f":"IF(AC173=\"\",\"\",AC173*'PR details'!$G9)","v":""},{"$f":"IF(AD173=\"\",\"\",AD173*'PR details'!$G9)","v":""},{"$f":"IF(AE173=\"\",\"\",AE173*'PR details'!$G9)","v":""},{"$f":"IF(AF173=\"\",\"\",AF173*'PR details'!$G9)","v":""},{"$f":"IF(AG173=\"\",\"\",AG173*'PR details'!$G9)","v":""},{"$f":"IF(AH173=\"\",\"\",AH173*'PR details'!$G9)","v":""},{"$f":"IF(AI173=\"\",\"\",AI173*'PR details'!$G9)","v":""},{"$f":"IF(AJ173=\"\",\"\",AJ173*'PR details'!$G9)","v":""},{"$f":"IF(AK173=\"\",\"\",AK173*'PR details'!$G9)","v":""},{"$f":"IF(AL173=\"\",\"\",AL173*'PR details'!$G9)","v":""}]
[]
[]
[]
[null,null,null,null,null,null,null,"PR average"]
[]
[null,null,null,null,null,null,null,null,null,null,null,"PCBs as mg/kg wet weight",null,null,null,null,null,null,null,null,null,null,null,null,null,null,null,null,null,null,null,null,null,null,null,null,"ICES 7","Total 25 congeners"]
[null,null,null,null,null,null,null,null,null,null,null,"2,2',4,5,5'-Pentachlorobiphenyl","2,3,3',4,4'-Pentachlorobiphenyl","2,3,3',4',6-Pentachlorobiphenyl","2,3',4,4',5-Pentachlorobiphenyl","2,2',3,3',4,4'-Hexachlorobiphenyl","2,2',3,4,4',5'-Hexachlorobiphenyl","2,2',3,4,5,5'-Hexachlorobiphenyl","2,2',3,4',5',6-Hexachlorobiphenyl","2,2',3,5,5',6-Hexachlorobiphenyl","2,2',4,4',5,5'-Hexachlorobiphenyl","2,3,3',4,4',5-Hexachlorobiphenyl","2,3,3',4,4',6-Hexachlorobiphenyl","2,2',3,3',4,4',5-Heptachlorobiphenyl","2,2',5- Trichlorobiphenyl","2,2',3,4,4',5,5'-Heptachlorobiphenyl","2,2',3,4,4',5',6-Heptachlorobiphenyl","2,2',3,4',5,5',6-Heptachlorobiphenyl","2,2',3,3',4,4',5,5'-Octachlorobiphenyl","2,4,4'-Trichlorobiphenyl","2,4',5-Trichlorobiphenyl","2,2',3,5'-Tetrachlorobiphenyl","2,2',4,4'-Tetrachlorobiphenyl","2,2',4,5'-Tetrachlorobiphenyl","2,2',5,5'-Tetrachlorobiphenyl","2,3',4,4'-Tetrachlorobiphenyl"]
[null,null,null,null,null,null,null,null,null,null,null,"CB101","CB105","CB110","CB118","CB128","CB138","CB141","CB149","CB151","CB153","CB156","CB158","CB170","CB18","CB180","CB183","CB187","CB194","CB28","CB31","CB44","CB47","CB49","CB52","CB66"]
[null,null,null,null,null,null,null,null,null,null,null,{"$f":"IF(COUNT(L183:L188)<1,\"\",SUM(L183:L188))","v":""},"","","","","","","","","","","","","","","","","","","","","","","","",{"$f":"IF(COUNT(AK183:AK188)<1,\"\",SUM(AK183:AK188))","v":""},""]

{"sheet":"Organochlorine data","index":13,"n_rows":38,"n_cols":19,"rows_kept":38,"cut":false,"hidden":false,"merged":[[37,7,37,10],[5,11,5,18],[5,7,6,7],[5,8,6,8],[5,9,6,9],[5,10,6,10]]}
[]
[null,"Organochlorine data"]
[]
[null,"Instructions:",null,null,null,null,null,"determinand analysis outputs:"]
[null,"1. Record the laboratory/contractor responsible for analysis"]
[null,"2. Record the date the samples were analysed.",null,null,null,null,null,"Laboratory sample number","Dredge Area","Sample ID(s)","Total Solids (%)","Organochlorine pesticides as mg/kg dry weight"]
[null,"3. Enter full dataset for each sample in the analysis results table",null,null,null,null,null,null,null,null,null,"alpha-hexachlorocyclohexane (AHCH)","beta-hexachlorocyclohexane (BHCH)","gamma-hexachlorocyclohexane (GHCH)","Dieldrin","Hexachlorobenzene (HCB)","1,1-Dichloro-2,2-bis(p-chlorophenyl) ethylene (PPDDE)","Dichlorodiphenyltrichloroethane (PPDDT)","1,1-dichloro-2,2-bis(p-chlorophenyl)ethane (PPTDE)"]
[null,"4. Analysis results should be reported in mg/kg (ppm) dry weight. ",null,null,null,null,null,"MAR02481.001",null,1,29.1,"<LOD","<LOD","<LOD",1E-3,5.9999999999999995E-4,1.4E-3,5.9999999999999995E-4,8.0000000000000004E-4]
[null,"5. Enter methdological limit of detection for each Organochlorine prior to inputting raw data",null,null,null,null,null,"MAR02481.002",null,2,27.9,"<LOD","<LOD","<LOD",1.6000000000000001E-3,5.9999999999999995E-4,1.6000000000000001E-3,8.0000000000000004E-4,8.9999999999999998E-4]
[null,"6. Where analysis outputs are less than the limits of detection please enter text \"<LOD\"",null,null,null,null,null,"MAR02481.003",null,3,31.7,"<LOD","<LOD","<LOD","<LOD",8.9999999999999998E-4,1.8E-3,1.6999999999999999E-3,1.1000000000000001E-3]
[null,"7. Where copying and pasting entries please use paste values only",null,null,null,null,null,"MAR02481.004",null,4,32.5,"<LOD","<LOD",1.2E-4,"<LOD",1.1000000000000001E-3,1.8E-3,"<LOD",1.1999999999999999E-3]
[null,"8. Where entering multiple Sample IDs please use the pop-up form",null,null,null,null,null,"MAR02481.015",null,17,48.9,"<LOD","<LOD","<LOD","<LOD",1E-3,8.9999999999999998E-4,"<LOD",1E-3]
[null,null,"IDs should be separated by a comma",null,null,null,null,"MAR02481.016",null,18,52.5,"<LOD","<LOD",1E-4,"<LOD",1E-3,8.9999999999999998E-4,"<LOD",1.1000000000000001E-3]
[null,null,null,null,null,null,null,"MAR02481.017",null,19,48,"<LOD","<LOD","<LOD",1E-4,1.1999999999999999E-3,8.9999999999999998E-4,"<LOD",8.9999999999999998E-4]
[null,"Analysis information:",null,null,null,null,null,"MAR02481.018",null,20,51.6,"<LOD","<LOD",1E-4,"<LOD",1.1999999999999999E-3,1E-3,"<LOD",1.1999999999999999E-3]
[]
[null,null,"Laboratory/contractor:","SOCOTEC"]
[null,null,"Date of analysis:","2024-10-17"]
[]
[]
[]
[null,null,"Dredge Areas"]
[null,null,{"$f":"'Application info'!$C$26","v":"Area i"}]
[null,null,{"$f":"'Application info'!$C$27","v":"Area ii"}]
[null,null,{"$f":"'Application info'!$C$28","v":"Area iii"}]
[null,null,{"$f":"'Application info'!$C$29","v":"Area iv"}]
[null,null,{"$f":"'Application info'!$C$30","v":"Area v"}]
[null,null,{"$f":"'Application info'!$C$31","v":"Area vi"}]
[]
[]
[]
[]
[]
[]
[]
[]
[]
[null,null,null,null,null,null,null,"Limits of detection (mg/kg dry weight):",null,null,null,1E-4,1E-4,1E-4,1E-4,1E-4,1E-4,1E-4,1E-4]

{"sheet":"Organochlorine calcs","index":14,"n_rows":189,"n_cols":19,"rows_kept":189,"cut":false,"hidden":true,"merged":[[45,11,45,18],[45,7,46,7],[45,8,46,8],[45,9,46,9],[45,10,46,10],[5,7,6,7],[5,8,6,8],[5,9,6,9],[5,10,6,10],[5,11,5,18],[121,7,122,7],[121,8,122,8],[121,9,122,9],[121,10,122,10],[121,11,121,18],[83,7,84,7],[83,8,84,8],[83,9,84,9],[83,10,84,10],[83,11,83,18],[186,11,186,18],[159,11,159,18],[186,7,188,10],[173,7,174,7],[173,9,174,9],[173,10,174,10],[173,11,173,18],[159,7,166,9]]}
[]
[null,"Organochlorine summary information"]
[]
[null,"Analysis information:",null,null,null,null,null,"determinand analysis outputs - adjusted for limits of detection"]
[]
[null,null,"Applicant:",{"$f":"IF('Application info'!E16=\"\",\"\",'Application info'!E16)","v":"PD Ports"},null,null,null,"Laboratory sample number","Dredge Area","Excluded (y if yes)","Sample ID","Organochlorines as mg/kg dry weight"]
[null,null,"Application number:",{"$f":"IF('Application info'!E17=\"\",\"\",'Application info'!E17)","v":""},null,null,null,null,null,null,null,"alpha-hexachlorocyclohexane (AHCH)","beta-hexachlorocyclohexane (BHCH)","gamma-hexachlorocyclohexane (GHCH)","Dieldrin","Hexachlorobenzene (HCB)","1,1-Dichloro-2,2-bis(p-chlorophenyl) ethylene (PPDDE)","Dichlorodiphenyltrichloroethane (PPDDT)","1,1-dichloro-2,2-bis(p-chlorophenyl)ethane (PPTDE)"]
[null,null,"Application title:",{"$f":"IF('Application info'!E18=\"\",\"\",'Application info'!E18)","v":"Mid licence sampling - year 9"},null,null,null,{"$f":"IF('Organochlorine data'!H8=\"\",\"\",'Organochlorine data'!H8)","v":"MAR02481.001"},{"$f":"IF('Organochlorine data'!I8=\"\",\"\",'Organochlorine data'!I8)","v":""},{"$f":"IFERROR(IF(K8=\"\",\"\",(IF(VLOOKUP(K8,'Application info'!$K$8:$L$37,2,0)=\"y\",\"y\",\"\"))),\"Manual entry required\")","v":""},{"$f":"IF('Organochlorine data'!J8=\"\",\"\",'Organochlorine data'!J8)","v":1},{"$f":"IF('Organochlorine data'!L8=\"\",\"\",IF(ISNUMBER('Organochlorine data'!L8)=TRUE, IF('Organochlorine data'!L8<'Organochlorine data'!L$38, \"ERROR\", 'Organochlorine data'!L8), IF('Organochlorine data'!L8=\"<LOD\",'Organochlorine data'!L$38, \"ERROR\")))","v":1E-4},{"$f":"IF('Organochlorine data'!M8=\"\",\"\",IF(ISNUMBER('Organochlorine data'!M8)=TRUE, IF('Organochlorine data'!M8<'Organochlorine data'!M$38, \"ERROR\", 'Organochlorine data'!M8), IF('Organochlorine data'!M8=\"<LOD\",'Organochlorine data'!M$38, \"ERROR\")))","v":1E-4},{"$f":"IF('Organochlorine data'!N8=\"\",\"\",IF(ISNUMBER('Organochlorine data'!N8)=TRUE, IF('Organochlorine data'!N8<'Organochlorine data'!N$38, \"ERROR\", 'Organochlorine data'!N8), IF('Organochlorine data'!N8=\"<LOD\",'Organochlorine data'!N$38, \"ERROR\")))","v":1E-4},{"$f":"IF('Organochlorine data'!O8=\"\",\"\",IF(ISNUMBER('Organochlorine data'!O8)=TRUE, IF('Organochlorine data'!O8<'Organochlorine data'!O$38, \"ERROR\", 'Organochlorine data'!O8), IF('Organochlorine data'!O8=\"<LOD\",'Organochlorine data'!O$38, \"ERROR\")))","v":1E-3},{"$f":"IF('Organochlorine data'!P8=\"\",\"\",IF(ISNUMBER('Organochlorine data'!P8)=TRUE, IF('Organochlorine data'!P8<'Organochlorine data'!P$38, \"ERROR\", 'Organochlorine data'!P8), IF('Organochlorine data'!P8=\"<LOD\",'Organochlorine data'!P$38, \"ERROR\")))","v":5.9999999999999995E-4},{"$f":"IF('Organochlorine data'!Q8=\"\",\"\",IF(ISNUMBER('Organochlorine data'!Q8)=TRUE, IF('Organochlorine data'!Q8<'Organochlorine data'!Q$38, \"ERROR\", 'Organochlorine data'!Q8), IF('Organochlorine data'!Q8=\"<LOD\",'Organochlorine data'!Q$38, \"ERROR\")))","v":1.4E-3},{"$f":"IF('Organochlorine data'!R8=\"\",\"\",IF(ISNUMBER('Organochlorine data'!R8)=TRUE, IF('Organochlorine data'!R8<'Organochlorine data'!R$38, \"ERROR\", 'Organochlorine data'!R8), IF('Organochlorine data'!R8=\"<LOD\",'Organochlorine data'!R$38, \"ERROR\")))","v":5.9999999999999995E-4},{"$f":"IF('Organochlorine data'!S8=\"\",\"\",IF(ISNUMBER('Organochlorine data'!S8)=TRUE, IF('Organochlorine data'!S8<'Organochlorine data'!S$38, \"ERROR\", 'Organochlorine data'!S8), IF('Organochlorine data'!S8=\"<LOD\",'Organochlorine data'!S$38, \"ERROR\")))","v":8.0000000000000004E-4}]
[null,null,"Date sampled:",{"$f":"IF('Application info'!E19=\"\",\"\",'Application info'!E19)","v":""},null,null,null,{"$f":"IF('Organochlorine data'!H9=\"\",\"\",'Organochlorine data'!H9)","v":"MAR02481.002"},{"$f":"IF('Organochlorine data'!I9=\"\",\"\",'Organochlorine data'!I9)","v":""},{"$f":"IFERROR(IF(K9=\"\",\"\",(IF(VLOOKUP(K9,'Application info'!$K$8:$L$37,2,0)=\"y\",\"y\",\"\"))),\"Manual entry required\")","v":""},{"$f":"IF('Organochlorine data'!J9=\"\",\"\",'Organochlorine data'!J9)","v":2},{"$f":"IF('Organochlorine data'!L9=\"\",\"\",IF(ISNUMBER('Organochlorine data'!L9)=TRUE, IF('Organochlorine data'!L9<'Organochlorine data'!L$38, \"ERROR\", 'Organochlorine data'!L9), IF('Organochlorine data'!L9=\"<LOD\",'Organochlorine data'!L$38, \"ERROR\")))","v":1E-4},{"$f":"IF('Organochlorine data'!M9=\"\",\"\",IF(ISNUMBER('Organochlorine data'!M9)=TRUE, IF('Organochlorine data'!M9<'Organochlorine data'!M$38, \"ERROR\", 'Organochlorine data'!M9), IF('Organochlorine data'!M9=\"<LOD\",'Organochlorine data'!M$38, \"ERROR\")))","v":1E-4},{"$f":"IF('Organochlorine data'!N9=\"\",\"\",IF(ISNUMBER('Organochlorine data'!N9)=TRUE, IF('Organochlorine data'!N9<'Organochlorine data'!N$38, \"ERROR\", 'Organochlorine data'!N9), IF('Organochlorine data'!N9=\"<LOD\",'Organochlorine data'!N$38, \"ERROR\")))","v":1E-4},{"$f":"IF('Organochlorine data'!O9=\"\",\"\",IF(ISNUMBER('Organochlorine data'!O9)=TRUE, IF('Organochlorine data'!O9<'Organochlorine data'!O$38, \"ERROR\", 'Organochlorine data'!O9), IF('Organochlorine data'!O9=\"<LOD\",'Organochlorine data'!O$38, \"ERROR\")))","v":1.6000000000000001E-3},{"$f":"IF('Organochlorine data'!P9=\"\",\"\",IF(ISNUMBER('Organochlorine data'!P9)=TRUE, IF('Organochlorine data'!P9<'Organochlorine data'!P$38, \"ERROR\", 'Organochlorine data'!P9), IF('Organochlorine data'!P9=\"<LOD\",'Organochlorine data'!P$38, \"ERROR\")))","v":5.9999999999999995E-4},{"$f":"IF('Organochlorine data'!Q9=\"\",\"\",IF(ISNUMBER('Organochlorine data'!Q9)=TRUE, IF('Organochlorine data'!Q9<'Organochlorine data'!Q$38, \"ERROR\", 'Organochlorine data'!Q9), IF('Organochlorine data'!Q9=\"<LOD\",'Organochlorine data'!Q$38, \"ERROR\")))","v":1.6000000000000001E-3},{"$f":"IF('Organochlorine data'!R9=\"\",\"\",IF(ISNUMBER('Organochlorine data'!R9)=TRUE, IF('Organochlorine data'!R9<'Organochlorine data'!R$38, \"ERROR\", 'Organochlorine data'!R9), IF('Organochlorine data'!R9=\"<LOD\",'Organochlorine data'!R$38, \"ERROR\")))","v":8.0000000000000004E-4},{"$f":"IF('Organochlorine data'!S9=\"\",\"\",IF(ISNUMBER('Organochlorine data'!S9)=TRUE, IF('Organochlorine data'!S9<'Organochlorine data'!S$38, \"ERROR\", 'Organochlorine data'!S9), IF('Organochlorine data'!S9=\"<LOD\",'Organochlorine data'!S$38, \"ERROR\")))","v":8.9999999999999998E-4}]
[null,null,"Sampling location:",{"$f":"IF('Application info'!E20=\"\",\"\",'Application info'!E20)","v":""},null,null,null,{"$f":"IF('Organochlorine data'!H10=\"\",\"\",'Organochlorine data'!H10)","v":"MAR02481.003"},{"$f":"IF('Organochlorine data'!I10=\"\",\"\",'Organochlorine data'!I10)","v":""},{"$f":"IFERROR(IF(K10=\"\",\"\",(IF(VLOOKUP(K10,'Application info'!$K$8:$L$37,2,0)=\"y\",\"y\",\"\"))),\"Manual entry required\")","v":""},{"$f":"IF('Organochlorine data'!J10=\"\",\"\",'Organochlorine data'!J10)","v":3},{"$f":"IF('Organochlorine data'!L10=\"\",\"\",IF(ISNUMBER('Organochlorine data'!L10)=TRUE, IF('Organochlorine data'!L10<'Organochlorine data'!L$38, \"ERROR\", 'Organochlorine data'!L10), IF('Organochlorine data'!L10=\"<LOD\",'Organochlorine data'!L$38, \"ERROR\")))","v":1E-4},{"$f":"IF('Organochlorine data'!M10=\"\",\"\",IF(ISNUMBER('Organochlorine data'!M10)=TRUE, IF('Organochlorine data'!M10<'Organochlorine data'!M$38, \"ERROR\", 'Organochlorine data'!M10), IF('Organochlorine data'!M10=\"<LOD\",'Organochlorine data'!M$38, \"ERROR\")))","v":1E-4},{"$f":"IF('Organochlorine data'!N10=\"\",\"\",IF(ISNUMBER('Organochlorine data'!N10)=TRUE, IF('Organochlorine data'!N10<'Organochlorine data'!N$38, \"ERROR\", 'Organochlorine data'!N10), IF('Organochlorine data'!N10=\"<LOD\",'Organochlorine data'!N$38, \"ERROR\")))","v":1E-4},{"$f":"IF('Organochlorine data'!O10=\"\",\"\",IF(ISNUMBER('Organochlorine data'!O10)=TRUE, IF('Organochlorine data'!O10<'Organochlorine data'!O$38, \"ERROR\", 'Organochlorine data'!O10), IF('Organochlorine data'!O10=\"<LOD\",'Organochlorine data'!O$38, \"ERROR\")))","v":1E-4},{"$f":"IF('Organochlorine data'!P10=\"\",\"\",IF(ISNUMBER('Organochlorine data'!P10)=TRUE, IF('Organochlorine data'!P10<'Organochlorine data'!P$38, \"ERROR\", 'Organochlorine data'!P10), IF('Organochlorine data'!P10=\"<LOD\",'Organochlorine data'!P$38, \"ERROR\")))","v":8.9999999999999998E-4},{"$f":"IF('Organochlorine data'!Q10=\"\",\"\",IF(ISNUMBER('Organochlorine data'!Q10)=TRUE, IF('Organochlorine data'!Q10<'Organochlorine data'!Q$38, \"ERROR\", 'Organochlorine data'!Q10), IF('Organochlorine data'!Q10=\"<LOD\",'Organochlorine data'!Q$38, \"ERROR\")))","v":1.8E-3},{"$f":"IF('Organochlorine data'!R10=\"\",\"\",IF(ISNUMBER('Organochlorine data'!R10)=TRUE, IF('Organochlorine data'!R10<'Organochlorine data'!R$38, \"ERROR\", 'Organochlorine data'!R10), IF('Organochlorine data'!R10=\"<LOD\",'Organochlorine data'!R$38, \"ERROR\")))","v":1.6999999999999999E-3},{"$f":"IF('Organochlorine data'!S10=\"\",\"\",IF(ISNUMBER('Organochlorine data'!S10)=TRUE, IF('Organochlorine data'!S10<'Organochlorine data'!S$38, \"ERROR\", 'Organochlorine data'!S10), IF('Organochlorine data'!S10=\"<LOD\",'Organochlorine data'!S$38, \"ERROR\")))","v":1.1000000000000001E-3}]
[null,null,null,null,null,null,null,{"$f":"IF('Organochlorine data'!H11=\"\",\"\",'Organochlorine data'!H11)","v":"MAR02481.004"},{"$f":"IF('Organochlorine data'!I11=\"\",\"\",'Organochlorine data'!I11)","v":""},{"$f":"IFERROR(IF(K11=\"\",\"\",(IF(VLOOKUP(K11,'Application info'!$K$8:$L$37,2,0)=\"y\",\"y\",\"\"))),\"Manual entry required\")","v":""},{"$f":"IF('Organochlorine data'!J11=\"\",\"\",'Organochlorine data'!J11)","v":4},{"$f":"IF('Organochlorine data'!L11=\"\",\"\",IF(ISNUMBER('Organochlorine data'!L11)=TRUE, IF('Organochlorine data'!L11<'Organochlorine data'!L$38, \"ERROR\", 'Organochlorine data'!L11), IF('Organochlorine data'!L11=\"<LOD\",'Organochlorine data'!L$38, \"ERROR\")))","v":1E-4},{"$f":"IF('Organochlorine data'!M11=\"\",\"\",IF(ISNUMBER('Organochlorine data'!M11)=TRUE, IF('Organochlorine data'!M11<'Organochlorine data'!M$38, \"ERROR\", 'Organochlorine data'!M11), IF('Organochlorine data'!M11=\"<LOD\",'Organochlorine data'!M$38, \"ERROR\")))","v":1E-4},{"$f":"IF('Organochlorine data'!N11=\"\",\"\",IF(ISNUMBER('Organochlorine data'!N11)=TRUE, IF('Organochlorine data'!N11<'Organochlorine data'!N$38, \"ERROR\", 'Organochlorine data'!N11), IF('Organochlorine data'!N11=\"<LOD\",'Organochlorine data'!N$38, \"ERROR\")))","v":1.2E-4},{"$f":"IF('Organochlorine data'!O11=\"\",\"\",IF(ISNUMBER('Organochlorine data'!O11)=TRUE, IF('Organochlorine data'!O11<'Organochlorine data'!O$38, \"ERROR\", 'Organochlorine data'!O11), IF('Organochlorine data'!O11=\"<LOD\",'Organochlorine data'!O$38, \"ERROR\")))","v":1E-4},{"$f":"IF('Organochlorine data'!P11=\"\",\"\",IF(ISNUMBER('Organochlorine data'!P11)=TRUE, IF('Organochlorine data'!P11<'Organochlorine data'!P$38, \"ERROR\", 'Organochlorine data'!P11), IF('Organochlorine data'!P11=\"<LOD\",'Organochlorine data'!P$38, \"ERROR\")))","v":1.1000000000000001E-3},{"$f":"IF('Organochlorine data'!Q11=\"\",\"\",IF(ISNUMBER('Organochlorine data'!Q11)=TRUE, IF('Organochlorine data'!Q11<'Organochlorine data'!Q$38, \"ERROR\", 'Organochlorine data'!Q11), IF('Organochlorine data'!Q11=\"<LOD\",'Organochlorine data'!Q$38, \"ERROR\")))","v":1.8E-3},{"$f":"IF('Organochlorine data'!R11=\"\",\"\",IF(ISNUMBER('Organochlorine data'!R11)=TRUE, IF('Organochlorine data'!R11<'Organochlorine data'!R$38, \"ERROR\", 'Organochlorine data'!R11), IF('Organochlorine data'!R11=\"<LOD\",'Organochlorine data'!R$38, \"ERROR\")))","v":1E-4},{"$f":"IF('Organochlorine data'!S11=\"\",\"\",IF(ISNUMBER('Organochlorine data'!S11)=TRUE, IF('Organochlorine data'!S11<'Organochlorine data'!S$38, \"ERROR\", 'Organochlorine data'!S11), IF('Organochlorine data'!S11=\"<LOD\",'Organochlorine data'!S$38, \"ERROR\")))","v":1.1999999999999999E-3}]
[null,null,"Laboratory/contractor:",{"$f":"IF('Organochlorine data'!D17=\"\",\"\",'Organochlorine data'!D17)","v":"SOCOTEC"},null,null,null,{"$f":"IF('Organochlorine data'!H12=\"\",\"\",'Organochlorine data'!H12)","v":"MAR02481.015"},{"$f":"IF('Organochlorine data'!I12=\"\",\"\",'Organochlorine data'!I12)","v":""},{"$f":"IFERROR(IF(K12=\"\",\"\",(IF(VLOOKUP(K12,'Application info'!$K$8:$L$37,2,0)=\"y\",\"y\",\"\"))),\"Manual entry required\")","v":""},{"$f":"IF('Organochlorine data'!J12=\"\",\"\",'Organochlorine data'!J12)","v":17},{"$f":"IF('Organochlorine data'!L12=\"\",\"\",IF(ISNUMBER('Organochlorine data'!L12)=TRUE, IF('Organochlorine data'!L12<'Organochlorine data'!L$38, \"ERROR\", 'Organochlorine data'!L12), IF('Organochlorine data'!L12=\"<LOD\",'Organochlorine data'!L$38, \"ERROR\")))","v":1E-4},{"$f":"IF('Organochlorine data'!M12=\"\",\"\",IF(ISNUMBER('Organochlorine data'!M12)=TRUE, IF('Organochlorine data'!M12<'Organochlorine data'!M$38, \"ERROR\", 'Organochlorine data'!M12), IF('Organochlorine data'!M12=\"<LOD\",'Organochlorine data'!M$38, \"ERROR\")))","v":1E-4},{"$f":"IF('Organochlorine data'!N12=\"\",\"\",IF(ISNUMBER('Organochlorine data'!N12)=TRUE, IF('Organochlorine data'!N12<'Organochlorine data'!N$38, \"ERROR\", 'Organochlorine data'!N12), IF('Organochlorine data'!N12=\"<LOD\",'Organochlorine data'!N$38, \"ERROR\")))","v":1E-4},{"$f":"IF('Organochlorine data'!O12=\"\",\"\",IF(ISNUMBER('Organochlorine data'!O12)=TRUE, IF('Organochlorine data'!O12<'Organochlorine data'!O$38, \"ERROR\", 'Organochlorine data'!O12), IF('Organochlorine data'!O12=\"<LOD\",'Organochlorine data'!O$38, \"ERROR\")))","v":1E-4},{"$f":"IF('Organochlorine data'!P12=\"\",\"\",IF(ISNUMBER('Organochlorine data'!P12)=TRUE, IF('Organochlorine data'!P12<'Organochlorine data'!P$38, \"ERROR\", 'Organochlorine data'!P12), IF('Organochlorine data'!P12=\"<LOD\",'Organochlorine data'!P$38, \"ERROR\")))","v":1E-3},{"$f":"IF('Organochlorine data'!Q12=\"\",\"\",IF(ISNUMBER('Organochlorine data'!Q12)=TRUE, IF('Organochlorine data'!Q12<'Organochlorine data'!Q$38, \"ERROR\", 'Organochlorine data'!Q12), IF('Organochlorine data'!Q12=\"<LOD\",'Organochlorine data'!Q$38, \"ERROR\")))","v":8.9999999999999998E-4},{"$f":"IF('Organochlorine data'!R12=\"\",\"\",IF(ISNUMBER('Organochlorine data'!R12)=TRUE, IF('Organochlorine data'!R12<'Organochlorine data'!R$38, \"ERROR\", 'Organochlorine data'!R12), IF('Organochlorine data'!R12=\"<LOD\",'Organochlorine data'!R$38, \"ERROR\")))","v":1E-4},{"$f":"IF('Organochlorine data'!S12=\"\",\"\",IF(ISNUMBER('Organochlorine data'!S12)=TRUE, IF('Organochlorine data'!S12<'Organochlorine data'!S$38, \"ERROR\", 'Organochlorine data'!S12), IF('Organochlorine data'!S12=\"<LOD\",'Organochlorine data'!S$38, \"ERROR\")))","v":1E-3}]
[null,null,"Date of analysis:",{"$f":"IF('Organochlorine data'!D18=\"\",\"\",'Organochlorine data'!D18)","v":"2024-10-17"},null,null,null,{"$f":"IF('Organochlorine data'!H13=\"\",\"\",'Organochlorine data'!H13)","v":"MAR02481.016"},{"$f":"IF('Organochlorine data'!I13=\"\",\"\",'Organochlorine data'!I13)","v":""},{"$f":"IFERROR(IF(K13=\"\",\"\",(IF(VLOOKUP(K13,'Application info'!$K$8:$L$37,2,0)=\"y\",\"y\",\"\"))),\"Manual entry required\")","v":""},{"$f":"IF('Organochlorine data'!J13=\"\",\"\",'Organochlorine data'!J13)","v":18},{"$f":"IF('Organochlorine data'!L13=\"\",\"\",IF(ISNUMBER('Organochlorine data'!L13)=TRUE, IF('Organochlorine data'!L13<'Organochlorine data'!L$38, \"ERROR\", 'Organochlorine data'!L13), IF('Organochlorine data'!L13=\"<LOD\",'Organochlorine data'!L$38, \"ERROR\")))","v":1E-4},{"$f":"IF('Organochlorine data'!M13=\"\",\"\",IF(ISNUMBER('Organochlorine data'!M13)=TRUE, IF('Organochlorine data'!M13<'Organochlorine data'!M$38, \"ERROR\", 'Organochlorine data'!M13), IF('Organochlorine data'!M13=\"<LOD\",'Organochlorine data'!M$38, \"ERROR\")))","v":1E-4},{"$f":"IF('Organochlorine data'!N13=\"\",\"\",IF(ISNUMBER('Organochlorine data'!N13)=TRUE, IF('Organochlorine data'!N13<'Organochlorine data'!N$38, \"ERROR\", 'Organochlorine data'!N13), IF('Organochlorine data'!N13=\"<LOD\",'Organochlorine data'!N$38, \"ERROR\")))","v":1E-4},{"$f":"IF('Organochlorine data'!O13=\"\",\"\",IF(ISNUMBER('Organochlorine data'!O13)=TRUE, IF('Organochlorine data'!O13<'Organochlorine data'!O$38, \"ERROR\", 'Organochlorine data'!O13), IF('Organochlorine data'!O13=\"<LOD\",'Organochlorine data'!O$38, \"ERROR\")))","v":1E-4},{"$f":"IF('Organochlorine data'!P13=\"\",\"\",IF(ISNUMBER('Organochlorine data'!P13)=TRUE, IF('Organochlorine data'!P13<'Organochlorine data'!P$38, \"ERROR\", 'Organochlorine data'!P13), IF('Organochlorine data'!P13=\"<LOD\",'Organochlorine data'!P$38, \"ERROR\")))","v":1E-3},{"$f":"IF('Organochlorine data'!Q13=\"\",\"\",IF(ISNUMBER('Organochlorine data'!Q13)=TRUE, IF('Organochlorine data'!Q13<'Organochlorine data'!Q$38, \"ERROR\", 'Organochlorine data'!Q13), IF('Organochlorine data'!Q13=\"<LOD\",'Organochlorine data'!Q$38, \"ERROR\")))","v":8.9999999999999998E-4},{"$f":"IF('Organochlorine data'!R13=\"\",\"\",IF(ISNUMBER('Organochlorine data'!R13)=TRUE, IF('Organochlorine data'!R13<'Organochlorine data'!R$38, \"ERROR\", 'Organochlorine data'!R13), IF('Organochlorine data'!R13=\"<LOD\",'Organochlorine data'!R$38, \"ERROR\")))","v":1E-4},{"$f":"IF('Organochlorine data'!S13=\"\",\"\",IF(ISNUMBER('Organochlorine data'!S13)=TRUE, IF('Organochlorine data'!S13<'Organochlorine data'!S$38, \"ERROR\", 'Organochlorine data'!S13), IF('Organochlorine data'!S13=\"<LOD\",'Organochlorine data'!S$38, \"ERROR\")))","v":1.1000000000000001E-3}]
[null,null,null,null,null,null,null,{"$f":"IF('Organochlorine data'!H14=\"\",\"\",'Organochlorine data'!H14)","v":"MAR02481.017"},{"$f":"IF('Organochlorine data'!I14=\"\",\"\",'Organochlorine data'!I14)","v":""},{"$f":"IFERROR(IF(K14=\"\",\"\",(IF(VLOOKUP(K14,'Application info'!$K$8:$L$37,2,0)=\"y\",\"y\",\"\"))),\"Manual entry required\")","v":""},{"$f":"IF('Organochlorine data'!J14=\"\",\"\",'Organochlorine data'!J14)","v":19},{"$f":"IF('Organochlorine data'!L14=\"\",\"\",IF(ISNUMBER('Organochlorine data'!L14)=TRUE, IF('Organochlorine data'!L14<'Organochlorine data'!L$38, \"ERROR\", 'Organochlorine data'!L14), IF('Organochlorine data'!L14=\"<LOD\",'Organochlorine data'!L$38, \"ERROR\")))","v":1E-4},{"$f":"IF('Organochlorine data'!M14=\"\",\"\",IF(ISNUMBER('Organochlorine data'!M14)=TRUE, IF('Organochlorine data'!M14<'Organochlorine data'!M$38, \"ERROR\", 'Organochlorine data'!M14), IF('Organochlorine data'!M14=\"<LOD\",'Organochlorine data'!M$38, \"ERROR\")))","v":1E-4},{"$f":"IF('Organochlorine data'!N14=\"\",\"\",IF(ISNUMBER('Organochlorine data'!N14)=TRUE, IF('Organochlorine data'!N14<'Organochlorine data'!N$38, \"ERROR\", 'Organochlorine data'!N14), IF('Organochlorine data'!N14=\"<LOD\",'Organochlorine data'!N$38, \"ERROR\")))","v":1E-4},{"$f":"IF('Organochlorine data'!O14=\"\",\"\",IF(ISNUMBER('Organochlorine data'!O14)=TRUE, IF('Organochlorine data'!O14<'Organochlorine data'!O$38, \"ERROR\", 'Organochlorine data'!O14), IF('Organochlorine data'!O14=\"<LOD\",'Organochlorine data'!O$38, \"ERROR\")))","v":1E-4},{"$f":"IF('Organochlorine data'!P14=\"\",\"\",IF(ISNUMBER('Organochlorine data'!P14)=TRUE, IF('Organochlorine data'!P14<'Organochlorine data'!P$38, \"ERROR\", 'Organochlorine data'!P14), IF('Organochlorine data'!P14=\"<LOD\",'Organochlorine data'!P$38, \"ERROR\")))","v":1.1999999999999999E-3},{"$f":"IF('Organochlorine data'!Q14=\"\",\"\",IF(ISNUMBER('Organochlorine data'!Q14)=TRUE, IF('Organochlorine data'!Q14<'Organochlorine data'!Q$38, \"ERROR\", 'Organochlorine data'!Q14), IF('Organochlorine data'!Q14=\"<LOD\",'Organochlorine data'!Q$38, \"ERROR\")))","v":8.9999999999999998E-4},{"$f":"IF('Organochlorine data'!R14=\"\",\"\",IF(ISNUMBER('Organochlorine data'!R14)=TRUE, IF('Organochlorine data'!R14<'Organochlorine data'!R$38, \"ERROR\", 'Organochlorine data'!R14), IF('Organochlorine data'!R14=\"<LOD\",'Organochlorine data'!R$38, \"ERROR\")))","v":1E-4},{"$f":"IF('Organochlorine data'!S14=\"\",\"\",IF(ISNUMBER('Organochlorine data'!S14)=TRUE, IF('Organochlorine data'!S14<'Organochlorine data'!S$38, \"ERROR\", 'Organochlorine data'!S14), IF('Organochlorine data'!S14=\"<LOD\",'Organochlorine data'!S$38, \"ERROR\")))","v":8.9999999999999998E-4}]
[null,null,null,null,null,null,null,{"$f":"IF('Organochlorine data'!H15=\"\",\"\",'Organochlorine data'!H15)","v":"MAR02481.018"},{"$f":"IF('Organochlorine data'!I15=\"\",\"\",'Organochlorine data'!I15)","v":""},{"$f":"IFERROR(IF(K15=\"\",\"\",(IF(VLOOKUP(K15,'Application info'!$K$8:$L$37,2,0)=\"y\",\"y\",\"\"))),\"Manual entry required\")","v":""},{"$f":"IF('Organochlorine data'!J15=\"\",\"\",'Organochlorine data'!J15)","v":20},{"$f":"IF('Organochlorine data'!L15=\"\",\"\",IF(ISNUMBER('Organochlorine data'!L15)=TRUE, IF('Organochlorine data'!L15<'Organochlorine data'!L$38, \"ERROR\", 'Organochlorine data'!L15), IF('Organochlorine data'!L15=\"<LOD\",'Organochlorine data'!L$38, \"ERROR\")))","v":1E-4},{"$f":"IF('Organochlorine data'!M15=\"\",\"\",IF(ISNUMBER('Organochlorine data'!M15)=TRUE, IF('Organochlorine data'!M15<'Organochlorine data'!M$38, \"ERROR\", 'Organochlorine data'!M15), IF('Organochlorine data'!M15=\"<LOD\",'Organochlorine data'!M$38, \"ERROR\")))","v":1E-4},{"$f":"IF('Organochlorine data'!N15=\"\",\"\",IF(ISNUMBER('Organochlorine data'!N15)=TRUE, IF('Organochlorine data'!N15<'Organochlorine data'!N$38, \"ERROR\", 'Organochlorine data'!N15), IF('Organochlorine data'!N15=\"<LOD\",'Organochlorine data'!N$38, \"ERROR\")))","v":1E-4},{"$f":"IF('Organochlorine data'!O15=\"\",\"\",IF(ISNUMBER('Organochlorine data'!O15)=TRUE, IF('Organochlorine data'!O15<'Organochlorine data'!O$38, \"ERROR\", 'Organochlorine data'!O15), IF('Organochlorine data'!O15=\"<LOD\",'Organochlorine data'!O$38, \"ERROR\")))","v":1E-4},{"$f":"IF('Organochlorine data'!P15=\"\",\"\",IF(ISNUMBER('Organochlorine data'!P15)=TRUE, IF('Organochlorine data'!P15<'Organochlorine data'!P$38, \"ERROR\", 'Organochlorine data'!P15), IF('Organochlorine data'!P15=\"<LOD\",'Organochlorine data'!P$38, \"ERROR\")))","v":1.1999999999999999E-3},{"$f":"IF('Organochlorine data'!Q15=\"\",\"\",IF(ISNUMBER('Organochlorine data'!Q15)=TRUE, IF('Organochlorine data'!Q15<'Organochlorine data'!Q$38, \"ERROR\", 'Organochlorine data'!Q15), IF('Organochlorine data'!Q15=\"<LOD\",'Organochlorine data'!Q$38, \"ERROR\")))","v":1E-3},{"$f":"IF('Organochlorine data'!R15=\"\",\"\",IF(ISNUMBER('Organochlorine data'!R15)=TRUE, IF('Organochlorine data'!R15<'Organochlorine data'!R$38, \"ERROR\", 'Organochlorine data'!R15), IF('Organochlorine data'!R15=\"<LOD\",'Organochlorine data'!R$38, \"ERROR\")))","v":1E-4},{"$f":"IF('Organochlorine data'!S15=\"\",\"\",IF(ISNUMBER('Organochlorine data'!S15)=TRUE, IF('Organochlorine data'!S15<'Organochlorine data'!S$38, \"ERROR\", 'Organochlorine data'!S15), IF('Organochlorine data'!S15=\"<LOD\",'Organochlorine data'!S$38, \"ERROR\")))","v":1.1999999999999999E-3}]
[null,null,null,null,null,null,null,{"$f":"IF('Organochlorine data'!H16=\"\",\"\",'Organochlorine data'!H16)","v":""},{"$f":"IF('Organochlorine data'!I16=\"\",\"\",'Organochlorine data'!I16)","v":""},{"$f":"IFERROR(IF(K16=\"\",\"\",(IF(VLOOKUP(K16,'Application info'!$K$8:$L$37,2,0)=\"y\",\"y\",\"\"))),\"Manual entry required\")","v":""},{"$f":"IF('Organochlorine data'!J16=\"\",\"\",'Organochlorine data'!J16)","v":""},{"$f":"IF('Organochlorine data'!L16=\"\",\"\",IF(ISNUMBER('Organochlorine data'!L16)=TRUE, IF('Organochlorine data'!L16<'Organochlorine data'!L$38, \"ERROR\", 'Organochlorine data'!L16), IF('Organochlorine data'!L16=\"<LOD\",'Organochlorine data'!L$38, \"ERROR\")))","v":""},{"$f":"IF('Organochlorine data'!M16=\"\",\"\",IF(ISNUMBER('Organochlorine data'!M16)=TRUE, IF('Organochlorine data'!M16<'Organochlorine data'!M$38, \"ERROR\", 'Organochlorine data'!M16), IF('Organochlorine data'!M16=\"<LOD\",'Organochlorine data'!M$38, \"ERROR\")))","v":""},{"$f":"IF('Organochlorine data'!N16=\"\",\"\",IF(ISNUMBER('Organochlorine data'!N16)=TRUE, IF('Organochlorine data'!N16<'Organochlorine data'!N$38, \"ERROR\", 'Organochlorine data'!N16), IF('Organochlorine data'!N16=\"<LOD\",'Organochlorine data'!N$38, \"ERROR\")))","v":""},{"$f":"IF('Organochlorine data'!O16=\"\",\"\",IF(ISNUMBER('Organochlorine data'!O16)=TRUE, IF('Organochlorine data'!O16<'Organochlorine data'!O$38, \"ERROR\", 'Organochlorine data'!O16), IF('Organochlorine data'!O16=\"<LOD\",'Organochlorine data'!O$38, \"ERROR\")))","v":""},{"$f":"IF('Organochlorine data'!P16=\"\",\"\",IF(ISNUMBER('Organochlorine data'!P16)=TRUE, IF('Organochlorine data'!P16<'Organochlorine data'!P$38, \"ERROR\", 'Organochlorine data'!P16), IF('Organochlorine data'!P16=\"<LOD\",'Organochlorine data'!P$38, \"ERROR\")))","v":""},{"$f":"IF('Organochlorine data'!Q16=\"\",\"\",IF(ISNUMBER('Organochlorine data'!Q16)=TRUE, IF('Organochlorine data'!Q16<'Organochlorine data'!Q$38, \"ERROR\", 'Organochlorine data'!Q16), IF('Organochlorine data'!Q16=\"<LOD\",'Organochlorine data'!Q$38, \"ERROR\")))","v":""},{"$f":"IF('Organochlorine data'!R16=\"\",\"\",IF(ISNUMBER('Organochlorine data'!R16)=TRUE, IF('Organochlorine data'!R16<'Organochlorine data'!R$38, \"ERROR\", 'Organochlorine data'!R16), IF('Organochlorine data'!R16=\"<LOD\",'Organochlorine data'!R$38, \"ERROR\")))","v":""},{"$f":"IF('Organochlorine data'!S16=\"\",\"\",IF(ISNUMBER('Organochlorine data'!S16)=TRUE, IF('Organochlorine data'!S16<'Organochlorine data'!S$38, \"ERROR\", 'Organochlorine data'!S16), IF('Organochlorine data'!S16=\"<LOD\",'Organochlorine data'!S$38, \"ERROR\")))","v":""}]
[null,null,null,null,null,null,null,{"$f":"IF('Organochlorine data'!H17=\"\",\"\",'Organochlorine data'!H17)","v":""},{"$f":"IF('Organochlorine data'!I17=\"\",\"\",'Organochlorine data'!I17)","v":""},{"$f":"IFERROR(IF(K17=\"\",\"\",(IF(VLOOKUP(K17,'Application info'!$K$8:$L$37,2,0)=\"y\",\"y\",\"\"))),\"Manual entry required\")","v":""},{"$f":"IF('Organochlorine data'!J17=\"\",\"\",'Organochlorine data'!J17)","v":""},{"$f":"IF('Organochlorine data'!L17=\"\",\"\",IF(ISNUMBER('Organochlorine data'!L17)=TRUE, IF('Organochlorine data'!L17<'Organochlorine data'!L$38, \"ERROR\", 'Organochlorine data'!L17), IF('Organochlorine data'!L17=\"<LOD\",'Organochlorine data'!L$38, \"ERROR\")))","v":""},{"$f":"IF('Organochlorine data'!M17=\"\",\"\",IF(ISNUMBER('Organochlorine data'!M17)=TRUE, IF('Organochlorine data'!M17<'Organochlorine data'!M$38, \"ERROR\", 'Organochlorine data'!M17), IF('Organochlorine data'!M17=\"<LOD\",'Organochlorine data'!M$38, \"ERROR\")))","v":""},{"$f":"IF('Organochlorine data'!N17=\"\",\"\",IF(ISNUMBER('Organochlorine data'!N17)=TRUE, IF('Organochlorine data'!N17<'Organochlorine data'!N$38, \"ERROR\", 'Organochlorine data'!N17), IF('Organochlorine data'!N17=\"<LOD\",'Organochlorine data'!N$38, \"ERROR\")))","v":""},{"$f":"IF('Organochlorine data'!O17=\"\",\"\",IF(ISNUMBER('Organochlorine data'!O17)=TRUE, IF('Organochlorine data'!O17<'Organochlorine data'!O$38, \"ERROR\", 'Organochlorine data'!O17), IF('Organochlorine data'!O17=\"<LOD\",'Organochlorine data'!O$38, \"ERROR\")))","v":""},{"$f":"IF('Organochlorine data'!P17=\"\",\"\",IF(ISNUMBER('Organochlorine data'!P17)=TRUE, IF('Organochlorine data'!P17<'Organochlorine data'!P$38, \"ERROR\", 'Organochlorine data'!P17), IF('Organochlorine data'!P17=\"<LOD\",'Organochlorine data'!P$38, \"ERROR\")))","v":""},{"$f":"IF('Organochlorine data'!Q17=\"\",\"\",IF(ISNUMBER('Organochlorine data'!Q17)=TRUE, IF('Organochlorine data'!Q17<'Organochlorine data'!Q$38, \"ERROR\", 'Organochlorine data'!Q17), IF('Organochlorine data'!Q17=\"<LOD\",'Organochlorine data'!Q$38, \"ERROR\")))","v":""},{"$f":"IF('Organochlorine data'!R17=\"\",\"\",IF(ISNUMBER('Organochlorine data'!R17)=TRUE, IF('Organochlorine data'!R17<'Organochlorine data'!R$38, \"ERROR\", 'Organochlorine data'!R17), IF('Organochlorine data'!R17=\"<LOD\",'Organochlorine data'!R$38, \"ERROR\")))","v":""},{"$f":"IF('Organochlorine data'!S17=\"\",\"\",IF(ISNUMBER('Organochlorine data'!S17)=TRUE, IF('Organochlorine data'!S17<'Organochlorine data'!S$38, \"ERROR\", 'Organochlorine data'!S17), IF('Organochlorine data'!S17=\"<LOD\",'Organochlorine data'!S$38, \"ERROR\")))","v":""}]
[null,null,null,null,null,null,null,{"$f":"IF('Organochlorine data'!H18=\"\",\"\",'Organochlorine data'!H18)","v":""},{"$f":"IF('Organochlorine data'!I18=\"\",\"\",'Organochlorine data'!I18)","v":""},{"$f":"IFERROR(IF(K18=\"\",\"\",(IF(VLOOKUP(K18,'Application info'!$K$8:$L$37,2,0)=\"y\",\"y\",\"\"))),\"Manual entry required\")","v":""},{"$f":"IF('Organochlorine data'!J18=\"\",\"\",'Organochlorine data'!J18)","v":""},{"$f":"IF('Organochlorine data'!L18=\"\",\"\",IF(ISNUMBER('Organochlorine data'!L18)=TRUE, IF('Organochlorine data'!L18<'Organochlorine data'!L$38, \"ERROR\", 'Organochlorine data'!L18), IF('Organochlorine data'!L18=\"<LOD\",'Organochlorine data'!L$38, \"ERROR\")))","v":""},{"$f":"IF('Organochlorine data'!M18=\"\",\"\",IF(ISNUMBER('Organochlorine data'!M18)=TRUE, IF('Organochlorine data'!M18<'Organochlorine data'!M$38, \"ERROR\", 'Organochlorine data'!M18), IF('Organochlorine data'!M18=\"<LOD\",'Organochlorine data'!M$38, \"ERROR\")))","v":""},{"$f":"IF('Organochlorine data'!N18=\"\",\"\",IF(ISNUMBER('Organochlorine data'!N18)=TRUE, IF('Organochlorine data'!N18<'Organochlorine data'!N$38, \"ERROR\", 'Organochlorine data'!N18), IF('Organochlorine data'!N18=\"<LOD\",'Organochlorine data'!N$38, \"ERROR\")))","v":""},{"$f":"IF('Organochlorine data'!O18=\"\",\"\",IF(ISNUMBER('Organochlorine data'!O18)=TRUE, IF('Organochlorine data'!O18<'Organochlorine data'!O$38, \"ERROR\", 'Organochlorine data'!O18), IF('Organochlorine data'!O18=\"<LOD\",'Organochlorine data'!O$38, \"ERROR\")))","v":""},{"$f":"IF('Organochlorine data'!P18=\"\",\"\",IF(ISNUMBER('Organochlorine data'!P18)=TRUE, IF('Organochlorine data'!P18<'Organochlorine data'!P$38, \"ERROR\", 'Organochlorine data'!P18), IF('Organochlorine data'!P18=\"<LOD\",'Organochlorine data'!P$38, \"ERROR\")))","v":""},{"$f":"IF('Organochlorine data'!Q18=\"\",\"\",IF(ISNUMBER('Organochlorine data'!Q18)=TRUE, IF('Organochlorine data'!Q18<'Organochlorine data'!Q$38, \"ERROR\", 'Organochlorine data'!Q18), IF('Organochlorine data'!Q18=\"<LOD\",'Organochlorine data'!Q$38, \"ERROR\")))","v":""},{"$f":"IF('Organochlorine data'!R18=\"\",\"\",IF(ISNUMBER('Organochlorine data'!R18)=TRUE, IF('Organochlorine data'!R18<'Organochlorine data'!R$38, \"ERROR\", 'Organochlorine data'!R18), IF('Organochlorine data'!R18=\"<LOD\",'Organochlorine data'!R$38, \"ERROR\")))","v":""},{"$f":"IF('Organochlorine data'!S18=\"\",\"\",IF(ISNUMBER('Organochlorine data'!S18)=TRUE, IF('Organochlorine data'!S18<'Organochlorine data'!S$38, \"ERROR\", 'Organochlorine data'!S18), IF('Organochlorine data'!S18=\"<LOD\",'Organochlorine data'!S$38, \"ERROR\")))","v":""}]
[null,null,null,null,null,null,null,{"$f":"IF('Organochlorine data'!H19=\"\",\"\",'Organochlorine data'!H19)","v":""},{"$f":"IF('Organochlorine data'!I19=\"\",\"\",'Organochlorine data'!I19)","v":""},{"$f":"IFERROR(IF(K19=\"\",\"\",(IF(VLOOKUP(K19,'Application info'!$K$8:$L$37,2,0)=\"y\",\"y\",\"\"))),\"Manual entry required\")","v":""},{"$f":"IF('Organochlorine data'!J19=\"\",\"\",'Organochlorine data'!J19)","v":""},{"$f":"IF('Organochlorine data'!L19=\"\",\"\",IF(ISNUMBER('Organochlorine data'!L19)=TRUE, IF('Organochlorine data'!L19<'Organochlorine data'!L$38, \"ERROR\", 'Organochlorine data'!L19), IF('Organochlorine data'!L19=\"<LOD\",'Organochlorine data'!L$38, \"ERROR\")))","v":""},{"$f":"IF('Organochlorine data'!M19=\"\",\"\",IF(ISNUMBER('Organochlorine data'!M19)=TRUE, IF('Organochlorine data'!M19<'Organochlorine data'!M$38, \"ERROR\", 'Organochlorine data'!M19), IF('Organochlorine data'!M19=\"<LOD\",'Organochlorine data'!M$38, \"ERROR\")))","v":""},{"$f":"IF('Organochlorine data'!N19=\"\",\"\",IF(ISNUMBER('Organochlorine data'!N19)=TRUE, IF('Organochlorine data'!N19<'Organochlorine data'!N$38, \"ERROR\", 'Organochlorine data'!N19), IF('Organochlorine data'!N19=\"<LOD\",'Organochlorine data'!N$38, \"ERROR\")))","v":""},{"$f":"IF('Organochlorine data'!O19=\"\",\"\",IF(ISNUMBER('Organochlorine data'!O19)=TRUE, IF('Organochlorine data'!O19<'Organochlorine data'!O$38, \"ERROR\", 'Organochlorine data'!O19), IF('Organochlorine data'!O19=\"<LOD\",'Organochlorine data'!O$38, \"ERROR\")))","v":""},{"$f":"IF('Organochlorine data'!P19=\"\",\"\",IF(ISNUMBER('Organochlorine data'!P19)=TRUE, IF('Organochlorine data'!P19<'Organochlorine data'!P$38, \"ERROR\", 'Organochlorine data'!P19), IF('Organochlorine data'!P19=\"<LOD\",'Organochlorine data'!P$38, \"ERROR\")))","v":""},{"$f":"IF('Organochlorine data'!Q19=\"\",\"\",IF(ISNUMBER('Organochlorine data'!Q19)=TRUE, IF('Organochlorine data'!Q19<'Organochlorine data'!Q$38, \"ERROR\", 'Organochlorine data'!Q19), IF('Organochlorine data'!Q19=\"<LOD\",'Organochlorine data'!Q$38, \"ERROR\")))","v":""},{"$f":"IF('Organochlorine data'!R19=\"\",\"\",IF(ISNUMBER('Organochlorine data'!R19)=TRUE, IF('Organochlorine data'!R19<'Organochlorine data'!R$38, \"ERROR\", 'Organochlorine data'!R19), IF('Organochlorine data'!R19=\"<LOD\",'Organochlorine data'!R$38, \"ERROR\")))","v":""},{"$f":"IF('Organochlorine data'!S19=\"\",\"\",IF(ISNUMBER('Organochlorine data'!S19)=TRUE, IF('Organochlorine data'!S19<'Organochlorine data'!S$38, \"ERROR\", 'Organochlorine data'!S19), IF('Organochlorine data'!S19=\"<LOD\",'Organochlorine data'!S$38, \"ERROR\")))","v":""}]
[null,null,null,null,null,null,null,{"$f":"IF('Organochlorine data'!H20=\"\",\"\",'Organochlorine data'!H20)","v":""},{"$f":"IF('Organochlorine data'!I20=\"\",\"\",'Organochlorine data'!I20)","v":""},{"$f":"IFERROR(IF(K20=\"\",\"\",(IF(VLOOKUP(K20,'Application info'!$K$8:$L$37,2,0)=\"y\",\"y\",\"\"))),\"Manual entry required\")","v":""},{"$f":"IF('Organochlorine data'!J20=\"\",\"\",'Organochlorine data'!J20)","v":""},{"$f":"IF('Organochlorine data'!L20=\"\",\"\",IF(ISNUMBER('Organochlorine data'!L20)=TRUE, IF('Organochlorine data'!L20<'Organochlorine data'!L$38, \"ERROR\", 'Organochlorine data'!L20), IF('Organochlorine data'!L20=\"<LOD\",'Organochlorine data'!L$38, \"ERROR\")))","v":""},{"$f":"IF('Organochlorine data'!M20=\"\",\"\",IF(ISNUMBER('Organochlorine data'!M20)=TRUE, IF('Organochlorine data'!M20<'Organochlorine data'!M$38, \"ERROR\", 'Organochlorine data'!M20), IF('Organochlorine data'!M20=\"<LOD\",'Organochlorine data'!M$38, \"ERROR\")))","v":""},{"$f":"IF('Organochlorine data'!N20=\"\",\"\",IF(ISNUMBER('Organochlorine data'!N20)=TRUE, IF('Organochlorine data'!N20<'Organochlorine data'!N$38, \"ERROR\", 'Organochlorine data'!N20), IF('Organochlorine data'!N20=\"<LOD\",'Organochlorine data'!N$38, \"ERROR\")))","v":""},{"$f":"IF('Organochlorine data'!O20=\"\",\"\",IF(ISNUMBER('Organochlorine data'!O20)=TRUE, IF('Organochlorine data'!O20<'Organochlorine data'!O$38, \"ERROR\", 'Organochlorine data'!O20), IF('Organochlorine data'!O20=\"<LOD\",'Organochlorine data'!O$38, \"ERROR\")))","v":""},{"$f":"IF('Organochlorine data'!P20=\"\",\"\",IF(ISNUMBER('Organochlorine data'!P20)=TRUE, IF('Organochlorine data'!P20<'Organochlorine data'!P$38, \"ERROR\", 'Organochlorine data'!P20), IF('Organochlorine data'!P20=\"<LOD\",'Organochlorine data'!P$38, \"ERROR\")))","v":""},{"$f":"IF('Organochlorine data'!Q20=\"\",\"\",IF(ISNUMBER('Organochlorine data'!Q20)=TRUE, IF('Organochlorine data'!Q20<'Organochlorine data'!Q$38, \"ERROR\", 'Organochlorine data'!Q20), IF('Organochlorine data'!Q20=\"<LOD\",'Organochlorine data'!Q$38, \"ERROR\")))","v":""},{"$f":"IF('Organochlorine data'!R20=\"\",\"\",IF(ISNUMBER('Organochlorine data'!R20)=TRUE, IF('Organochlorine data'!R20<'Organochlorine data'!R$38, \"ERROR\", 'Organochlorine data'!R20), IF('Organochlorine data'!R20=\"<LOD\",'Organochlorine data'!R$38, \"ERROR\")))","v":""},{"$f":"IF('Organochlorine data'!S20=\"\",\"\",IF(ISNUMBER('Organochlorine data'!S20)=TRUE, IF('Organochlorine data'!S20<'Organochlorine data'!S$38, \"ERROR\", 'Organochlorine data'!S20), IF('Organochlorine data'!S20=\"<LOD\",'Organochlorine data'!S$38, \"ERROR\")))","v":""}]
[null,null,null,null,null,null,null,{"$f":"IF('Organochlorine data'!H21=\"\",\"\",'Organochlorine data'!H21)","v":""},{"$f":"IF('Organochlorine data'!I21=\"\",\"\",'Organochlorine data'!I21)","v":""},{"$f":"IFERROR(IF(K21=\"\",\"\",(IF(VLOOKUP(K21,'Application info'!$K$8:$L$37,2,0)=\"y\",\"y\",\"\"))),\"Manual entry required\")","v":""},{"$f":"IF('Organochlorine data'!J21=\"\",\"\",'Organochlorine data'!J21)","v":""},{"$f":"IF('Organochlorine data'!L21=\"\",\"\",IF(ISNUMBER('Organochlorine data'!L21)=TRUE, IF('Organochlorine data'!L21<'Organochlorine data'!L$38, \"ERROR\", 'Organochlorine data'!L21), IF('Organochlorine data'!L21=\"<LOD\",'Organochlorine data'!L$38, \"ERROR\")))","v":""},{"$f":"IF('Organochlorine data'!M21=\"\",\"\",IF(ISNUMBER('Organochlorine data'!M21)=TRUE, IF('Organochlorine data'!M21<'Organochlorine data'!M$38, \"ERROR\", 'Organochlorine data'!M21), IF('Organochlorine data'!M21=\"<LOD\",'Organochlorine data'!M$38, \"ERROR\")))","v":""},{"$f":"IF('Organochlorine data'!N21=\"\",\"\",IF(ISNUMBER('Organochlorine data'!N21)=TRUE, IF('Organochlorine data'!N21<'Organochlorine data'!N$38, \"ERROR\", 'Organochlorine data'!N21), IF('Organochlorine data'!N21=\"<LOD\",'Organochlorine data'!N$38, \"ERROR\")))","v":""},{"$f":"IF('Organochlorine data'!O21=\"\",\"\",IF(ISNUMBER('Organochlorine data'!O21)=TRUE, IF('Organochlorine data'!O21<'Organochlorine data'!O$38, \"ERROR\", 'Organochlorine data'!O21), IF('Organochlorine data'!O21=\"<LOD\",'Organochlorine data'!O$38, \"ERROR\")))","v":""},{"$f":"IF('Organochlorine data'!P21=\"\",\"\",IF(ISNUMBER('Organochlorine data'!P21)=TRUE, IF('Organochlorine data'!P21<'Organochlorine data'!P$38, \"ERROR\", 'Organochlorine data'!P21), IF('Organochlorine data'!P21=\"<LOD\",'Organochlorine data'!P$38, \"ERROR\")))","v":""},{"$f":"IF('Organochlorine data'!Q21=\"\",\"\",IF(ISNUMBER('Organochlorine data'!Q21)=TRUE, IF('Organochlorine data'!Q21<'Organochlorine data'!Q$38, \"ERROR\", 'Organochlorine data'!Q21), IF('Organochlorine data'!Q21=\"<LOD\",'Organochlorine data'!Q$38, \"ERROR\")))","v":""},{"$f":"IF('Organochlorine data'!R21=\"\",\"\",IF(ISNUMBER('Organochlorine data'!R21)=TRUE, IF('Organochlorine data'!R21<'Organochlorine data'!R$38, \"ERROR\", 'Organochlorine data'!R21), IF('Organochlorine data'!R21=\"<LOD\",'Organochlorine data'!R$38, \"ERROR\")))","v":""},{"$f":"IF('Organochlorine data'!S21=\"\",\"\",IF(ISNUMBER('Organochlorine data'!S21)=TRUE, IF('Organochlorine data'!S21<'Organochlorine data'!S$38, \"ERROR\", 'Organochlorine data'!S21), IF('Organochlorine data'!S21=\"<LOD\",'Organochlorine data'!S$38, \"ERROR\")))","v":""}]
[null,null,null,null,null,null,null,{"$f":"IF('Organochlorine data'!H22=\"\",\"\",'Organochlorine data'!H22)","v":""},{"$f":"IF('Organochlorine data'!I22=\"\",\"\",'Organochlorine data'!I22)","v":""},{"$f":"IFERROR(IF(K22=\"\",\"\",(IF(VLOOKUP(K22,'Application info'!$K$8:$L$37,2,0)=\"y\",\"y\",\"\"))),\"Manual entry required\")","v":""},{"$f":"IF('Organochlorine data'!J22=\"\",\"\",'Organochlorine data'!J22)","v":""},{"$f":"IF('Organochlorine data'!L22=\"\",\"\",IF(ISNUMBER('Organochlorine data'!L22)=TRUE, IF('Organochlorine data'!L22<'Organochlorine data'!L$38, \"ERROR\", 'Organochlorine data'!L22), IF('Organochlorine data'!L22=\"<LOD\",'Organochlorine data'!L$38, \"ERROR\")))","v":""},{"$f":"IF('Organochlorine data'!M22=\"\",\"\",IF(ISNUMBER('Organochlorine data'!M22)=TRUE, IF('Organochlorine data'!M22<'Organochlorine data'!M$38, \"ERROR\", 'Organochlorine data'!M22), IF('Organochlorine data'!M22=\"<LOD\",'Organochlorine data'!M$38, \"ERROR\")))","v":""},{"$f":"IF('Organochlorine data'!N22=\"\",\"\",IF(ISNUMBER('Organochlorine data'!N22)=TRUE, IF('Organochlorine data'!N22<'Organochlorine data'!N$38, \"ERROR\", 'Organochlorine data'!N22), IF('Organochlorine data'!N22=\"<LOD\",'Organochlorine data'!N$38, \"ERROR\")))","v":""},{"$f":"IF('Organochlorine data'!O22=\"\",\"\",IF(ISNUMBER('Organochlorine data'!O22)=TRUE, IF('Organochlorine data'!O22<'Organochlorine data'!O$38, \"ERROR\", 'Organochlorine data'!O22), IF('Organochlorine data'!O22=\"<LOD\",'Organochlorine data'!O$38, \"ERROR\")))","v":""},{"$f":"IF('Organochlorine data'!P22=\"\",\"\",IF(ISNUMBER('Organochlorine data'!P22)=TRUE, IF('Organochlorine data'!P22<'Organochlorine data'!P$38, \"ERROR\", 'Organochlorine data'!P22), IF('Organochlorine data'!P22=\"<LOD\",'Organochlorine data'!P$38, \"ERROR\")))","v":""},{"$f":"IF('Organochlorine data'!Q22=\"\",\"\",IF(ISNUMBER('Organochlorine data'!Q22)=TRUE, IF('Organochlorine data'!Q22<'Organochlorine data'!Q$38, \"ERROR\", 'Organochlorine data'!Q22), IF('Organochlorine data'!Q22=\"<LOD\",'Organochlorine data'!Q$38, \"ERROR\")))","v":""},{"$f":"IF('Organochlorine data'!R22=\"\",\"\",IF(ISNUMBER('Organochlorine data'!R22)=TRUE, IF('Organochlorine data'!R22<'Organochlorine data'!R$38, \"ERROR\", 'Organochlorine data'!R22), IF('Organochlorine data'!R22=\"<LOD\",'Organochlorine data'!R$38, \"ERROR\")))","v":""},{"$f":"IF('Organochlorine data'!S22=\"\",\"\",IF(ISNUMBER('Organochlorine data'!S22)=TRUE, IF('Organochlorine data'!S22<'Organochlorine data'!S$38, \"ERROR\", 'Organochlorine data'!S22), IF('Organochlorine data'!S22=\"<LOD\",'Organochlorine data'!S$38, \"ERROR\")))","v":""}]
[null,null,null,null,null,null,null,{"$f":"IF('Organochlorine data'!H23=\"\",\"\",'Organochlorine data'!H23)","v":""},{"$f":"IF('Organochlorine data'!I23=\"\",\"\",'Organochlorine data'!I23)","v":""},{"$f":"IFERROR(IF(K23=\"\",\"\",(IF(VLOOKUP(K23,'Application info'!$K$8:$L$37,2,0)=\"y\",\"y\",\"\"))),\"Manual entry required\")","v":""},{"$f":"IF('Organochlorine data'!J23=\"\",\"\",'Organochlorine data'!J23)","v":""},{"$f":"IF('Organochlorine data'!L23=\"\",\"\",IF(ISNUMBER('Organochlorine data'!L23)=TRUE, IF('Organochlorine data'!L23<'Organochlorine data'!L$38, \"ERROR\", 'Organochlorine data'!L23), IF('Organochlorine data'!L23=\"<LOD\",'Organochlorine data'!L$38, \"ERROR\")))","v":""},{"$f":"IF('Organochlorine data'!M23=\"\",\"\",IF(ISNUMBER('Organochlorine data'!M23)=TRUE, IF('Organochlorine data'!M23<'Organochlorine data'!M$38, \"ERROR\", 'Organochlorine data'!M23), IF('Organochlorine data'!M23=\"<LOD\",'Organochlorine data'!M$38, \"ERROR\")))","v":""},{"$f":"IF('Organochlorine data'!N23=\"\",\"\",IF(ISNUMBER('Organochlorine data'!N23)=TRUE, IF('Organochlorine data'!N23<'Organochlorine data'!N$38, \"ERROR\", 'Organochlorine data'!N23), IF('Organochlorine data'!N23=\"<LOD\",'Organochlorine data'!N$38, \"ERROR\")))","v":""},{"$f":"IF('Organochlorine data'!O23=\"\",\"\",IF(ISNUMBER('Organochlorine data'!O23)=TRUE, IF('Organochlorine data'!O23<'Organochlorine data'!O$38, \"ERROR\", 'Organochlorine data'!O23), IF('Organochlorine data'!O23=\"<LOD\",'Organochlorine data'!O$38, \"ERROR\")))","v":""},{"$f":"IF('Organochlorine data'!P23=\"\",\"\",IF(ISNUMBER('Organochlorine data'!P23)=TRUE, IF('Organochlorine data'!P23<'Organochlorine data'!P$38, \"ERROR\", 'Organochlorine data'!P23), IF('Organochlorine data'!P23=\"<LOD\",'Organochlorine data'!P$38, \"ERROR\")))","v":""},{"$f":"IF('Organochlorine data'!Q23=\"\",\"\",IF(ISNUMBER('Organochlorine data'!Q23)=TRUE, IF('Organochlorine data'!Q23<'Organochlorine data'!Q$38, \"ERROR\", 'Organochlorine data'!Q23), IF('Organochlorine data'!Q23=\"<LOD\",'Organochlorine data'!Q$38, \"ERROR\")))","v":""},{"$f":"IF('Organochlorine data'!R23=\"\",\"\",IF(ISNUMBER('Organochlorine data'!R23)=TRUE, IF('Organochlorine data'!R23<'Organochlorine data'!R$38, \"ERROR\", 'Organochlorine data'!R23), IF('Organochlorine data'!R23=\"<LOD\",'Organochlorine data'!R$38, \"ERROR\")))","v":""},{"$f":"IF('Organochlorine data'!S23=\"\",\"\",IF(ISNUMBER('Organochlorine data'!S23)=TRUE, IF('Organochlorine data'!S23<'Organochlorine data'!S$38, \"ERROR\", 'Organochlorine data'!S23), IF('Organochlorine data'!S23=\"<LOD\",'Organochlorine data'!S$38, \"ERROR\")))","v":""}]
[null,null,null,null,null,null,null,{"$f":"IF('Organochlorine data'!H24=\"\",\"\",'Organochlorine data'!H24)","v":""},{"$f":"IF('Organochlorine data'!I24=\"\",\"\",'Organochlorine data'!I24)","v":""},{"$f":"IFERROR(IF(K24=\"\",\"\",(IF(VLOOKUP(K24,'Application info'!$K$8:$L$37,2,0)=\"y\",\"y\",\"\"))),\"Manual entry required\")","v":""},{"$f":"IF('Organochlorine data'!J24=\"\",\"\",'Organochlorine data'!J24)","v":""},{"$f":"IF('Organochlorine data'!L24=\"\",\"\",IF(ISNUMBER('Organochlorine data'!L24)=TRUE, IF('Organochlorine data'!L24<'Organochlorine data'!L$38, \"ERROR\", 'Organochlorine data'!L24), IF('Organochlorine data'!L24=\"<LOD\",'Organochlorine data'!L$38, \"ERROR\")))","v":""},{"$f":"IF('Organochlorine data'!M24=\"\",\"\",IF(ISNUMBER('Organochlorine data'!M24)=TRUE, IF('Organochlorine data'!M24<'Organochlorine data'!M$38, \"ERROR\", 'Organochlorine data'!M24), IF('Organochlorine data'!M24=\"<LOD\",'Organochlorine data'!M$38, \"ERROR\")))","v":""},{"$f":"IF('Organochlorine data'!N24=\"\",\"\",IF(ISNUMBER('Organochlorine data'!N24)=TRUE, IF('Organochlorine data'!N24<'Organochlorine data'!N$38, \"ERROR\", 'Organochlorine data'!N24), IF('Organochlorine data'!N24=\"<LOD\",'Organochlorine data'!N$38, \"ERROR\")))","v":""},{"$f":"IF('Organochlorine data'!O24=\"\",\"\",IF(ISNUMBER('Organochlorine data'!O24)=TRUE, IF('Organochlorine data'!O24<'Organochlorine data'!O$38, \"ERROR\", 'Organochlorine data'!O24), IF('Organochlorine data'!O24=\"<LOD\",'Organochlorine data'!O$38, \"ERROR\")))","v":""},{"$f":"IF('Organochlorine data'!P24=\"\",\"\",IF(ISNUMBER('Organochlorine data'!P24)=TRUE, IF('Organochlorine data'!P24<'Organochlorine data'!P$38, \"ERROR\", 'Organochlorine data'!P24), IF('Organochlorine data'!P24=\"<LOD\",'Organochlorine data'!P$38, \"ERROR\")))","v":""},{"$f":"IF('Organochlorine data'!Q24=\"\",\"\",IF(ISNUMBER('Organochlorine data'!Q24)=TRUE, IF('Organochlorine data'!Q24<'Organochlorine data'!Q$38, \"ERROR\", 'Organochlorine data'!Q24), IF('Organochlorine data'!Q24=\"<LOD\",'Organochlorine data'!Q$38, \"ERROR\")))","v":""},{"$f":"IF('Organochlorine data'!R24=\"\",\"\",IF(ISNUMBER('Organochlorine data'!R24)=TRUE, IF('Organochlorine data'!R24<'Organochlorine data'!R$38, \"ERROR\", 'Organochlorine data'!R24), IF('Organochlorine data'!R24=\"<LOD\",'Organochlorine data'!R$38, \"ERROR\")))","v":""},{"$f":"IF('Organochlorine data'!S24=\"\",\"\",IF(ISNUMBER('Organochlorine data'!S24)=TRUE, IF('Organochlorine data'!S24<'Organochlorine data'!S$38, \"ERROR\", 'Organochlorine data'!S24), IF('Organochlorine data'!S24=\"<LOD\",'Organochlorine data'!S$38, \"ERROR\")))","v":""}]
[null,null,null,null,null,null,null,{"$f":"IF('Organochlorine data'!H25=\"\",\"\",'Organochlorine data'!H25)","v":""},{"$f":"IF('Organochlorine data'!I25=\"\",\"\",'Organochlorine data'!I25)","v":""},{"$f":"IFERROR(IF(K25=\"\",\"\",(IF(VLOOKUP(K25,'Application info'!$K$8:$L$37,2,0)=\"y\",\"y\",\"\"))),\"Manual entry required\")","v":""},{"$f":"IF('Organochlorine data'!J25=\"\",\"\",'Organochlorine data'!J25)","v":""},{"$f":"IF('Organochlorine data'!L25=\"\",\"\",IF(ISNUMBER('Organochlorine data'!L25)=TRUE, IF('Organochlorine data'!L25<'Organochlorine data'!L$38, \"ERROR\", 'Organochlorine data'!L25), IF('Organochlorine data'!L25=\"<LOD\",'Organochlorine data'!L$38, \"ERROR\")))","v":""},{"$f":"IF('Organochlorine data'!M25=\"\",\"\",IF(ISNUMBER('Organochlorine data'!M25)=TRUE, IF('Organochlorine data'!M25<'Organochlorine data'!M$38, \"ERROR\", 'Organochlorine data'!M25), IF('Organochlorine data'!M25=\"<LOD\",'Organochlorine data'!M$38, \"ERROR\")))","v":""},{"$f":"IF('Organochlorine data'!N25=\"\",\"\",IF(ISNUMBER('Organochlorine data'!N25)=TRUE, IF('Organochlorine data'!N25<'Organochlorine data'!N$38, \"ERROR\", 'Organochlorine data'!N25), IF('Organochlorine data'!N25=\"<LOD\",'Organochlorine data'!N$38, \"ERROR\")))","v":""},{"$f":"IF('Organochlorine data'!O25=\"\",\"\",IF(ISNUMBER('Organochlorine data'!O25)=TRUE, IF('Organochlorine data'!O25<'Organochlorine data'!O$38, \"ERROR\", 'Organochlorine data'!O25), IF('Organochlorine data'!O25=\"<LOD\",'Organochlorine data'!O$38, \"ERROR\")))","v":""},{"$f":"IF('Organochlorine data'!P25=\"\",\"\",IF(ISNUMBER('Organochlorine data'!P25)=TRUE, IF('Organochlorine data'!P25<'Organochlorine data'!P$38, \"ERROR\", 'Organochlorine data'!P25), IF('Organochlorine data'!P25=\"<LOD\",'Organochlorine data'!P$38, \"ERROR\")))","v":""},{"$f":"IF('Organochlorine data'!Q25=\"\",\"\",IF(ISNUMBER('Organochlorine data'!Q25)=TRUE, IF('Organochlorine data'!Q25<'Organochlorine data'!Q$38, \"ERROR\", 'Organochlorine data'!Q25), IF('Organochlorine data'!Q25=\"<LOD\",'Organochlorine data'!Q$38, \"ERROR\")))","v":""},{"$f":"IF('Organochlorine data'!R25=\"\",\"\",IF(ISNUMBER('Organochlorine data'!R25)=TRUE, IF('Organochlorine data'!R25<'Organochlorine data'!R$38, \"ERROR\", 'Organochlorine data'!R25), IF('Organochlorine data'!R25=\"<LOD\",'Organochlorine data'!R$38, \"ERROR\")))","v":""},{"$f":"IF('Organochlorine data'!S25=\"\",\"\",IF(ISNUMBER('Organochlorine data'!S25)=TRUE, IF('Organochlorine data'!S25<'Organochlorine data'!S$38, \"ERROR\", 'Organochlorine data'!S25), IF('Organochlorine data'!S25=\"<LOD\",'Organochlorine data'!S$38, \"ERROR\")))","v":""}]
[null,null,null,null,null,null,null,{"$f":"IF('Organochlorine data'!H26=\"\",\"\",'Organochlorine data'!H26)","v":""},{"$f":"IF('Organochlorine data'!I26=\"\",\"\",'Organochlorine data'!I26)","v":""},{"$f":"IFERROR(IF(K26=\"\",\"\",(IF(VLOOKUP(K26,'Application info'!$K$8:$L$37,2,0)=\"y\",\"y\",\"\"))),\"Manual entry required\")","v":""},{"$f":"IF('Organochlorine data'!J26=\"\",\"\",'Organochlorine data'!J26)","v":""},{"$f":"IF('Organochlorine data'!L26=\"\",\"\",IF(ISNUMBER('Organochlorine data'!L26)=TRUE, IF('Organochlorine data'!L26<'Organochlorine data'!L$38, \"ERROR\", 'Organochlorine data'!L26), IF('Organochlorine data'!L26=\"<LOD\",'Organochlorine data'!L$38, \"ERROR\")))","v":""},{"$f":"IF('Organochlorine data'!M26=\"\",\"\",IF(ISNUMBER('Organochlorine data'!M26)=TRUE, IF('Organochlorine data'!M26<'Organochlorine data'!M$38, \"ERROR\", 'Organochlorine data'!M26), IF('Organochlorine data'!M26=\"<LOD\",'Organochlorine data'!M$38, \"ERROR\")))","v":""},{"$f":"IF('Organochlorine data'!N26=\"\",\"\",IF(ISNUMBER('Organochlorine data'!N26)=TRUE, IF('Organochlorine data'!N26<'Organochlorine data'!N$38, \"ERROR\", 'Organochlorine data'!N26), IF('Organochlorine data'!N26=\"<LOD\",'Organochlorine data'!N$38, \"ERROR\")))","v":""},{"$f":"IF('Organochlorine data'!O26=\"\",\"\",IF(ISNUMBER('Organochlorine data'!O26)=TRUE, IF('Organochlorine data'!O26<'Organochlorine data'!O$38, \"ERROR\", 'Organochlorine data'!O26), IF('Organochlorine data'!O26=\"<LOD\",'Organochlorine data'!O$38, \"ERROR\")))","v":""},{"$f":"IF('Organochlorine data'!P26=\"\",\"\",IF(ISNUMBER('Organochlorine data'!P26)=TRUE, IF('Organochlorine data'!P26<'Organochlorine data'!P$38, \"ERROR\", 'Organochlorine data'!P26), IF('Organochlorine data'!P26=\"<LOD\",'Organochlorine data'!P$38, \"ERROR\")))","v":""},{"$f":"IF('Organochlorine data'!Q26=\"\",\"\",IF(ISNUMBER('Organochlorine data'!Q26)=TRUE, IF('Organochlorine data'!Q26<'Organochlorine data'!Q$38, \"ERROR\", 'Organochlorine data'!Q26), IF('Organochlorine data'!Q26=\"<LOD\",'Organochlorine data'!Q$38, \"ERROR\")))","v":""},{"$f":"IF('Organochlorine data'!R26=\"\",\"\",IF(ISNUMBER('Organochlorine data'!R26)=TRUE, IF('Organochlorine data'!R26<'Organochlorine data'!R$38, \"ERROR\", 'Organochlorine data'!R26), IF('Organochlorine data'!R26=\"<LOD\",'Organochlorine data'!R$38, \"ERROR\")))","v":""},{"$f":"IF('Organochlorine data'!S26=\"\",\"\",IF(ISNUMBER('Organochlorine data'!S26)=TRUE, IF('Organochlorine data'!S26<'Organochlorine data'!S$38, \"ERROR\", 'Organochlorine data'!S26), IF('Organochlorine data'!S26=\"<LOD\",'Organochlorine data'!S$38, \"ERROR\")))","v":""}]
[null,null,null,null,null,null,null,{"$f":"IF('Organochlorine data'!H27=\"\",\"\",'Organochlorine data'!H27)","v":""},{"$f":"IF('Organochlorine data'!I27=\"\",\"\",'Organochlorine data'!I27)","v":""},{"$f":"IFERROR(IF(K27=\"\",\"\",(IF(VLOOKUP(K27,'Application info'!$K$8:$L$37,2,0)=\"y\",\"y\",\"\"))),\"Manual entry required\")","v":""},{"$f":"IF('Organochlorine data'!J27=\"\",\"\",'Organochlorine data'!J27)","v":""},{"$f":"IF('Organochlorine data'!L27=\"\",\"\",IF(ISNUMBER('Organochlorine data'!L27)=TRUE, IF('Organochlorine data'!L27<'Organochlorine data'!L$38, \"ERROR\", 'Organochlorine data'!L27), IF('Organochlorine data'!L27=\"<LOD\",'Organochlorine data'!L$38, \"ERROR\")))","v":""},{"$f":"IF('Organochlorine data'!M27=\"\",\"\",IF(ISNUMBER('Organochlorine data'!M27)=TRUE, IF('Organochlorine data'!M27<'Organochlorine data'!M$38, \"ERROR\", 'Organochlorine data'!M27), IF('Organochlorine data'!M27=\"<LOD\",'Organochlorine data'!M$38, \"ERROR\")))","v":""},{"$f":"IF('Organochlorine data'!N27=\"\",\"\",IF(ISNUMBER('Organochlorine data'!N27)=TRUE, IF('Organochlorine data'!N27<'Organochlorine data'!N$38, \"ERROR\", 'Organochlorine data'!N27), IF('Organochlorine data'!N27=\"<LOD\",'Organochlorine data'!N$38, \"ERROR\")))","v":""},{"$f":"IF('Organochlorine data'!O27=\"\",\"\",IF(ISNUMBER('Organochlorine data'!O27)=TRUE, IF('Organochlorine data'!O27<'Organochlorine data'!O$38, \"ERROR\", 'Organochlorine data'!O27), IF('Organochlorine data'!O27=\"<LOD\",'Organochlorine data'!O$38, \"ERROR\")))","v":""},{"$f":"IF('Organochlorine data'!P27=\"\",\"\",IF(ISNUMBER('Organochlorine data'!P27)=TRUE, IF('Organochlorine data'!P27<'Organochlorine data'!P$38, \"ERROR\", 'Organochlorine data'!P27), IF('Organochlorine data'!P27=\"<LOD\",'Organochlorine data'!P$38, \"ERROR\")))","v":""},{"$f":"IF('Organochlorine data'!Q27=\"\",\"\",IF(ISNUMBER('Organochlorine data'!Q27)=TRUE, IF('Organochlorine data'!Q27<'Organochlorine data'!Q$38, \"ERROR\", 'Organochlorine data'!Q27), IF('Organochlorine data'!Q27=\"<LOD\",'Organochlorine data'!Q$38, \"ERROR\")))","v":""},{"$f":"IF('Organochlorine data'!R27=\"\",\"\",IF(ISNUMBER('Organochlorine data'!R27)=TRUE, IF('Organochlorine data'!R27<'Organochlorine data'!R$38, \"ERROR\", 'Organochlorine data'!R27), IF('Organochlorine data'!R27=\"<LOD\",'Organochlorine data'!R$38, \"ERROR\")))","v":""},{"$f":"IF('Organochlorine data'!S27=\"\",\"\",IF(ISNUMBER('Organochlorine data'!S27)=TRUE, IF('Organochlorine data'!S27<'Organochlorine data'!S$38, \"ERROR\", 'Organochlorine data'!S27), IF('Organochlorine data'!S27=\"<LOD\",'Organochlorine data'!S$38, \"ERROR\")))","v":""}]
[null,null,null,null,null,null,null,{"$f":"IF('Organochlorine data'!H28=\"\",\"\",'Organochlorine data'!H28)","v":""},{"$f":"IF('Organochlorine data'!I28=\"\",\"\",'Organochlorine data'!I28)","v":""},{"$f":"IFERROR(IF(K28=\"\",\"\",(IF(VLOOKUP(K28,'Application info'!$K$8:$L$37,2,0)=\"y\",\"y\",\"\"))),\"Manual entry required\")","v":""},{"$f":"IF('Organochlorine data'!J28=\"\",\"\",'Organochlorine data'!J28)","v":""},{"$f":"IF('Organochlorine data'!L28=\"\",\"\",IF(ISNUMBER('Organochlorine data'!L28)=TRUE, IF('Organochlorine data'!L28<'Organochlorine data'!L$38, \"ERROR\", 'Organochlorine data'!L28), IF('Organochlorine data'!L28=\"<LOD\",'Organochlorine data'!L$38, \"ERROR\")))","v":""},{"$f":"IF('Organochlorine data'!M28=\"\",\"\",IF(ISNUMBER('Organochlorine data'!M28)=TRUE, IF('Organochlorine data'!M28<'Organochlorine data'!M$38, \"ERROR\", 'Organochlorine data'!M28), IF('Organochlorine data'!M28=\"<LOD\",'Organochlorine data'!M$38, \"ERROR\")))","v":""},{"$f":"IF('Organochlorine data'!N28=\"\",\"\",IF(ISNUMBER('Organochlorine data'!N28)=TRUE, IF('Organochlorine data'!N28<'Organochlorine data'!N$38, \"ERROR\", 'Organochlorine data'!N28), IF('Organochlorine data'!N28=\"<LOD\",'Organochlorine data'!N$38, \"ERROR\")))","v":""},{"$f":"IF('Organochlorine data'!O28=\"\",\"\",IF(ISNUMBER('Organochlorine data'!O28)=TRUE, IF('Organochlorine data'!O28<'Organochlorine data'!O$38, \"ERROR\", 'Organochlorine data'!O28), IF('Organochlorine data'!O28=\"<LOD\",'Organochlorine data'!O$38, \"ERROR\")))","v":""},{"$f":"IF('Organochlorine data'!P28=\"\",\"\",IF(ISNUMBER('Organochlorine data'!P28)=TRUE, IF('Organochlorine data'!P28<'Organochlorine data'!P$38, \"ERROR\", 'Organochlorine data'!P28), IF('Organochlorine data'!P28=\"<LOD\",'Organochlorine data'!P$38, \"ERROR\")))","v":""},{"$f":"IF('Organochlorine data'!Q28=\"\",\"\",IF(ISNUMBER('Organochlorine data'!Q28)=TRUE, IF('Organochlorine data'!Q28<'Organochlorine data'!Q$38, \"ERROR\", 'Organochlorine data'!Q28), IF('Organochlorine data'!Q28=\"<LOD\",'Organochlorine data'!Q$38, \"ERROR\")))","v":""},{"$f":"IF('Organochlorine data'!R28=\"\",\"\",IF(ISNUMBER('Organochlorine data'!R28)=TRUE, IF('Organochlorine data'!R28<'Organochlorine data'!R$38, \"ERROR\", 'Organochlorine data'!R28), IF('Organochlorine data'!R28=\"<LOD\",'Organochlorine data'!R$38, \"ERROR\")))","v":""},{"$f":"IF('Organochlorine data'!S28=\"\",\"\",IF(ISNUMBER('Organochlorine data'!S28)=TRUE, IF('Organochlorine data'!S28<'Organochlorine data'!S$38, \"ERROR\", 'Organochlorine data'!S28), IF('Organochlorine data'!S28=\"<LOD\",'Organochlorine data'!S$38, \"ERROR\")))","v":""}]
[null,null,null,null,null,null,null,{"$f":"IF('Organochlorine data'!H29=\"\",\"\",'Organochlorine data'!H29)","v":""},{"$f":"IF('Organochlorine data'!I29=\"\",\"\",'Organochlorine data'!I29)","v":""},{"$f":"IFERROR(IF(K29=\"\",\"\",(IF(VLOOKUP(K29,'Application info'!$K$8:$L$37,2,0)=\"y\",\"y\",\"\"))),\"Manual entry required\")","v":""},{"$f":"IF('Organochlorine data'!J29=\"\",\"\",'Organochlorine data'!J29)","v":""},{"$f":"IF('Organochlorine data'!L29=\"\",\"\",IF(ISNUMBER('Organochlorine data'!L29)=TRUE, IF('Organochlorine data'!L29<'Organochlorine data'!L$38, \"ERROR\", 'Organochlorine data'!L29), IF('Organochlorine data'!L29=\"<LOD\",'Organochlorine data'!L$38, \"ERROR\")))","v":""},{"$f":"IF('Organochlorine data'!M29=\"\",\"\",IF(ISNUMBER('Organochlorine data'!M29)=TRUE, IF('Organochlorine data'!M29<'Organochlorine data'!M$38, \"ERROR\", 'Organochlorine data'!M29), IF('Organochlorine data'!M29=\"<LOD\",'Organochlorine data'!M$38, \"ERROR\")))","v":""},{"$f":"IF('Organochlorine data'!N29=\"\",\"\",IF(ISNUMBER('Organochlorine data'!N29)=TRUE, IF('Organochlorine data'!N29<'Organochlorine data'!N$38, \"ERROR\", 'Organochlorine data'!N29), IF('Organochlorine data'!N29=\"<LOD\",'Organochlorine data'!N$38, \"ERROR\")))","v":""},{"$f":"IF('Organochlorine data'!O29=\"\",\"\",IF(ISNUMBER('Organochlorine data'!O29)=TRUE, IF('Organochlorine data'!O29<'Organochlorine data'!O$38, \"ERROR\", 'Organochlorine data'!O29), IF('Organochlorine data'!O29=\"<LOD\",'Organochlorine data'!O$38, \"ERROR\")))","v":""},{"$f":"IF('Organochlorine data'!P29=\"\",\"\",IF(ISNUMBER('Organochlorine data'!P29)=TRUE, IF('Organochlorine data'!P29<'Organochlorine data'!P$38, \"ERROR\", 'Organochlorine data'!P29), IF('Organochlorine data'!P29=\"<LOD\",'Organochlorine data'!P$38, \"ERROR\")))","v":""},{"$f":"IF('Organochlorine data'!Q29=\"\",\"\",IF(ISNUMBER('Organochlorine data'!Q29)=TRUE, IF('Organochlorine data'!Q29<'Organochlorine data'!Q$38, \"ERROR\", 'Organochlorine data'!Q29), IF('Organochlorine data'!Q29=\"<LOD\",'Organochlorine data'!Q$38, \"ERROR\")))","v":""},{"$f":"IF('Organochlorine data'!R29=\"\",\"\",IF(ISNUMBER('Organochlorine data'!R29)=TRUE, IF('Organochlorine data'!R29<'Organochlorine data'!R$38, \"ERROR\", 'Organochlorine data'!R29), IF('Organochlorine data'!R29=\"<LOD\",'Organochlorine data'!R$38, \"ERROR\")))","v":""},{"$f":"IF('Organochlorine data'!S29=\"\",\"\",IF(ISNUMBER('Organochlorine data'!S29)=TRUE, IF('Organochlorine data'!S29<'Organochlorine data'!S$38, \"ERROR\", 'Organochlorine data'!S29), IF('Organochlorine data'!S29=\"<LOD\",'Organochlorine data'!S$38, \"ERROR\")))","v":""}]
[null,null,null,null,null,null,null,{"$f":"IF('Organochlorine data'!H30=\"\",\"\",'Organochlorine data'!H30)","v":""},{"$f":"IF('Organochlorine data'!I30=\"\",\"\",'Organochlorine data'!I30)","v":""},{"$f":"IFERROR(IF(K30=\"\",\"\",(IF(VLOOKUP(K30,'Application info'!$K$8:$L$37,2,0)=\"y\",\"y\",\"\"))),\"Manual entry required\")","v":""},{"$f":"IF('Organochlorine data'!J30=\"\",\"\",'Organochlorine data'!J30)","v":""},{"$f":"IF('Organochlorine data'!L30=\"\",\"\",IF(ISNUMBER('Organochlorine data'!L30)=TRUE, IF('Organochlorine data'!L30<'Organochlorine data'!L$38, \"ERROR\", 'Organochlorine data'!L30), IF('Organochlorine data'!L30=\"<LOD\",'Organochlorine data'!L$38, \"ERROR\")))","v":""},{"$f":"IF('Organochlorine data'!M30=\"\",\"\",IF(ISNUMBER('Organochlorine data'!M30)=TRUE, IF('Organochlorine data'!M30<'Organochlorine data'!M$38, \"ERROR\", 'Organochlorine data'!M30), IF('Organochlorine data'!M30=\"<LOD\",'Organochlorine data'!M$38, \"ERROR\")))","v":""},{"$f":"IF('Organochlorine data'!N30=\"\",\"\",IF(ISNUMBER('Organochlorine data'!N30)=TRUE, IF('Organochlorine data'!N30<'Organochlorine data'!N$38, \"ERROR\", 'Organochlorine data'!N30), IF('Organochlorine data'!N30=\"<LOD\",'Organochlorine data'!N$38, \"ERROR\")))","v":""},{"$f":"IF('Organochlorine data'!O30=\"\",\"\",IF(ISNUMBER('Organochlorine data'!O30)=TRUE, IF('Organochlorine data'!O30<'Organochlorine data'!O$38, \"ERROR\", 'Organochlorine data'!O30), IF('Organochlorine data'!O30=\"<LOD\",'Organochlorine data'!O$38, \"ERROR\")))","v":""},{"$f":"IF('Organochlorine data'!P30=\"\",\"\",IF(ISNUMBER('Organochlorine data'!P30)=TRUE, IF('Organochlorine data'!P30<'Organochlorine data'!P$38, \"ERROR\", 'Organochlorine data'!P30), IF('Organochlorine data'!P30=\"<LOD\",'Organochlorine data'!P$38, \"ERROR\")))","v":""},{"$f":"IF('Organochlorine data'!Q30=\"\",\"\",IF(ISNUMBER('Organochlorine data'!Q30)=TRUE, IF('Organochlorine data'!Q30<'Organochlorine data'!Q$38, \"ERROR\", 'Organochlorine data'!Q30), IF('Organochlorine data'!Q30=\"<LOD\",'Organochlorine data'!Q$38, \"ERROR\")))","v":""},{"$f":"IF('Organochlorine data'!R30=\"\",\"\",IF(ISNUMBER('Organochlorine data'!R30)=TRUE, IF('Organochlorine data'!R30<'Organochlorine data'!R$38, \"ERROR\", 'Organochlorine data'!R30), IF('Organochlorine data'!R30=\"<LOD\",'Organochlorine data'!R$38, \"ERROR\")))","v":""},{"$f":"IF('Organochlorine data'!S30=\"\",\"\",IF(ISNUMBER('Organochlorine data'!S30)=TRUE, IF('Organochlorine data'!S30<'Organochlorine data'!S$38, \"ERROR\", 'Organochlorine data'!S30), IF('Organochlorine data'!S30=\"<LOD\",'Organochlorine data'!S$38, \"ERROR\")))","v":""}]
[null,null,null,null,null,null,null,{"$f":"IF('Organochlorine data'!H31=\"\",\"\",'Organochlorine data'!H31)","v":""},{"$f":"IF('Organochlorine data'!I31=\"\",\"\",'Organochlorine data'!I31)","v":""},{"$f":"IFERROR(IF(K31=\"\",\"\",(IF(VLOOKUP(K31,'Application info'!$K$8:$L$37,2,0)=\"y\",\"y\",\"\"))),\"Manual entry required\")","v":""},{"$f":"IF('Organochlorine data'!J31=\"\",\"\",'Organochlorine data'!J31)","v":""},{"$f":"IF('Organochlorine data'!L31=\"\",\"\",IF(ISNUMBER('Organochlorine data'!L31)=TRUE, IF('Organochlorine data'!L31<'Organochlorine data'!L$38, \"ERROR\", 'Organochlorine data'!L31), IF('Organochlorine data'!L31=\"<LOD\",'Organochlorine data'!L$38, \"ERROR\")))","v":""},{"$f":"IF('Organochlorine data'!M31=\"\",\"\",IF(ISNUMBER('Organochlorine data'!M31)=TRUE, IF('Organochlorine data'!M31<'Organochlorine data'!M$38, \"ERROR\", 'Organochlorine data'!M31), IF('Organochlorine data'!M31=\"<LOD\",'Organochlorine data'!M$38, \"ERROR\")))","v":""},{"$f":"IF('Organochlorine data'!N31=\"\",\"\",IF(ISNUMBER('Organochlorine data'!N31)=TRUE, IF('Organochlorine data'!N31<'Organochlorine data'!N$38, \"ERROR\", 'Organochlorine data'!N31), IF('Organochlorine data'!N31=\"<LOD\",'Organochlorine data'!N$38, \"ERROR\")))","v":""},{"$f":"IF('Organochlorine data'!O31=\"\",\"\",IF(ISNUMBER('Organochlorine data'!O31)=TRUE, IF('Organochlorine data'!O31<'Organochlorine data'!O$38, \"ERROR\", 'Organochlorine data'!O31), IF('Organochlorine data'!O31=\"<LOD\",'Organochlorine data'!O$38, \"ERROR\")))","v":""},{"$f":"IF('Organochlorine data'!P31=\"\",\"\",IF(ISNUMBER('Organochlorine data'!P31)=TRUE, IF('Organochlorine data'!P31<'Organochlorine data'!P$38, \"ERROR\", 'Organochlorine data'!P31), IF('Organochlorine data'!P31=\"<LOD\",'Organochlorine data'!P$38, \"ERROR\")))","v":""},{"$f":"IF('Organochlorine data'!Q31=\"\",\"\",IF(ISNUMBER('Organochlorine data'!Q31)=TRUE, IF('Organochlorine data'!Q31<'Organochlorine data'!Q$38, \"ERROR\", 'Organochlorine data'!Q31), IF('Organochlorine data'!Q31=\"<LOD\",'Organochlorine data'!Q$38, \"ERROR\")))","v":""},{"$f":"IF('Organochlorine data'!R31=\"\",\"\",IF(ISNUMBER('Organochlorine data'!R31)=TRUE, IF('Organochlorine data'!R31<'Organochlorine data'!R$38, \"ERROR\", 'Organochlorine data'!R31), IF('Organochlorine data'!R31=\"<LOD\",'Organochlorine data'!R$38, \"ERROR\")))","v":""},{"$f":"IF('Organochlorine data'!S31=\"\",\"\",IF(ISNUMBER('Organochlorine data'!S31)=TRUE, IF('Organochlorine data'!S31<'Organochlorine data'!S$38, \"ERROR\", 'Organochlorine data'!S31), IF('Organochlorine data'!S31=\"<LOD\",'Organochlorine data'!S$38, \"ERROR\")))","v":""}]
[null,null,null,null,null,null,null,{"$f":"IF('Organochlorine data'!H32=\"\",\"\",'Organochlorine data'!H32)","v":""},{"$f":"IF('Organochlorine data'!I32=\"\",\"\",'Organochlorine data'!I32)","v":""},{"$f":"IFERROR(IF(K32=\"\",\"\",(IF(VLOOKUP(K32,'Application info'!$K$8:$L$37,2,0)=\"y\",\"y\",\"\"))),\"Manual entry required\")","v":""},{"$f":"IF('Organochlorine data'!J32=\"\",\"\",'Organochlorine data'!J32)","v":""},{"$f":"IF('Organochlorine data'!L32=\"\",\"\",IF(ISNUMBER('Organochlorine data'!L32)=TRUE, IF('Organochlorine data'!L32<'Organochlorine data'!L$38, \"ERROR\", 'Organochlorine data'!L32), IF('Organochlorine data'!L32=\"<LOD\",'Organochlorine data'!L$38, \"ERROR\")))","v":""},{"$f":"IF('Organochlorine data'!M32=\"\",\"\",IF(ISNUMBER('Organochlorine data'!M32)=TRUE, IF('Organochlorine data'!M32<'Organochlorine data'!M$38, \"ERROR\", 'Organochlorine data'!M32), IF('Organochlorine data'!M32=\"<LOD\",'Organochlorine data'!M$38, \"ERROR\")))","v":""},{"$f":"IF('Organochlorine data'!N32=\"\",\"\",IF(ISNUMBER('Organochlorine data'!N32)=TRUE, IF('Organochlorine data'!N32<'Organochlorine data'!N$38, \"ERROR\", 'Organochlorine data'!N32), IF('Organochlorine data'!N32=\"<LOD\",'Organochlorine data'!N$38, \"ERROR\")))","v":""},{"$f":"IF('Organochlorine data'!O32=\"\",\"\",IF(ISNUMBER('Organochlorine data'!O32)=TRUE, IF('Organochlorine data'!O32<'Organochlorine data'!O$38, \"ERROR\", 'Organochlorine data'!O32), IF('Organochlorine data'!O32=\"<LOD\",'Organochlorine data'!O$38, \"ERROR\")))","v":""},{"$f":"IF('Organochlorine data'!P32=\"\",\"\",IF(ISNUMBER('Organochlorine data'!P32)=TRUE, IF('Organochlorine data'!P32<'Organochlorine data'!P$38, \"ERROR\", 'Organochlorine data'!P32), IF('Organochlorine data'!P32=\"<LOD\",'Organochlorine data'!P$38, \"ERROR\")))","v":""},{"$f":"IF('Organochlorine data'!Q32=\"\",\"\",IF(ISNUMBER('Organochlorine data'!Q32)=TRUE, IF('Organochlorine data'!Q32<'Organochlorine data'!Q$38, \"ERROR\", 'Organochlorine data'!Q32), IF('Organochlorine data'!Q32=\"<LOD\",'Organochlorine data'!Q$38, \"ERROR\")))","v":""},{"$f":"IF('Organochlorine data'!R32=\"\",\"\",IF(ISNUMBER('Organochlorine data'!R32)=TRUE, IF('Organochlorine data'!R32<'Organochlorine data'!R$38, \"ERROR\", 'Organochlorine data'!R32), IF('Organochlorine data'!R32=\"<LOD\",'Organochlorine data'!R$38, \"ERROR\")))","v":""},{"$f":"IF('Organochlorine data'!S32=\"\",\"\",IF(ISNUMBER('Organochlorine data'!S32)=TRUE, IF('Organochlorine data'!S32<'Organochlorine data'!S$38, \"ERROR\", 'Organochlorine data'!S32), IF('Organochlorine data'!S32=\"<LOD\",'Organochlorine data'!S$38, \"ERROR\")))","v":""}]
[null,null,null,null,null,null,null,{"$f":"IF('Organochlorine data'!H33=\"\",\"\",'Organochlorine data'!H33)","v":""},{"$f":"IF('Organochlorine data'!I33=\"\",\"\",'Organochlorine data'!I33)","v":""},{"$f":"IFERROR(IF(K33=\"\",\"\",(IF(VLOOKUP(K33,'Application info'!$K$8:$L$37,2,0)=\"y\",\"y\",\"\"))),\"Manual entry required\")","v":""},{"$f":"IF('Organochlorine data'!J33=\"\",\"\",'Organochlorine data'!J33)","v":""},{"$f":"IF('Organochlorine data'!L33=\"\",\"\",IF(ISNUMBER('Organochlorine data'!L33)=TRUE, IF('Organochlorine data'!L33<'Organochlorine data'!L$38, \"ERROR\", 'Organochlorine data'!L33), IF('Organochlorine data'!L33=\"<LOD\",'Organochlorine data'!L$38, \"ERROR\")))","v":""},{"$f":"IF('Organochlorine data'!M33=\"\",\"\",IF(ISNUMBER('Organochlorine data'!M33)=TRUE, IF('Organochlorine data'!M33<'Organochlorine data'!M$38, \"ERROR\", 'Organochlorine data'!M33), IF('Organochlorine data'!M33=\"<LOD\",'Organochlorine data'!M$38, \"ERROR\")))","v":""},{"$f":"IF('Organochlorine data'!N33=\"\",\"\",IF(ISNUMBER('Organochlorine data'!N33)=TRUE, IF('Organochlorine data'!N33<'Organochlorine data'!N$38, \"ERROR\", 'Organochlorine data'!N33), IF('Organochlorine data'!N33=\"<LOD\",'Organochlorine data'!N$38, \"ERROR\")))","v":""},{"$f":"IF('Organochlorine data'!O33=\"\",\"\",IF(ISNUMBER('Organochlorine data'!O33)=TRUE, IF('Organochlorine data'!O33<'Organochlorine data'!O$38, \"ERROR\", 'Organochlorine data'!O33), IF('Organochlorine data'!O33=\"<LOD\",'Organochlorine data'!O$38, \"ERROR\")))","v":""},{"$f":"IF('Organochlorine data'!P33=\"\",\"\",IF(ISNUMBER('Organochlorine data'!P33)=TRUE, IF('Organochlorine data'!P33<'Organochlorine data'!P$38, \"ERROR\", 'Organochlorine data'!P33), IF('Organochlorine data'!P33=\"<LOD\",'Organochlorine data'!P$38, \"ERROR\")))","v":""},{"$f":"IF('Organochlorine data'!Q33=\"\",\"\",IF(ISNUMBER('Organochlorine data'!Q33)=TRUE, IF('Organochlorine data'!Q33<'Organochlorine data'!Q$38, \"ERROR\", 'Organochlorine data'!Q33), IF('Organochlorine data'!Q33=\"<LOD\",'Organochlorine data'!Q$38, \"ERROR\")))","v":""},{"$f":"IF('Organochlorine data'!R33=\"\",\"\",IF(ISNUMBER('Organochlorine data'!R33)=TRUE, IF('Organochlorine data'!R33<'Organochlorine data'!R$38, \"ERROR\", 'Organochlorine data'!R33), IF('Organochlorine data'!R33=\"<LOD\",'Organochlorine data'!R$38, \"ERROR\")))","v":""},{"$f":"IF('Organochlorine data'!S33=\"\",\"\",IF(ISNUMBER('Organochlorine data'!S33)=TRUE, IF('Organochlorine data'!S33<'Organochlorine data'!S$38, \"ERROR\", 'Organochlorine data'!S33), IF('Organochlorine data'!S33=\"<LOD\",'Organochlorine data'!S$38, \"ERROR\")))","v":""}]
[null,null,null,null,null,null,null,{"$f":"IF('Organochlorine data'!H34=\"\",\"\",'Organochlorine data'!H34)","v":""},{"$f":"IF('Organochlorine data'!I34=\"\",\"\",'Organochlorine data'!I34)","v":""},{"$f":"IFERROR(IF(K34=\"\",\"\",(IF(VLOOKUP(K34,'Application info'!$K$8:$L$37,2,0)=\"y\",\"y\",\"\"))),\"Manual entry required\")","v":""},{"$f":"IF('Organochlorine data'!J34=\"\",\"\",'Organochlorine data'!J34)","v":""},{"$f":"IF('Organochlorine data'!L34=\"\",\"\",IF(ISNUMBER('Organochlorine data'!L34)=TRUE, IF('Organochlorine data'!L34<'Organochlorine data'!L$38, \"ERROR\", 'Organochlorine data'!L34), IF('Organochlorine data'!L34=\"<LOD\",'Organochlorine data'!L$38, \"ERROR\")))","v":""},{"$f":"IF('Organochlorine data'!M34=\"\",\"\",IF(ISNUMBER('Organochlorine data'!M34)=TRUE, IF('Organochlorine data'!M34<'Organochlorine data'!M$38, \"ERROR\", 'Organochlorine data'!M34), IF('Organochlorine data'!M34=\"<LOD\",'Organochlorine data'!M$38, \"ERROR\")))","v":""},{"$f":"IF('Organochlorine data'!N34=\"\",\"\",IF(ISNUMBER('Organochlorine data'!N34)=TRUE, IF('Organochlorine data'!N34<'Organochlorine data'!N$38, \"ERROR\", 'Organochlorine data'!N34), IF('Organochlorine data'!N34=\"<LOD\",'Organochlorine data'!N$38, \"ERROR\")))","v":""},{"$f":"IF('Organochlorine data'!O34=\"\",\"\",IF(ISNUMBER('Organochlorine data'!O34)=TRUE, IF('Organochlorine data'!O34<'Organochlorine data'!O$38, \"ERROR\", 'Organochlorine data'!O34), IF('Organochlorine data'!O34=\"<LOD\",'Organochlorine data'!O$38, \"ERROR\")))","v":""},{"$f":"IF('Organochlorine data'!P34=\"\",\"\",IF(ISNUMBER('Organochlorine data'!P34)=TRUE, IF('Organochlorine data'!P34<'Organochlorine data'!P$38, \"ERROR\", 'Organochlorine data'!P34), IF('Organochlorine data'!P34=\"<LOD\",'Organochlorine data'!P$38, \"ERROR\")))","v":""},{"$f":"IF('Organochlorine data'!Q34=\"\",\"\",IF(ISNUMBER('Organochlorine data'!Q34)=TRUE, IF('Organochlorine data'!Q34<'Organochlorine data'!Q$38, \"ERROR\", 'Organochlorine data'!Q34), IF('Organochlorine data'!Q34=\"<LOD\",'Organochlorine data'!Q$38, \"ERROR\")))","v":""},{"$f":"IF('Organochlorine data'!R34=\"\",\"\",IF(ISNUMBER('Organochlorine data'!R34)=TRUE, IF('Organochlorine data'!R34<'Organochlorine data'!R$38, \"ERROR\", 'Organochlorine data'!R34), IF('Organochlorine data'!R34=\"<LOD\",'Organochlorine data'!R$38, \"ERROR\")))","v":""},{"$f":"IF('Organochlorine data'!S34=\"\",\"\",IF(ISNUMBER('Organochlorine data'!S34)=TRUE, IF('Organochlorine data'!S34<'Organochlorine data'!S$38, \"ERROR\", 'Organochlorine data'!S34), IF('Organochlorine data'!S34=\"<LOD\",'Organochlorine data'!S$38, \"ERROR\")))","v":""}]
[null,null,null,null,null,null,null,{"$f":"IF('Organochlorine data'!H35=\"\",\"\",'Organochlorine data'!H35)","v":""},{"$f":"IF('Organochlorine data'!I35=\"\",\"\",'Organochlorine data'!I35)","v":""},{"$f":"IFERROR(IF(K35=\"\",\"\",(IF(VLOOKUP(K35,'Application info'!$K$8:$L$37,2,0)=\"y\",\"y\",\"\"))),\"Manual entry required\")","v":""},{"$f":"IF('Organochlorine data'!J35=\"\",\"\",'Organochlorine data'!J35)","v":""},{"$f":"IF('Organochlorine data'!L35=\"\",\"\",IF(ISNUMBER('Organochlorine data'!L35)=TRUE, IF('Organochlorine data'!L35<'Organochlorine data'!L$38, \"ERROR\", 'Organochlorine data'!L35), IF('Organochlorine data'!L35=\"<LOD\",'Organochlorine data'!L$38, \"ERROR\")))","v":""},{"$f":"IF('Organochlorine data'!M35=\"\",\"\",IF(ISNUMBER('Organochlorine data'!M35)=TRUE, IF('Organochlorine data'!M35<'Organochlorine data'!M$38, \"ERROR\", 'Organochlorine data'!M35), IF('Organochlorine data'!M35=\"<LOD\",'Organochlorine data'!M$38, \"ERROR\")))","v":""},{"$f":"IF('Organochlorine data'!N35=\"\",\"\",IF(ISNUMBER('Organochlorine data'!N35)=TRUE, IF('Organochlorine data'!N35<'Organochlorine data'!N$38, \"ERROR\", 'Organochlorine data'!N35), IF('Organochlorine data'!N35=\"<LOD\",'Organochlorine data'!N$38, \"ERROR\")))","v":""},{"$f":"IF('Organochlorine data'!O35=\"\",\"\",IF(ISNUMBER('Organochlorine data'!O35)=TRUE, IF('Organochlorine data'!O35<'Organochlorine data'!O$38, \"ERROR\", 'Organochlorine data'!O35), IF('Organochlorine data'!O35=\"<LOD\",'Organochlorine data'!O$38, \"ERROR\")))","v":""},{"$f":"IF('Organochlorine data'!P35=\"\",\"\",IF(ISNUMBER('Organochlorine data'!P35)=TRUE, IF('Organochlorine data'!P35<'Organochlorine data'!P$38, \"ERROR\", 'Organochlorine data'!P35), IF('Organochlorine data'!P35=\"<LOD\",'Organochlorine data'!P$38, \"ERROR\")))","v":""},{"$f":"IF('Organochlorine data'!Q35=\"\",\"\",IF(ISNUMBER('Organochlorine data'!Q35)=TRUE, IF('Organochlorine data'!Q35<'Organochlorine data'!Q$38, \"ERROR\", 'Organochlorine data'!Q35), IF('Organochlorine data'!Q35=\"<LOD\",'Organochlorine data'!Q$38, \"ERROR\")))","v":""},{"$f":"IF('Organochlorine data'!R35=\"\",\"\",IF(ISNUMBER('Organochlorine data'!R35)=TRUE, IF('Organochlorine data'!R35<'Organochlorine data'!R$38, \"ERROR\", 'Organochlorine data'!R35), IF('Organochlorine data'!R35=\"<LOD\",'Organochlorine data'!R$38, \"ERROR\")))","v":""},{"$f":"IF('Organochlorine data'!S35=\"\",\"\",IF(ISNUMBER('Organochlorine data'!S35)=TRUE, IF('Organochlorine data'!S35<'Organochlorine data'!S$38, \"ERROR\", 'Organochlorine data'!S35), IF('Organochlorine data'!S35=\"<LOD\",'Organochlorine data'!S$38, \"ERROR\")))","v":""}]
[null,null,null,null,null,null,null,{"$f":"IF('Organochlorine data'!H36=\"\",\"\",'Organochlorine data'!H36)","v":""},{"$f":"IF('Organochlorine data'!I36=\"\",\"\",'Organochlorine data'!I36)","v":""},{"$f":"IFERROR(IF(K36=\"\",\"\",(IF(VLOOKUP(K36,'Application info'!$K$8:$L$37,2,0)=\"y\",\"y\",\"\"))),\"Manual entry required\")","v":""},{"$f":"IF('Organochlorine data'!J36=\"\",\"\",'Organochlorine data'!J36)","v":""},{"$f":"IF('Organochlorine data'!L36=\"\",\"\",IF(ISNUMBER('Organochlorine data'!L36)=TRUE, IF('Organochlorine data'!L36<'Organochlorine data'!L$38, \"ERROR\", 'Organochlorine data'!L36), IF('Organochlorine data'!L36=\"<LOD\",'Organochlorine data'!L$38, \"ERROR\")))","v":""},{"$f":"IF('Organochlorine data'!M36=\"\",\"\",IF(ISNUMBER('Organochlorine data'!M36)=TRUE, IF('Organochlorine data'!M36<'Organochlorine data'!M$38, \"ERROR\", 'Organochlorine data'!M36), IF('Organochlorine data'!M36=\"<LOD\",'Organochlorine data'!M$38, \"ERROR\")))","v":""},{"$f":"IF('Organochlorine data'!N36=\"\",\"\",IF(ISNUMBER('Organochlorine data'!N36)=TRUE, IF('Organochlorine data'!N36<'Organochlorine data'!N$38, \"ERROR\", 'Organochlorine data'!N36), IF('Organochlorine data'!N36=\"<LOD\",'Organochlorine data'!N$38, \"ERROR\")))","v":""},{"$f":"IF('Organochlorine data'!O36=\"\",\"\",IF(ISNUMBER('Organochlorine data'!O36)=TRUE, IF('Organochlorine data'!O36<'Organochlorine data'!O$38, \"ERROR\", 'Organochlorine data'!O36), IF('Organochlorine data'!O36=\"<LOD\",'Organochlorine data'!O$38, \"ERROR\")))","v":""},{"$f":"IF('Organochlorine data'!P36=\"\",\"\",IF(ISNUMBER('Organochlorine data'!P36)=TRUE, IF('Organochlorine data'!P36<'Organochlorine data'!P$38, \"ERROR\", 'Organochlorine data'!P36), IF('Organochlorine data'!P36=\"<LOD\",'Organochlorine data'!P$38, \"ERROR\")))","v":""},{"$f":"IF('Organochlorine data'!Q36=\"\",\"\",IF(ISNUMBER('Organochlorine data'!Q36)=TRUE, IF('Organochlorine data'!Q36<'Organochlorine data'!Q$38, \"ERROR\", 'Organochlorine data'!Q36), IF('Organochlorine data'!Q36=\"<LOD\",'Organochlorine data'!Q$38, \"ERROR\")))","v":""},{"$f":"IF('Organochlorine data'!R36=\"\",\"\",IF(ISNUMBER('Organochlorine data'!R36)=TRUE, IF('Organochlorine data'!R36<'Organochlorine data'!R$38, \"ERROR\", 'Organochlorine data'!R36), IF('Organochlorine data'!R36=\"<LOD\",'Organochlorine data'!R$38, \"ERROR\")))","v":""},{"$f":"IF('Organochlorine data'!S36=\"\",\"\",IF(ISNUMBER('Organochlorine data'!S36)=TRUE, IF('Organochlorine data'!S36<'Organochlorine data'!S$38, \"ERROR\", 'Organochlorine data'!S36), IF('Organochlorine data'!S36=\"<LOD\",'Organochlorine data'!S$38, \"ERROR\")))","v":""}]
[null,null,null,null,null,null,null,{"$f":"IF('Organochlorine data'!H37=\"\",\"\",'Organochlorine data'!H37)","v":""},{"$f":"IF('Organochlorine data'!I37=\"\",\"\",'Organochlorine data'!I37)","v":""},{"$f":"IFERROR(IF(K37=\"\",\"\",(IF(VLOOKUP(K37,'Application info'!$K$8:$L$37,2,0)=\"y\",\"y\",\"\"))),\"Manual entry required\")","v":""},{"$f":"IF('Organochlorine data'!J37=\"\",\"\",'Organochlorine data'!J37)","v":""},{"$f":"IF('Organochlorine data'!L37=\"\",\"\",IF(ISNUMBER('Organochlorine data'!L37)=TRUE, IF('Organochlorine data'!L37<'Organochlorine data'!L$38, \"ERROR\", 'Organochlorine data'!L37), IF('Organochlorine data'!L37=\"<LOD\",'Organochlorine data'!L$38, \"ERROR\")))","v":""},{"$f":"IF('Organochlorine data'!M37=\"\",\"\",IF(ISNUMBER('Organochlorine data'!M37)=TRUE, IF('Organochlorine data'!M37<'Organochlorine data'!M$38, \"ERROR\", 'Organochlorine data'!M37), IF('Organochlorine data'!M37=\"<LOD\",'Organochlorine data'!M$38, \"ERROR\")))","v":""},{"$f":"IF('Organochlorine data'!N37=\"\",\"\",IF(ISNUMBER('Organochlorine data'!N37)=TRUE, IF('Organochlorine data'!N37<'Organochlorine data'!N$38, \"ERROR\", 'Organochlorine data'!N37), IF('Organochlorine data'!N37=\"<LOD\",'Organochlorine data'!N$38, \"ERROR\")))","v":""},{"$f":"IF('Organochlorine data'!O37=\"\",\"\",IF(ISNUMBER('Organochlorine data'!O37)=TRUE, IF('Organochlorine data'!O37<'Organochlorine data'!O$38, \"ERROR\", 'Organochlorine data'!O37), IF('Organochlorine data'!O37=\"<LOD\",'Organochlorine data'!O$38, \"ERROR\")))","v":""},{"$f":"IF('Organochlorine data'!P37=\"\",\"\",IF(ISNUMBER('Organochlorine data'!P37)=TRUE, IF('Organochlorine data'!P37<'Organochlorine data'!P$38, \"ERROR\", 'Organochlorine data'!P37), IF('Organochlorine data'!P37=\"<LOD\",'Organochlorine data'!P$38, \"ERROR\")))","v":""},{"$f":"IF('Organochlorine data'!Q37=\"\",\"\",IF(ISNUMBER('Organochlorine data'!Q37)=TRUE, IF('Organochlorine data'!Q37<'Organochlorine data'!Q$38, \"ERROR\", 'Organochlorine data'!Q37), IF('Organochlorine data'!Q37=\"<LOD\",'Organochlorine data'!Q$38, \"ERROR\")))","v":""},{"$f":"IF('Organochlorine data'!R37=\"\",\"\",IF(ISNUMBER('Organochlorine data'!R37)=TRUE, IF('Organochlorine data'!R37<'Organochlorine data'!R$38, \"ERROR\", 'Organochlorine data'!R37), IF('Organochlorine data'!R37=\"<LOD\",'Organochlorine data'!R$38, \"ERROR\")))","v":""},{"$f":"IF('Organochlorine data'!S37=\"\",\"\",IF(ISNUMBER('Organochlorine data'!S37)=TRUE, IF('Organochlorine data'!S37<'Organochlorine data'!S$38, \"ERROR\", 'Organochlorine data'!S37), IF('Organochlorine data'!S37=\"<LOD\",'Organochlorine data'!S$38, \"ERROR\")))","v":""}]
[null,null,null,null,null,null,null,null,null,"Averages:",null,{"$f":"IF(COUNT(L8:L37)<1,\"\", AVERAGE(L8:L37))","v":1.0000000000000002E-4},{"$f":"IF(COUNT(M8:M37)<1,\"\", AVERAGE(M8:M37))","v":1.0000000000000002E-4},1.0250000000000002E-4,3.9999999999999986E-4,9.4999999999999989E-4,1.2875E-3,4.4999999999999988E-4,1.0250000000000001E-3]
[]
[null,null,null,null,null,null,null,null,null,null,"Action level 1:  ",null,null,null,5.0000000000000001E-3,null,null,1E-3]
[]
[]
[null,null,null,null,null,null,null,null,null,null,null,null,null,null," "]
[null,null,null,null,null,null,null,"Transformation to wet weight (mg/kg)"]
[]
[null,null,null,null,null,null,null,"Laboratory sample number","Dredge Area","Excluded (y if yes)","Sample ID","Organochlorines as mg/kg wet weight"]
[null,null,null,null,null,null,null,null,null,null,null,"alpha-hexachlorocyclohexane (AHCH)","beta-hexachlorocyclohexane (BHCH)","gamma-hexachlorocyclohexane (GHCH)","Dieldrin","Hexachlorobenzene (HCB)","1,1-Dichloro-2,2-bis(p-chlorophenyl) ethylene (PPDDE)","Dichlorodiphenyltrichloroethane (PPDDT)","1,1-dichloro-2,2-bis(p-chlorophenyl)ethane (PPTDE)"]
[null,null,null,null,null,null,null,{"$f":"IF(H8=\"\",\"\",H8)","v":"MAR02481.001"},"","",1,{"$f":"IF(L8=\"\",\"\",((('Organochlorine data'!$K8/100)*L8)))","v":2.9100000000000006E-5},{"$f":"IF(M8=\"\",\"\",((('Organochlorine data'!$K8/100)*M8)))","v":2.9100000000000006E-5},{"$f":"IF(N8=\"\",\"\",((('Organochlorine data'!$K8/100)*N8)))","v":2.9100000000000006E-5},{"$f":"IF(O8=\"\",\"\",((('Organochlorine data'!$K8/100)*O8)))","v":2.9100000000000003E-4},{"$f":"IF(P8=\"\",\"\",((('Organochlorine data'!$K8/100)*P8)))","v":1.7460000000000002E-4},{"$f":"IF(Q8=\"\",\"\",((('Organochlorine data'!$K8/100)*Q8)))","v":4.0740000000000004E-4},{"$f":"IF(R8=\"\",\"\",((('Organochlorine data'!$K8/100)*R8)))","v":1.7460000000000002E-4},{"$f":"IF(S8=\"\",\"\",((('Organochlorine data'!$K8/100)*S8)))","v":2.3280000000000005E-4}]
[null,null,null,null,null,null,null,"MAR02481.002","","",2,{"$f":"IF(L9=\"\",\"\",((('Organochlorine data'!$K9/100)*L9)))","v":2.7899999999999997E-5},{"$f":"IF(M9=\"\",\"\",((('Organochlorine data'!$K9/100)*M9)))","v":2.7899999999999997E-5},{"$f":"IF(N9=\"\",\"\",((('Organochlorine data'!$K9/100)*N9)))","v":2.7899999999999997E-5},{"$f":"IF(O9=\"\",\"\",((('Organochlorine data'!$K9/100)*O9)))","v":4.4639999999999995E-4},{"$f":"IF(P9=\"\",\"\",((('Organochlorine data'!$K9/100)*P9)))","v":1.6739999999999998E-4},{"$f":"IF(Q9=\"\",\"\",((('Organochlorine data'!$K9/100)*Q9)))","v":4.4639999999999995E-4},{"$f":"IF(R9=\"\",\"\",((('Organochlorine data'!$K9/100)*R9)))","v":2.2319999999999998E-4},{"$f":"IF(S9=\"\",\"\",((('Organochlorine data'!$K9/100)*S9)))","v":2.5109999999999998E-4}]
[null,null,null,null,null,null,null,"MAR02481.003","","",3,{"$f":"IF(L10=\"\",\"\",((('Organochlorine data'!$K10/100)*L10)))","v":3.1700000000000005E-5},{"$f":"IF(M10=\"\",\"\",((('Organochlorine data'!$K10/100)*M10)))","v":3.1700000000000005E-5},{"$f":"IF(N10=\"\",\"\",((('Organochlorine data'!$K10/100)*N10)))","v":3.1700000000000005E-5},{"$f":"IF(O10=\"\",\"\",((('Organochlorine data'!$K10/100)*O10)))","v":3.1700000000000005E-5},{"$f":"IF(P10=\"\",\"\",((('Organochlorine data'!$K10/100)*P10)))","v":2.853E-4},{"$f":"IF(Q10=\"\",\"\",((('Organochlorine data'!$K10/100)*Q10)))","v":5.7059999999999999E-4},{"$f":"IF(R10=\"\",\"\",((('Organochlorine data'!$K10/100)*R10)))","v":5.3889999999999993E-4},{"$f":"IF(S10=\"\",\"\",((('Organochlorine data'!$K10/100)*S10)))","v":3.4870000000000002E-4}]
[null,null,null,null,null,null,null,"MAR02481.004","","",4,{"$f":"IF(L11=\"\",\"\",((('Organochlorine data'!$K11/100)*L11)))","v":3.2500000000000004E-5},{"$f":"IF(M11=\"\",\"\",((('Organochlorine data'!$K11/100)*M11)))","v":3.2500000000000004E-5},{"$f":"IF(N11=\"\",\"\",((('Organochlorine data'!$K11/100)*N11)))","v":3.8999999999999999E-5},{"$f":"IF(O11=\"\",\"\",((('Organochlorine data'!$K11/100)*O11)))","v":3.2500000000000004E-5},{"$f":"IF(P11=\"\",\"\",((('Organochlorine data'!$K11/100)*P11)))","v":3.5750000000000002E-4},{"$f":"IF(Q11=\"\",\"\",((('Organochlorine data'!$K11/100)*Q11)))","v":5.8500000000000002E-4},{"$f":"IF(R11=\"\",\"\",((('Organochlorine data'!$K11/100)*R11)))","v":3.2500000000000004E-5},{"$f":"IF(S11=\"\",\"\",((('Organochlorine data'!$K11/100)*S11)))","v":3.8999999999999999E-4}]
[null,null,null,null,null,null,null,"MAR02481.015","","",17,{"$f":"IF(L12=\"\",\"\",((('Organochlorine data'!$K12/100)*L12)))","v":4.8900000000000003E-5},{"$f":"IF(M12=\"\",\"\",((('Organochlorine data'!$K12/100)*M12)))","v":4.8900000000000003E-5},{"$f":"IF(N12=\"\",\"\",((('Organochlorine data'!$K12/100)*N12)))","v":4.8900000000000003E-5},{"$f":"IF(O12=\"\",\"\",((('Organochlorine data'!$K12/100)*O12)))","v":4.8900000000000003E-5},{"$f":"IF(P12=\"\",\"\",((('Organochlorine data'!$K12/100)*P12)))","v":4.8899999999999996E-4},{"$f":"IF(Q12=\"\",\"\",((('Organochlorine data'!$K12/100)*Q12)))","v":4.4009999999999996E-4},{"$f":"IF(R12=\"\",\"\",((('Organochlorine data'!$K12/100)*R12)))","v":4.8900000000000003E-5},{"$f":"IF(S12=\"\",\"\",((('Organochlorine data'!$K12/100)*S12)))","v":4.8899999999999996E-4}]
[null,null,null,null,null,null,null,"MAR02481.016","","",18,{"$f":"IF(L13=\"\",\"\",((('Organochlorine data'!$K13/100)*L13)))","v":5.2500000000000002E-5},{"$f":"IF(M13=\"\",\"\",((('Organochlorine data'!$K13/100)*M13)))","v":5.2500000000000002E-5},{"$f":"IF(N13=\"\",\"\",((('Organochlorine data'!$K13/100)*N13)))","v":5.2500000000000002E-5},{"$f":"IF(O13=\"\",\"\",((('Organochlorine data'!$K13/100)*O13)))","v":5.2500000000000002E-5},{"$f":"IF(P13=\"\",\"\",((('Organochlorine data'!$K13/100)*P13)))","v":5.2500000000000008E-4},{"$f":"IF(Q13=\"\",\"\",((('Organochlorine data'!$K13/100)*Q13)))","v":4.7249999999999999E-4},{"$f":"IF(R13=\"\",\"\",((('Organochlorine data'!$K13/100)*R13)))","v":5.2500000000000002E-5},{"$f":"IF(S13=\"\",\"\",((('Organochlorine data'!$K13/100)*S13)))","v":5.7750000000000011E-4}]
[null,null,null,null,null,null,null,"MAR02481.017","","",19,{"$f":"IF(L14=\"\",\"\",((('Organochlorine data'!$K14/100)*L14)))","v":4.8000000000000001E-5},{"$f":"IF(M14=\"\",\"\",((('Organochlorine data'!$K14/100)*M14)))","v":4.8000000000000001E-5},{"$f":"IF(N14=\"\",\"\",((('Organochlorine data'!$K14/100)*N14)))","v":4.8000000000000001E-5},{"$f":"IF(O14=\"\",\"\",((('Organochlorine data'!$K14/100)*O14)))","v":4.8000000000000001E-5},{"$f":"IF(P14=\"\",\"\",((('Organochlorine data'!$K14/100)*P14)))","v":5.7599999999999991E-4},{"$f":"IF(Q14=\"\",\"\",((('Organochlorine data'!$K14/100)*Q14)))","v":4.3199999999999998E-4},{"$f":"IF(R14=\"\",\"\",((('Organochlorine data'!$K14/100)*R14)))","v":4.8000000000000001E-5},{"$f":"IF(S14=\"\",\"\",((('Organochlorine data'!$K14/100)*S14)))","v":4.3199999999999998E-4}]
[null,null,null,null,null,null,null,"MAR02481.018","","",20,{"$f":"IF(L15=\"\",\"\",((('Organochlorine data'!$K15/100)*L15)))","v":5.1600000000000001E-5},{"$f":"IF(M15=\"\",\"\",((('Organochlorine data'!$K15/100)*M15)))","v":5.1600000000000001E-5},{"$f":"IF(N15=\"\",\"\",((('Organochlorine data'!$K15/100)*N15)))","v":5.1600000000000001E-5},{"$f":"IF(O15=\"\",\"\",((('Organochlorine data'!$K15/100)*O15)))","v":5.1600000000000001E-5},{"$f":"IF(P15=\"\",\"\",((('Organochlorine data'!$K15/100)*P15)))","v":6.1919999999999998E-4},{"$f":"IF(Q15=\"\",\"\",((('Organochlorine data'!$K15/100)*Q15)))","v":5.1600000000000007E-4},{"$f":"IF(R15=\"\",\"\",((('Organochlorine data'!$K15/100)*R15)))","v":5.1600000000000001E-5},{"$f":"IF(S15=\"\",\"\",((('Organochlorine data'!$K15/100)*S15)))","v":6.1919999999999998E-4}]
[null,null,null,null,null,null,null,"","","","",{"$f":"IF(L16=\"\",\"\",((('Organochlorine data'!$K16/100)*L16)))","v":""},{"$f":"IF(M16=\"\",\"\",((('Organochlorine data'!$K16/100)*M16)))","v":""},{"$f":"IF(N16=\"\",\"\",((('Organochlorine data'!$K16/100)*N16)))","v":""},{"$f":"IF(O16=\"\",\"\",((('Organochlorine data'!$K16/100)*O16)))","v":""},{"$f":"IF(P16=\"\",\"\",((('Organochlorine data'!$K16/100)*P16)))","v":""},{"$f":"IF(Q16=\"\",\"\",((('Organochlorine data'!$K16/100)*Q16)))","v":""},{"$f":"IF(R16=\"\",\"\",((('Organochlorine data'!$K16/100)*R16)))","v":""},{"$f":"IF(S16=\"\",\"\",((('Organochlorine data'!$K16/100)*S16)))","v":""}]
[null,null,null,null,null,null,null,"","","","",{"$f":"IF(L17=\"\",\"\",((('Organochlorine data'!$K17/100)*L17)))","v":""},{"$f":"IF(M17=\"\",\"\",((('Organochlorine data'!$K17/100)*M17)))","v":""},{"$f":"IF(N17=\"\",\"\",((('Organochlorine data'!$K17/100)*N17)))","v":""},{"$f":"IF(O17=\"\",\"\",((('Organochlorine data'!$K17/100)*O17)))","v":""},{"$f":"IF(P17=\"\",\"\",((('Organochlorine data'!$K17/100)*P17)))","v":""},{"$f":"IF(Q17=\"\",\"\",((('Organochlorine data'!$K17/100)*Q17)))","v":""},{"$f":"IF(R17=\"\",\"\",((('Organochlorine data'!$K17/100)*R17)))","v":""},{"$f":"IF(S17=\"\",\"\",((('Organochlorine data'!$K17/100)*S17)))","v":""}]
[null,null,null,null,null,null,null,"","","","",{"$f":"IF(L18=\"\",\"\",((('Organochlorine data'!$K18/100)*L18)))","v":""},{"$f":"IF(M18=\"\",\"\",((('Organochlorine data'!$K18/100)*M18)))","v":""},{"$f":"IF(N18=\"\",\"\",((('Organochlorine data'!$K18/100)*N18)))","v":""},{"$f":"IF(O18=\"\",\"\",((('Organochlorine data'!$K18/100)*O18)))","v":""},{"$f":"IF(P18=\"\",\"\",((('Organochlorine data'!$K18/100)*P18)))","v":""},{"$f":"IF(Q18=\"\",\"\",((('Organochlorine data'!$K18/100)*Q18)))","v":""},{"$f":"IF(R18=\"\",\"\",((('Organochlorine data'!$K18/100)*R18)))","v":""},{"$f":"IF(S18=\"\",\"\",((('Organochlorine data'!$K18/100)*S18)))","v":""}]
[null,null,null,null,null,null,null,"","","","",{"$f":"IF(L19=\"\",\"\",((('Organochlorine data'!$K19/100)*L19)))","v":""},{"$f":"IF(M19=\"\",\"\",((('Organochlorine data'!$K19/100)*M19)))","v":""},{"$f":"IF(N19=\"\",\"\",((('Organochlorine data'!$K19/100)*N19)))","v":""},{"$f":"IF(O19=\"\",\"\",((('Organochlorine data'!$K19/100)*O19)))","v":""},{"$f":"IF(P19=\"\",\"\",((('Organochlorine data'!$K19/100)*P19)))","v":""},{"$f":"IF(Q19=\"\",\"\",((('Organochlorine data'!$K19/100)*Q19)))","v":""},{"$f":"IF(R19=\"\",\"\",((('Organochlorine data'!$K19/100)*R19)))","v":""},{"$f":"IF(S19=\"\",\"\",((('Organochlorine data'!$K19/100)*S19)))","v":""}]
[null,null,null,null,null,null,null,"","","","",{"$f":"IF(L20=\"\",\"\",((('Organochlorine data'!$K20/100)*L20)))","v":""},{"$f":"IF(M20=\"\",\"\",((('Organochlorine data'!$K20/100)*M20)))","v":""},{"$f":"IF(N20=\"\",\"\",((('Organochlorine data'!$K20/100)*N20)))","v":""},{"$f":"IF(O20=\"\",\"\",((('Organochlorine data'!$K20/100)*O20)))","v":""},{"$f":"IF(P20=\"\",\"\",((('Organochlorine data'!$K20/100)*P20)))","v":""},{"$f":"IF(Q20=\"\",\"\",((('Organochlorine data'!$K20/100)*Q20)))","v":""},{"$f":"IF(R20=\"\",\"\",((('Organochlorine data'!$K20/100)*R20)))","v":""},{"$f":"IF(S20=\"\",\"\",((('Organochlorine data'!$K20/100)*S20)))","v":""}]
[null,null,null,null,null,null,null,"","","","",{"$f":"IF(L21=\"\",\"\",((('Organochlorine data'!$K21/100)*L21)))","v":""},{"$f":"IF(M21=\"\",\"\",((('Organochlorine data'!$K21/100)*M21)))","v":""},{"$f":"IF(N21=\"\",\"\",((('Organochlorine data'!$K21/100)*N21)))","v":""},{"$f":"IF(O21=\"\",\"\",((('Organochlorine data'!$K21/100)*O21)))","v":""},{"$f":"IF(P21=\"\",\"\",((('Organochlorine data'!$K21/100)*P21)))","v":""},{"$f":"IF(Q21=\"\",\"\",((('Organochlorine data'!$K21/100)*Q21)))","v":""},{"$f":"IF(R21=\"\",\"\",((('Organochlorine data'!$K21/100)*R21)))","v":""},{"$f":"IF(S21=\"\",\"\",((('Organochlorine data'!$K21/100)*S21)))","v":""}]
[null,null,null,null,null,null,null,"","","","",{"$f":"IF(L22=\"\",\"\",((('Organochlorine data'!$K22/100)*L22)))","v":""},{"$f":"IF(M22=\"\",\"\",((('Organochlorine data'!$K22/100)*M22)))","v":""},{"$f":"IF(N22=\"\",\"\",((('Organochlorine data'!$K22/100)*N22)))","v":""},{"$f":"IF(O22=\"\",\"\",((('Organochlorine data'!$K22/100)*O22)))","v":""},{"$f":"IF(P22=\"\",\"\",((('Organochlorine data'!$K22/100)*P22)))","v":""},{"$f":"IF(Q22=\"\",\"\",((('Organochlorine data'!$K22/100)*Q22)))","v":""},{"$f":"IF(R22=\"\",\"\",((('Organochlorine data'!$K22/100)*R22)))","v":""},{"$f":"IF(S22=\"\",\"\",((('Organochlorine data'!$K22/100)*S22)))","v":""}]
[null,null,null,null,null,null,null,"","","","",{"$f":"IF(L23=\"\",\"\",((('Organochlorine data'!$K23/100)*L23)))","v":""},{"$f":"IF(M23=\"\",\"\",((('Organochlorine data'!$K23/100)*M23)))","v":""},{"$f":"IF(N23=\"\",\"\",((('Organochlorine data'!$K23/100)*N23)))","v":""},{"$f":"IF(O23=\"\",\"\",((('Organochlorine data'!$K23/100)*O23)))","v":""},{"$f":"IF(P23=\"\",\"\",((('Organochlorine data'!$K23/100)*P23)))","v":""},{"$f":"IF(Q23=\"\",\"\",((('Organochlorine data'!$K23/100)*Q23)))","v":""},{"$f":"IF(R23=\"\",\"\",((('Organochlorine data'!$K23/100)*R23)))","v":""},{"$f":"IF(S23=\"\",\"\",((('Organochlorine data'!$K23/100)*S23)))","v":""}]
[null,null,null,null,null,null,null,{"$f":"IF(H24=\"\",\"\",H24)","v":""},"","","",{"$f":"IF(L24=\"\",\"\",((('Organochlorine data'!$K24/100)*L24)))","v":""},{"$f":"IF(M24=\"\",\"\",((('Organochlorine data'!$K24/100)*M24)))","v":""},{"$f":"IF(N24=\"\",\"\",((('Organochlorine data'!$K24/100)*N24)))","v":""},{"$f":"IF(O24=\"\",\"\",((('Organochlorine data'!$K24/100)*O24)))","v":""},{"$f":"IF(P24=\"\",\"\",((('Organochlorine data'!$K24/100)*P24)))","v":""},{"$f":"IF(Q24=\"\",\"\",((('Organochlorine data'!$K24/100)*Q24)))","v":""},{"$f":"IF(R24=\"\",\"\",((('Organochlorine data'!$K24/100)*R24)))","v":""},{"$f":"IF(S24=\"\",\"\",((('Organochlorine data'!$K24/100)*S24)))","v":""}]
[null,null,null,null,null,null,null,"","","","",{"$f":"IF(L25=\"\",\"\",((('Organochlorine data'!$K25/100)*L25)))","v":""},{"$f":"IF(M25=\"\",\"\",((('Organochlorine data'!$K25/100)*M25)))","v":""},{"$f":"IF(N25=\"\",\"\",((('Organochlorine data'!$K25/100)*N25)))","v":""},{"$f":"IF(O25=\"\",\"\",((('Organochlorine data'!$K25/100)*O25)))","v":""},{"$f":"IF(P25=\"\",\"\",((('Organochlorine data'!$K25/100)*P25)))","v":""},{"$f":"IF(Q25=\"\",\"\",((('Organochlorine data'!$K25/100)*Q25)))","v":""},{"$f":"IF(R25=\"\",\"\",((('Organochlorine data'!$K25/100)*R25)))","v":""},{"$f":"IF(S25=\"\",\"\",((('Organochlorine data'!$K25/100)*S25)))","v":""}]
[null,null,null,null,null,null,null,"","","","",{"$f":"IF(L26=\"\",\"\",((('Organochlorine data'!$K26/100)*L26)))","v":""},{"$f":"IF(M26=\"\",\"\",((('Organochlorine data'!$K26/100)*M26)))","v":""},{"$f":"IF(N26=\"\",\"\",((('Organochlorine data'!$K26/100)*N26)))","v":""},{"$f":"IF(O26=\"\",\"\",((('Organochlorine data'!$K26/100)*O26)))","v":""},{"$f":"IF(P26=\"\",\"\",((('Organochlorine data'!$K26/100)*P26)))","v":""},{"$f":"IF(Q26=\"\",\"\",((('Organochlorine data'!$K26/100)*Q26)))","v":""},{"$f":"IF(R26=\"\",\"\",((('Organochlorine data'!$K26/100)*R26)))","v":""},{"$f":"IF(S26=\"\",\"\",((('Organochlorine data'!$K26/100)*S26)))","v":""}]
[null,null,null,null,null,null,null,"","","","",{"$f":"IF(L27=\"\",\"\",((('Organochlorine data'!$K27/100)*L27)))","v":""},{"$f":"IF(M27=\"\",\"\",((('Organochlorine data'!$K27/100)*M27)))","v":""},{"$f":"IF(N27=\"\",\"\",((('Organochlorine data'!$K27/100)*N27)))","v":""},{"$f":"IF(O27=\"\",\"\",((('Organochlorine data'!$K27/100)*O27)))","v":""},{"$f":"IF(P27=\"\",\"\",((('Organochlorine data'!$K27/100)*P27)))","v":""},{"$f":"IF(Q27=\"\",\"\",((('Organochlorine data'!$K27/100)*Q27)))","v":""},{"$f":"IF(R27=\"\",\"\",((('Organochlorine data'!$K27/100)*R27)))","v":""},{"$f":"IF(S27=\"\",\"\",((('Organochlorine data'!$K27/100)*S27)))","v":""}]
[null,null,null,null,null,null,null,"","","","",{"$f":"IF(L28=\"\",\"\",((('Organochlorine data'!$K28/100)*L28)))","v":""},{"$f":"IF(M28=\"\",\"\",((('Organochlorine data'!$K28/100)*M28)))","v":""},{"$f":"IF(N28=\"\",\"\",((('Organochlorine data'!$K28/100)*N28)))","v":""},{"$f":"IF(O28=\"\",\"\",((('Organochlorine data'!$K28/100)*O28)))","v":""},{"$f":"IF(P28=\"\",\"\",((('Organochlorine data'!$K28/100)*P28)))","v":""},{"$f":"IF(Q28=\"\",\"\",((('Organochlorine data'!$K28/100)*Q28)))","v":""},{"$f":"IF(R28=\"\",\"\",((('Organochlorine data'!$K28/100)*R28)))","v":""},{"$f":"IF(S28=\"\",\"\",((('Organochlorine data'!$K28/100)*S28)))","v":""}]
[null,null,null,null,null,null,null,"","","","",{"$f":"IF(L29=\"\",\"\",((('Organochlorine data'!$K29/100)*L29)))","v":""},{"$f":"IF(M29=\"\",\"\",((('Organochlorine data'!$K29/100)*M29)))","v":""},{"$f":"IF(N29=\"\",\"\",((('Organochlorine data'!$K29/100)*N29)))","v":""},{"$f":"IF(O29=\"\",\"\",((('Organochlorine data'!$K29/100)*O29)))","v":""},{"$f":"IF(P29=\"\",\"\",((('Organochlorine data'!$K29/100)*P29)))","v":""},{"$f":"IF(Q29=\"\",\"\",((('Organochlorine data'!$K29/100)*Q29)))","v":""},{"$f":"IF(R29=\"\",\"\",((('Organochlorine data'!$K29/100)*R29)))","v":""},{"$f":"IF(S29=\"\",\"\",((('Organochlorine data'!$K29/100)*S29)))","v":""}]
[null,null,null,null,null,null,null,"","","","",{"$f":"IF(L30=\"\",\"\",((('Organochlorine data'!$K30/100)*L30)))","v":""},{"$f":"IF(M30=\"\",\"\",((('Organochlorine data'!$K30/100)*M30)))","v":""},{"$f":"IF(N30=\"\",\"\",((('Organochlorine data'!$K30/100)*N30)))","v":""},{"$f":"IF(O30=\"\",\"\",((('Organochlorine data'!$K30/100)*O30)))","v":""},{"$f":"IF(P30=\"\",\"\",((('Organochlorine data'!$K30/100)*P30)))","v":""},{"$f":"IF(Q30=\"\",\"\",((('Organochlorine data'!$K30/100)*Q30)))","v":""},{"$f":"IF(R30=\"\",\"\",((('Organochlorine data'!$K30/100)*R30)))","v":""},{"$f":"IF(S30=\"\",\"\",((('Organochlorine data'!$K30/100)*S30)))","v":""}]
[null,null,null,null,null,null,null,"","","","",{"$f":"IF(L31=\"\",\"\",((('Organochlorine data'!$K31/100)*L31)))","v":""},{"$f":"IF(M31=\"\",\"\",((('Organochlorine data'!$K31/100)*M31)))","v":""},{"$f":"IF(N31=\"\",\"\",((('Organochlorine data'!$K31/100)*N31)))","v":""},{"$f":"IF(O31=\"\",\"\",((('Organochlorine data'!$K31/100)*O31)))","v":""},{"$f":"IF(P31=\"\",\"\",((('Organochlorine data'!$K31/100)*P31)))","v":""},{"$f":"IF(Q31=\"\",\"\",((('Organochlorine data'!$K31/100)*Q31)))","v":""},{"$f":"IF(R31=\"\",\"\",((('Organochlorine data'!$K31/100)*R31)))","v":""},{"$f":"IF(S31=\"\",\"\",((('Organochlorine data'!$K31/100)*S31)))","v":""}]
[null,null,null,null,null,null,null,"","","","",{"$f":"IF(L32=\"\",\"\",((('Organochlorine data'!$K32/100)*L32)))","v":""},{"$f":"IF(M32=\"\",\"\",((('Organochlorine data'!$K32/100)*M32)))","v":""},{"$f":"IF(N32=\"\",\"\",((('Organochlorine data'!$K32/100)*N32)))","v":""},{"$f":"IF(O32=\"\",\"\",((('Organochlorine data'!$K32/100)*O32)))","v":""},{"$f":"IF(P32=\"\",\"\",((('Organochlorine data'!$K32/100)*P32)))","v":""},{"$f":"IF(Q32=\"\",\"\",((('Organochlorine data'!$K32/100)*Q32)))","v":""},{"$f":"IF(R32=\"\",\"\",((('Organochlorine data'!$K32/100)*R32)))","v":""},{"$f":"IF(S32=\"\",\"\",((('Organochlorine data'!$K32/100)*S32)))","v":""}]
[null,null,null,null,null,null,null,"","","","",{"$f":"IF(L33=\"\",\"\",((('Organochlorine data'!$K33/100)*L33)))","v":""},{"$f":"IF(M33=\"\",\"\",((('Organochlorine data'!$K33/100)*M33)))","v":""},{"$f":"IF(N33=\"\",\"\",((('Organochlorine data'!$K33/100)*N33)))","v":""},{"$f":"IF(O33=\"\",\"\",((('Organochlorine data'!$K33/100)*O33)))","v":""},{"$f":"IF(P33=\"\",\"\",((('Organochlorine data'!$K33/100)*P33)))","v":""},{"$f":"IF(Q33=\"\",\"\",((('Organochlorine data'!$K33/100)*Q33)))","v":""},{"$f":"IF(R33=\"\",\"\",((('Organochlorine data'!$K33/100)*R33)))","v":""},{"$f":"IF(S33=\"\",\"\",((('Organochlorine data'!$K33/100)*S33)))","v":""}]
[null,null,null,null,null,null,null,"","","","",{"$f":"IF(L34=\"\",\"\",((('Organochlorine data'!$K34/100)*L34)))","v":""},{"$f":"IF(M34=\"\",\"\",((('Organochlorine data'!$K34/100)*M34)))","v":""},{"$f":"IF(N34=\"\",\"\",((('Organochlorine data'!$K34/100)*N34)))","v":""},{"$f":"IF(O34=\"\",\"\",((('Organochlorine data'!$K34/100)*O34)))","v":""},{"$f":"IF(P34=\"\",\"\",((('Organochlorine data'!$K34/100)*P34)))","v":""},{"$f":"IF(Q34=\"\",\"\",((('Organochlorine data'!$K34/100)*Q34)))","v":""},{"$f":"IF(R34=\"\",\"\",((('Organochlorine data'!$K34/100)*R34)))","v":""},{"$f":"IF(S34=\"\",\"\",((('Organochlorine data'!$K34/100)*S34)))","v":""}]
[null,null,null,null,null,null,null,"","","","",{"$f":"IF(L35=\"\",\"\",((('Organochlorine data'!$K35/100)*L35)))","v":""},{"$f":"IF(M35=\"\",\"\",((('Organochlorine data'!$K35/100)*M35)))","v":""},{"$f":"IF(N35=\"\",\"\",((('Organochlorine data'!$K35/100)*N35)))","v":""},{"$f":"IF(O35=\"\",\"\",((('Organochlorine data'!$K35/100)*O35)))","v":""},{"$f":"IF(P35=\"\",\"\",((('Organochlorine data'!$K35/100)*P35)))","v":""},{"$f":"IF(Q35=\"\",\"\",((('Organochlorine data'!$K35/100)*Q35)))","v":""},{"$f":"IF(R35=\"\",\"\",((('Organochlorine data'!$K35/100)*R35)))","v":""},{"$f":"IF(S35=\"\",\"\",((('Organochlorine data'!$K35/100)*S35)))","v":""}]
[null,null,null,null,null,null,null,"","","","",{"$f":"IF(L36=\"\",\"\",((('Organochlorine data'!$K36/100)*L36)))","v":""},{"$f":"IF(M36=\"\",\"\",((('Organochlorine data'!$K36/100)*M36)))","v":""},{"$f":"IF(N36=\"\",\"\",((('Organochlorine data'!$K36/100)*N36)))","v":""},{"$f":"IF(O36=\"\",\"\",((('Organochlorine data'!$K36/100)*O36)))","v":""},{"$f":"IF(P36=\"\",\"\",((('Organochlorine data'!$K36/100)*P36)))","v":""},{"$f":"IF(Q36=\"\",\"\",((('Organochlorine data'!$K36/100)*Q36)))","v":""},{"$f":"IF(R36=\"\",\"\",((('Organochlorine data'!$K36/100)*R36)))","v":""},{"$f":"IF(S36=\"\",\"\",((('Organochlorine data'!$K36/100)*S36)))","v":""}]
[null,null,null,null,null,null,null,"","","","",{"$f":"IF(L37=\"\",\"\",((('Organochlorine data'!$K37/100)*L37)))","v":""},{"$f":"IF(M37=\"\",\"\",((('Organochlorine data'!$K37/100)*M37)))","v":""},{"$f":"IF(N37=\"\",\"\",((('Organochlorine data'!$K37/100)*N37)))","v":""},{"$f":"IF(O37=\"\",\"\",((('Organochlorine data'!$K37/100)*O37)))","v":""},{"$f":"IF(P37=\"\",\"\",((('Organochlorine data'!$K37/100)*P37)))","v":""},{"$f":"IF(Q37=\"\",\"\",((('Organochlorine data'!$K37/100)*Q37)))","v":""},{"$f":"IF(R37=\"\",\"\",((('Organochlorine data'!$K37/100)*R37)))","v":""},{"$f":"IF(S37=\"\",\"\",((('Organochlorine data'!$K37/100)*S37)))","v":""}]
[null,null,null,null,null,null,null,null,null,"Averages:",null,{"$f":"IF(COUNT(L48:L77)<1,\"\", AVERAGE(L48:L77))","v":4.0275000000000003E-5},4.0275000000000003E-5,4.1087500000000003E-5,1.25325E-4,3.9925000000000003E-4,4.8375000000000002E-4,1.4627499999999999E-4,4.1753749999999995E-4]
[]
[]
[]
[null,null,null,null,null,null,null,"Removal of excluded areas"]
[]
[null,null,null,null,null,null,null,"Laboratory sample number","Dredge Area","Excluded (y if yes)","Sample ID","Organochlorines as mg/kg wet weight"]
[null,null,null,null,null,null,null,null,null,null,null,"alpha-hexachlorocyclohexane (AHCH)","beta-hexachlorocyclohexane (BHCH)","gamma-hexachlorocyclohexane (GHCH)","Dieldrin","Hexachlorobenzene (HCB)","1,1-Dichloro-2,2-bis(p-chlorophenyl) ethylene (PPDDE)","Dichlorodiphenyltrichloroethane (PPDDT)","1,1-dichloro-2,2-bis(p-chlorophenyl)ethane (PPTDE)"]
[null,null,null,null,null,null,null,{"$f":"IF(H48=\"\",\"\",H48)","v":"MAR02481.001"},{"$f":"IF($J48=\"y\",\"\",I48)","v":""},"",{"$f":"IF($J48=\"y\",\"\",K48)","v":1},{"$f":"IF($J48=\"y\",\"\",L48)","v":2.9100000000000006E-5},{"$f":"IF($J48=\"y\",\"\",M48)","v":2.9100000000000006E-5},2.9100000000000006E-5,2.9100000000000003E-4,1.7460000000000002E-4,4.0740000000000004E-4,1.7460000000000002E-4,2.3280000000000005E-4]
[null,null,null,null,null,null,null,"MAR02481.002","","",2,{"$f":"IF($J49=\"y\",\"\",L49)","v":2.7899999999999997E-5},2.7899999999999997E-5,2.7899999999999997E-5,4.4639999999999995E-4,1.6739999999999998E-4,4.4639999999999995E-4,2.2319999999999998E-4,2.5109999999999998E-4]
[null,null,null,null,null,null,null,"MAR02481.003","","",3,3.1700000000000005E-5,3.1700000000000005E-5,3.1700000000000005E-5,3.1700000000000005E-5,2.853E-4,5.7059999999999999E-4,5.3889999999999993E-4,3.4870000000000002E-4]
[null,null,null,null,null,null,null,"MAR02481.004","","",4,3.2500000000000004E-5,3.2500000000000004E-5,3.8999999999999999E-5,3.2500000000000004E-5,3.5750000000000002E-4,5.8500000000000002E-4,3.2500000000000004E-5,3.8999999999999999E-4]
[null,null,null,null,null,null,null,"MAR02481.015","","",17,4.8900000000000003E-5,4.8900000000000003E-5,4.8900000000000003E-5,4.8900000000000003E-5,4.8899999999999996E-4,4.4009999999999996E-4,4.8900000000000003E-5,4.8899999999999996E-4]
[null,null,null,null,null,null,null,"MAR02481.016","","",18,5.2500000000000002E-5,5.2500000000000002E-5,5.2500000000000002E-5,5.2500000000000002E-5,5.2500000000000008E-4,4.7249999999999999E-4,5.2500000000000002E-5,5.7750000000000011E-4]
[null,null,null,null,null,null,null,"MAR02481.017","","",19,4.8000000000000001E-5,4.8000000000000001E-5,4.8000000000000001E-5,4.8000000000000001E-5,5.7599999999999991E-4,4.3199999999999998E-4,4.8000000000000001E-5,4.3199999999999998E-4]
[null,null,null,null,null,null,null,"MAR02481.018","","",20,5.1600000000000001E-5,5.1600000000000001E-5,5.1600000000000001E-5,5.1600000000000001E-5,6.1919999999999998E-4,5.1600000000000007E-4,5.1600000000000001E-5,6.1919999999999998E-4]
[null,null,null,null,null,null,null,"","","","","","","","","","","",""]
[null,null,null,null,null,null,null,"","","","","","","","","","","",""]
[null,null,null,null,null,null,null,"","","","","","","","","","","",""]
[null,null,null,null,null,null,null,"","","","","","","","","","","",""]
[null,null,null,null,null,null,null,"","","","","","","","","","","",""]
[null,null,null,null,null,null,null,"","","","","","","","","","","",""]
[null,null,null,null,null,null,null,"","","","","","","","","","","",""]
[null,null,null,null,null,null,null,"","","","","","","","","","","",""]
[null,null,null,null,null,null,null,{"$f":"IF(H64=\"\",\"\",H64)","v":""},"","","","","","","","","","",""]
[null,null,null,null,null,null,null,"","","","",{"$f":"IF($J65=\"y\",\"\",L65)","v":""},"","","","","","",""]
[null,null,null,null,null,null,null,"","","","","","","","","","","",""]
[null,null,null,null,null,null,null,"","","","","","","","","","","",""]
[null,null,null,null,null,null,null,"","","","","","","","","","","",""]
[null,null,null,null,null,null,null,"","","","","","","","","","","",""]
[null,null,null,null,null,null,null,"","","","","","","","","","","",""]
[null,null,null,null,null,null,null,"","","","","","","","","","","",""]
[null,null,null,null,null,null,null,"","","","","","","","","","","",""]
[null,null,null,null,null,null,null,"","","","","","","","","","","",""]
[null,null,null,null,null,null,null,"","","","","","","","","","","",""]
[null,null,null,null,null,null,null,"","","","","","","","","","","",""]
[null,null,null,null,null,null,null,"","","","",{"$f":"IF($J76=\"y\",\"\",L76)","v":""},"","","","","","",""]
[null,null,null,null,null,null,null,"","","","","","","","","","","",""]
[null,null,null,null,null,null,null,null,null,"Averages:",null,{"$f":"IF(COUNT(L86:L115)<1,\"\", AVERAGE(L86:L115))","v":4.0275000000000003E-5},{"$f":"IF(COUNT(M86:M115)<1,\"\", AVERAGE(M86:M115))","v":4.0275000000000003E-5},4.1087500000000003E-5,1.25325E-4,3.9925000000000003E-4,4.8375000000000002E-4,1.4627499999999999E-4,4.1753749999999995E-4]
[]
[]
[]
[null,null,null,null,null,null,null,"Force significant figures"]
[]
[null,null,null,null,null,null,null,"Laboratory sample number","Dredge Area","Excluded (y if yes)","Sample ID","Organochlorines as mg/kg wet weight"]
[null,null,null,null,null,null,null,null,null,null,null,"alpha-hexachlorocyclohexane (AHCH)","beta-hexachlorocyclohexane (BHCH)","gamma-hexachlorocyclohexane (GHCH)","Dieldrin","Hexachlorobenzene (HCB)","1,1-Dichloro-2,2-bis(p-chlorophenyl) ethylene (PPDDE)","Dichlorodiphenyltrichloroethane (PPDDT)","1,1-dichloro-2,2-bis(p-chlorophenyl)ethane (PPTDE)"]
[null,null,null,null,null,null,null,{"$f":"IF(H86=\"\",\"\",H86)","v":"MAR02481.001"},"","",1,{"$f":"IF(L86=\"\",\"\",IF(L86=0,0,(ROUND(L86,3-1-INT(LOG10(ABS(L86)))))))","v":2.9099999999999999E-5},{"$f":"IF(M86=\"\",\"\",IF(M86=0,0,(ROUND(M86,3-1-INT(LOG10(ABS(M86)))))))","v":2.9099999999999999E-5},2.9099999999999999E-5,2.9100000000000003E-4,1.75E-4,4.0700000000000003E-4,1.75E-4,2.33E-4]
[null,null,null,null,null,null,null,{"$f":"IF(H87=\"\",\"\",H87)","v":"MAR02481.002"},"","",2,{"$f":"IF(L87=\"\",\"\",IF(L87=0,0,(ROUND(L87,3-1-INT(LOG10(ABS(L87)))))))","v":2.7900000000000001E-5},{"$f":"IF(M87=\"\",\"\",IF(M87=0,0,(ROUND(M87,3-1-INT(LOG10(ABS(M87)))))))","v":2.7900000000000001E-5},2.7900000000000001E-5,4.46E-4,1.6699999999999999E-4,4.46E-4,2.23E-4,2.5099999999999998E-4]
[null,null,null,null,null,null,null,{"$f":"IF(H88=\"\",\"\",H88)","v":"MAR02481.003"},"","",3,{"$f":"IF(L88=\"\",\"\",IF(L88=0,0,(ROUND(L88,3-1-INT(LOG10(ABS(L88)))))))","v":3.1699999999999998E-5},3.1699999999999998E-5,3.1699999999999998E-5,3.1699999999999998E-5,2.8499999999999999E-4,5.71E-4,5.3899999999999998E-4,3.4900000000000003E-4]
[null,null,null,null,null,null,null,{"$f":"IF(H89=\"\",\"\",H89)","v":"MAR02481.004"},"","",4,{"$f":"IF(L89=\"\",\"\",IF(L89=0,0,(ROUND(L89,3-1-INT(LOG10(ABS(L89)))))))","v":3.2499999999999997E-5},3.2499999999999997E-5,3.8999999999999999E-5,3.2499999999999997E-5,3.5799999999999997E-4,5.8500000000000002E-4,3.2499999999999997E-5,3.8999999999999999E-4]
[null,null,null,null,null,null,null,{"$f":"IF(H90=\"\",\"\",H90)","v":"MAR02481.015"},"","",17,{"$f":"IF(L90=\"\",\"\",IF(L90=0,0,(ROUND(L90,3-1-INT(LOG10(ABS(L90)))))))","v":4.8900000000000003E-5},4.8900000000000003E-5,4.8900000000000003E-5,4.8900000000000003E-5,4.8899999999999996E-4,4.4000000000000002E-4,4.8900000000000003E-5,4.8899999999999996E-4]
[null,null,null,null,null,null,null,{"$f":"IF(H91=\"\",\"\",H91)","v":"MAR02481.016"},"","",18,{"$f":"IF(L91=\"\",\"\",IF(L91=0,0,(ROUND(L91,3-1-INT(LOG10(ABS(L91)))))))","v":5.2500000000000002E-5},5.2500000000000002E-5,5.2500000000000002E-5,5.2500000000000002E-5,5.2499999999999997E-4,4.73E-4,5.2500000000000002E-5,5.7799999999999995E-4]
[null,null,null,null,null,null,null,{"$f":"IF(H92=\"\",\"\",H92)","v":"MAR02481.017"},"","",19,{"$f":"IF(L92=\"\",\"\",IF(L92=0,0,(ROUND(L92,3-1-INT(LOG10(ABS(L92)))))))","v":4.8000000000000001E-5},4.8000000000000001E-5,4.8000000000000001E-5,4.8000000000000001E-5,5.7600000000000001E-4,4.3199999999999998E-4,4.8000000000000001E-5,4.3199999999999998E-4]
[null,null,null,null,null,null,null,{"$f":"IF(H93=\"\",\"\",H93)","v":"MAR02481.018"},"","",20,{"$f":"IF(L93=\"\",\"\",IF(L93=0,0,(ROUND(L93,3-1-INT(LOG10(ABS(L93)))))))","v":5.1600000000000001E-5},5.1600000000000001E-5,5.1600000000000001E-5,5.1600000000000001E-5,6.1899999999999998E-4,5.1599999999999997E-4,5.1600000000000001E-5,6.1899999999999998E-4]
[null,null,null,null,null,null,null,{"$f":"IF(H94=\"\",\"\",H94)","v":""},"","","",{"$f":"IF(L94=\"\",\"\",IF(L94=0,0,(ROUND(L94,3-1-INT(LOG10(ABS(L94)))))))","v":""},"","","","","","",""]
[null,null,null,null,null,null,null,{"$f":"IF(H95=\"\",\"\",H95)","v":""},"","","",{"$f":"IF(L95=\"\",\"\",IF(L95=0,0,(ROUND(L95,3-1-INT(LOG10(ABS(L95)))))))","v":""},"","","","","","",""]
[null,null,null,null,null,null,null,{"$f":"IF(H96=\"\",\"\",H96)","v":""},"","","",{"$f":"IF(L96=\"\",\"\",IF(L96=0,0,(ROUND(L96,3-1-INT(LOG10(ABS(L96)))))))","v":""},"","","","","","",""]
[null,null,null,null,null,null,null,{"$f":"IF(H97=\"\",\"\",H97)","v":""},"","","",{"$f":"IF(L97=\"\",\"\",IF(L97=0,0,(ROUND(L97,3-1-INT(LOG10(ABS(L97)))))))","v":""},"","","","","","",""]
[null,null,null,null,null,null,null,{"$f":"IF(H98=\"\",\"\",H98)","v":""},"","","",{"$f":"IF(L98=\"\",\"\",IF(L98=0,0,(ROUND(L98,3-1-INT(LOG10(ABS(L98)))))))","v":""},"","","","","","",""]
[null,null,null,null,null,null,null,{"$f":"IF(H99=\"\",\"\",H99)","v":""},"","","",{"$f":"IF(L99=\"\",\"\",IF(L99=0,0,(ROUND(L99,3-1-INT(LOG10(ABS(L99)))))))","v":""},"","","","","","",""]
[null,null,null,null,null,null,null,{"$f":"IF(H100=\"\",\"\",H100)","v":""},"","","",{"$f":"IF(L100=\"\",\"\",IF(L100=0,0,(ROUND(L100,3-1-INT(LOG10(ABS(L100)))))))","v":""},"","","","","","",""]
[null,null,null,null,null,null,null,{"$f":"IF(H101=\"\",\"\",H101)","v":""},"","","",{"$f":"IF(L101=\"\",\"\",IF(L101=0,0,(ROUND(L101,3-1-INT(LOG10(ABS(L101)))))))","v":""},"","","","","","",""]
[null,null,null,null,null,null,null,{"$f":"IF(H102=\"\",\"\",H102)","v":""},"","","",{"$f":"IF(L102=\"\",\"\",IF(L102=0,0,(ROUND(L102,3-1-INT(LOG10(ABS(L102)))))))","v":""},"","","","","","",""]
[null,null,null,null,null,null,null,{"$f":"IF(H103=\"\",\"\",H103)","v":""},"","","",{"$f":"IF(L103=\"\",\"\",IF(L103=0,0,(ROUND(L103,3-1-INT(LOG10(ABS(L103)))))))","v":""},"","","","","","",""]
[null,null,null,null,null,null,null,{"$f":"IF(H104=\"\",\"\",H104)","v":""},"","","",{"$f":"IF(L104=\"\",\"\",IF(L104=0,0,(ROUND(L104,3-1-INT(LOG10(ABS(L104)))))))","v":""},"","","","","","",""]
[null,null,null,null,null,null,null,{"$f":"IF(H105=\"\",\"\",H105)","v":""},"","","",{"$f":"IF(L105=\"\",\"\",IF(L105=0,0,(ROUND(L105,3-1-INT(LOG10(ABS(L105)))))))","v":""},"","","","","","",""]
[null,null,null,null,null,null,null,{"$f":"IF(H106=\"\",\"\",H106)","v":""},"","","",{"$f":"IF(L106=\"\",\"\",IF(L106=0,0,(ROUND(L106,3-1-INT(LOG10(ABS(L106)))))))","v":""},"","","","","","",""]
[null,null,null,null,null,null,null,{"$f":"IF(H107=\"\",\"\",H107)","v":""},"","","",{"$f":"IF(L107=\"\",\"\",IF(L107=0,0,(ROUND(L107,3-1-INT(LOG10(ABS(L107)))))))","v":""},"","","","","","",""]
[null,null,null,null,null,null,null,{"$f":"IF(H108=\"\",\"\",H108)","v":""},"","","",{"$f":"IF(L108=\"\",\"\",IF(L108=0,0,(ROUND(L108,3-1-INT(LOG10(ABS(L108)))))))","v":""},"","","","","","",""]
[null,null,null,null,null,null,null,{"$f":"IF(H109=\"\",\"\",H109)","v":""},"","","",{"$f":"IF(L109=\"\",\"\",IF(L109=0,0,(ROUND(L109,3-1-INT(LOG10(ABS(L109)))))))","v":""},"","","","","","",""]
[null,null,null,null,null,null,null,{"$f":"IF(H110=\"\",\"\",H110)","v":""},"","","",{"$f":"IF(L110=\"\",\"\",IF(L110=0,0,(ROUND(L110,3-1-INT(LOG10(ABS(L110)))))))","v":""},"","","","","","",""]
[null,null,null,null,null,null,null,{"$f":"IF(H111=\"\",\"\",H111)","v":""},"","","",{"$f":"IF(L111=\"\",\"\",IF(L111=0,0,(ROUND(L111,3-1-INT(LOG10(ABS(L111)))))))","v":""},"","","","","","",""]
[null,null,null,null,null,null,null,{"$f":"IF(H112=\"\",\"\",H112)","v":""},"","","",{"$f":"IF(L112=\"\",\"\",IF(L112=0,0,(ROUND(L112,3-1-INT(LOG10(ABS(L112)))))))","v":""},"","","","","","",""]
[null,null,null,null,null,null,null,{"$f":"IF(H113=\"\",\"\",H113)","v":""},"","","",{"$f":"IF(L113=\"\",\"\",IF(L113=0,0,(ROUND(L113,3-1-INT(LOG10(ABS(L113)))))))","v":""},"","","","","","",""]
[null,null,null,null,null,null,null,{"$f":"IF(H114=\"\",\"\",H114)","v":""},"","","",{"$f":"IF(L114=\"\",\"\",IF(L114=0,0,(ROUND(L114,3-1-INT(LOG10(ABS(L114)))))))","v":""},"","","","","","",""]
[null,null,null,null,null,null,null,{"$f":"IF(H115=\"\",\"\",H115)","v":""},"","","",{"$f":"IF(L115=\"\",\"\",IF(L115=0,0,(ROUND(L115,3-1-INT(LOG10(ABS(L115)))))))","v":""},"","","","","","",""]
[null,null,null,null,null,null,null,null,null,"Averages:",null,{"$f":"IF(COUNT(L124:L153)<1,\"\", AVERAGE(L124:L153))","v":4.0274999999999996E-5},{"$f":"IF(COUNT(M124:M153)<1,\"\", AVERAGE(M124:M153))","v":4.0274999999999996E-5},4.1087500000000003E-5,1.25275E-4,3.9924999999999997E-4,4.8374999999999997E-4,1.4631250000000001E-4,4.1762500000000003E-4]
[]
[]
[]
[null,null,null,null,null,null,null,"Average of dredge areas"]
[]
[null,null,null,null,null,null,null,null,null,null,"Dredge Area","Organochlorines as mg/kg wet weight"]
[null,null,null,null,null,null,null,null,null,null,null,"alpha-hexachlorocyclohexane (AHCH)","beta-hexachlorocyclohexane (BHCH)","gamma-hexachlorocyclohexane (GHCH)","Dieldrin","Hexachlorobenzene (HCB)","1,1-Dichloro-2,2-bis(p-chlorophenyl) ethylene (PPDDE)","Dichlorodiphenyltrichloroethane (PPDDT)","1,1-dichloro-2,2-bis(p-chlorophenyl)ethane (PPTDE)"]
[null,null,null,null,null,null,null,null,null,null,"Area i",{"$f":"IF(COUNTIF($I$124:$I$153,\"Area i\")<1,\"\",AVERAGEIF($I$124:$I$153,\"Area i\",L$124:L$153))","v":""},{"$f":"IF(COUNTIF($I$124:$I$153,\"Area i\")<1,\"\",AVERAGEIF($I$124:$I$153,\"Area i\",M$124:M$153))","v":""},"","","","","",""]
[null,null,null,null,null,null,null,null,null,null,"Area ii",{"$f":"IF(COUNTIF($I$124:$I$153,\"Area ii\")<1,\"\",AVERAGEIF($I$124:$I$153,\"Area ii\",L$124:L$153))","v":""},{"$f":"IF(COUNTIF($I$124:$I$153,\"Area ii\")<1,\"\",AVERAGEIF($I$124:$I$153,\"Area ii\",M$124:M$153))","v":""},"","","","","",""]
[null,null,null,null,null,null,null,null,null,null,"Area iii",{"$f":"IF(COUNTIF($I$124:$I$153,\"Area iii\")<1,\"\",AVERAGEIF($I$124:$I$153,\"Area iii\",L$124:L$153))","v":""},{"$f":"IF(COUNTIF($I$124:$I$153,\"Area iii\")<1,\"\",AVERAGEIF($I$124:$I$153,\"Area iii\",M$124:M$153))","v":""},"","","","","",""]
[null,null,null,null,null,null,null,null,null,null,"Area iv",{"$f":"IF(COUNTIF($I$124:$I$153,\"Area iv\")<1,\"\",AVERAGEIF($I$124:$I$153,\"Area iv\",L$124:L$153))","v":""},{"$f":"IF(COUNTIF($I$124:$I$153,\"Area iv\")<1,\"\",AVERAGEIF($I$124:$I$153,\"Area iv\",M$124:M$153))","v":""},"","","","","",""]
[null,null,null,null,null,null,null,null,null,null,"Area v",{"$f":"IF(COUNTIF($I$124:$I$153,\"Area v\")<1,\"\",AVERAGEIF($I$124:$I$153,\"Area v\",L$124:L$153))","v":""},{"$f":"IF(COUNTIF($I$124:$I$153,\"Area v\")<1,\"\",AVERAGEIF($I$124:$I$153,\"Area v\",M$124:M$153))","v":""},"","","","","",""]
[null,null,null,null,null,null,null,null,null,null,"Area vi",{"$f":"IF(COUNTIF($I$124:$I$153,\"Area vi\")<1,\"\",AVERAGEIF($I$124:$I$153,\"Area vi\",L$124:L$153))","v":""},{"$f":"IF(COUNTIF($I$124:$I$153,\"Area vi\")<1,\"\",AVERAGEIF($I$124:$I$153,\"Area vi\",M$124:M$153))","v":""},"","","","","",""]
[null,null,null,null,null,null,null,null,null,null,"Averages:",{"$f":"IF(COUNT(L162:L167)<1,\"\", AVERAGE(L162:L167))","v":""},"","","","","","",""]
[]
[]
[null,null,null,null,null,null,null,null,null,null,null,null,null,null,null," "]
[null,null,null,null,null,null,null,"PR weightings (dredge area averages multiplied by dredge area tonnage)"]
[]
[null,null,null,null,null,null,null,null,null,null,"Dredge Area","Organochlorines as mg/kg wet weight"]
[null,null,null,null,null,null,null,null,null,null,null,"alpha-hexachlorocyclohexane (AHCH)","beta-hexachlorocyclohexane (BHCH)","gamma-hexachlorocyclohexane (GHCH)","Dieldrin","Hexachlorobenzene (HCB)","1,1-Dichloro-2,2-bis(p-chlorophenyl) ethylene (PPDDE)","Dichlorodiphenyltrichloroethane (PPDDT)","1,1-dichloro-2,2-bis(p-chlorophenyl)ethane (PPTDE)"]
[null,null,null,null,null,null,null,null,null,null,{"$f":"K162","v":"Area i"},{"$f":"IF(L162=\"\",\"\",L162*'PR details'!$G4)","v":""},{"$f":"IF(M162=\"\",\"\",M162*'PR details'!$G4)","v":""},{"$f":"IF(N162=\"\",\"\",N162*'PR details'!$G4)","v":""},{"$f":"IF(O162=\"\",\"\",O162*'PR details'!$G4)","v":""},{"$f":"IF(P162=\"\",\"\",P162*'PR details'!$G4)","v":""},{"$f":"IF(Q162=\"\",\"\",Q162*'PR details'!$G4)","v":""},{"$f":"IF(R162=\"\",\"\",R162*'PR details'!$G4)","v":""},{"$f":"IF(S162=\"\",\"\",S162*'PR details'!$G4)","v":""}]
[null,null,null,null,null,null,null,null,null,null,"Area ii",{"$f":"IF(L163=\"\",\"\",L163*'PR details'!$G5)","v":""},{"$f":"IF(M163=\"\",\"\",M163*'PR details'!$G5)","v":""},{"$f":"IF(N163=\"\",\"\",N163*'PR details'!$G5)","v":""},{"$f":"IF(O163=\"\",\"\",O163*'PR details'!$G5)","v":""},{"$f":"IF(P163=\"\",\"\",P163*'PR details'!$G5)","v":""},{"$f":"IF(Q163=\"\",\"\",Q163*'PR details'!$G5)","v":""},{"$f":"IF(R163=\"\",\"\",R163*'PR details'!$G5)","v":""},{"$f":"IF(S163=\"\",\"\",S163*'PR details'!$G5)","v":""}]
[null,null,null,null,null,null,null,null,null,null,"Area iii",{"$f":"IF(L164=\"\",\"\",L164*'PR details'!$G6)","v":""},{"$f":"IF(M164=\"\",\"\",M164*'PR details'!$G6)","v":""},{"$f":"IF(N164=\"\",\"\",N164*'PR details'!$G6)","v":""},{"$f":"IF(O164=\"\",\"\",O164*'PR details'!$G6)","v":""},{"$f":"IF(P164=\"\",\"\",P164*'PR details'!$G6)","v":""},{"$f":"IF(Q164=\"\",\"\",Q164*'PR details'!$G6)","v":""},{"$f":"IF(R164=\"\",\"\",R164*'PR details'!$G6)","v":""},{"$f":"IF(S164=\"\",\"\",S164*'PR details'!$G6)","v":""}]
[null,null,null,null,null,null,null,null,null,null,"Area iv",{"$f":"IF(L165=\"\",\"\",L165*'PR details'!$G7)","v":""},{"$f":"IF(M165=\"\",\"\",M165*'PR details'!$G7)","v":""},{"$f":"IF(N165=\"\",\"\",N165*'PR details'!$G7)","v":""},{"$f":"IF(O165=\"\",\"\",O165*'PR details'!$G7)","v":""},{"$f":"IF(P165=\"\",\"\",P165*'PR details'!$G7)","v":""},{"$f":"IF(Q165=\"\",\"\",Q165*'PR details'!$G7)","v":""},{"$f":"IF(R165=\"\",\"\",R165*'PR details'!$G7)","v":""},{"$f":"IF(S165=\"\",\"\",S165*'PR details'!$G7)","v":""}]
[null,null,null,null,null,null,null,null,null,null,"Area v",{"$f":"IF(L166=\"\",\"\",L166*'PR details'!$G8)","v":""},{"$f":"IF(M166=\"\",\"\",M166*'PR details'!$G8)","v":""},{"$f":"IF(N166=\"\",\"\",N166*'PR details'!$G8)","v":""},{"$f":"IF(O166=\"\",\"\",O166*'PR details'!$G8)","v":""},{"$f":"IF(P166=\"\",\"\",P166*'PR details'!$G8)","v":""},{"$f":"IF(Q166=\"\",\"\",Q166*'PR details'!$G8)","v":""},{"$f":"IF(R166=\"\",\"\",R166*'PR details'!$G8)","v":""},{"$f":"IF(S166=\"\",\"\",S166*'PR details'!$G8)","v":""}]
[null,null,null,null,null,null,null,null,null,null,"Area vi",{"$f":"IF(L167=\"\",\"\",L167*'PR details'!$G9)","v":""},{"$f":"IF(M167=\"\",\"\",M167*'PR details'!$G9)","v":""},{"$f":"IF(N167=\"\",\"\",N167*'PR details'!$G9)","v":""},{"$f":"IF(O167=\"\",\"\",O167*'PR details'!$G9)","v":""},{"$f":"IF(P167=\"\",\"\",P167*'PR details'!$G9)","v":""},{"$f":"IF(Q167=\"\",\"\",Q167*'PR details'!$G9)","v":""},{"$f":"IF(R167=\"\",\"\",R167*'PR details'!$G9)","v":""},{"$f":"IF(S167=\"\",\"\",S167*'PR details'!$G9)","v":""}]
[]
[]
[]
[null,null,null,null,null,null,null,"PR average"]
[]
[null,null,null,null,null,null,null,null,null,null,null,"Organochlorines as mg/kg wet weight"]
[null,null,null,null,null,null,null,null,null,null,null,"alpha-hexachlorocyclohexane (AHCH)","beta-hexachlorocyclohexane (BHCH)","gamma-hexachlorocyclohexane (GHCH)","Dieldrin","Hexachlorobenzene (HCB)","1,1-Dichloro-2,2-bis(p-chlorophenyl) ethylene (PPDDE)","Dichlorodiphenyltrichloroethane (PPDDT)","1,1-dichloro-2,2-bis(p-chlorophenyl)ethane (PPTDE)"]
[null,null,null,null,null,null,null,null,null,null,null,{"$f":"IF(COUNT(L176:L181)<1,\"\",SUM(L176:L181))","v":""},"","","","","","",""]

{"sheet":"BDE data","index":15,"n_rows":38,"n_cols":23,"rows_kept":38,"cut":false,"hidden":false,"merged":[[37,7,37,10],[5,11,5,22],[5,7,6,7],[5,8,6,8],[5,9,6,9],[5,10,6,10]]}
[]
[null,"Brominated flame retardant data"]
[]
[null,"Instructions:",null,null,null,null,null,"determinand analysis outputs:"]
[null,"1. Record the laboratory/contractor responsible for analysis"]
[null,"2. Record the date the samples were analysed.",null,null,null,null,null,"Laboratory sample number","Dredge Area","Sample ID(s)","Total Solids (%)","Brominated flame retardants as mg/kg dry weight"]
[null,"3. Enter full dataset for each sample in the analysis results table",null,null,null,null,null,null,null,null,null,"2,2′,4,4′,6-penta-\n bromodiphenyl ether (BDE100)","Hexabromodiphenyl ether (BDE138) ","2,2′,4,4′,5,5′-hexa-\n bromodiphenyl ether (BDE153)","2,2′,4,4′,5,6′-hexa-bromodiphenyl ether (BDE154)","2,2´,4-tri-bromodiphenylether (BDE17)","2,2′,3,4,4′,5′,6-heptabromodiphenyl ether (BDE183)","2,2',3,3',4,4',5,5',6,6'-decabrominated diphenyl ether (BDE 209)","2,4,4'-tribromodiphenyl ether (BDE28)","2,2′,4,4′-Tetrabromodiphenyl ether (BDE47) ","2,3',4,4'-Tetrabromodiphenyl ether (BDE66)","2,2',3,4,4'-Pentabromodiphenyl ether  (BDE85)","2,2',4,4',5-pentabromodiphenyl ether   (BDE99)"]
[null,"4. Analysis results should be reported in mg/kg (ppm) dry weight. ",null,null,null,null,null,"MAR02481.001",null,1,29.1,3.1E-4,"<LOD",6.3000000000000003E-4,3.8999999999999999E-4,"<LOD",2.2300000000000002E-3,0.2301,"<LOD",1.0200000000000001E-3,"<LOD","<LOD",9.1E-4]
[null,"5. Enter methdological limit of detection for each BDE prior to inputting raw data",null,null,null,null,null,"MAR02481.002",null,2,27.9,3.1E-4,"<LOD",4.2000000000000002E-4,2.5000000000000001E-4,"<LOD",1.07E-3,0.2379,"<LOD",1.0499999999999999E-3,"<LOD","<LOD",9.7000000000000005E-4]
[null,"6. Where analysis outputs are less than the limits of detection please enter text \"<LOD\"",null,null,null,null,null,"MAR02481.003",null,3,31.7,2.9999999999999997E-4,"<LOD",3.6999999999999999E-4,"<LOD","<LOD",5.4000000000000001E-4,0.25109999999999999,"<LOD",1.17E-3,"<LOD","<LOD",6.8000000000000005E-4]
[null,"7. Where copying and pasting entries please use paste values only",null,null,null,null,null,"MAR02481.004",null,4,32.5,3.6000000000000002E-4,"<LOD",3.6999999999999999E-4,3.2000000000000003E-4,"<LOD",5.1999999999999995E-4,0.22370000000000001,2.9E-4,1.72E-3,"<LOD","<LOD",1.0399999999999999E-3]
[null,"8. Where entering multiple Sample IDs please use the pop-up form",null,null,null,null,null,"MAR02481.005",null,5,46.4,4.8999999999999998E-4,"<LOD",5.1999999999999995E-4,4.6999999999999999E-4,3.2000000000000003E-4,1.81E-3,0.3367,3.1E-4,1.83E-3,"<LOD","<LOD",1.4400000000000001E-3]
[null,null,"IDs should be separated by a comma",null,null,null,null,"MAR02481.006",null,6,41.4,3.8999999999999999E-4,"<LOD",3.3E-4,2.7999999999999998E-4,3.2000000000000003E-4,5.5000000000000003E-4,0.21679999999999999,3.3E-4,1.8799999999999999E-3,"<LOD","<LOD",1.17E-3]
[null,null,null,null,null,null,null,"MAR02481.007",null,7,37.1,8.3000000000000001E-4,"<LOD",4.8999999999999998E-4,3.6999999999999999E-4,"<LOD",6.6E-4,0.13850000000000001,2.9E-4,2.8300000000000001E-3,"<LOD","<LOD",2.7799999999999999E-3]
[null,"Analysis information:",null,null,null,null,null,"MAR02481.008",null,8,46.6,2.7999999999999998E-4,"<LOD",2.9999999999999997E-4,3.3E-4,3.4000000000000002E-4,1.01E-3,0.21360000000000001,2.9E-4,1.64E-3,"<LOD","<LOD",1.5900000000000001E-3]
[null,null,null,null,null,null,null,"MAR02481.009",null,9,60.8,"<LOD","<LOD","<LOD","<LOD","<LOD","<LOD",2.29E-2,"<LOD",5.2999999999999998E-4,"<LOD","<LOD",4.2999999999999999E-4]
[null,null,"Laboratory/contractor:","SOCOTEC",null,null,null,"MAR02481.010",null,10,45.8,4.6000000000000001E-4,"<LOD",3.4000000000000002E-4,2.7999999999999998E-4,2.5999999999999998E-4,3.3E-4,6.8000000000000005E-2,3.6000000000000002E-4,2.1800000000000001E-3,"<LOD","<LOD",1.6800000000000001E-3]
[null,null,"Date of analysis:","2024-10-24",null,null,null,"MAR02481.011",null,11,47.8,1.2700000000000001E-3,3.4000000000000002E-4,1.1299999999999999E-3,8.1999999999999998E-4,9.8999999999999999E-4,6.8999999999999997E-4,0.1394,1.2700000000000001E-3,5.9699999999999996E-3,1.23E-3,4.0999999999999999E-4,6.0200000000000002E-3]
[null,null,null,null,null,null,null,"MAR02481.012",null,12,44.4,4.8999999999999998E-4,"<LOD",4.2999999999999999E-4,3.3E-4,4.2999999999999999E-4,4.6000000000000001E-4,0.12809999999999999,5.5000000000000003E-4,2.6700000000000001E-3,5.1000000000000004E-4,"<LOD",1.98E-3]
[null,null,null,null,null,null,null,"MAR02481.013",null,13,49,4.8000000000000001E-4,"<LOD",3.8999999999999999E-4,3.3E-4,4.0999999999999999E-4,3.4000000000000002E-4,9.2299999999999993E-2,5.0000000000000001E-4,2.15E-3,3.5E-4,"<LOD",1.91E-3]
[null,null,null,null,null,null,null,"MAR02481.014",null,15,63.5,"<LOD","<LOD",3.2000000000000003E-4,"<LOD",2.9E-4,2.9E-4,5.0799999999999998E-2,3.6999999999999999E-4,1.7600000000000001E-3,3.6999999999999999E-4,"<LOD",1.49E-3]
[null,null,"Dredge Areas",null,null,null,null,"MAR02481.015",null,17,48.9,3.6000000000000002E-4,"<LOD",5.0000000000000001E-4,2.9999999999999997E-4,"<LOD",1.72E-3,6.2600000000000003E-2,"<LOD",1.6199999999999999E-3,"<LOD","<LOD",1.32E-3]
[null,null,{"$f":"'Application info'!$C$26","v":"Area i"},null,null,null,null,"MAR02481.016",null,18,52.5,3.8999999999999999E-4,"<LOD",3.2000000000000003E-4,"<LOD","<LOD",2.5999999999999998E-4,5.5199999999999999E-2,"<LOD",1.7600000000000001E-3,"<LOD","<LOD",1.6100000000000001E-3]
[null,null,{"$f":"'Application info'!$C$27","v":"Area ii"},null,null,null,null,"MAR02481.017",null,19,48,4.0000000000000002E-4,"<LOD",3.2000000000000003E-4,2.9E-4,"<LOD",2.5999999999999998E-4,4.7500000000000001E-2,"<LOD",1.6800000000000001E-3,"<LOD","<LOD",1.42E-3]
[null,null,{"$f":"'Application info'!$C$28","v":"Area iii"},null,null,null,null,"MAR02481.018",null,20,51.6,9.2000000000000003E-4,"<LOD",7.7999999999999999E-4,5.8E-4,3.6000000000000002E-4,4.6999999999999999E-4,5.5399999999999998E-2,6.3000000000000003E-4,4.4200000000000003E-3,6.4999999999999997E-4,"<LOD",4.3299999999999996E-3]
[null,null,{"$f":"'Application info'!$C$29","v":"Area iv"},null,null,null,null,"MAR02481.019",null,21,55.8,4.4999999999999999E-4,"<LOD",3.3E-4,2.5999999999999998E-4,"<LOD",2.7999999999999998E-4,0.29360000000000003,"<LOD",1.8600000000000001E-3,"<LOD","<LOD",2.0500000000000002E-3]
[null,null,{"$f":"'Application info'!$C$30","v":"Area v"},null,null,null,null,"MAR02481.020",null,22,44,4.2999999999999999E-4,"<LOD",3.6000000000000002E-4,3.1E-4,"<LOD",4.8000000000000001E-4,4.1300000000000003E-2,"<LOD",1.82E-3,"<LOD","<LOD",1.64E-3]
[null,null,{"$f":"'Application info'!$C$31","v":"Area vi"},null,null,null,null,"MAR02481.021",null,23,58.8,"<LOD","<LOD","<LOD","<LOD","<LOD","<LOD",7.3300000000000004E-2,"<LOD",8.7000000000000001E-4,"<LOD","<LOD",8.0999999999999996E-4]
[null,null,null,null,null,null,null,"MAR02481.022",null,24,66.099999999999994,"<LOD","<LOD","<LOD","<LOD","<LOD","<LOD",3.5000000000000003E-2,"<LOD",4.0000000000000002E-4,"<LOD","<LOD",3.5E-4]
[null,null,null,null,null,null,null,"MAR02481.023",null,25,63.1,"<LOD","<LOD","<LOD","<LOD","<LOD","<LOD",6.4999999999999997E-3,"<LOD",2.9E-4,"<LOD","<LOD","<LOD"]
[]
[]
[]
[]
[]
[]
[]
[null,null,null,null,null,null,null,"Limits of detection (mg/kg dry weight):",null,null,null,2.5000000000000001E-4,2.5000000000000001E-4,2.5000000000000001E-4,2.5000000000000001E-4,2.5000000000000001E-4,2.5000000000000001E-4,2.0000000000000001E-4,2.5000000000000001E-4,2.5000000000000001E-4,2.5000000000000001E-4,2.5000000000000001E-4,2.5000000000000001E-4]

{"sheet":"BDE calcs","index":16,"n_rows":189,"n_cols":23,"rows_kept":189,"cut":false,"hidden":true,"merged":[[121,7,122,7],[121,8,122,8],[121,9,122,9],[121,10,122,10],[121,11,121,22],[83,11,83,22],[5,11,5,22],[45,7,46,7],[45,8,46,8],[45,9,46,9],[45,10,46,10],[45,11,45,22],[5,7,6,7],[5,8,6,8],[5,9,6,9],[5,10,6,10],[83,7,84,7],[83,8,84,8],[83,9,84,9],[83,10,84,10],[186,11,186,22],[159,11,159,22],[173,7,174,7],[173,9,174,9],[173,10,174,10],[173,11,173,22],[186,7,188,10],[159,7,167,9]]}
[]
[null,"Brominated flame retardant summary information"]
[]
[null,"Analysis information:",null,null,null,null,null,"determinand analysis outputs - adjusted for limits of detection"]
[]
[null,null,"Applicant:",{"$f":"IF('Application info'!E16=\"\",\"\",'Application info'!E16)","v":"PD Ports"},null,null,null,"Laboratory sample number","Dredge Area","Excluded (y if yes)","Sample ID","Brominated flame retardants as mg/kg dry weight"]
[null,null,"Application number:",{"$f":"IF('Application info'!E17=\"\",\"\",'Application info'!E17)","v":""},null,null,null,null,null,null,null,"2,2′,4,4′,6-penta-\n bromodiphenyl ether (BDE100)","Hexabromodiphenyl ether (BDE138) ","2,2′,4,4′,5,5′-hexa-\n bromodiphenyl ether (BDE153)","2,2′,4,4′,5,6′-hexa-bromodiphenyl ether (BDE154)","2,2´,4-tri-bromodiphenylether (BDE17)","2,2′,3,4,4′,5′,6-heptabromodiphenyl ether (BDE183)","2,2',3,3',4,4',5,5',6,6'-decabrominated diphenyl ether (BDE 209)","2,4,4'-tribromodiphenyl ether (BDE28)","2,2′,4,4′-Tetrabromodiphenyl ether (BDE47) ","2,3',4,4'-Tetrabromodiphenyl ether (BDE66)","2,2',3,4,4'-Pentabromodiphenyl ether  (BDE85)","2,2',4,4',5-pentabromodiphenyl ether   (BDE99)"]
[null,null,"Application title:",{"$f":"IF('Application info'!E18=\"\",\"\",'Application info'!E18)","v":"Mid licence sampling - year 9"},null,null,null,{"$f":"IF('BDE data'!H8=\"\",\"\",'BDE data'!H8)","v":"MAR02481.001"},{"$f":"IF('BDE data'!I8=\"\",\"\",'BDE data'!I8)","v":""},{"$f":"IFERROR(IF(K8=\"\",\"\",(IF(VLOOKUP(K8,'Application info'!$K$8:$L$37,2,0)=\"y\",\"y\",\"\"))),\"Manual entry required\")","v":""},{"$f":"IF('BDE data'!J8=\"\",\"\",'BDE data'!J8)","v":1},{"$f":"IF('BDE data'!L8=\"\",\"\",IF(ISNUMBER('BDE data'!L8)=TRUE, IF('BDE data'!L8<'BDE data'!L$38, \"ERROR\", 'BDE data'!L8), IF('BDE data'!L8=\"<LOD\",'BDE data'!L$38, \"ERROR\")))","v":3.1E-4},{"$f":"IF('BDE data'!M8=\"\",\"\",IF(ISNUMBER('BDE data'!M8)=TRUE, IF('BDE data'!M8<'BDE data'!M$38, \"ERROR\", 'BDE data'!M8), IF('BDE data'!M8=\"<LOD\",'BDE data'!M$38, \"ERROR\")))","v":2.5000000000000001E-4},{"$f":"IF('BDE data'!N8=\"\",\"\",IF(ISNUMBER('BDE data'!N8)=TRUE, IF('BDE data'!N8<'BDE data'!N$38, \"ERROR\", 'BDE data'!N8), IF('BDE data'!N8=\"<LOD\",'BDE data'!N$38, \"ERROR\")))","v":6.3000000000000003E-4},{"$f":"IF('BDE data'!O8=\"\",\"\",IF(ISNUMBER('BDE data'!O8)=TRUE, IF('BDE data'!O8<'BDE data'!O$38, \"ERROR\", 'BDE data'!O8), IF('BDE data'!O8=\"<LOD\",'BDE data'!O$38, \"ERROR\")))","v":3.8999999999999999E-4},{"$f":"IF('BDE data'!P8=\"\",\"\",IF(ISNUMBER('BDE data'!P8)=TRUE, IF('BDE data'!P8<'BDE data'!P$38, \"ERROR\", 'BDE data'!P8), IF('BDE data'!P8=\"<LOD\",'BDE data'!P$38, \"ERROR\")))","v":2.5000000000000001E-4},{"$f":"IF('BDE data'!Q8=\"\",\"\",IF(ISNUMBER('BDE data'!Q8)=TRUE, IF('BDE data'!Q8<'BDE data'!Q$38, \"ERROR\", 'BDE data'!Q8), IF('BDE data'!Q8=\"<LOD\",'BDE data'!Q$38, \"ERROR\")))","v":2.2300000000000002E-3},{"$f":"IF('BDE data'!R8=\"\",\"\",IF(ISNUMBER('BDE data'!R8)=TRUE, IF('BDE data'!R8<'BDE data'!R$38, \"ERROR\", 'BDE data'!R8), IF('BDE data'!R8=\"<LOD\",'BDE data'!R$38, \"ERROR\")))","v":0.2301},{"$f":"IF('BDE data'!S8=\"\",\"\",IF(ISNUMBER('BDE data'!S8)=TRUE, IF('BDE data'!S8<'BDE data'!S$38, \"ERROR\", 'BDE data'!S8), IF('BDE data'!S8=\"<LOD\",'BDE data'!S$38, \"ERROR\")))","v":2.5000000000000001E-4},{"$f":"IF('BDE data'!T8=\"\",\"\",IF(ISNUMBER('BDE data'!T8)=TRUE, IF('BDE data'!T8<'BDE data'!T$38, \"ERROR\", 'BDE data'!T8), IF('BDE data'!T8=\"<LOD\",'BDE data'!T$38, \"ERROR\")))","v":1.0200000000000001E-3},{"$f":"IF('BDE data'!U8=\"\",\"\",IF(ISNUMBER('BDE data'!U8)=TRUE, IF('BDE data'!U8<'BDE data'!U$38, \"ERROR\", 'BDE data'!U8), IF('BDE data'!U8=\"<LOD\",'BDE data'!U$38, \"ERROR\")))","v":2.5000000000000001E-4},{"$f":"IF('BDE data'!V8=\"\",\"\",IF(ISNUMBER('BDE data'!V8)=TRUE, IF('BDE data'!V8<'BDE data'!V$38, \"ERROR\", 'BDE data'!V8), IF('BDE data'!V8=\"<LOD\",'BDE data'!V$38, \"ERROR\")))","v":2.5000000000000001E-4},{"$f":"IF('BDE data'!W8=\"\",\"\",IF(ISNUMBER('BDE data'!W8)=TRUE, IF('BDE data'!W8<'BDE data'!W$38, \"ERROR\", 'BDE data'!W8), IF('BDE data'!W8=\"<LOD\",'BDE data'!W$38, \"ERROR\")))","v":9.1E-4}]
[null,null,"Date sampled:",{"$f":"IF('Application info'!E19=\"\",\"\",'Application info'!E19)","v":""},null,null,null,{"$f":"IF('BDE data'!H9=\"\",\"\",'BDE data'!H9)","v":"MAR02481.002"},{"$f":"IF('BDE data'!I9=\"\",\"\",'BDE data'!I9)","v":""},{"$f":"IFERROR(IF(K9=\"\",\"\",(IF(VLOOKUP(K9,'Application info'!$K$8:$L$37,2,0)=\"y\",\"y\",\"\"))),\"Manual entry required\")","v":""},{"$f":"IF('BDE data'!J9=\"\",\"\",'BDE data'!J9)","v":2},{"$f":"IF('BDE data'!L9=\"\",\"\",IF(ISNUMBER('BDE data'!L9)=TRUE, IF('BDE data'!L9<'BDE data'!L$38, \"ERROR\", 'BDE data'!L9), IF('BDE data'!L9=\"<LOD\",'BDE data'!L$38, \"ERROR\")))","v":3.1E-4},{"$f":"IF('BDE data'!M9=\"\",\"\",IF(ISNUMBER('BDE data'!M9)=TRUE, IF('BDE data'!M9<'BDE data'!M$38, \"ERROR\", 'BDE data'!M9), IF('BDE data'!M9=\"<LOD\",'BDE data'!M$38, \"ERROR\")))","v":2.5000000000000001E-4},{"$f":"IF('BDE data'!N9=\"\",\"\",IF(ISNUMBER('BDE data'!N9)=TRUE, IF('BDE data'!N9<'BDE data'!N$38, \"ERROR\", 'BDE data'!N9), IF('BDE data'!N9=\"<LOD\",'BDE data'!N$38, \"ERROR\")))","v":4.2000000000000002E-4},{"$f":"IF('BDE data'!O9=\"\",\"\",IF(ISNUMBER('BDE data'!O9)=TRUE, IF('BDE data'!O9<'BDE data'!O$38, \"ERROR\", 'BDE data'!O9), IF('BDE data'!O9=\"<LOD\",'BDE data'!O$38, \"ERROR\")))","v":2.5000000000000001E-4},{"$f":"IF('BDE data'!P9=\"\",\"\",IF(ISNUMBER('BDE data'!P9)=TRUE, IF('BDE data'!P9<'BDE data'!P$38, \"ERROR\", 'BDE data'!P9), IF('BDE data'!P9=\"<LOD\",'BDE data'!P$38, \"ERROR\")))","v":2.5000000000000001E-4},{"$f":"IF('BDE data'!Q9=\"\",\"\",IF(ISNUMBER('BDE data'!Q9)=TRUE, IF('BDE data'!Q9<'BDE data'!Q$38, \"ERROR\", 'BDE data'!Q9), IF('BDE data'!Q9=\"<LOD\",'BDE data'!Q$38, \"ERROR\")))","v":1.07E-3},{"$f":"IF('BDE data'!R9=\"\",\"\",IF(ISNUMBER('BDE data'!R9)=TRUE, IF('BDE data'!R9<'BDE data'!R$38, \"ERROR\", 'BDE data'!R9), IF('BDE data'!R9=\"<LOD\",'BDE data'!R$38, \"ERROR\")))","v":0.2379},{"$f":"IF('BDE data'!S9=\"\",\"\",IF(ISNUMBER('BDE data'!S9)=TRUE, IF('BDE data'!S9<'BDE data'!S$38, \"ERROR\", 'BDE data'!S9), IF('BDE data'!S9=\"<LOD\",'BDE data'!S$38, \"ERROR\")))","v":2.5000000000000001E-4},{"$f":"IF('BDE data'!T9=\"\",\"\",IF(ISNUMBER('BDE data'!T9)=TRUE, IF('BDE data'!T9<'BDE data'!T$38, \"ERROR\", 'BDE data'!T9), IF('BDE data'!T9=\"<LOD\",'BDE data'!T$38, \"ERROR\")))","v":1.0499999999999999E-3},{"$f":"IF('BDE data'!U9=\"\",\"\",IF(ISNUMBER('BDE data'!U9)=TRUE, IF('BDE data'!U9<'BDE data'!U$38, \"ERROR\", 'BDE data'!U9), IF('BDE data'!U9=\"<LOD\",'BDE data'!U$38, \"ERROR\")))","v":2.5000000000000001E-4},{"$f":"IF('BDE data'!V9=\"\",\"\",IF(ISNUMBER('BDE data'!V9)=TRUE, IF('BDE data'!V9<'BDE data'!V$38, \"ERROR\", 'BDE data'!V9), IF('BDE data'!V9=\"<LOD\",'BDE data'!V$38, \"ERROR\")))","v":2.5000000000000001E-4},{"$f":"IF('BDE data'!W9=\"\",\"\",IF(ISNUMBER('BDE data'!W9)=TRUE, IF('BDE data'!W9<'BDE data'!W$38, \"ERROR\", 'BDE data'!W9), IF('BDE data'!W9=\"<LOD\",'BDE data'!W$38, \"ERROR\")))","v":9.7000000000000005E-4}]
[null,null,"Sampling location:",{"$f":"IF('Application info'!E20=\"\",\"\",'Application info'!E20)","v":""},null,null,null,{"$f":"IF('BDE data'!H10=\"\",\"\",'BDE data'!H10)","v":"MAR02481.003"},{"$f":"IF('BDE data'!I10=\"\",\"\",'BDE data'!I10)","v":""},{"$f":"IFERROR(IF(K10=\"\",\"\",(IF(VLOOKUP(K10,'Application info'!$K$8:$L$37,2,0)=\"y\",\"y\",\"\"))),\"Manual entry required\")","v":""},{"$f":"IF('BDE data'!J10=\"\",\"\",'BDE data'!J10)","v":3},{"$f":"IF('BDE data'!L10=\"\",\"\",IF(ISNUMBER('BDE data'!L10)=TRUE, IF('BDE data'!L10<'BDE data'!L$38, \"ERROR\", 'BDE data'!L10), IF('BDE data'!L10=\"<LOD\",'BDE data'!L$38, \"ERROR\")))","v":2.9999999999999997E-4},{"$f":"IF('BDE data'!M10=\"\",\"\",IF(ISNUMBER('BDE data'!M10)=TRUE, IF('BDE data'!M10<'BDE data'!M$38, \"ERROR\", 'BDE data'!M10), IF('BDE data'!M10=\"<LOD\",'BDE data'!M$38, \"ERROR\")))","v":2.5000000000000001E-4},{"$f":"IF('BDE data'!N10=\"\",\"\",IF(ISNUMBER('BDE data'!N10)=TRUE, IF('BDE data'!N10<'BDE data'!N$38, \"ERROR\", 'BDE data'!N10), IF('BDE data'!N10=\"<LOD\",'BDE data'!N$38, \"ERROR\")))","v":3.6999999999999999E-4},{"$f":"IF('BDE data'!O10=\"\",\"\",IF(ISNUMBER('BDE data'!O10)=TRUE, IF('BDE data'!O10<'BDE data'!O$38, \"ERROR\", 'BDE data'!O10), IF('BDE data'!O10=\"<LOD\",'BDE data'!O$38, \"ERROR\")))","v":2.5000000000000001E-4},{"$f":"IF('BDE data'!P10=\"\",\"\",IF(ISNUMBER('BDE data'!P10)=TRUE, IF('BDE data'!P10<'BDE data'!P$38, \"ERROR\", 'BDE data'!P10), IF('BDE data'!P10=\"<LOD\",'BDE data'!P$38, \"ERROR\")))","v":2.5000000000000001E-4},{"$f":"IF('BDE data'!Q10=\"\",\"\",IF(ISNUMBER('BDE data'!Q10)=TRUE, IF('BDE data'!Q10<'BDE data'!Q$38, \"ERROR\", 'BDE data'!Q10), IF('BDE data'!Q10=\"<LOD\",'BDE data'!Q$38, \"ERROR\")))","v":5.4000000000000001E-4},{"$f":"IF('BDE data'!R10=\"\",\"\",IF(ISNUMBER('BDE data'!R10)=TRUE, IF('BDE data'!R10<'BDE data'!R$38, \"ERROR\", 'BDE data'!R10), IF('BDE data'!R10=\"<LOD\",'BDE data'!R$38, \"ERROR\")))","v":0.25109999999999999},{"$f":"IF('BDE data'!S10=\"\",\"\",IF(ISNUMBER('BDE data'!S10)=TRUE, IF('BDE data'!S10<'BDE data'!S$38, \"ERROR\", 'BDE data'!S10), IF('BDE data'!S10=\"<LOD\",'BDE data'!S$38, \"ERROR\")))","v":2.5000000000000001E-4},{"$f":"IF('BDE data'!T10=\"\",\"\",IF(ISNUMBER('BDE data'!T10)=TRUE, IF('BDE data'!T10<'BDE data'!T$38, \"ERROR\", 'BDE data'!T10), IF('BDE data'!T10=\"<LOD\",'BDE data'!T$38, \"ERROR\")))","v":1.17E-3},{"$f":"IF('BDE data'!U10=\"\",\"\",IF(ISNUMBER('BDE data'!U10)=TRUE, IF('BDE data'!U10<'BDE data'!U$38, \"ERROR\", 'BDE data'!U10), IF('BDE data'!U10=\"<LOD\",'BDE data'!U$38, \"ERROR\")))","v":2.5000000000000001E-4},{"$f":"IF('BDE data'!V10=\"\",\"\",IF(ISNUMBER('BDE data'!V10)=TRUE, IF('BDE data'!V10<'BDE data'!V$38, \"ERROR\", 'BDE data'!V10), IF('BDE data'!V10=\"<LOD\",'BDE data'!V$38, \"ERROR\")))","v":2.5000000000000001E-4},{"$f":"IF('BDE data'!W10=\"\",\"\",IF(ISNUMBER('BDE data'!W10)=TRUE, IF('BDE data'!W10<'BDE data'!W$38, \"ERROR\", 'BDE data'!W10), IF('BDE data'!W10=\"<LOD\",'BDE data'!W$38, \"ERROR\")))","v":6.8000000000000005E-4}]
[null,null,null,null,null,null,null,{"$f":"IF('BDE data'!H11=\"\",\"\",'BDE data'!H11)","v":"MAR02481.004"},{"$f":"IF('BDE data'!I11=\"\",\"\",'BDE data'!I11)","v":""},{"$f":"IFERROR(IF(K11=\"\",\"\",(IF(VLOOKUP(K11,'Application info'!$K$8:$L$37,2,0)=\"y\",\"y\",\"\"))),\"Manual entry required\")","v":""},{"$f":"IF('BDE data'!J11=\"\",\"\",'BDE data'!J11)","v":4},{"$f":"IF('BDE data'!L11=\"\",\"\",IF(ISNUMBER('BDE data'!L11)=TRUE, IF('BDE data'!L11<'BDE data'!L$38, \"ERROR\", 'BDE data'!L11), IF('BDE data'!L11=\"<LOD\",'BDE data'!L$38, \"ERROR\")))","v":3.6000000000000002E-4},{"$f":"IF('BDE data'!M11=\"\",\"\",IF(ISNUMBER('BDE data'!M11)=TRUE, IF('BDE data'!M11<'BDE data'!M$38, \"ERROR\", 'BDE data'!M11), IF('BDE data'!M11=\"<LOD\",'BDE data'!M$38, \"ERROR\")))","v":2.5000000000000001E-4},{"$f":"IF('BDE data'!N11=\"\",\"\",IF(ISNUMBER('BDE data'!N11)=TRUE, IF('BDE data'!N11<'BDE data'!N$38, \"ERROR\", 'BDE data'!N11), IF('BDE data'!N11=\"<LOD\",'BDE data'!N$38, \"ERROR\")))","v":3.6999999999999999E-4},{"$f":"IF('BDE data'!O11=\"\",\"\",IF(ISNUMBER('BDE data'!O11)=TRUE, IF('BDE data'!O11<'BDE data'!O$38, \"ERROR\", 'BDE data'!O11), IF('BDE data'!O11=\"<LOD\",'BDE data'!O$38, \"ERROR\")))","v":3.2000000000000003E-4},{"$f":"IF('BDE data'!P11=\"\",\"\",IF(ISNUMBER('BDE data'!P11)=TRUE, IF('BDE data'!P11<'BDE data'!P$38, \"ERROR\", 'BDE data'!P11), IF('BDE data'!P11=\"<LOD\",'BDE data'!P$38, \"ERROR\")))","v":2.5000000000000001E-4},{"$f":"IF('BDE data'!Q11=\"\",\"\",IF(ISNUMBER('BDE data'!Q11)=TRUE, IF('BDE data'!Q11<'BDE data'!Q$38, \"ERROR\", 'BDE data'!Q11), IF('BDE data'!Q11=\"<LOD\",'BDE data'!Q$38, \"ERROR\")))","v":5.1999999999999995E-4},{"$f":"IF('BDE data'!R11=\"\",\"\",IF(ISNUMBER('BDE data'!R11)=TRUE, IF('BDE data'!R11<'BDE data'!R$38, \"ERROR\", 'BDE data'!R11), IF('BDE data'!R11=\"<LOD\",'BDE data'!R$38, \"ERROR\")))","v":0.22370000000000001},{"$f":"IF('BDE data'!S11=\"\",\"\",IF(ISNUMBER('BDE data'!S11)=TRUE, IF('BDE data'!S11<'BDE data'!S$38, \"ERROR\", 'BDE data'!S11), IF('BDE data'!S11=\"<LOD\",'BDE data'!S$38, \"ERROR\")))","v":2.9E-4},{"$f":"IF('BDE data'!T11=\"\",\"\",IF(ISNUMBER('BDE data'!T11)=TRUE, IF('BDE data'!T11<'BDE data'!T$38, \"ERROR\", 'BDE data'!T11), IF('BDE data'!T11=\"<LOD\",'BDE data'!T$38, \"ERROR\")))","v":1.72E-3},{"$f":"IF('BDE data'!U11=\"\",\"\",IF(ISNUMBER('BDE data'!U11)=TRUE, IF('BDE data'!U11<'BDE data'!U$38, \"ERROR\", 'BDE data'!U11), IF('BDE data'!U11=\"<LOD\",'BDE data'!U$38, \"ERROR\")))","v":2.5000000000000001E-4},{"$f":"IF('BDE data'!V11=\"\",\"\",IF(ISNUMBER('BDE data'!V11)=TRUE, IF('BDE data'!V11<'BDE data'!V$38, \"ERROR\", 'BDE data'!V11), IF('BDE data'!V11=\"<LOD\",'BDE data'!V$38, \"ERROR\")))","v":2.5000000000000001E-4},{"$f":"IF('BDE data'!W11=\"\",\"\",IF(ISNUMBER('BDE data'!W11)=TRUE, IF('BDE data'!W11<'BDE data'!W$38, \"ERROR\", 'BDE data'!W11), IF('BDE data'!W11=\"<LOD\",'BDE data'!W$38, \"ERROR\")))","v":1.0399999999999999E-3}]
[null,null,"Laboratory/contractor:",{"$f":"IF('BDE data'!D17=\"\",\"\",'BDE data'!D17)","v":"SOCOTEC"},null,null,null,{"$f":"IF('BDE data'!H12=\"\",\"\",'BDE data'!H12)","v":"MAR02481.005"},{"$f":"IF('BDE data'!I12=\"\",\"\",'BDE data'!I12)","v":""},{"$f":"IFERROR(IF(K12=\"\",\"\",(IF(VLOOKUP(K12,'Application info'!$K$8:$L$37,2,0)=\"y\",\"y\",\"\"))),\"Manual entry required\")","v":""},{"$f":"IF('BDE data'!J12=\"\",\"\",'BDE data'!J12)","v":5},{"$f":"IF('BDE data'!L12=\"\",\"\",IF(ISNUMBER('BDE data'!L12)=TRUE, IF('BDE data'!L12<'BDE data'!L$38, \"ERROR\", 'BDE data'!L12), IF('BDE data'!L12=\"<LOD\",'BDE data'!L$38, \"ERROR\")))","v":4.8999999999999998E-4},{"$f":"IF('BDE data'!M12=\"\",\"\",IF(ISNUMBER('BDE data'!M12)=TRUE, IF('BDE data'!M12<'BDE data'!M$38, \"ERROR\", 'BDE data'!M12), IF('BDE data'!M12=\"<LOD\",'BDE data'!M$38, \"ERROR\")))","v":2.5000000000000001E-4},{"$f":"IF('BDE data'!N12=\"\",\"\",IF(ISNUMBER('BDE data'!N12)=TRUE, IF('BDE data'!N12<'BDE data'!N$38, \"ERROR\", 'BDE data'!N12), IF('BDE data'!N12=\"<LOD\",'BDE data'!N$38, \"ERROR\")))","v":5.1999999999999995E-4},{"$f":"IF('BDE data'!O12=\"\",\"\",IF(ISNUMBER('BDE data'!O12)=TRUE, IF('BDE data'!O12<'BDE data'!O$38, \"ERROR\", 'BDE data'!O12), IF('BDE data'!O12=\"<LOD\",'BDE data'!O$38, \"ERROR\")))","v":4.6999999999999999E-4},{"$f":"IF('BDE data'!P12=\"\",\"\",IF(ISNUMBER('BDE data'!P12)=TRUE, IF('BDE data'!P12<'BDE data'!P$38, \"ERROR\", 'BDE data'!P12), IF('BDE data'!P12=\"<LOD\",'BDE data'!P$38, \"ERROR\")))","v":3.2000000000000003E-4},{"$f":"IF('BDE data'!Q12=\"\",\"\",IF(ISNUMBER('BDE data'!Q12)=TRUE, IF('BDE data'!Q12<'BDE data'!Q$38, \"ERROR\", 'BDE data'!Q12), IF('BDE data'!Q12=\"<LOD\",'BDE data'!Q$38, \"ERROR\")))","v":1.81E-3},{"$f":"IF('BDE data'!R12=\"\",\"\",IF(ISNUMBER('BDE data'!R12)=TRUE, IF('BDE data'!R12<'BDE data'!R$38, \"ERROR\", 'BDE data'!R12), IF('BDE data'!R12=\"<LOD\",'BDE data'!R$38, \"ERROR\")))","v":0.3367},{"$f":"IF('BDE data'!S12=\"\",\"\",IF(ISNUMBER('BDE data'!S12)=TRUE, IF('BDE data'!S12<'BDE data'!S$38, \"ERROR\", 'BDE data'!S12), IF('BDE data'!S12=\"<LOD\",'BDE data'!S$38, \"ERROR\")))","v":3.1E-4},{"$f":"IF('BDE data'!T12=\"\",\"\",IF(ISNUMBER('BDE data'!T12)=TRUE, IF('BDE data'!T12<'BDE data'!T$38, \"ERROR\", 'BDE data'!T12), IF('BDE data'!T12=\"<LOD\",'BDE data'!T$38, \"ERROR\")))","v":1.83E-3},{"$f":"IF('BDE data'!U12=\"\",\"\",IF(ISNUMBER('BDE data'!U12)=TRUE, IF('BDE data'!U12<'BDE data'!U$38, \"ERROR\", 'BDE data'!U12), IF('BDE data'!U12=\"<LOD\",'BDE data'!U$38, \"ERROR\")))","v":2.5000000000000001E-4},{"$f":"IF('BDE data'!V12=\"\",\"\",IF(ISNUMBER('BDE data'!V12)=TRUE, IF('BDE data'!V12<'BDE data'!V$38, \"ERROR\", 'BDE data'!V12), IF('BDE data'!V12=\"<LOD\",'BDE data'!V$38, \"ERROR\")))","v":2.5000000000000001E-4},{"$f":"IF('BDE data'!W12=\"\",\"\",IF(ISNUMBER('BDE data'!W12)=TRUE, IF('BDE data'!W12<'BDE data'!W$38, \"ERROR\", 'BDE data'!W12), IF('BDE data'!W12=\"<LOD\",'BDE data'!W$38, \"ERROR\")))","v":1.4400000000000001E-3}]
[null,null,"Date of analysis:",{"$f":"IF('BDE data'!D18=\"\",\"\",'BDE data'!D18)","v":"2024-10-24"},null,null,null,{"$f":"IF('BDE data'!H13=\"\",\"\",'BDE data'!H13)","v":"MAR02481.006"},{"$f":"IF('BDE data'!I13=\"\",\"\",'BDE data'!I13)","v":""},{"$f":"IFERROR(IF(K13=\"\",\"\",(IF(VLOOKUP(K13,'Application info'!$K$8:$L$37,2,0)=\"y\",\"y\",\"\"))),\"Manual entry required\")","v":""},{"$f":"IF('BDE data'!J13=\"\",\"\",'BDE data'!J13)","v":6},{"$f":"IF('BDE data'!L13=\"\",\"\",IF(ISNUMBER('BDE data'!L13)=TRUE, IF('BDE data'!L13<'BDE data'!L$38, \"ERROR\", 'BDE data'!L13), IF('BDE data'!L13=\"<LOD\",'BDE data'!L$38, \"ERROR\")))","v":3.8999999999999999E-4},{"$f":"IF('BDE data'!M13=\"\",\"\",IF(ISNUMBER('BDE data'!M13)=TRUE, IF('BDE data'!M13<'BDE data'!M$38, \"ERROR\", 'BDE data'!M13), IF('BDE data'!M13=\"<LOD\",'BDE data'!M$38, \"ERROR\")))","v":2.5000000000000001E-4},{"$f":"IF('BDE data'!N13=\"\",\"\",IF(ISNUMBER('BDE data'!N13)=TRUE, IF('BDE data'!N13<'BDE data'!N$38, \"ERROR\", 'BDE data'!N13), IF('BDE data'!N13=\"<LOD\",'BDE data'!N$38, \"ERROR\")))","v":3.3E-4},{"$f":"IF('BDE data'!O13=\"\",\"\",IF(ISNUMBER('BDE data'!O13)=TRUE, IF('BDE data'!O13<'BDE data'!O$38, \"ERROR\", 'BDE data'!O13), IF('BDE data'!O13=\"<LOD\",'BDE data'!O$38, \"ERROR\")))","v":2.7999999999999998E-4},{"$f":"IF('BDE data'!P13=\"\",\"\",IF(ISNUMBER('BDE data'!P13)=TRUE, IF('BDE data'!P13<'BDE data'!P$38, \"ERROR\", 'BDE data'!P13), IF('BDE data'!P13=\"<LOD\",'BDE data'!P$38, \"ERROR\")))","v":3.2000000000000003E-4},{"$f":"IF('BDE data'!Q13=\"\",\"\",IF(ISNUMBER('BDE data'!Q13)=TRUE, IF('BDE data'!Q13<'BDE data'!Q$38, \"ERROR\", 'BDE data'!Q13), IF('BDE data'!Q13=\"<LOD\",'BDE data'!Q$38, \"ERROR\")))","v":5.5000000000000003E-4},{"$f":"IF('BDE data'!R13=\"\",\"\",IF(ISNUMBER('BDE data'!R13)=TRUE, IF('BDE data'!R13<'BDE data'!R$38, \"ERROR\", 'BDE data'!R13), IF('BDE data'!R13=\"<LOD\",'BDE data'!R$38, \"ERROR\")))","v":0.21679999999999999},{"$f":"IF('BDE data'!S13=\"\",\"\",IF(ISNUMBER('BDE data'!S13)=TRUE, IF('BDE data'!S13<'BDE data'!S$38, \"ERROR\", 'BDE data'!S13), IF('BDE data'!S13=\"<LOD\",'BDE data'!S$38, \"ERROR\")))","v":3.3E-4},{"$f":"IF('BDE data'!T13=\"\",\"\",IF(ISNUMBER('BDE data'!T13)=TRUE, IF('BDE data'!T13<'BDE data'!T$38, \"ERROR\", 'BDE data'!T13), IF('BDE data'!T13=\"<LOD\",'BDE data'!T$38, \"ERROR\")))","v":1.8799999999999999E-3},{"$f":"IF('BDE data'!U13=\"\",\"\",IF(ISNUMBER('BDE data'!U13)=TRUE, IF('BDE data'!U13<'BDE data'!U$38, \"ERROR\", 'BDE data'!U13), IF('BDE data'!U13=\"<LOD\",'BDE data'!U$38, \"ERROR\")))","v":2.5000000000000001E-4},{"$f":"IF('BDE data'!V13=\"\",\"\",IF(ISNUMBER('BDE data'!V13)=TRUE, IF('BDE data'!V13<'BDE data'!V$38, \"ERROR\", 'BDE data'!V13), IF('BDE data'!V13=\"<LOD\",'BDE data'!V$38, \"ERROR\")))","v":2.5000000000000001E-4},{"$f":"IF('BDE data'!W13=\"\",\"\",IF(ISNUMBER('BDE data'!W13)=TRUE, IF('BDE data'!W13<'BDE data'!W$38, \"ERROR\", 'BDE data'!W13), IF('BDE data'!W13=\"<LOD\",'BDE data'!W$38, \"ERROR\")))","v":1.17E-3}]
[null,null,null,null,null,null,null,{"$f":"IF('BDE data'!H14=\"\",\"\",'BDE data'!H14)","v":"MAR02481.007"},{"$f":"IF('BDE data'!I14=\"\",\"\",'BDE data'!I14)","v":""},{"$f":"IFERROR(IF(K14=\"\",\"\",(IF(VLOOKUP(K14,'Application info'!$K$8:$L$37,2,0)=\"y\",\"y\",\"\"))),\"Manual entry required\")","v":""},{"$f":"IF('BDE data'!J14=\"\",\"\",'BDE data'!J14)","v":7},{"$f":"IF('BDE data'!L14=\"\",\"\",IF(ISNUMBER('BDE data'!L14)=TRUE, IF('BDE data'!L14<'BDE data'!L$38, \"ERROR\", 'BDE data'!L14), IF('BDE data'!L14=\"<LOD\",'BDE data'!L$38, \"ERROR\")))","v":8.3000000000000001E-4},{"$f":"IF('BDE data'!M14=\"\",\"\",IF(ISNUMBER('BDE data'!M14)=TRUE, IF('BDE data'!M14<'BDE data'!M$38, \"ERROR\", 'BDE data'!M14), IF('BDE data'!M14=\"<LOD\",'BDE data'!M$38, \"ERROR\")))","v":2.5000000000000001E-4},{"$f":"IF('BDE data'!N14=\"\",\"\",IF(ISNUMBER('BDE data'!N14)=TRUE, IF('BDE data'!N14<'BDE data'!N$38, \"ERROR\", 'BDE data'!N14), IF('BDE data'!N14=\"<LOD\",'BDE data'!N$38, \"ERROR\")))","v":4.8999999999999998E-4},{"$f":"IF('BDE data'!O14=\"\",\"\",IF(ISNUMBER('BDE data'!O14)=TRUE, IF('BDE data'!O14<'BDE data'!O$38, \"ERROR\", 'BDE data'!O14), IF('BDE data'!O14=\"<LOD\",'BDE data'!O$38, \"ERROR\")))","v":3.6999999999999999E-4},{"$f":"IF('BDE data'!P14=\"\",\"\",IF(ISNUMBER('BDE data'!P14)=TRUE, IF('BDE data'!P14<'BDE data'!P$38, \"ERROR\", 'BDE data'!P14), IF('BDE data'!P14=\"<LOD\",'BDE data'!P$38, \"ERROR\")))","v":2.5000000000000001E-4},{"$f":"IF('BDE data'!Q14=\"\",\"\",IF(ISNUMBER('BDE data'!Q14)=TRUE, IF('BDE data'!Q14<'BDE data'!Q$38, \"ERROR\", 'BDE data'!Q14), IF('BDE data'!Q14=\"<LOD\",'BDE data'!Q$38, \"ERROR\")))","v":6.6E-4},{"$f":"IF('BDE data'!R14=\"\",\"\",IF(ISNUMBER('BDE data'!R14)=TRUE, IF('BDE data'!R14<'BDE data'!R$38, \"ERROR\", 'BDE data'!R14), IF('BDE data'!R14=\"<LOD\",'BDE data'!R$38, \"ERROR\")))","v":0.13850000000000001},{"$f":"IF('BDE data'!S14=\"\",\"\",IF(ISNUMBER('BDE data'!S14)=TRUE, IF('BDE data'!S14<'BDE data'!S$38, \"ERROR\", 'BDE data'!S14), IF('BDE data'!S14=\"<LOD\",'BDE data'!S$38, \"ERROR\")))","v":2.9E-4},{"$f":"IF('BDE data'!T14=\"\",\"\",IF(ISNUMBER('BDE data'!T14)=TRUE, IF('BDE data'!T14<'BDE data'!T$38, \"ERROR\", 'BDE data'!T14), IF('BDE data'!T14=\"<LOD\",'BDE data'!T$38, \"ERROR\")))","v":2.8300000000000001E-3},{"$f":"IF('BDE data'!U14=\"\",\"\",IF(ISNUMBER('BDE data'!U14)=TRUE, IF('BDE data'!U14<'BDE data'!U$38, \"ERROR\", 'BDE data'!U14), IF('BDE data'!U14=\"<LOD\",'BDE data'!U$38, \"ERROR\")))","v":2.5000000000000001E-4},{"$f":"IF('BDE data'!V14=\"\",\"\",IF(ISNUMBER('BDE data'!V14)=TRUE, IF('BDE data'!V14<'BDE data'!V$38, \"ERROR\", 'BDE data'!V14), IF('BDE data'!V14=\"<LOD\",'BDE data'!V$38, \"ERROR\")))","v":2.5000000000000001E-4},{"$f":"IF('BDE data'!W14=\"\",\"\",IF(ISNUMBER('BDE data'!W14)=TRUE, IF('BDE data'!W14<'BDE data'!W$38, \"ERROR\", 'BDE data'!W14), IF('BDE data'!W14=\"<LOD\",'BDE data'!W$38, \"ERROR\")))","v":2.7799999999999999E-3}]
[null,null,null,null,null,null,null,{"$f":"IF('BDE data'!H15=\"\",\"\",'BDE data'!H15)","v":"MAR02481.008"},{"$f":"IF('BDE data'!I15=\"\",\"\",'BDE data'!I15)","v":""},{"$f":"IFERROR(IF(K15=\"\",\"\",(IF(VLOOKUP(K15,'Application info'!$K$8:$L$37,2,0)=\"y\",\"y\",\"\"))),\"Manual entry required\")","v":""},{"$f":"IF('BDE data'!J15=\"\",\"\",'BDE data'!J15)","v":8},{"$f":"IF('BDE data'!L15=\"\",\"\",IF(ISNUMBER('BDE data'!L15)=TRUE, IF('BDE data'!L15<'BDE data'!L$38, \"ERROR\", 'BDE data'!L15), IF('BDE data'!L15=\"<LOD\",'BDE data'!L$38, \"ERROR\")))","v":2.7999999999999998E-4},{"$f":"IF('BDE data'!M15=\"\",\"\",IF(ISNUMBER('BDE data'!M15)=TRUE, IF('BDE data'!M15<'BDE data'!M$38, \"ERROR\", 'BDE data'!M15), IF('BDE data'!M15=\"<LOD\",'BDE data'!M$38, \"ERROR\")))","v":2.5000000000000001E-4},{"$f":"IF('BDE data'!N15=\"\",\"\",IF(ISNUMBER('BDE data'!N15)=TRUE, IF('BDE data'!N15<'BDE data'!N$38, \"ERROR\", 'BDE data'!N15), IF('BDE data'!N15=\"<LOD\",'BDE data'!N$38, \"ERROR\")))","v":2.9999999999999997E-4},{"$f":"IF('BDE data'!O15=\"\",\"\",IF(ISNUMBER('BDE data'!O15)=TRUE, IF('BDE data'!O15<'BDE data'!O$38, \"ERROR\", 'BDE data'!O15), IF('BDE data'!O15=\"<LOD\",'BDE data'!O$38, \"ERROR\")))","v":3.3E-4},{"$f":"IF('BDE data'!P15=\"\",\"\",IF(ISNUMBER('BDE data'!P15)=TRUE, IF('BDE data'!P15<'BDE data'!P$38, \"ERROR\", 'BDE data'!P15), IF('BDE data'!P15=\"<LOD\",'BDE data'!P$38, \"ERROR\")))","v":3.4000000000000002E-4},{"$f":"IF('BDE data'!Q15=\"\",\"\",IF(ISNUMBER('BDE data'!Q15)=TRUE, IF('BDE data'!Q15<'BDE data'!Q$38, \"ERROR\", 'BDE data'!Q15), IF('BDE data'!Q15=\"<LOD\",'BDE data'!Q$38, \"ERROR\")))","v":1.01E-3},{"$f":"IF('BDE data'!R15=\"\",\"\",IF(ISNUMBER('BDE data'!R15)=TRUE, IF('BDE data'!R15<'BDE data'!R$38, \"ERROR\", 'BDE data'!R15), IF('BDE data'!R15=\"<LOD\",'BDE data'!R$38, \"ERROR\")))","v":0.21360000000000001},{"$f":"IF('BDE data'!S15=\"\",\"\",IF(ISNUMBER('BDE data'!S15)=TRUE, IF('BDE data'!S15<'BDE data'!S$38, \"ERROR\", 'BDE data'!S15), IF('BDE data'!S15=\"<LOD\",'BDE data'!S$38, \"ERROR\")))","v":2.9E-4},{"$f":"IF('BDE data'!T15=\"\",\"\",IF(ISNUMBER('BDE data'!T15)=TRUE, IF('BDE data'!T15<'BDE data'!T$38, \"ERROR\", 'BDE data'!T15), IF('BDE data'!T15=\"<LOD\",'BDE data'!T$38, \"ERROR\")))","v":1.64E-3},{"$f":"IF('BDE data'!U15=\"\",\"\",IF(ISNUMBER('BDE data'!U15)=TRUE, IF('BDE data'!U15<'BDE data'!U$38, \"ERROR\", 'BDE data'!U15), IF('BDE data'!U15=\"<LOD\",'BDE data'!U$38, \"ERROR\")))","v":2.5000000000000001E-4},{"$f":"IF('BDE data'!V15=\"\",\"\",IF(ISNUMBER('BDE data'!V15)=TRUE, IF('BDE data'!V15<'BDE data'!V$38, \"ERROR\", 'BDE data'!V15), IF('BDE data'!V15=\"<LOD\",'BDE data'!V$38, \"ERROR\")))","v":2.5000000000000001E-4},{"$f":"IF('BDE data'!W15=\"\",\"\",IF(ISNUMBER('BDE data'!W15)=TRUE, IF('BDE data'!W15<'BDE data'!W$38, \"ERROR\", 'BDE data'!W15), IF('BDE data'!W15=\"<LOD\",'BDE data'!W$38, \"ERROR\")))","v":1.5900000000000001E-3}]
[null,null,null,null,null,null,null,{"$f":"IF('BDE data'!H16=\"\",\"\",'BDE data'!H16)","v":"MAR02481.009"},{"$f":"IF('BDE data'!I16=\"\",\"\",'BDE data'!I16)","v":""},{"$f":"IFERROR(IF(K16=\"\",\"\",(IF(VLOOKUP(K16,'Application info'!$K$8:$L$37,2,0)=\"y\",\"y\",\"\"))),\"Manual entry required\")","v":""},{"$f":"IF('BDE data'!J16=\"\",\"\",'BDE data'!J16)","v":9},{"$f":"IF('BDE data'!L16=\"\",\"\",IF(ISNUMBER('BDE data'!L16)=TRUE, IF('BDE data'!L16<'BDE data'!L$38, \"ERROR\", 'BDE data'!L16), IF('BDE data'!L16=\"<LOD\",'BDE data'!L$38, \"ERROR\")))","v":2.5000000000000001E-4},{"$f":"IF('BDE data'!M16=\"\",\"\",IF(ISNUMBER('BDE data'!M16)=TRUE, IF('BDE data'!M16<'BDE data'!M$38, \"ERROR\", 'BDE data'!M16), IF('BDE data'!M16=\"<LOD\",'BDE data'!M$38, \"ERROR\")))","v":2.5000000000000001E-4},{"$f":"IF('BDE data'!N16=\"\",\"\",IF(ISNUMBER('BDE data'!N16)=TRUE, IF('BDE data'!N16<'BDE data'!N$38, \"ERROR\", 'BDE data'!N16), IF('BDE data'!N16=\"<LOD\",'BDE data'!N$38, \"ERROR\")))","v":2.5000000000000001E-4},{"$f":"IF('BDE data'!O16=\"\",\"\",IF(ISNUMBER('BDE data'!O16)=TRUE, IF('BDE data'!O16<'BDE data'!O$38, \"ERROR\", 'BDE data'!O16), IF('BDE data'!O16=\"<LOD\",'BDE data'!O$38, \"ERROR\")))","v":2.5000000000000001E-4},{"$f":"IF('BDE data'!P16=\"\",\"\",IF(ISNUMBER('BDE data'!P16)=TRUE, IF('BDE data'!P16<'BDE data'!P$38, \"ERROR\", 'BDE data'!P16), IF('BDE data'!P16=\"<LOD\",'BDE data'!P$38, \"ERROR\")))","v":2.5000000000000001E-4},{"$f":"IF('BDE data'!Q16=\"\",\"\",IF(ISNUMBER('BDE data'!Q16)=TRUE, IF('BDE data'!Q16<'BDE data'!Q$38, \"ERROR\", 'BDE data'!Q16), IF('BDE data'!Q16=\"<LOD\",'BDE data'!Q$38, \"ERROR\")))","v":2.5000000000000001E-4},{"$f":"IF('BDE data'!R16=\"\",\"\",IF(ISNUMBER('BDE data'!R16)=TRUE, IF('BDE data'!R16<'BDE data'!R$38, \"ERROR\", 'BDE data'!R16), IF('BDE data'!R16=\"<LOD\",'BDE data'!R$38, \"ERROR\")))","v":2.29E-2},{"$f":"IF('BDE data'!S16=\"\",\"\",IF(ISNUMBER('BDE data'!S16)=TRUE, IF('BDE data'!S16<'BDE data'!S$38, \"ERROR\", 'BDE data'!S16), IF('BDE data'!S16=\"<LOD\",'BDE data'!S$38, \"ERROR\")))","v":2.5000000000000001E-4},{"$f":"IF('BDE data'!T16=\"\",\"\",IF(ISNUMBER('BDE data'!T16)=TRUE, IF('BDE data'!T16<'BDE data'!T$38, \"ERROR\", 'BDE data'!T16), IF('BDE data'!T16=\"<LOD\",'BDE data'!T$38, \"ERROR\")))","v":5.2999999999999998E-4},{"$f":"IF('BDE data'!U16=\"\",\"\",IF(ISNUMBER('BDE data'!U16)=TRUE, IF('BDE data'!U16<'BDE data'!U$38, \"ERROR\", 'BDE data'!U16), IF('BDE data'!U16=\"<LOD\",'BDE data'!U$38, \"ERROR\")))","v":2.5000000000000001E-4},{"$f":"IF('BDE data'!V16=\"\",\"\",IF(ISNUMBER('BDE data'!V16)=TRUE, IF('BDE data'!V16<'BDE data'!V$38, \"ERROR\", 'BDE data'!V16), IF('BDE data'!V16=\"<LOD\",'BDE data'!V$38, \"ERROR\")))","v":2.5000000000000001E-4},{"$f":"IF('BDE data'!W16=\"\",\"\",IF(ISNUMBER('BDE data'!W16)=TRUE, IF('BDE data'!W16<'BDE data'!W$38, \"ERROR\", 'BDE data'!W16), IF('BDE data'!W16=\"<LOD\",'BDE data'!W$38, \"ERROR\")))","v":4.2999999999999999E-4}]
[null,null,null,null,null,null,null,{"$f":"IF('BDE data'!H17=\"\",\"\",'BDE data'!H17)","v":"MAR02481.010"},{"$f":"IF('BDE data'!I17=\"\",\"\",'BDE data'!I17)","v":""},{"$f":"IFERROR(IF(K17=\"\",\"\",(IF(VLOOKUP(K17,'Application info'!$K$8:$L$37,2,0)=\"y\",\"y\",\"\"))),\"Manual entry required\")","v":""},{"$f":"IF('BDE data'!J17=\"\",\"\",'BDE data'!J17)","v":10},{"$f":"IF('BDE data'!L17=\"\",\"\",IF(ISNUMBER('BDE data'!L17)=TRUE, IF('BDE data'!L17<'BDE data'!L$38, \"ERROR\", 'BDE data'!L17), IF('BDE data'!L17=\"<LOD\",'BDE data'!L$38, \"ERROR\")))","v":4.6000000000000001E-4},{"$f":"IF('BDE data'!M17=\"\",\"\",IF(ISNUMBER('BDE data'!M17)=TRUE, IF('BDE data'!M17<'BDE data'!M$38, \"ERROR\", 'BDE data'!M17), IF('BDE data'!M17=\"<LOD\",'BDE data'!M$38, \"ERROR\")))","v":2.5000000000000001E-4},{"$f":"IF('BDE data'!N17=\"\",\"\",IF(ISNUMBER('BDE data'!N17)=TRUE, IF('BDE data'!N17<'BDE data'!N$38, \"ERROR\", 'BDE data'!N17), IF('BDE data'!N17=\"<LOD\",'BDE data'!N$38, \"ERROR\")))","v":3.4000000000000002E-4},{"$f":"IF('BDE data'!O17=\"\",\"\",IF(ISNUMBER('BDE data'!O17)=TRUE, IF('BDE data'!O17<'BDE data'!O$38, \"ERROR\", 'BDE data'!O17), IF('BDE data'!O17=\"<LOD\",'BDE data'!O$38, \"ERROR\")))","v":2.7999999999999998E-4},{"$f":"IF('BDE data'!P17=\"\",\"\",IF(ISNUMBER('BDE data'!P17)=TRUE, IF('BDE data'!P17<'BDE data'!P$38, \"ERROR\", 'BDE data'!P17), IF('BDE data'!P17=\"<LOD\",'BDE data'!P$38, \"ERROR\")))","v":2.5999999999999998E-4},{"$f":"IF('BDE data'!Q17=\"\",\"\",IF(ISNUMBER('BDE data'!Q17)=TRUE, IF('BDE data'!Q17<'BDE data'!Q$38, \"ERROR\", 'BDE data'!Q17), IF('BDE data'!Q17=\"<LOD\",'BDE data'!Q$38, \"ERROR\")))","v":3.3E-4},{"$f":"IF('BDE data'!R17=\"\",\"\",IF(ISNUMBER('BDE data'!R17)=TRUE, IF('BDE data'!R17<'BDE data'!R$38, \"ERROR\", 'BDE data'!R17), IF('BDE data'!R17=\"<LOD\",'BDE data'!R$38, \"ERROR\")))","v":6.8000000000000005E-2},{"$f":"IF('BDE data'!S17=\"\",\"\",IF(ISNUMBER('BDE data'!S17)=TRUE, IF('BDE data'!S17<'BDE data'!S$38, \"ERROR\", 'BDE data'!S17), IF('BDE data'!S17=\"<LOD\",'BDE data'!S$38, \"ERROR\")))","v":3.6000000000000002E-4},{"$f":"IF('BDE data'!T17=\"\",\"\",IF(ISNUMBER('BDE data'!T17)=TRUE, IF('BDE data'!T17<'BDE data'!T$38, \"ERROR\", 'BDE data'!T17), IF('BDE data'!T17=\"<LOD\",'BDE data'!T$38, \"ERROR\")))","v":2.1800000000000001E-3},{"$f":"IF('BDE data'!U17=\"\",\"\",IF(ISNUMBER('BDE data'!U17)=TRUE, IF('BDE data'!U17<'BDE data'!U$38, \"ERROR\", 'BDE data'!U17), IF('BDE data'!U17=\"<LOD\",'BDE data'!U$38, \"ERROR\")))","v":2.5000000000000001E-4},{"$f":"IF('BDE data'!V17=\"\",\"\",IF(ISNUMBER('BDE data'!V17)=TRUE, IF('BDE data'!V17<'BDE data'!V$38, \"ERROR\", 'BDE data'!V17), IF('BDE data'!V17=\"<LOD\",'BDE data'!V$38, \"ERROR\")))","v":2.5000000000000001E-4},{"$f":"IF('BDE data'!W17=\"\",\"\",IF(ISNUMBER('BDE data'!W17)=TRUE, IF('BDE data'!W17<'BDE data'!W$38, \"ERROR\", 'BDE data'!W17), IF('BDE data'!W17=\"<LOD\",'BDE data'!W$38, \"ERROR\")))","v":1.6800000000000001E-3}]
[null,null,null,null,null,null,null,{"$f":"IF('BDE data'!H18=\"\",\"\",'BDE data'!H18)","v":"MAR02481.011"},{"$f":"IF('BDE data'!I18=\"\",\"\",'BDE data'!I18)","v":""},{"$f":"IFERROR(IF(K18=\"\",\"\",(IF(VLOOKUP(K18,'Application info'!$K$8:$L$37,2,0)=\"y\",\"y\",\"\"))),\"Manual entry required\")","v":""},{"$f":"IF('BDE data'!J18=\"\",\"\",'BDE data'!J18)","v":11},{"$f":"IF('BDE data'!L18=\"\",\"\",IF(ISNUMBER('BDE data'!L18)=TRUE, IF('BDE data'!L18<'BDE data'!L$38, \"ERROR\", 'BDE data'!L18), IF('BDE data'!L18=\"<LOD\",'BDE data'!L$38, \"ERROR\")))","v":1.2700000000000001E-3},{"$f":"IF('BDE data'!M18=\"\",\"\",IF(ISNUMBER('BDE data'!M18)=TRUE, IF('BDE data'!M18<'BDE data'!M$38, \"ERROR\", 'BDE data'!M18), IF('BDE data'!M18=\"<LOD\",'BDE data'!M$38, \"ERROR\")))","v":3.4000000000000002E-4},{"$f":"IF('BDE data'!N18=\"\",\"\",IF(ISNUMBER('BDE data'!N18)=TRUE, IF('BDE data'!N18<'BDE data'!N$38, \"ERROR\", 'BDE data'!N18), IF('BDE data'!N18=\"<LOD\",'BDE data'!N$38, \"ERROR\")))","v":1.1299999999999999E-3},{"$f":"IF('BDE data'!O18=\"\",\"\",IF(ISNUMBER('BDE data'!O18)=TRUE, IF('BDE data'!O18<'BDE data'!O$38, \"ERROR\", 'BDE data'!O18), IF('BDE data'!O18=\"<LOD\",'BDE data'!O$38, \"ERROR\")))","v":8.1999999999999998E-4},{"$f":"IF('BDE data'!P18=\"\",\"\",IF(ISNUMBER('BDE data'!P18)=TRUE, IF('BDE data'!P18<'BDE data'!P$38, \"ERROR\", 'BDE data'!P18), IF('BDE data'!P18=\"<LOD\",'BDE data'!P$38, \"ERROR\")))","v":9.8999999999999999E-4},{"$f":"IF('BDE data'!Q18=\"\",\"\",IF(ISNUMBER('BDE data'!Q18)=TRUE, IF('BDE data'!Q18<'BDE data'!Q$38, \"ERROR\", 'BDE data'!Q18), IF('BDE data'!Q18=\"<LOD\",'BDE data'!Q$38, \"ERROR\")))","v":6.8999999999999997E-4},{"$f":"IF('BDE data'!R18=\"\",\"\",IF(ISNUMBER('BDE data'!R18)=TRUE, IF('BDE data'!R18<'BDE data'!R$38, \"ERROR\", 'BDE data'!R18), IF('BDE data'!R18=\"<LOD\",'BDE data'!R$38, \"ERROR\")))","v":0.1394},{"$f":"IF('BDE data'!S18=\"\",\"\",IF(ISNUMBER('BDE data'!S18)=TRUE, IF('BDE data'!S18<'BDE data'!S$38, \"ERROR\", 'BDE data'!S18), IF('BDE data'!S18=\"<LOD\",'BDE data'!S$38, \"ERROR\")))","v":1.2700000000000001E-3},{"$f":"IF('BDE data'!T18=\"\",\"\",IF(ISNUMBER('BDE data'!T18)=TRUE, IF('BDE data'!T18<'BDE data'!T$38, \"ERROR\", 'BDE data'!T18), IF('BDE data'!T18=\"<LOD\",'BDE data'!T$38, \"ERROR\")))","v":5.9699999999999996E-3},{"$f":"IF('BDE data'!U18=\"\",\"\",IF(ISNUMBER('BDE data'!U18)=TRUE, IF('BDE data'!U18<'BDE data'!U$38, \"ERROR\", 'BDE data'!U18), IF('BDE data'!U18=\"<LOD\",'BDE data'!U$38, \"ERROR\")))","v":1.23E-3},{"$f":"IF('BDE data'!V18=\"\",\"\",IF(ISNUMBER('BDE data'!V18)=TRUE, IF('BDE data'!V18<'BDE data'!V$38, \"ERROR\", 'BDE data'!V18), IF('BDE data'!V18=\"<LOD\",'BDE data'!V$38, \"ERROR\")))","v":4.0999999999999999E-4},{"$f":"IF('BDE data'!W18=\"\",\"\",IF(ISNUMBER('BDE data'!W18)=TRUE, IF('BDE data'!W18<'BDE data'!W$38, \"ERROR\", 'BDE data'!W18), IF('BDE data'!W18=\"<LOD\",'BDE data'!W$38, \"ERROR\")))","v":6.0200000000000002E-3}]
[null,null,null,null,null,null,null,{"$f":"IF('BDE data'!H19=\"\",\"\",'BDE data'!H19)","v":"MAR02481.012"},{"$f":"IF('BDE data'!I19=\"\",\"\",'BDE data'!I19)","v":""},{"$f":"IFERROR(IF(K19=\"\",\"\",(IF(VLOOKUP(K19,'Application info'!$K$8:$L$37,2,0)=\"y\",\"y\",\"\"))),\"Manual entry required\")","v":""},{"$f":"IF('BDE data'!J19=\"\",\"\",'BDE data'!J19)","v":12},{"$f":"IF('BDE data'!L19=\"\",\"\",IF(ISNUMBER('BDE data'!L19)=TRUE, IF('BDE data'!L19<'BDE data'!L$38, \"ERROR\", 'BDE data'!L19), IF('BDE data'!L19=\"<LOD\",'BDE data'!L$38, \"ERROR\")))","v":4.8999999999999998E-4},{"$f":"IF('BDE data'!M19=\"\",\"\",IF(ISNUMBER('BDE data'!M19)=TRUE, IF('BDE data'!M19<'BDE data'!M$38, \"ERROR\", 'BDE data'!M19), IF('BDE data'!M19=\"<LOD\",'BDE data'!M$38, \"ERROR\")))","v":2.5000000000000001E-4},{"$f":"IF('BDE data'!N19=\"\",\"\",IF(ISNUMBER('BDE data'!N19)=TRUE, IF('BDE data'!N19<'BDE data'!N$38, \"ERROR\", 'BDE data'!N19), IF('BDE data'!N19=\"<LOD\",'BDE data'!N$38, \"ERROR\")))","v":4.2999999999999999E-4},{"$f":"IF('BDE data'!O19=\"\",\"\",IF(ISNUMBER('BDE data'!O19)=TRUE, IF('BDE data'!O19<'BDE data'!O$38, \"ERROR\", 'BDE data'!O19), IF('BDE data'!O19=\"<LOD\",'BDE data'!O$38, \"ERROR\")))","v":3.3E-4},{"$f":"IF('BDE data'!P19=\"\",\"\",IF(ISNUMBER('BDE data'!P19)=TRUE, IF('BDE data'!P19<'BDE data'!P$38, \"ERROR\", 'BDE data'!P19), IF('BDE data'!P19=\"<LOD\",'BDE data'!P$38, \"ERROR\")))","v":4.2999999999999999E-4},{"$f":"IF('BDE data'!Q19=\"\",\"\",IF(ISNUMBER('BDE data'!Q19)=TRUE, IF('BDE data'!Q19<'BDE data'!Q$38, \"ERROR\", 'BDE data'!Q19), IF('BDE data'!Q19=\"<LOD\",'BDE data'!Q$38, \"ERROR\")))","v":4.6000000000000001E-4},{"$f":"IF('BDE data'!R19=\"\",\"\",IF(ISNUMBER('BDE data'!R19)=TRUE, IF('BDE data'!R19<'BDE data'!R$38, \"ERROR\", 'BDE data'!R19), IF('BDE data'!R19=\"<LOD\",'BDE data'!R$38, \"ERROR\")))","v":0.12809999999999999},{"$f":"IF('BDE data'!S19=\"\",\"\",IF(ISNUMBER('BDE data'!S19)=TRUE, IF('BDE data'!S19<'BDE data'!S$38, \"ERROR\", 'BDE data'!S19), IF('BDE data'!S19=\"<LOD\",'BDE data'!S$38, \"ERROR\")))","v":5.5000000000000003E-4},{"$f":"IF('BDE data'!T19=\"\",\"\",IF(ISNUMBER('BDE data'!T19)=TRUE, IF('BDE data'!T19<'BDE data'!T$38, \"ERROR\", 'BDE data'!T19), IF('BDE data'!T19=\"<LOD\",'BDE data'!T$38, \"ERROR\")))","v":2.6700000000000001E-3},{"$f":"IF('BDE data'!U19=\"\",\"\",IF(ISNUMBER('BDE data'!U19)=TRUE, IF('BDE data'!U19<'BDE data'!U$38, \"ERROR\", 'BDE data'!U19), IF('BDE data'!U19=\"<LOD\",'BDE data'!U$38, \"ERROR\")))","v":5.1000000000000004E-4},{"$f":"IF('BDE data'!V19=\"\",\"\",IF(ISNUMBER('BDE data'!V19)=TRUE, IF('BDE data'!V19<'BDE data'!V$38, \"ERROR\", 'BDE data'!V19), IF('BDE data'!V19=\"<LOD\",'BDE data'!V$38, \"ERROR\")))","v":2.5000000000000001E-4},{"$f":"IF('BDE data'!W19=\"\",\"\",IF(ISNUMBER('BDE data'!W19)=TRUE, IF('BDE data'!W19<'BDE data'!W$38, \"ERROR\", 'BDE data'!W19), IF('BDE data'!W19=\"<LOD\",'BDE data'!W$38, \"ERROR\")))","v":1.98E-3}]
[null,null,null,null,null,null,null,{"$f":"IF('BDE data'!H20=\"\",\"\",'BDE data'!H20)","v":"MAR02481.013"},{"$f":"IF('BDE data'!I20=\"\",\"\",'BDE data'!I20)","v":""},{"$f":"IFERROR(IF(K20=\"\",\"\",(IF(VLOOKUP(K20,'Application info'!$K$8:$L$37,2,0)=\"y\",\"y\",\"\"))),\"Manual entry required\")","v":""},{"$f":"IF('BDE data'!J20=\"\",\"\",'BDE data'!J20)","v":13},{"$f":"IF('BDE data'!L20=\"\",\"\",IF(ISNUMBER('BDE data'!L20)=TRUE, IF('BDE data'!L20<'BDE data'!L$38, \"ERROR\", 'BDE data'!L20), IF('BDE data'!L20=\"<LOD\",'BDE data'!L$38, \"ERROR\")))","v":4.8000000000000001E-4},{"$f":"IF('BDE data'!M20=\"\",\"\",IF(ISNUMBER('BDE data'!M20)=TRUE, IF('BDE data'!M20<'BDE data'!M$38, \"ERROR\", 'BDE data'!M20), IF('BDE data'!M20=\"<LOD\",'BDE data'!M$38, \"ERROR\")))","v":2.5000000000000001E-4},{"$f":"IF('BDE data'!N20=\"\",\"\",IF(ISNUMBER('BDE data'!N20)=TRUE, IF('BDE data'!N20<'BDE data'!N$38, \"ERROR\", 'BDE data'!N20), IF('BDE data'!N20=\"<LOD\",'BDE data'!N$38, \"ERROR\")))","v":3.8999999999999999E-4},{"$f":"IF('BDE data'!O20=\"\",\"\",IF(ISNUMBER('BDE data'!O20)=TRUE, IF('BDE data'!O20<'BDE data'!O$38, \"ERROR\", 'BDE data'!O20), IF('BDE data'!O20=\"<LOD\",'BDE data'!O$38, \"ERROR\")))","v":3.3E-4},{"$f":"IF('BDE data'!P20=\"\",\"\",IF(ISNUMBER('BDE data'!P20)=TRUE, IF('BDE data'!P20<'BDE data'!P$38, \"ERROR\", 'BDE data'!P20), IF('BDE data'!P20=\"<LOD\",'BDE data'!P$38, \"ERROR\")))","v":4.0999999999999999E-4},{"$f":"IF('BDE data'!Q20=\"\",\"\",IF(ISNUMBER('BDE data'!Q20)=TRUE, IF('BDE data'!Q20<'BDE data'!Q$38, \"ERROR\", 'BDE data'!Q20), IF('BDE data'!Q20=\"<LOD\",'BDE data'!Q$38, \"ERROR\")))","v":3.4000000000000002E-4},{"$f":"IF('BDE data'!R20=\"\",\"\",IF(ISNUMBER('BDE data'!R20)=TRUE, IF('BDE data'!R20<'BDE data'!R$38, \"ERROR\", 'BDE data'!R20), IF('BDE data'!R20=\"<LOD\",'BDE data'!R$38, \"ERROR\")))","v":9.2299999999999993E-2},{"$f":"IF('BDE data'!S20=\"\",\"\",IF(ISNUMBER('BDE data'!S20)=TRUE, IF('BDE data'!S20<'BDE data'!S$38, \"ERROR\", 'BDE data'!S20), IF('BDE data'!S20=\"<LOD\",'BDE data'!S$38, \"ERROR\")))","v":5.0000000000000001E-4},{"$f":"IF('BDE data'!T20=\"\",\"\",IF(ISNUMBER('BDE data'!T20)=TRUE, IF('BDE data'!T20<'BDE data'!T$38, \"ERROR\", 'BDE data'!T20), IF('BDE data'!T20=\"<LOD\",'BDE data'!T$38, \"ERROR\")))","v":2.15E-3},{"$f":"IF('BDE data'!U20=\"\",\"\",IF(ISNUMBER('BDE data'!U20)=TRUE, IF('BDE data'!U20<'BDE data'!U$38, \"ERROR\", 'BDE data'!U20), IF('BDE data'!U20=\"<LOD\",'BDE data'!U$38, \"ERROR\")))","v":3.5E-4},{"$f":"IF('BDE data'!V20=\"\",\"\",IF(ISNUMBER('BDE data'!V20)=TRUE, IF('BDE data'!V20<'BDE data'!V$38, \"ERROR\", 'BDE data'!V20), IF('BDE data'!V20=\"<LOD\",'BDE data'!V$38, \"ERROR\")))","v":2.5000000000000001E-4},{"$f":"IF('BDE data'!W20=\"\",\"\",IF(ISNUMBER('BDE data'!W20)=TRUE, IF('BDE data'!W20<'BDE data'!W$38, \"ERROR\", 'BDE data'!W20), IF('BDE data'!W20=\"<LOD\",'BDE data'!W$38, \"ERROR\")))","v":1.91E-3}]
[null,null,null,null,null,null,null,{"$f":"IF('BDE data'!H21=\"\",\"\",'BDE data'!H21)","v":"MAR02481.014"},{"$f":"IF('BDE data'!I21=\"\",\"\",'BDE data'!I21)","v":""},{"$f":"IFERROR(IF(K21=\"\",\"\",(IF(VLOOKUP(K21,'Application info'!$K$8:$L$37,2,0)=\"y\",\"y\",\"\"))),\"Manual entry required\")","v":""},{"$f":"IF('BDE data'!J21=\"\",\"\",'BDE data'!J21)","v":15},{"$f":"IF('BDE data'!L21=\"\",\"\",IF(ISNUMBER('BDE data'!L21)=TRUE, IF('BDE data'!L21<'BDE data'!L$38, \"ERROR\", 'BDE data'!L21), IF('BDE data'!L21=\"<LOD\",'BDE data'!L$38, \"ERROR\")))","v":2.5000000000000001E-4},{"$f":"IF('BDE data'!M21=\"\",\"\",IF(ISNUMBER('BDE data'!M21)=TRUE, IF('BDE data'!M21<'BDE data'!M$38, \"ERROR\", 'BDE data'!M21), IF('BDE data'!M21=\"<LOD\",'BDE data'!M$38, \"ERROR\")))","v":2.5000000000000001E-4},{"$f":"IF('BDE data'!N21=\"\",\"\",IF(ISNUMBER('BDE data'!N21)=TRUE, IF('BDE data'!N21<'BDE data'!N$38, \"ERROR\", 'BDE data'!N21), IF('BDE data'!N21=\"<LOD\",'BDE data'!N$38, \"ERROR\")))","v":3.2000000000000003E-4},{"$f":"IF('BDE data'!O21=\"\",\"\",IF(ISNUMBER('BDE data'!O21)=TRUE, IF('BDE data'!O21<'BDE data'!O$38, \"ERROR\", 'BDE data'!O21), IF('BDE data'!O21=\"<LOD\",'BDE data'!O$38, \"ERROR\")))","v":2.5000000000000001E-4},{"$f":"IF('BDE data'!P21=\"\",\"\",IF(ISNUMBER('BDE data'!P21)=TRUE, IF('BDE data'!P21<'BDE data'!P$38, \"ERROR\", 'BDE data'!P21), IF('BDE data'!P21=\"<LOD\",'BDE data'!P$38, \"ERROR\")))","v":2.9E-4},{"$f":"IF('BDE data'!Q21=\"\",\"\",IF(ISNUMBER('BDE data'!Q21)=TRUE, IF('BDE data'!Q21<'BDE data'!Q$38, \"ERROR\", 'BDE data'!Q21), IF('BDE data'!Q21=\"<LOD\",'BDE data'!Q$38, \"ERROR\")))","v":2.9E-4},{"$f":"IF('BDE data'!R21=\"\",\"\",IF(ISNUMBER('BDE data'!R21)=TRUE, IF('BDE data'!R21<'BDE data'!R$38, \"ERROR\", 'BDE data'!R21), IF('BDE data'!R21=\"<LOD\",'BDE data'!R$38, \"ERROR\")))","v":5.0799999999999998E-2},{"$f":"IF('BDE data'!S21=\"\",\"\",IF(ISNUMBER('BDE data'!S21)=TRUE, IF('BDE data'!S21<'BDE data'!S$38, \"ERROR\", 'BDE data'!S21), IF('BDE data'!S21=\"<LOD\",'BDE data'!S$38, \"ERROR\")))","v":3.6999999999999999E-4},{"$f":"IF('BDE data'!T21=\"\",\"\",IF(ISNUMBER('BDE data'!T21)=TRUE, IF('BDE data'!T21<'BDE data'!T$38, \"ERROR\", 'BDE data'!T21), IF('BDE data'!T21=\"<LOD\",'BDE data'!T$38, \"ERROR\")))","v":1.7600000000000001E-3},{"$f":"IF('BDE data'!U21=\"\",\"\",IF(ISNUMBER('BDE data'!U21)=TRUE, IF('BDE data'!U21<'BDE data'!U$38, \"ERROR\", 'BDE data'!U21), IF('BDE data'!U21=\"<LOD\",'BDE data'!U$38, \"ERROR\")))","v":3.6999999999999999E-4},{"$f":"IF('BDE data'!V21=\"\",\"\",IF(ISNUMBER('BDE data'!V21)=TRUE, IF('BDE data'!V21<'BDE data'!V$38, \"ERROR\", 'BDE data'!V21), IF('BDE data'!V21=\"<LOD\",'BDE data'!V$38, \"ERROR\")))","v":2.5000000000000001E-4},{"$f":"IF('BDE data'!W21=\"\",\"\",IF(ISNUMBER('BDE data'!W21)=TRUE, IF('BDE data'!W21<'BDE data'!W$38, \"ERROR\", 'BDE data'!W21), IF('BDE data'!W21=\"<LOD\",'BDE data'!W$38, \"ERROR\")))","v":1.49E-3}]
[null,null,null,null,null,null,null,{"$f":"IF('BDE data'!H22=\"\",\"\",'BDE data'!H22)","v":"MAR02481.015"},{"$f":"IF('BDE data'!I22=\"\",\"\",'BDE data'!I22)","v":""},{"$f":"IFERROR(IF(K22=\"\",\"\",(IF(VLOOKUP(K22,'Application info'!$K$8:$L$37,2,0)=\"y\",\"y\",\"\"))),\"Manual entry required\")","v":""},{"$f":"IF('BDE data'!J22=\"\",\"\",'BDE data'!J22)","v":17},{"$f":"IF('BDE data'!L22=\"\",\"\",IF(ISNUMBER('BDE data'!L22)=TRUE, IF('BDE data'!L22<'BDE data'!L$38, \"ERROR\", 'BDE data'!L22), IF('BDE data'!L22=\"<LOD\",'BDE data'!L$38, \"ERROR\")))","v":3.6000000000000002E-4},{"$f":"IF('BDE data'!M22=\"\",\"\",IF(ISNUMBER('BDE data'!M22)=TRUE, IF('BDE data'!M22<'BDE data'!M$38, \"ERROR\", 'BDE data'!M22), IF('BDE data'!M22=\"<LOD\",'BDE data'!M$38, \"ERROR\")))","v":2.5000000000000001E-4},{"$f":"IF('BDE data'!N22=\"\",\"\",IF(ISNUMBER('BDE data'!N22)=TRUE, IF('BDE data'!N22<'BDE data'!N$38, \"ERROR\", 'BDE data'!N22), IF('BDE data'!N22=\"<LOD\",'BDE data'!N$38, \"ERROR\")))","v":5.0000000000000001E-4},{"$f":"IF('BDE data'!O22=\"\",\"\",IF(ISNUMBER('BDE data'!O22)=TRUE, IF('BDE data'!O22<'BDE data'!O$38, \"ERROR\", 'BDE data'!O22), IF('BDE data'!O22=\"<LOD\",'BDE data'!O$38, \"ERROR\")))","v":2.9999999999999997E-4},{"$f":"IF('BDE data'!P22=\"\",\"\",IF(ISNUMBER('BDE data'!P22)=TRUE, IF('BDE data'!P22<'BDE data'!P$38, \"ERROR\", 'BDE data'!P22), IF('BDE data'!P22=\"<LOD\",'BDE data'!P$38, \"ERROR\")))","v":2.5000000000000001E-4},{"$f":"IF('BDE data'!Q22=\"\",\"\",IF(ISNUMBER('BDE data'!Q22)=TRUE, IF('BDE data'!Q22<'BDE data'!Q$38, \"ERROR\", 'BDE data'!Q22), IF('BDE data'!Q22=\"<LOD\",'BDE data'!Q$38, \"ERROR\")))","v":1.72E-3},{"$f":"IF('BDE data'!R22=\"\",\"\",IF(ISNUMBER('BDE data'!R22)=TRUE, IF('BDE data'!R22<'BDE data'!R$38, \"ERROR\", 'BDE data'!R22), IF('BDE data'!R22=\"<LOD\",'BDE data'!R$38, \"ERROR\")))","v":6.2600000000000003E-2},{"$f":"IF('BDE data'!S22=\"\",\"\",IF(ISNUMBER('BDE data'!S22)=TRUE, IF('BDE data'!S22<'BDE data'!S$38, \"ERROR\", 'BDE data'!S22), IF('BDE data'!S22=\"<LOD\",'BDE data'!S$38, \"ERROR\")))","v":2.5000000000000001E-4},{"$f":"IF('BDE data'!T22=\"\",\"\",IF(ISNUMBER('BDE data'!T22)=TRUE, IF('BDE data'!T22<'BDE data'!T$38, \"ERROR\", 'BDE data'!T22), IF('BDE data'!T22=\"<LOD\",'BDE data'!T$38, \"ERROR\")))","v":1.6199999999999999E-3},{"$f":"IF('BDE data'!U22=\"\",\"\",IF(ISNUMBER('BDE data'!U22)=TRUE, IF('BDE data'!U22<'BDE data'!U$38, \"ERROR\", 'BDE data'!U22), IF('BDE data'!U22=\"<LOD\",'BDE data'!U$38, \"ERROR\")))","v":2.5000000000000001E-4},{"$f":"IF('BDE data'!V22=\"\",\"\",IF(ISNUMBER('BDE data'!V22)=TRUE, IF('BDE data'!V22<'BDE data'!V$38, \"ERROR\", 'BDE data'!V22), IF('BDE data'!V22=\"<LOD\",'BDE data'!V$38, \"ERROR\")))","v":2.5000000000000001E-4},{"$f":"IF('BDE data'!W22=\"\",\"\",IF(ISNUMBER('BDE data'!W22)=TRUE, IF('BDE data'!W22<'BDE data'!W$38, \"ERROR\", 'BDE data'!W22), IF('BDE data'!W22=\"<LOD\",'BDE data'!W$38, \"ERROR\")))","v":1.32E-3}]
[null,null,null,null,null,null,null,{"$f":"IF('BDE data'!H23=\"\",\"\",'BDE data'!H23)","v":"MAR02481.016"},{"$f":"IF('BDE data'!I23=\"\",\"\",'BDE data'!I23)","v":""},{"$f":"IFERROR(IF(K23=\"\",\"\",(IF(VLOOKUP(K23,'Application info'!$K$8:$L$37,2,0)=\"y\",\"y\",\"\"))),\"Manual entry required\")","v":""},{"$f":"IF('BDE data'!J23=\"\",\"\",'BDE data'!J23)","v":18},{"$f":"IF('BDE data'!L23=\"\",\"\",IF(ISNUMBER('BDE data'!L23)=TRUE, IF('BDE data'!L23<'BDE data'!L$38, \"ERROR\", 'BDE data'!L23), IF('BDE data'!L23=\"<LOD\",'BDE data'!L$38, \"ERROR\")))","v":3.8999999999999999E-4},{"$f":"IF('BDE data'!M23=\"\",\"\",IF(ISNUMBER('BDE data'!M23)=TRUE, IF('BDE data'!M23<'BDE data'!M$38, \"ERROR\", 'BDE data'!M23), IF('BDE data'!M23=\"<LOD\",'BDE data'!M$38, \"ERROR\")))","v":2.5000000000000001E-4},{"$f":"IF('BDE data'!N23=\"\",\"\",IF(ISNUMBER('BDE data'!N23)=TRUE, IF('BDE data'!N23<'BDE data'!N$38, \"ERROR\", 'BDE data'!N23), IF('BDE data'!N23=\"<LOD\",'BDE data'!N$38, \"ERROR\")))","v":3.2000000000000003E-4},{"$f":"IF('BDE data'!O23=\"\",\"\",IF(ISNUMBER('BDE data'!O23)=TRUE, IF('BDE data'!O23<'BDE data'!O$38, \"ERROR\", 'BDE data'!O23), IF('BDE data'!O23=\"<LOD\",'BDE data'!O$38, \"ERROR\")))","v":2.5000000000000001E-4},{"$f":"IF('BDE data'!P23=\"\",\"\",IF(ISNUMBER('BDE data'!P23)=TRUE, IF('BDE data'!P23<'BDE data'!P$38, \"ERROR\", 'BDE data'!P23), IF('BDE data'!P23=\"<LOD\",'BDE data'!P$38, \"ERROR\")))","v":2.5000000000000001E-4},{"$f":"IF('BDE data'!Q23=\"\",\"\",IF(ISNUMBER('BDE data'!Q23)=TRUE, IF('BDE data'!Q23<'BDE data'!Q$38, \"ERROR\", 'BDE data'!Q23), IF('BDE data'!Q23=\"<LOD\",'BDE data'!Q$38, \"ERROR\")))","v":2.5999999999999998E-4},{"$f":"IF('BDE data'!R23=\"\",\"\",IF(ISNUMBER('BDE data'!R23)=TRUE, IF('BDE data'!R23<'BDE data'!R$38, \"ERROR\", 'BDE data'!R23), IF('BDE data'!R23=\"<LOD\",'BDE data'!R$38, \"ERROR\")))","v":5.5199999999999999E-2},{"$f":"IF('BDE data'!S23=\"\",\"\",IF(ISNUMBER('BDE data'!S23)=TRUE, IF('BDE data'!S23<'BDE data'!S$38, \"ERROR\", 'BDE data'!S23), IF('BDE data'!S23=\"<LOD\",'BDE data'!S$38, \"ERROR\")))","v":2.5000000000000001E-4},{"$f":"IF('BDE data'!T23=\"\",\"\",IF(ISNUMBER('BDE data'!T23)=TRUE, IF('BDE data'!T23<'BDE data'!T$38, \"ERROR\", 'BDE data'!T23), IF('BDE data'!T23=\"<LOD\",'BDE data'!T$38, \"ERROR\")))","v":1.7600000000000001E-3},{"$f":"IF('BDE data'!U23=\"\",\"\",IF(ISNUMBER('BDE data'!U23)=TRUE, IF('BDE data'!U23<'BDE data'!U$38, \"ERROR\", 'BDE data'!U23), IF('BDE data'!U23=\"<LOD\",'BDE data'!U$38, \"ERROR\")))","v":2.5000000000000001E-4},{"$f":"IF('BDE data'!V23=\"\",\"\",IF(ISNUMBER('BDE data'!V23)=TRUE, IF('BDE data'!V23<'BDE data'!V$38, \"ERROR\", 'BDE data'!V23), IF('BDE data'!V23=\"<LOD\",'BDE data'!V$38, \"ERROR\")))","v":2.5000000000000001E-4},{"$f":"IF('BDE data'!W23=\"\",\"\",IF(ISNUMBER('BDE data'!W23)=TRUE, IF('BDE data'!W23<'BDE data'!W$38, \"ERROR\", 'BDE data'!W23), IF('BDE data'!W23=\"<LOD\",'BDE data'!W$38, \"ERROR\")))","v":1.6100000000000001E-3}]
[null,null,null,null,null,null,null,{"$f":"IF('BDE data'!H24=\"\",\"\",'BDE data'!H24)","v":"MAR02481.017"},{"$f":"IF('BDE data'!I24=\"\",\"\",'BDE data'!I24)","v":""},{"$f":"IFERROR(IF(K24=\"\",\"\",(IF(VLOOKUP(K24,'Application info'!$K$8:$L$37,2,0)=\"y\",\"y\",\"\"))),\"Manual entry required\")","v":""},{"$f":"IF('BDE data'!J24=\"\",\"\",'BDE data'!J24)","v":19},{"$f":"IF('BDE data'!L24=\"\",\"\",IF(ISNUMBER('BDE data'!L24)=TRUE, IF('BDE data'!L24<'BDE data'!L$38, \"ERROR\", 'BDE data'!L24), IF('BDE data'!L24=\"<LOD\",'BDE data'!L$38, \"ERROR\")))","v":4.0000000000000002E-4},{"$f":"IF('BDE data'!M24=\"\",\"\",IF(ISNUMBER('BDE data'!M24)=TRUE, IF('BDE data'!M24<'BDE data'!M$38, \"ERROR\", 'BDE data'!M24), IF('BDE data'!M24=\"<LOD\",'BDE data'!M$38, \"ERROR\")))","v":2.5000000000000001E-4},{"$f":"IF('BDE data'!N24=\"\",\"\",IF(ISNUMBER('BDE data'!N24)=TRUE, IF('BDE data'!N24<'BDE data'!N$38, \"ERROR\", 'BDE data'!N24), IF('BDE data'!N24=\"<LOD\",'BDE data'!N$38, \"ERROR\")))","v":3.2000000000000003E-4},{"$f":"IF('BDE data'!O24=\"\",\"\",IF(ISNUMBER('BDE data'!O24)=TRUE, IF('BDE data'!O24<'BDE data'!O$38, \"ERROR\", 'BDE data'!O24), IF('BDE data'!O24=\"<LOD\",'BDE data'!O$38, \"ERROR\")))","v":2.9E-4},{"$f":"IF('BDE data'!P24=\"\",\"\",IF(ISNUMBER('BDE data'!P24)=TRUE, IF('BDE data'!P24<'BDE data'!P$38, \"ERROR\", 'BDE data'!P24), IF('BDE data'!P24=\"<LOD\",'BDE data'!P$38, \"ERROR\")))","v":2.5000000000000001E-4},{"$f":"IF('BDE data'!Q24=\"\",\"\",IF(ISNUMBER('BDE data'!Q24)=TRUE, IF('BDE data'!Q24<'BDE data'!Q$38, \"ERROR\", 'BDE data'!Q24), IF('BDE data'!Q24=\"<LOD\",'BDE data'!Q$38, \"ERROR\")))","v":2.5999999999999998E-4},{"$f":"IF('BDE data'!R24=\"\",\"\",IF(ISNUMBER('BDE data'!R24)=TRUE, IF('BDE data'!R24<'BDE data'!R$38, \"ERROR\", 'BDE data'!R24), IF('BDE data'!R24=\"<LOD\",'BDE data'!R$38, \"ERROR\")))","v":4.7500000000000001E-2},{"$f":"IF('BDE data'!S24=\"\",\"\",IF(ISNUMBER('BDE data'!S24)=TRUE, IF('BDE data'!S24<'BDE data'!S$38, \"ERROR\", 'BDE data'!S24), IF('BDE data'!S24=\"<LOD\",'BDE data'!S$38, \"ERROR\")))","v":2.5000000000000001E-4},{"$f":"IF('BDE data'!T24=\"\",\"\",IF(ISNUMBER('BDE data'!T24)=TRUE, IF('BDE data'!T24<'BDE data'!T$38, \"ERROR\", 'BDE data'!T24), IF('BDE data'!T24=\"<LOD\",'BDE data'!T$38, \"ERROR\")))","v":1.6800000000000001E-3},{"$f":"IF('BDE data'!U24=\"\",\"\",IF(ISNUMBER('BDE data'!U24)=TRUE, IF('BDE data'!U24<'BDE data'!U$38, \"ERROR\", 'BDE data'!U24), IF('BDE data'!U24=\"<LOD\",'BDE data'!U$38, \"ERROR\")))","v":2.5000000000000001E-4},{"$f":"IF('BDE data'!V24=\"\",\"\",IF(ISNUMBER('BDE data'!V24)=TRUE, IF('BDE data'!V24<'BDE data'!V$38, \"ERROR\", 'BDE data'!V24), IF('BDE data'!V24=\"<LOD\",'BDE data'!V$38, \"ERROR\")))","v":2.5000000000000001E-4},{"$f":"IF('BDE data'!W24=\"\",\"\",IF(ISNUMBER('BDE data'!W24)=TRUE, IF('BDE data'!W24<'BDE data'!W$38, \"ERROR\", 'BDE data'!W24), IF('BDE data'!W24=\"<LOD\",'BDE data'!W$38, \"ERROR\")))","v":1.42E-3}]
[null,null,null,null,null,null,null,{"$f":"IF('BDE data'!H25=\"\",\"\",'BDE data'!H25)","v":"MAR02481.018"},{"$f":"IF('BDE data'!I25=\"\",\"\",'BDE data'!I25)","v":""},{"$f":"IFERROR(IF(K25=\"\",\"\",(IF(VLOOKUP(K25,'Application info'!$K$8:$L$37,2,0)=\"y\",\"y\",\"\"))),\"Manual entry required\")","v":""},{"$f":"IF('BDE data'!J25=\"\",\"\",'BDE data'!J25)","v":20},{"$f":"IF('BDE data'!L25=\"\",\"\",IF(ISNUMBER('BDE data'!L25)=TRUE, IF('BDE data'!L25<'BDE data'!L$38, \"ERROR\", 'BDE data'!L25), IF('BDE data'!L25=\"<LOD\",'BDE data'!L$38, \"ERROR\")))","v":9.2000000000000003E-4},{"$f":"IF('BDE data'!M25=\"\",\"\",IF(ISNUMBER('BDE data'!M25)=TRUE, IF('BDE data'!M25<'BDE data'!M$38, \"ERROR\", 'BDE data'!M25), IF('BDE data'!M25=\"<LOD\",'BDE data'!M$38, \"ERROR\")))","v":2.5000000000000001E-4},{"$f":"IF('BDE data'!N25=\"\",\"\",IF(ISNUMBER('BDE data'!N25)=TRUE, IF('BDE data'!N25<'BDE data'!N$38, \"ERROR\", 'BDE data'!N25), IF('BDE data'!N25=\"<LOD\",'BDE data'!N$38, \"ERROR\")))","v":7.7999999999999999E-4},{"$f":"IF('BDE data'!O25=\"\",\"\",IF(ISNUMBER('BDE data'!O25)=TRUE, IF('BDE data'!O25<'BDE data'!O$38, \"ERROR\", 'BDE data'!O25), IF('BDE data'!O25=\"<LOD\",'BDE data'!O$38, \"ERROR\")))","v":5.8E-4},{"$f":"IF('BDE data'!P25=\"\",\"\",IF(ISNUMBER('BDE data'!P25)=TRUE, IF('BDE data'!P25<'BDE data'!P$38, \"ERROR\", 'BDE data'!P25), IF('BDE data'!P25=\"<LOD\",'BDE data'!P$38, \"ERROR\")))","v":3.6000000000000002E-4},{"$f":"IF('BDE data'!Q25=\"\",\"\",IF(ISNUMBER('BDE data'!Q25)=TRUE, IF('BDE data'!Q25<'BDE data'!Q$38, \"ERROR\", 'BDE data'!Q25), IF('BDE data'!Q25=\"<LOD\",'BDE data'!Q$38, \"ERROR\")))","v":4.6999999999999999E-4},{"$f":"IF('BDE data'!R25=\"\",\"\",IF(ISNUMBER('BDE data'!R25)=TRUE, IF('BDE data'!R25<'BDE data'!R$38, \"ERROR\", 'BDE data'!R25), IF('BDE data'!R25=\"<LOD\",'BDE data'!R$38, \"ERROR\")))","v":5.5399999999999998E-2},{"$f":"IF('BDE data'!S25=\"\",\"\",IF(ISNUMBER('BDE data'!S25)=TRUE, IF('BDE data'!S25<'BDE data'!S$38, \"ERROR\", 'BDE data'!S25), IF('BDE data'!S25=\"<LOD\",'BDE data'!S$38, \"ERROR\")))","v":6.3000000000000003E-4},{"$f":"IF('BDE data'!T25=\"\",\"\",IF(ISNUMBER('BDE data'!T25)=TRUE, IF('BDE data'!T25<'BDE data'!T$38, \"ERROR\", 'BDE data'!T25), IF('BDE data'!T25=\"<LOD\",'BDE data'!T$38, \"ERROR\")))","v":4.4200000000000003E-3},{"$f":"IF('BDE data'!U25=\"\",\"\",IF(ISNUMBER('BDE data'!U25)=TRUE, IF('BDE data'!U25<'BDE data'!U$38, \"ERROR\", 'BDE data'!U25), IF('BDE data'!U25=\"<LOD\",'BDE data'!U$38, \"ERROR\")))","v":6.4999999999999997E-4},{"$f":"IF('BDE data'!V25=\"\",\"\",IF(ISNUMBER('BDE data'!V25)=TRUE, IF('BDE data'!V25<'BDE data'!V$38, \"ERROR\", 'BDE data'!V25), IF('BDE data'!V25=\"<LOD\",'BDE data'!V$38, \"ERROR\")))","v":2.5000000000000001E-4},{"$f":"IF('BDE data'!W25=\"\",\"\",IF(ISNUMBER('BDE data'!W25)=TRUE, IF('BDE data'!W25<'BDE data'!W$38, \"ERROR\", 'BDE data'!W25), IF('BDE data'!W25=\"<LOD\",'BDE data'!W$38, \"ERROR\")))","v":4.3299999999999996E-3}]
[null,null,null,null,null,null,null,{"$f":"IF('BDE data'!H26=\"\",\"\",'BDE data'!H26)","v":"MAR02481.019"},{"$f":"IF('BDE data'!I26=\"\",\"\",'BDE data'!I26)","v":""},{"$f":"IFERROR(IF(K26=\"\",\"\",(IF(VLOOKUP(K26,'Application info'!$K$8:$L$37,2,0)=\"y\",\"y\",\"\"))),\"Manual entry required\")","v":""},{"$f":"IF('BDE data'!J26=\"\",\"\",'BDE data'!J26)","v":21},{"$f":"IF('BDE data'!L26=\"\",\"\",IF(ISNUMBER('BDE data'!L26)=TRUE, IF('BDE data'!L26<'BDE data'!L$38, \"ERROR\", 'BDE data'!L26), IF('BDE data'!L26=\"<LOD\",'BDE data'!L$38, \"ERROR\")))","v":4.4999999999999999E-4},{"$f":"IF('BDE data'!M26=\"\",\"\",IF(ISNUMBER('BDE data'!M26)=TRUE, IF('BDE data'!M26<'BDE data'!M$38, \"ERROR\", 'BDE data'!M26), IF('BDE data'!M26=\"<LOD\",'BDE data'!M$38, \"ERROR\")))","v":2.5000000000000001E-4},{"$f":"IF('BDE data'!N26=\"\",\"\",IF(ISNUMBER('BDE data'!N26)=TRUE, IF('BDE data'!N26<'BDE data'!N$38, \"ERROR\", 'BDE data'!N26), IF('BDE data'!N26=\"<LOD\",'BDE data'!N$38, \"ERROR\")))","v":3.3E-4},{"$f":"IF('BDE data'!O26=\"\",\"\",IF(ISNUMBER('BDE data'!O26)=TRUE, IF('BDE data'!O26<'BDE data'!O$38, \"ERROR\", 'BDE data'!O26), IF('BDE data'!O26=\"<LOD\",'BDE data'!O$38, \"ERROR\")))","v":2.5999999999999998E-4},{"$f":"IF('BDE data'!P26=\"\",\"\",IF(ISNUMBER('BDE data'!P26)=TRUE, IF('BDE data'!P26<'BDE data'!P$38, \"ERROR\", 'BDE data'!P26), IF('BDE data'!P26=\"<LOD\",'BDE data'!P$38, \"ERROR\")))","v":2.5000000000000001E-4},{"$f":"IF('BDE data'!Q26=\"\",\"\",IF(ISNUMBER('BDE data'!Q26)=TRUE, IF('BDE data'!Q26<'BDE data'!Q$38, \"ERROR\", 'BDE data'!Q26), IF('BDE data'!Q26=\"<LOD\",'BDE data'!Q$38, \"ERROR\")))","v":2.7999999999999998E-4},{"$f":"IF('BDE data'!R26=\"\",\"\",IF(ISNUMBER('BDE data'!R26)=TRUE, IF('BDE data'!R26<'BDE data'!R$38, \"ERROR\", 'BDE data'!R26), IF('BDE data'!R26=\"<LOD\",'BDE data'!R$38, \"ERROR\")))","v":0.29360000000000003},{"$f":"IF('BDE data'!S26=\"\",\"\",IF(ISNUMBER('BDE data'!S26)=TRUE, IF('BDE data'!S26<'BDE data'!S$38, \"ERROR\", 'BDE data'!S26), IF('BDE data'!S26=\"<LOD\",'BDE data'!S$38, \"ERROR\")))","v":2.5000000000000001E-4},{"$f":"IF('BDE data'!T26=\"\",\"\",IF(ISNUMBER('BDE data'!T26)=TRUE, IF('BDE data'!T26<'BDE data'!T$38, \"ERROR\", 'BDE data'!T26), IF('BDE data'!T26=\"<LOD\",'BDE data'!T$38, \"ERROR\")))","v":1.8600000000000001E-3},{"$f":"IF('BDE data'!U26=\"\",\"\",IF(ISNUMBER('BDE data'!U26)=TRUE, IF('BDE data'!U26<'BDE data'!U$38, \"ERROR\", 'BDE data'!U26), IF('BDE data'!U26=\"<LOD\",'BDE data'!U$38, \"ERROR\")))","v":2.5000000000000001E-4},{"$f":"IF('BDE data'!V26=\"\",\"\",IF(ISNUMBER('BDE data'!V26)=TRUE, IF('BDE data'!V26<'BDE data'!V$38, \"ERROR\", 'BDE data'!V26), IF('BDE data'!V26=\"<LOD\",'BDE data'!V$38, \"ERROR\")))","v":2.5000000000000001E-4},{"$f":"IF('BDE data'!W26=\"\",\"\",IF(ISNUMBER('BDE data'!W26)=TRUE, IF('BDE data'!W26<'BDE data'!W$38, \"ERROR\", 'BDE data'!W26), IF('BDE data'!W26=\"<LOD\",'BDE data'!W$38, \"ERROR\")))","v":2.0500000000000002E-3}]
[null,null,null,null,null,null,null,{"$f":"IF('BDE data'!H27=\"\",\"\",'BDE data'!H27)","v":"MAR02481.020"},{"$f":"IF('BDE data'!I27=\"\",\"\",'BDE data'!I27)","v":""},{"$f":"IFERROR(IF(K27=\"\",\"\",(IF(VLOOKUP(K27,'Application info'!$K$8:$L$37,2,0)=\"y\",\"y\",\"\"))),\"Manual entry required\")","v":""},{"$f":"IF('BDE data'!J27=\"\",\"\",'BDE data'!J27)","v":22},{"$f":"IF('BDE data'!L27=\"\",\"\",IF(ISNUMBER('BDE data'!L27)=TRUE, IF('BDE data'!L27<'BDE data'!L$38, \"ERROR\", 'BDE data'!L27), IF('BDE data'!L27=\"<LOD\",'BDE data'!L$38, \"ERROR\")))","v":4.2999999999999999E-4},{"$f":"IF('BDE data'!M27=\"\",\"\",IF(ISNUMBER('BDE data'!M27)=TRUE, IF('BDE data'!M27<'BDE data'!M$38, \"ERROR\", 'BDE data'!M27), IF('BDE data'!M27=\"<LOD\",'BDE data'!M$38, \"ERROR\")))","v":2.5000000000000001E-4},{"$f":"IF('BDE data'!N27=\"\",\"\",IF(ISNUMBER('BDE data'!N27)=TRUE, IF('BDE data'!N27<'BDE data'!N$38, \"ERROR\", 'BDE data'!N27), IF('BDE data'!N27=\"<LOD\",'BDE data'!N$38, \"ERROR\")))","v":3.6000000000000002E-4},{"$f":"IF('BDE data'!O27=\"\",\"\",IF(ISNUMBER('BDE data'!O27)=TRUE, IF('BDE data'!O27<'BDE data'!O$38, \"ERROR\", 'BDE data'!O27), IF('BDE data'!O27=\"<LOD\",'BDE data'!O$38, \"ERROR\")))","v":3.1E-4},{"$f":"IF('BDE data'!P27=\"\",\"\",IF(ISNUMBER('BDE data'!P27)=TRUE, IF('BDE data'!P27<'BDE data'!P$38, \"ERROR\", 'BDE data'!P27), IF('BDE data'!P27=\"<LOD\",'BDE data'!P$38, \"ERROR\")))","v":2.5000000000000001E-4},{"$f":"IF('BDE data'!Q27=\"\",\"\",IF(ISNUMBER('BDE data'!Q27)=TRUE, IF('BDE data'!Q27<'BDE data'!Q$38, \"ERROR\", 'BDE data'!Q27), IF('BDE data'!Q27=\"<LOD\",'BDE data'!Q$38, \"ERROR\")))","v":4.8000000000000001E-4},{"$f":"IF('BDE data'!R27=\"\",\"\",IF(ISNUMBER('BDE data'!R27)=TRUE, IF('BDE data'!R27<'BDE data'!R$38, \"ERROR\", 'BDE data'!R27), IF('BDE data'!R27=\"<LOD\",'BDE data'!R$38, \"ERROR\")))","v":4.1300000000000003E-2},{"$f":"IF('BDE data'!S27=\"\",\"\",IF(ISNUMBER('BDE data'!S27)=TRUE, IF('BDE data'!S27<'BDE data'!S$38, \"ERROR\", 'BDE data'!S27), IF('BDE data'!S27=\"<LOD\",'BDE data'!S$38, \"ERROR\")))","v":2.5000000000000001E-4},{"$f":"IF('BDE data'!T27=\"\",\"\",IF(ISNUMBER('BDE data'!T27)=TRUE, IF('BDE data'!T27<'BDE data'!T$38, \"ERROR\", 'BDE data'!T27), IF('BDE data'!T27=\"<LOD\",'BDE data'!T$38, \"ERROR\")))","v":1.82E-3},{"$f":"IF('BDE data'!U27=\"\",\"\",IF(ISNUMBER('BDE data'!U27)=TRUE, IF('BDE data'!U27<'BDE data'!U$38, \"ERROR\", 'BDE data'!U27), IF('BDE data'!U27=\"<LOD\",'BDE data'!U$38, \"ERROR\")))","v":2.5000000000000001E-4},{"$f":"IF('BDE data'!V27=\"\",\"\",IF(ISNUMBER('BDE data'!V27)=TRUE, IF('BDE data'!V27<'BDE data'!V$38, \"ERROR\", 'BDE data'!V27), IF('BDE data'!V27=\"<LOD\",'BDE data'!V$38, \"ERROR\")))","v":2.5000000000000001E-4},{"$f":"IF('BDE data'!W27=\"\",\"\",IF(ISNUMBER('BDE data'!W27)=TRUE, IF('BDE data'!W27<'BDE data'!W$38, \"ERROR\", 'BDE data'!W27), IF('BDE data'!W27=\"<LOD\",'BDE data'!W$38, \"ERROR\")))","v":1.64E-3}]
[null,null,null,null,null,null,null,{"$f":"IF('BDE data'!H28=\"\",\"\",'BDE data'!H28)","v":"MAR02481.021"},{"$f":"IF('BDE data'!I28=\"\",\"\",'BDE data'!I28)","v":""},{"$f":"IFERROR(IF(K28=\"\",\"\",(IF(VLOOKUP(K28,'Application info'!$K$8:$L$37,2,0)=\"y\",\"y\",\"\"))),\"Manual entry required\")","v":""},{"$f":"IF('BDE data'!J28=\"\",\"\",'BDE data'!J28)","v":23},{"$f":"IF('BDE data'!L28=\"\",\"\",IF(ISNUMBER('BDE data'!L28)=TRUE, IF('BDE data'!L28<'BDE data'!L$38, \"ERROR\", 'BDE data'!L28), IF('BDE data'!L28=\"<LOD\",'BDE data'!L$38, \"ERROR\")))","v":2.5000000000000001E-4},{"$f":"IF('BDE data'!M28=\"\",\"\",IF(ISNUMBER('BDE data'!M28)=TRUE, IF('BDE data'!M28<'BDE data'!M$38, \"ERROR\", 'BDE data'!M28), IF('BDE data'!M28=\"<LOD\",'BDE data'!M$38, \"ERROR\")))","v":2.5000000000000001E-4},{"$f":"IF('BDE data'!N28=\"\",\"\",IF(ISNUMBER('BDE data'!N28)=TRUE, IF('BDE data'!N28<'BDE data'!N$38, \"ERROR\", 'BDE data'!N28), IF('BDE data'!N28=\"<LOD\",'BDE data'!N$38, \"ERROR\")))","v":2.5000000000000001E-4},{"$f":"IF('BDE data'!O28=\"\",\"\",IF(ISNUMBER('BDE data'!O28)=TRUE, IF('BDE data'!O28<'BDE data'!O$38, \"ERROR\", 'BDE data'!O28), IF('BDE data'!O28=\"<LOD\",'BDE data'!O$38, \"ERROR\")))","v":2.5000000000000001E-4},{"$f":"IF('BDE data'!P28=\"\",\"\",IF(ISNUMBER('BDE data'!P28)=TRUE, IF('BDE data'!P28<'BDE data'!P$38, \"ERROR\", 'BDE data'!P28), IF('BDE data'!P28=\"<LOD\",'BDE data'!P$38, \"ERROR\")))","v":2.5000000000000001E-4},{"$f":"IF('BDE data'!Q28=\"\",\"\",IF(ISNUMBER('BDE data'!Q28)=TRUE, IF('BDE data'!Q28<'BDE data'!Q$38, \"ERROR\", 'BDE data'!Q28), IF('BDE data'!Q28=\"<LOD\",'BDE data'!Q$38, \"ERROR\")))","v":2.5000000000000001E-4},{"$f":"IF('BDE data'!R28=\"\",\"\",IF(ISNUMBER('BDE data'!R28)=TRUE, IF('BDE data'!R28<'BDE data'!R$38, \"ERROR\", 'BDE data'!R28), IF('BDE data'!R28=\"<LOD\",'BDE data'!R$38, \"ERROR\")))","v":7.3300000000000004E-2},{"$f":"IF('BDE data'!S28=\"\",\"\",IF(ISNUMBER('BDE data'!S28)=TRUE, IF('BDE data'!S28<'BDE data'!S$38, \"ERROR\", 'BDE data'!S28), IF('BDE data'!S28=\"<LOD\",'BDE data'!S$38, \"ERROR\")))","v":2.5000000000000001E-4},{"$f":"IF('BDE data'!T28=\"\",\"\",IF(ISNUMBER('BDE data'!T28)=TRUE, IF('BDE data'!T28<'BDE data'!T$38, \"ERROR\", 'BDE data'!T28), IF('BDE data'!T28=\"<LOD\",'BDE data'!T$38, \"ERROR\")))","v":8.7000000000000001E-4},{"$f":"IF('BDE data'!U28=\"\",\"\",IF(ISNUMBER('BDE data'!U28)=TRUE, IF('BDE data'!U28<'BDE data'!U$38, \"ERROR\", 'BDE data'!U28), IF('BDE data'!U28=\"<LOD\",'BDE data'!U$38, \"ERROR\")))","v":2.5000000000000001E-4},{"$f":"IF('BDE data'!V28=\"\",\"\",IF(ISNUMBER('BDE data'!V28)=TRUE, IF('BDE data'!V28<'BDE data'!V$38, \"ERROR\", 'BDE data'!V28), IF('BDE data'!V28=\"<LOD\",'BDE data'!V$38, \"ERROR\")))","v":2.5000000000000001E-4},{"$f":"IF('BDE data'!W28=\"\",\"\",IF(ISNUMBER('BDE data'!W28)=TRUE, IF('BDE data'!W28<'BDE data'!W$38, \"ERROR\", 'BDE data'!W28), IF('BDE data'!W28=\"<LOD\",'BDE data'!W$38, \"ERROR\")))","v":8.0999999999999996E-4}]
[null,null,null,null,null,null,null,{"$f":"IF('BDE data'!H29=\"\",\"\",'BDE data'!H29)","v":"MAR02481.022"},{"$f":"IF('BDE data'!I29=\"\",\"\",'BDE data'!I29)","v":""},{"$f":"IFERROR(IF(K29=\"\",\"\",(IF(VLOOKUP(K29,'Application info'!$K$8:$L$37,2,0)=\"y\",\"y\",\"\"))),\"Manual entry required\")","v":""},{"$f":"IF('BDE data'!J29=\"\",\"\",'BDE data'!J29)","v":24},{"$f":"IF('BDE data'!L29=\"\",\"\",IF(ISNUMBER('BDE data'!L29)=TRUE, IF('BDE data'!L29<'BDE data'!L$38, \"ERROR\", 'BDE data'!L29), IF('BDE data'!L29=\"<LOD\",'BDE data'!L$38, \"ERROR\")))","v":2.5000000000000001E-4},{"$f":"IF('BDE data'!M29=\"\",\"\",IF(ISNUMBER('BDE data'!M29)=TRUE, IF('BDE data'!M29<'BDE data'!M$38, \"ERROR\", 'BDE data'!M29), IF('BDE data'!M29=\"<LOD\",'BDE data'!M$38, \"ERROR\")))","v":2.5000000000000001E-4},{"$f":"IF('BDE data'!N29=\"\",\"\",IF(ISNUMBER('BDE data'!N29)=TRUE, IF('BDE data'!N29<'BDE data'!N$38, \"ERROR\", 'BDE data'!N29), IF('BDE data'!N29=\"<LOD\",'BDE data'!N$38, \"ERROR\")))","v":2.5000000000000001E-4},{"$f":"IF('BDE data'!O29=\"\",\"\",IF(ISNUMBER('BDE data'!O29)=TRUE, IF('BDE data'!O29<'BDE data'!O$38, \"ERROR\", 'BDE data'!O29), IF('BDE data'!O29=\"<LOD\",'BDE data'!O$38, \"ERROR\")))","v":2.5000000000000001E-4},{"$f":"IF('BDE data'!P29=\"\",\"\",IF(ISNUMBER('BDE data'!P29)=TRUE, IF('BDE data'!P29<'BDE data'!P$38, \"ERROR\", 'BDE data'!P29), IF('BDE data'!P29=\"<LOD\",'BDE data'!P$38, \"ERROR\")))","v":2.5000000000000001E-4},{"$f":"IF('BDE data'!Q29=\"\",\"\",IF(ISNUMBER('BDE data'!Q29)=TRUE, IF('BDE data'!Q29<'BDE data'!Q$38, \"ERROR\", 'BDE data'!Q29), IF('BDE data'!Q29=\"<LOD\",'BDE data'!Q$38, \"ERROR\")))","v":2.5000000000000001E-4},{"$f":"IF('BDE data'!R29=\"\",\"\",IF(ISNUMBER('BDE data'!R29)=TRUE, IF('BDE data'!R29<'BDE data'!R$38, \"ERROR\", 'BDE data'!R29), IF('BDE data'!R29=\"<LOD\",'BDE data'!R$38, \"ERROR\")))","v":3.5000000000000003E-2},{"$f":"IF('BDE data'!S29=\"\",\"\",IF(ISNUMBER('BDE data'!S29)=TRUE, IF('BDE data'!S29<'BDE data'!S$38, \"ERROR\", 'BDE data'!S29), IF('BDE data'!S29=\"<LOD\",'BDE data'!S$38, \"ERROR\")))","v":2.5000000000000001E-4},{"$f":"IF('BDE data'!T29=\"\",\"\",IF(ISNUMBER('BDE data'!T29)=TRUE, IF('BDE data'!T29<'BDE data'!T$38, \"ERROR\", 'BDE data'!T29), IF('BDE data'!T29=\"<LOD\",'BDE data'!T$38, \"ERROR\")))","v":4.0000000000000002E-4},{"$f":"IF('BDE data'!U29=\"\",\"\",IF(ISNUMBER('BDE data'!U29)=TRUE, IF('BDE data'!U29<'BDE data'!U$38, \"ERROR\", 'BDE data'!U29), IF('BDE data'!U29=\"<LOD\",'BDE data'!U$38, \"ERROR\")))","v":2.5000000000000001E-4},{"$f":"IF('BDE data'!V29=\"\",\"\",IF(ISNUMBER('BDE data'!V29)=TRUE, IF('BDE data'!V29<'BDE data'!V$38, \"ERROR\", 'BDE data'!V29), IF('BDE data'!V29=\"<LOD\",'BDE data'!V$38, \"ERROR\")))","v":2.5000000000000001E-4},{"$f":"IF('BDE data'!W29=\"\",\"\",IF(ISNUMBER('BDE data'!W29)=TRUE, IF('BDE data'!W29<'BDE data'!W$38, \"ERROR\", 'BDE data'!W29), IF('BDE data'!W29=\"<LOD\",'BDE data'!W$38, \"ERROR\")))","v":3.5E-4}]
[null,null,null,null,null,null,null,{"$f":"IF('BDE data'!H30=\"\",\"\",'BDE data'!H30)","v":"MAR02481.023"},{"$f":"IF('BDE data'!I30=\"\",\"\",'BDE data'!I30)","v":""},{"$f":"IFERROR(IF(K30=\"\",\"\",(IF(VLOOKUP(K30,'Application info'!$K$8:$L$37,2,0)=\"y\",\"y\",\"\"))),\"Manual entry required\")","v":""},{"$f":"IF('BDE data'!J30=\"\",\"\",'BDE data'!J30)","v":25},{"$f":"IF('BDE data'!L30=\"\",\"\",IF(ISNUMBER('BDE data'!L30)=TRUE, IF('BDE data'!L30<'BDE data'!L$38, \"ERROR\", 'BDE data'!L30), IF('BDE data'!L30=\"<LOD\",'BDE data'!L$38, \"ERROR\")))","v":2.5000000000000001E-4},{"$f":"IF('BDE data'!M30=\"\",\"\",IF(ISNUMBER('BDE data'!M30)=TRUE, IF('BDE data'!M30<'BDE data'!M$38, \"ERROR\", 'BDE data'!M30), IF('BDE data'!M30=\"<LOD\",'BDE data'!M$38, \"ERROR\")))","v":2.5000000000000001E-4},{"$f":"IF('BDE data'!N30=\"\",\"\",IF(ISNUMBER('BDE data'!N30)=TRUE, IF('BDE data'!N30<'BDE data'!N$38, \"ERROR\", 'BDE data'!N30), IF('BDE data'!N30=\"<LOD\",'BDE data'!N$38, \"ERROR\")))","v":2.5000000000000001E-4},{"$f":"IF('BDE data'!O30=\"\",\"\",IF(ISNUMBER('BDE data'!O30)=TRUE, IF('BDE data'!O30<'BDE data'!O$38, \"ERROR\", 'BDE data'!O30), IF('BDE data'!O30=\"<LOD\",'BDE data'!O$38, \"ERROR\")))","v":2.5000000000000001E-4},{"$f":"IF('BDE data'!P30=\"\",\"\",IF(ISNUMBER('BDE data'!P30)=TRUE, IF('BDE data'!P30<'BDE data'!P$38, \"ERROR\", 'BDE data'!P30), IF('BDE data'!P30=\"<LOD\",'BDE data'!P$38, \"ERROR\")))","v":2.5000000000000001E-4},{"$f":"IF('BDE data'!Q30=\"\",\"\",IF(ISNUMBER('BDE data'!Q30)=TRUE, IF('BDE data'!Q30<'BDE data'!Q$38, \"ERROR\", 'BDE data'!Q30), IF('BDE data'!Q30=\"<LOD\",'BDE data'!Q$38, \"ERROR\")))","v":2.5000000000000001E-4},{"$f":"IF('BDE data'!R30=\"\",\"\",IF(ISNUMBER('BDE data'!R30)=TRUE, IF('BDE data'!R30<'BDE data'!R$38, \"ERROR\", 'BDE data'!R30), IF('BDE data'!R30=\"<LOD\",'BDE data'!R$38, \"ERROR\")))","v":6.4999999999999997E-3},{"$f":"IF('BDE data'!S30=\"\",\"\",IF(ISNUMBER('BDE data'!S30)=TRUE, IF('BDE data'!S30<'BDE data'!S$38, \"ERROR\", 'BDE data'!S30), IF('BDE data'!S30=\"<LOD\",'BDE data'!S$38, \"ERROR\")))","v":2.5000000000000001E-4},{"$f":"IF('BDE data'!T30=\"\",\"\",IF(ISNUMBER('BDE data'!T30)=TRUE, IF('BDE data'!T30<'BDE data'!T$38, \"ERROR\", 'BDE data'!T30), IF('BDE data'!T30=\"<LOD\",'BDE data'!T$38, \"ERROR\")))","v":2.9E-4},{"$f":"IF('BDE data'!U30=\"\",\"\",IF(ISNUMBER('BDE data'!U30)=TRUE, IF('BDE data'!U30<'BDE data'!U$38, \"ERROR\", 'BDE data'!U30), IF('BDE data'!U30=\"<LOD\",'BDE data'!U$38, \"ERROR\")))","v":2.5000000000000001E-4},{"$f":"IF('BDE data'!V30=\"\",\"\",IF(ISNUMBER('BDE data'!V30)=TRUE, IF('BDE data'!V30<'BDE data'!V$38, \"ERROR\", 'BDE data'!V30), IF('BDE data'!V30=\"<LOD\",'BDE data'!V$38, \"ERROR\")))","v":2.5000000000000001E-4},{"$f":"IF('BDE data'!W30=\"\",\"\",IF(ISNUMBER('BDE data'!W30)=TRUE, IF('BDE data'!W30<'BDE data'!W$38, \"ERROR\", 'BDE data'!W30), IF('BDE data'!W30=\"<LOD\",'BDE data'!W$38, \"ERROR\")))","v":2.5000000000000001E-4}]
[null,null,null,null,null,null,null,{"$f":"IF('BDE data'!H31=\"\",\"\",'BDE data'!H31)","v":""},{"$f":"IF('BDE data'!I31=\"\",\"\",'BDE data'!I31)","v":""},{"$f":"IFERROR(IF(K31=\"\",\"\",(IF(VLOOKUP(K31,'Application info'!$K$8:$L$37,2,0)=\"y\",\"y\",\"\"))),\"Manual entry required\")","v":""},{"$f":"IF('BDE data'!J31=\"\",\"\",'BDE data'!J31)","v":""},{"$f":"IF('BDE data'!L31=\"\",\"\",IF(ISNUMBER('BDE data'!L31)=TRUE, IF('BDE data'!L31<'BDE data'!L$38, \"ERROR\", 'BDE data'!L31), IF('BDE data'!L31=\"<LOD\",'BDE data'!L$38, \"ERROR\")))","v":""},{"$f":"IF('BDE data'!M31=\"\",\"\",IF(ISNUMBER('BDE data'!M31)=TRUE, IF('BDE data'!M31<'BDE data'!M$38, \"ERROR\", 'BDE data'!M31), IF('BDE data'!M31=\"<LOD\",'BDE data'!M$38, \"ERROR\")))","v":""},{"$f":"IF('BDE data'!N31=\"\",\"\",IF(ISNUMBER('BDE data'!N31)=TRUE, IF('BDE data'!N31<'BDE data'!N$38, \"ERROR\", 'BDE data'!N31), IF('BDE data'!N31=\"<LOD\",'BDE data'!N$38, \"ERROR\")))","v":""},{"$f":"IF('BDE data'!O31=\"\",\"\",IF(ISNUMBER('BDE data'!O31)=TRUE, IF('BDE data'!O31<'BDE data'!O$38, \"ERROR\", 'BDE data'!O31), IF('BDE data'!O31=\"<LOD\",'BDE data'!O$38, \"ERROR\")))","v":""},{"$f":"IF('BDE data'!P31=\"\",\"\",IF(ISNUMBER('BDE data'!P31)=TRUE, IF('BDE data'!P31<'BDE data'!P$38, \"ERROR\", 'BDE data'!P31), IF('BDE data'!P31=\"<LOD\",'BDE data'!P$38, \"ERROR\")))","v":""},{"$f":"IF('BDE data'!Q31=\"\",\"\",IF(ISNUMBER('BDE data'!Q31)=TRUE, IF('BDE data'!Q31<'BDE data'!Q$38, \"ERROR\", 'BDE data'!Q31), IF('BDE data'!Q31=\"<LOD\",'BDE data'!Q$38, \"ERROR\")))","v":""},{"$f":"IF('BDE data'!R31=\"\",\"\",IF(ISNUMBER('BDE data'!R31)=TRUE, IF('BDE data'!R31<'BDE data'!R$38, \"ERROR\", 'BDE data'!R31), IF('BDE data'!R31=\"<LOD\",'BDE data'!R$38, \"ERROR\")))","v":""},{"$f":"IF('BDE data'!S31=\"\",\"\",IF(ISNUMBER('BDE data'!S31)=TRUE, IF('BDE data'!S31<'BDE data'!S$38, \"ERROR\", 'BDE data'!S31), IF('BDE data'!S31=\"<LOD\",'BDE data'!S$38, \"ERROR\")))","v":""},{"$f":"IF('BDE data'!T31=\"\",\"\",IF(ISNUMBER('BDE data'!T31)=TRUE, IF('BDE data'!T31<'BDE data'!T$38, \"ERROR\", 'BDE data'!T31), IF('BDE data'!T31=\"<LOD\",'BDE data'!T$38, \"ERROR\")))","v":""},{"$f":"IF('BDE data'!U31=\"\",\"\",IF(ISNUMBER('BDE data'!U31)=TRUE, IF('BDE data'!U31<'BDE data'!U$38, \"ERROR\", 'BDE data'!U31), IF('BDE data'!U31=\"<LOD\",'BDE data'!U$38, \"ERROR\")))","v":""},{"$f":"IF('BDE data'!V31=\"\",\"\",IF(ISNUMBER('BDE data'!V31)=TRUE, IF('BDE data'!V31<'BDE data'!V$38, \"ERROR\", 'BDE data'!V31), IF('BDE data'!V31=\"<LOD\",'BDE data'!V$38, \"ERROR\")))","v":""},{"$f":"IF('BDE data'!W31=\"\",\"\",IF(ISNUMBER('BDE data'!W31)=TRUE, IF('BDE data'!W31<'BDE data'!W$38, \"ERROR\", 'BDE data'!W31), IF('BDE data'!W31=\"<LOD\",'BDE data'!W$38, \"ERROR\")))","v":""}]
[null,null,null,null,null,null,null,{"$f":"IF('BDE data'!H32=\"\",\"\",'BDE data'!H32)","v":""},{"$f":"IF('BDE data'!I32=\"\",\"\",'BDE data'!I32)","v":""},{"$f":"IFERROR(IF(K32=\"\",\"\",(IF(VLOOKUP(K32,'Application info'!$K$8:$L$37,2,0)=\"y\",\"y\",\"\"))),\"Manual entry required\")","v":""},{"$f":"IF('BDE data'!J32=\"\",\"\",'BDE data'!J32)","v":""},{"$f":"IF('BDE data'!L32=\"\",\"\",IF(ISNUMBER('BDE data'!L32)=TRUE, IF('BDE data'!L32<'BDE data'!L$38, \"ERROR\", 'BDE data'!L32), IF('BDE data'!L32=\"<LOD\",'BDE data'!L$38, \"ERROR\")))","v":""},{"$f":"IF('BDE data'!M32=\"\",\"\",IF(ISNUMBER('BDE data'!M32)=TRUE, IF('BDE data'!M32<'BDE data'!M$38, \"ERROR\", 'BDE data'!M32), IF('BDE data'!M32=\"<LOD\",'BDE data'!M$38, \"ERROR\")))","v":""},{"$f":"IF('BDE data'!N32=\"\",\"\",IF(ISNUMBER('BDE data'!N32)=TRUE, IF('BDE data'!N32<'BDE data'!N$38, \"ERROR\", 'BDE data'!N32), IF('BDE data'!N32=\"<LOD\",'BDE data'!N$38, \"ERROR\")))","v":""},{"$f":"IF('BDE data'!O32=\"\",\"\",IF(ISNUMBER('BDE data'!O32)=TRUE, IF('BDE data'!O32<'BDE data'!O$38, \"ERROR\", 'BDE data'!O32), IF('BDE data'!O32=\"<LOD\",'BDE data'!O$38, \"ERROR\")))","v":""},{"$f":"IF('BDE data'!P32=\"\",\"\",IF(ISNUMBER('BDE data'!P32)=TRUE, IF('BDE data'!P32<'BDE data'!P$38, \"ERROR\", 'BDE data'!P32), IF('BDE data'!P32=\"<LOD\",'BDE data'!P$38, \"ERROR\")))","v":""},{"$f":"IF('BDE data'!Q32=\"\",\"\",IF(ISNUMBER('BDE data'!Q32)=TRUE, IF('BDE data'!Q32<'BDE data'!Q$38, \"ERROR\", 'BDE data'!Q32), IF('BDE data'!Q32=\"<LOD\",'BDE data'!Q$38, \"ERROR\")))","v":""},{"$f":"IF('BDE data'!R32=\"\",\"\",IF(ISNUMBER('BDE data'!R32)=TRUE, IF('BDE data'!R32<'BDE data'!R$38, \"ERROR\", 'BDE data'!R32), IF('BDE data'!R32=\"<LOD\",'BDE data'!R$38, \"ERROR\")))","v":""},{"$f":"IF('BDE data'!S32=\"\",\"\",IF(ISNUMBER('BDE data'!S32)=TRUE, IF('BDE data'!S32<'BDE data'!S$38, \"ERROR\", 'BDE data'!S32), IF('BDE data'!S32=\"<LOD\",'BDE data'!S$38, \"ERROR\")))","v":""},{"$f":"IF('BDE data'!T32=\"\",\"\",IF(ISNUMBER('BDE data'!T32)=TRUE, IF('BDE data'!T32<'BDE data'!T$38, \"ERROR\", 'BDE data'!T32), IF('BDE data'!T32=\"<LOD\",'BDE data'!T$38, \"ERROR\")))","v":""},{"$f":"IF('BDE data'!U32=\"\",\"\",IF(ISNUMBER('BDE data'!U32)=TRUE, IF('BDE data'!U32<'BDE data'!U$38, \"ERROR\", 'BDE data'!U32), IF('BDE data'!U32=\"<LOD\",'BDE data'!U$38, \"ERROR\")))","v":""},{"$f":"IF('BDE data'!V32=\"\",\"\",IF(ISNUMBER('BDE data'!V32)=TRUE, IF('BDE data'!V32<'BDE data'!V$38, \"ERROR\", 'BDE data'!V32), IF('BDE data'!V32=\"<LOD\",'BDE data'!V$38, \"ERROR\")))","v":""},{"$f":"IF('BDE data'!W32=\"\",\"\",IF(ISNUMBER('BDE data'!W32)=TRUE, IF('BDE data'!W32<'BDE data'!W$38, \"ERROR\", 'BDE data'!W32), IF('BDE data'!W32=\"<LOD\",'BDE data'!W$38, \"ERROR\")))","v":""}]
[null,null,null,null,null,null,null,{"$f":"IF('BDE data'!H33=\"\",\"\",'BDE data'!H33)","v":""},{"$f":"IF('BDE data'!I33=\"\",\"\",'BDE data'!I33)","v":""},{"$f":"IFERROR(IF(K33=\"\",\"\",(IF(VLOOKUP(K33,'Application info'!$K$8:$L$37,2,0)=\"y\",\"y\",\"\"))),\"Manual entry required\")","v":""},{"$f":"IF('BDE data'!J33=\"\",\"\",'BDE data'!J33)","v":""},{"$f":"IF('BDE data'!L33=\"\",\"\",IF(ISNUMBER('BDE data'!L33)=TRUE, IF('BDE data'!L33<'BDE data'!L$38, \"ERROR\", 'BDE data'!L33), IF('BDE data'!L33=\"<LOD\",'BDE data'!L$38, \"ERROR\")))","v":""},{"$f":"IF('BDE data'!M33=\"\",\"\",IF(ISNUMBER('BDE data'!M33)=TRUE, IF('BDE data'!M33<'BDE data'!M$38, \"ERROR\", 'BDE data'!M33), IF('BDE data'!M33=\"<LOD\",'BDE data'!M$38, \"ERROR\")))","v":""},{"$f":"IF('BDE data'!N33=\"\",\"\",IF(ISNUMBER('BDE data'!N33)=TRUE, IF('BDE data'!N33<'BDE data'!N$38, \"ERROR\", 'BDE data'!N33), IF('BDE data'!N33=\"<LOD\",'BDE data'!N$38, \"ERROR\")))","v":""},{"$f":"IF('BDE data'!O33=\"\",\"\",IF(ISNUMBER('BDE data'!O33)=TRUE, IF('BDE data'!O33<'BDE data'!O$38, \"ERROR\", 'BDE data'!O33), IF('BDE data'!O33=\"<LOD\",'BDE data'!O$38, \"ERROR\")))","v":""},{"$f":"IF('BDE data'!P33=\"\",\"\",IF(ISNUMBER('BDE data'!P33)=TRUE, IF('BDE data'!P33<'BDE data'!P$38, \"ERROR\", 'BDE data'!P33), IF('BDE data'!P33=\"<LOD\",'BDE data'!P$38, \"ERROR\")))","v":""},{"$f":"IF('BDE data'!Q33=\"\",\"\",IF(ISNUMBER('BDE data'!Q33)=TRUE, IF('BDE data'!Q33<'BDE data'!Q$38, \"ERROR\", 'BDE data'!Q33), IF('BDE data'!Q33=\"<LOD\",'BDE data'!Q$38, \"ERROR\")))","v":""},{"$f":"IF('BDE data'!R33=\"\",\"\",IF(ISNUMBER('BDE data'!R33)=TRUE, IF('BDE data'!R33<'BDE data'!R$38, \"ERROR\", 'BDE data'!R33), IF('BDE data'!R33=\"<LOD\",'BDE data'!R$38, \"ERROR\")))","v":""},{"$f":"IF('BDE data'!S33=\"\",\"\",IF(ISNUMBER('BDE data'!S33)=TRUE, IF('BDE data'!S33<'BDE data'!S$38, \"ERROR\", 'BDE data'!S33), IF('BDE data'!S33=\"<LOD\",'BDE data'!S$38, \"ERROR\")))","v":""},{"$f":"IF('BDE data'!T33=\"\",\"\",IF(ISNUMBER('BDE data'!T33)=TRUE, IF('BDE data'!T33<'BDE data'!T$38, \"ERROR\", 'BDE data'!T33), IF('BDE data'!T33=\"<LOD\",'BDE data'!T$38, \"ERROR\")))","v":""},{"$f":"IF('BDE data'!U33=\"\",\"\",IF(ISNUMBER('BDE data'!U33)=TRUE, IF('BDE data'!U33<'BDE data'!U$38, \"ERROR\", 'BDE data'!U33), IF('BDE data'!U33=\"<LOD\",'BDE data'!U$38, \"ERROR\")))","v":""},{"$f":"IF('BDE data'!V33=\"\",\"\",IF(ISNUMBER('BDE data'!V33)=TRUE, IF('BDE data'!V33<'BDE data'!V$38, \"ERROR\", 'BDE data'!V33), IF('BDE data'!V33=\"<LOD\",'BDE data'!V$38, \"ERROR\")))","v":""},{"$f":"IF('BDE data'!W33=\"\",\"\",IF(ISNUMBER('BDE data'!W33)=TRUE, IF('BDE data'!W33<'BDE data'!W$38, \"ERROR\", 'BDE data'!W33), IF('BDE data'!W33=\"<LOD\",'BDE data'!W$38, \"ERROR\")))","v":""}]
[null,null,null,null,null,null,null,{"$f":"IF('BDE data'!H34=\"\",\"\",'BDE data'!H34)","v":""},{"$f":"IF('BDE data'!I34=\"\",\"\",'BDE data'!I34)","v":""},{"$f":"IFERROR(IF(K34=\"\",\"\",(IF(VLOOKUP(K34,'Application info'!$K$8:$L$37,2,0)=\"y\",\"y\",\"\"))),\"Manual entry required\")","v":""},{"$f":"IF('BDE data'!J34=\"\",\"\",'BDE data'!J34)","v":""},{"$f":"IF('BDE data'!L34=\"\",\"\",IF(ISNUMBER('BDE data'!L34)=TRUE, IF('BDE data'!L34<'BDE data'!L$38, \"ERROR\", 'BDE data'!L34), IF('BDE data'!L34=\"<LOD\",'BDE data'!L$38, \"ERROR\")))","v":""},{"$f":"IF('BDE data'!M34=\"\",\"\",IF(ISNUMBER('BDE data'!M34)=TRUE, IF('BDE data'!M34<'BDE data'!M$38, \"ERROR\", 'BDE data'!M34), IF('BDE data'!M34=\"<LOD\",'BDE data'!M$38, \"ERROR\")))","v":""},{"$f":"IF('BDE data'!N34=\"\",\"\",IF(ISNUMBER('BDE data'!N34)=TRUE, IF('BDE data'!N34<'BDE data'!N$38, \"ERROR\", 'BDE data'!N34), IF('BDE data'!N34=\"<LOD\",'BDE data'!N$38, \"ERROR\")))","v":""},{"$f":"IF('BDE data'!O34=\"\",\"\",IF(ISNUMBER('BDE data'!O34)=TRUE, IF('BDE data'!O34<'BDE data'!O$38, \"ERROR\", 'BDE data'!O34), IF('BDE data'!O34=\"<LOD\",'BDE data'!O$38, \"ERROR\")))","v":""},{"$f":"IF('BDE data'!P34=\"\",\"\",IF(ISNUMBER('BDE data'!P34)=TRUE, IF('BDE data'!P34<'BDE data'!P$38, \"ERROR\", 'BDE data'!P34), IF('BDE data'!P34=\"<LOD\",'BDE data'!P$38, \"ERROR\")))","v":""},{"$f":"IF('BDE data'!Q34=\"\",\"\",IF(ISNUMBER('BDE data'!Q34)=TRUE, IF('BDE data'!Q34<'BDE data'!Q$38, \"ERROR\", 'BDE data'!Q34), IF('BDE data'!Q34=\"<LOD\",'BDE data'!Q$38, \"ERROR\")))","v":""},{"$f":"IF('BDE data'!R34=\"\",\"\",IF(ISNUMBER('BDE data'!R34)=TRUE, IF('BDE data'!R34<'BDE data'!R$38, \"ERROR\", 'BDE data'!R34), IF('BDE data'!R34=\"<LOD\",'BDE data'!R$38, \"ERROR\")))","v":""},{"$f":"IF('BDE data'!S34=\"\",\"\",IF(ISNUMBER('BDE data'!S34)=TRUE, IF('BDE data'!S34<'BDE data'!S$38, \"ERROR\", 'BDE data'!S34), IF('BDE data'!S34=\"<LOD\",'BDE data'!S$38, \"ERROR\")))","v":""},{"$f":"IF('BDE data'!T34=\"\",\"\",IF(ISNUMBER('BDE data'!T34)=TRUE, IF('BDE data'!T34<'BDE data'!T$38, \"ERROR\", 'BDE data'!T34), IF('BDE data'!T34=\"<LOD\",'BDE data'!T$38, \"ERROR\")))","v":""},{"$f":"IF('BDE data'!U34=\"\",\"\",IF(ISNUMBER('BDE data'!U34)=TRUE, IF('BDE data'!U34<'BDE data'!U$38, \"ERROR\", 'BDE data'!U34), IF('BDE data'!U34=\"<LOD\",'BDE data'!U$38, \"ERROR\")))","v":""},{"$f":"IF('BDE data'!V34=\"\",\"\",IF(ISNUMBER('BDE data'!V34)=TRUE, IF('BDE data'!V34<'BDE data'!V$38, \"ERROR\", 'BDE data'!V34), IF('BDE data'!V34=\"<LOD\",'BDE data'!V$38, \"ERROR\")))","v":""},{"$f":"IF('BDE data'!W34=\"\",\"\",IF(ISNUMBER('BDE data'!W34)=TRUE, IF('BDE data'!W34<'BDE data'!W$38, \"ERROR\", 'BDE data'!W34), IF('BDE data'!W34=\"<LOD\",'BDE data'!W$38, \"ERROR\")))","v":""}]
[null,null,null,null,null,null,null,{"$f":"IF('BDE data'!H35=\"\",\"\",'BDE data'!H35)","v":""},{"$f":"IF('BDE data'!I35=\"\",\"\",'BDE data'!I35)","v":""},{"$f":"IFERROR(IF(K35=\"\",\"\",(IF(VLOOKUP(K35,'Application info'!$K$8:$L$37,2,0)=\"y\",\"y\",\"\"))),\"Manual entry required\")","v":""},{"$f":"IF('BDE data'!J35=\"\",\"\",'BDE data'!J35)","v":""},{"$f":"IF('BDE data'!L35=\"\",\"\",IF(ISNUMBER('BDE data'!L35)=TRUE, IF('BDE data'!L35<'BDE data'!L$38, \"ERROR\", 'BDE data'!L35), IF('BDE data'!L35=\"<LOD\",'BDE data'!L$38, \"ERROR\")))","v":""},{"$f":"IF('BDE data'!M35=\"\",\"\",IF(ISNUMBER('BDE data'!M35)=TRUE, IF('BDE data'!M35<'BDE data'!M$38, \"ERROR\", 'BDE data'!M35), IF('BDE data'!M35=\"<LOD\",'BDE data'!M$38, \"ERROR\")))","v":""},{"$f":"IF('BDE data'!N35=\"\",\"\",IF(ISNUMBER('BDE data'!N35)=TRUE, IF('BDE data'!N35<'BDE data'!N$38, \"ERROR\", 'BDE data'!N35), IF('BDE data'!N35=\"<LOD\",'BDE data'!N$38, \"ERROR\")))","v":""},{"$f":"IF('BDE data'!O35=\"\",\"\",IF(ISNUMBER('BDE data'!O35)=TRUE, IF('BDE data'!O35<'BDE data'!O$38, \"ERROR\", 'BDE data'!O35), IF('BDE data'!O35=\"<LOD\",'BDE data'!O$38, \"ERROR\")))","v":""},{"$f":"IF('BDE data'!P35=\"\",\"\",IF(ISNUMBER('BDE data'!P35)=TRUE, IF('BDE data'!P35<'BDE data'!P$38, \"ERROR\", 'BDE data'!P35), IF('BDE data'!P35=\"<LOD\",'BDE data'!P$38, \"ERROR\")))","v":""},{"$f":"IF('BDE data'!Q35=\"\",\"\",IF(ISNUMBER('BDE data'!Q35)=TRUE, IF('BDE data'!Q35<'BDE data'!Q$38, \"ERROR\", 'BDE data'!Q35), IF('BDE data'!Q35=\"<LOD\",'BDE data'!Q$38, \"ERROR\")))","v":""},{"$f":"IF('BDE data'!R35=\"\",\"\",IF(ISNUMBER('BDE data'!R35)=TRUE, IF('BDE data'!R35<'BDE data'!R$38, \"ERROR\", 'BDE data'!R35), IF('BDE data'!R35=\"<LOD\",'BDE data'!R$38, \"ERROR\")))","v":""},{"$f":"IF('BDE data'!S35=\"\",\"\",IF(ISNUMBER('BDE data'!S35)=TRUE, IF('BDE data'!S35<'BDE data'!S$38, \"ERROR\", 'BDE data'!S35), IF('BDE data'!S35=\"<LOD\",'BDE data'!S$38, \"ERROR\")))","v":""},{"$f":"IF('BDE data'!T35=\"\",\"\",IF(ISNUMBER('BDE data'!T35)=TRUE, IF('BDE data'!T35<'BDE data'!T$38, \"ERROR\", 'BDE data'!T35), IF('BDE data'!T35=\"<LOD\",'BDE data'!T$38, \"ERROR\")))","v":""},{"$f":"IF('BDE data'!U35=\"\",\"\",IF(ISNUMBER('BDE data'!U35)=TRUE, IF('BDE data'!U35<'BDE data'!U$38, \"ERROR\", 'BDE data'!U35), IF('BDE data'!U35=\"<LOD\",'BDE data'!U$38, \"ERROR\")))","v":""},{"$f":"IF('BDE data'!V35=\"\",\"\",IF(ISNUMBER('BDE data'!V35)=TRUE, IF('BDE data'!V35<'BDE data'!V$38, \"ERROR\", 'BDE data'!V35), IF('BDE data'!V35=\"<LOD\",'BDE data'!V$38, \"ERROR\")))","v":""},{"$f":"IF('BDE data'!W35=\"\",\"\",IF(ISNUMBER('BDE data'!W35)=TRUE, IF('BDE data'!W35<'BDE data'!W$38, \"ERROR\", 'BDE data'!W35), IF('BDE data'!W35=\"<LOD\",'BDE data'!W$38, \"ERROR\")))","v":""}]
[null,null,null,null,null,null,null,{"$f":"IF('BDE data'!H36=\"\",\"\",'BDE data'!H36)","v":""},{"$f":"IF('BDE data'!I36=\"\",\"\",'BDE data'!I36)","v":""},{"$f":"IFERROR(IF(K36=\"\",\"\",(IF(VLOOKUP(K36,'Application info'!$K$8:$L$37,2,0)=\"y\",\"y\",\"\"))),\"Manual entry required\")","v":""},{"$f":"IF('BDE data'!J36=\"\",\"\",'BDE data'!J36)","v":""},{"$f":"IF('BDE data'!L36=\"\",\"\",IF(ISNUMBER('BDE data'!L36)=TRUE, IF('BDE data'!L36<'BDE data'!L$38, \"ERROR\", 'BDE data'!L36), IF('BDE data'!L36=\"<LOD\",'BDE data'!L$38, \"ERROR\")))","v":""},{"$f":"IF('BDE data'!M36=\"\",\"\",IF(ISNUMBER('BDE data'!M36)=TRUE, IF('BDE data'!M36<'BDE data'!M$38, \"ERROR\", 'BDE data'!M36), IF('BDE data'!M36=\"<LOD\",'BDE data'!M$38, \"ERROR\")))","v":""},{"$f":"IF('BDE data'!N36=\"\",\"\",IF(ISNUMBER('BDE data'!N36)=TRUE, IF('BDE data'!N36<'BDE data'!N$38, \"ERROR\", 'BDE data'!N36), IF('BDE data'!N36=\"<LOD\",'BDE data'!N$38, \"ERROR\")))","v":""},{"$f":"IF('BDE data'!O36=\"\",\"\",IF(ISNUMBER('BDE data'!O36)=TRUE, IF('BDE data'!O36<'BDE data'!O$38, \"ERROR\", 'BDE data'!O36), IF('BDE data'!O36=\"<LOD\",'BDE data'!O$38, \"ERROR\")))","v":""},{"$f":"IF('BDE data'!P36=\"\",\"\",IF(ISNUMBER('BDE data'!P36)=TRUE, IF('BDE data'!P36<'BDE data'!P$38, \"ERROR\", 'BDE data'!P36), IF('BDE data'!P36=\"<LOD\",'BDE data'!P$38, \"ERROR\")))","v":""},{"$f":"IF('BDE data'!Q36=\"\",\"\",IF(ISNUMBER('BDE data'!Q36)=TRUE, IF('BDE data'!Q36<'BDE data'!Q$38, \"ERROR\", 'BDE data'!Q36), IF('BDE data'!Q36=\"<LOD\",'BDE data'!Q$38, \"ERROR\")))","v":""},{"$f":"IF('BDE data'!R36=\"\",\"\",IF(ISNUMBER('BDE data'!R36)=TRUE, IF('BDE data'!R36<'BDE data'!R$38, \"ERROR\", 'BDE data'!R36), IF('BDE data'!R36=\"<LOD\",'BDE data'!R$38, \"ERROR\")))","v":""},{"$f":"IF('BDE data'!S36=\"\",\"\",IF(ISNUMBER('BDE data'!S36)=TRUE, IF('BDE data'!S36<'BDE data'!S$38, \"ERROR\", 'BDE data'!S36), IF('BDE data'!S36=\"<LOD\",'BDE data'!S$38, \"ERROR\")))","v":""},{"$f":"IF('BDE data'!T36=\"\",\"\",IF(ISNUMBER('BDE data'!T36)=TRUE, IF('BDE data'!T36<'BDE data'!T$38, \"ERROR\", 'BDE data'!T36), IF('BDE data'!T36=\"<LOD\",'BDE data'!T$38, \"ERROR\")))","v":""},{"$f":"IF('BDE data'!U36=\"\",\"\",IF(ISNUMBER('BDE data'!U36)=TRUE, IF('BDE data'!U36<'BDE data'!U$38, \"ERROR\", 'BDE data'!U36), IF('BDE data'!U36=\"<LOD\",'BDE data'!U$38, \"ERROR\")))","v":""},{"$f":"IF('BDE data'!V36=\"\",\"\",IF(ISNUMBER('BDE data'!V36)=TRUE, IF('BDE data'!V36<'BDE data'!V$38, \"ERROR\", 'BDE data'!V36), IF('BDE data'!V36=\"<LOD\",'BDE data'!V$38, \"ERROR\")))","v":""},{"$f":"IF('BDE data'!W36=\"\",\"\",IF(ISNUMBER('BDE data'!W36)=TRUE, IF('BDE data'!W36<'BDE data'!W$38, \"ERROR\", 'BDE data'!W36), IF('BDE data'!W36=\"<LOD\",'BDE data'!W$38, \"ERROR\")))","v":""}]
[null,null,null,null,null,null,null,{"$f":"IF('BDE data'!H37=\"\",\"\",'BDE data'!H37)","v":""},{"$f":"IF('BDE data'!I37=\"\",\"\",'BDE data'!I37)","v":""},{"$f":"IFERROR(IF(K37=\"\",\"\",(IF(VLOOKUP(K37,'Application info'!$K$8:$L$37,2,0)=\"y\",\"y\",\"\"))),\"Manual entry required\")","v":""},{"$f":"IF('BDE data'!J37=\"\",\"\",'BDE data'!J37)","v":""},{"$f":"IF('BDE data'!L37=\"\",\"\",IF(ISNUMBER('BDE data'!L37)=TRUE, IF('BDE data'!L37<'BDE data'!L$38, \"ERROR\", 'BDE data'!L37), IF('BDE data'!L37=\"<LOD\",'BDE data'!L$38, \"ERROR\")))","v":""},{"$f":"IF('BDE data'!M37=\"\",\"\",IF(ISNUMBER('BDE data'!M37)=TRUE, IF('BDE data'!M37<'BDE data'!M$38, \"ERROR\", 'BDE data'!M37), IF('BDE data'!M37=\"<LOD\",'BDE data'!M$38, \"ERROR\")))","v":""},{"$f":"IF('BDE data'!N37=\"\",\"\",IF(ISNUMBER('BDE data'!N37)=TRUE, IF('BDE data'!N37<'BDE data'!N$38, \"ERROR\", 'BDE data'!N37), IF('BDE data'!N37=\"<LOD\",'BDE data'!N$38, \"ERROR\")))","v":""},{"$f":"IF('BDE data'!O37=\"\",\"\",IF(ISNUMBER('BDE data'!O37)=TRUE, IF('BDE data'!O37<'BDE data'!O$38, \"ERROR\", 'BDE data'!O37), IF('BDE data'!O37=\"<LOD\",'BDE data'!O$38, \"ERROR\")))","v":""},{"$f":"IF('BDE data'!P37=\"\",\"\",IF(ISNUMBER('BDE data'!P37)=TRUE, IF('BDE data'!P37<'BDE data'!P$38, \"ERROR\", 'BDE data'!P37), IF('BDE data'!P37=\"<LOD\",'BDE data'!P$38, \"ERROR\")))","v":""},{"$f":"IF('BDE data'!Q37=\"\",\"\",IF(ISNUMBER('BDE data'!Q37)=TRUE, IF('BDE data'!Q37<'BDE data'!Q$38, \"ERROR\", 'BDE data'!Q37), IF('BDE data'!Q37=\"<LOD\",'BDE data'!Q$38, \"ERROR\")))","v":""},{"$f":"IF('BDE data'!R37=\"\",\"\",IF(ISNUMBER('BDE data'!R37)=TRUE, IF('BDE data'!R37<'BDE data'!R$38, \"ERROR\", 'BDE data'!R37), IF('BDE data'!R37=\"<LOD\",'BDE data'!R$38, \"ERROR\")))","v":""},{"$f":"IF('BDE data'!S37=\"\",\"\",IF(ISNUMBER('BDE data'!S37)=TRUE, IF('BDE data'!S37<'BDE data'!S$38, \"ERROR\", 'BDE data'!S37), IF('BDE data'!S37=\"<LOD\",'BDE data'!S$38, \"ERROR\")))","v":""},{"$f":"IF('BDE data'!T37=\"\",\"\",IF(ISNUMBER('BDE data'!T37)=TRUE, IF('BDE data'!T37<'BDE data'!T$38, \"ERROR\", 'BDE data'!T37), IF('BDE data'!T37=\"<LOD\",'BDE data'!T$38, \"ERROR\")))","v":""},{"$f":"IF('BDE data'!U37=\"\",\"\",IF(ISNUMBER('BDE data'!U37)=TRUE, IF('BDE data'!U37<'BDE data'!U$38, \"ERROR\", 'BDE data'!U37), IF('BDE data'!U37=\"<LOD\",'BDE data'!U$38, \"ERROR\")))","v":""},{"$f":"IF('BDE data'!V37=\"\",\"\",IF(ISNUMBER('BDE data'!V37)=TRUE, IF('BDE data'!V37<'BDE data'!V$38, \"ERROR\", 'BDE data'!V37), IF('BDE data'!V37=\"<LOD\",'BDE data'!V$38, \"ERROR\")))","v":""},{"$f":"IF('BDE data'!W37=\"\",\"\",IF(ISNUMBER('BDE data'!W37)=TRUE, IF('BDE data'!W37<'BDE data'!W$38, \"ERROR\", 'BDE data'!W37), IF('BDE data'!W37=\"<LOD\",'BDE data'!W$38, \"ERROR\")))","v":""}]
[null,null,null,null,null,null,null,null,null,"Averages:",null,{"$f":"IF(COUNT(L8:L37)<1,\"\", AVERAGE(L8:L37))","v":4.4217391304347836E-4},{"$f":"IF(COUNT(M8:M37)<1,\"\", AVERAGE(M8:M37))","v":2.5391304347826101E-4},4.1956521739130428E-4,3.3304347826086964E-4,3.1391304347826095E-4,6.5086956521739133E-4,0.13131739130434789,3.5608695652173918E-4,1.874782608695652E-3,3.3086956521739141E-4,2.5695652173913055E-4,1.6465217391304352E-3]
[]
[]
[]
[]
[]
[null,null,null,null,null,null,null,"Transformation to wet weight"]
[]
[null,null,null,null,null,null,null,"Laboratory sample number","Dredge Area","Excluded (y if yes)","Sample ID","Brominated flame retardants as mg/kg wet weight"]
[null,null,null,null,null,null,null,null,null,null,null,"2,2′,4,4′,6-penta-\n bromodiphenyl ether (BDE100)","Hexabromodiphenyl ether (BDE138) ","2,2′,4,4′,5,5′-hexa-\n bromodiphenyl ether (BDE153)","2,2′,4,4′,5,6′-hexa-bromodiphenyl ether (BDE154)","2,2´,4-tri-bromodiphenylether (BDE17)","2,2′,3,4,4′,5′,6-heptabromodiphenyl ether (BDE183)","2,2',3,3',4,4',5,5',6,6'-decabrominated diphenyl ether (BDE 209)","2,4,4'-tribromodiphenyl ether (BDE28)","2,2′,4,4′-Tetrabromodiphenyl ether (BDE47) ","2,3',4,4'-Tetrabromodiphenyl ether (BDE66)","2,2',3,4,4'-Pentabromodiphenyl ether  (BDE85)","2,2',4,4',5-pentabromodiphenyl ether   (BDE99)"]
[null,null,null,null,null,null,null,{"$f":"IF(H8=\"\",\"\",H8)","v":"MAR02481.001"},"","",1,{"$f":"IF(L8=\"\",\"\",((('BDE data'!$K8/100)*L8)))","v":9.0210000000000005E-5},{"$f":"IF(M8=\"\",\"\",((('BDE data'!$K8/100)*M8)))","v":7.2750000000000007E-5},{"$f":"IF(N8=\"\",\"\",((('BDE data'!$K8/100)*N8)))","v":1.8333000000000002E-4},{"$f":"IF(O8=\"\",\"\",((('BDE data'!$K8/100)*O8)))","v":1.1349000000000001E-4},{"$f":"IF(P8=\"\",\"\",((('BDE data'!$K8/100)*P8)))","v":7.2750000000000007E-5},{"$f":"IF(Q8=\"\",\"\",((('BDE data'!$K8/100)*Q8)))","v":6.4893000000000014E-4},{"$f":"IF(R8=\"\",\"\",((('BDE data'!$K8/100)*R8)))","v":6.6959100000000008E-2},{"$f":"IF(S8=\"\",\"\",((('BDE data'!$K8/100)*S8)))","v":7.2750000000000007E-5},{"$f":"IF(T8=\"\",\"\",((('BDE data'!$K8/100)*T8)))","v":2.9682000000000005E-4},{"$f":"IF(U8=\"\",\"\",((('BDE data'!$K8/100)*U8)))","v":7.2750000000000007E-5},{"$f":"IF(V8=\"\",\"\",((('BDE data'!$K8/100)*V8)))","v":7.2750000000000007E-5},{"$f":"IF(W8=\"\",\"\",((('BDE data'!$K8/100)*W8)))","v":2.6481000000000003E-4}]
[null,null,null,null,null,null,null,"MAR02481.002","","",2,{"$f":"IF(L9=\"\",\"\",((('BDE data'!$K9/100)*L9)))","v":8.6489999999999994E-5},{"$f":"IF(M9=\"\",\"\",((('BDE data'!$K9/100)*M9)))","v":6.9749999999999988E-5},{"$f":"IF(N9=\"\",\"\",((('BDE data'!$K9/100)*N9)))","v":1.1717999999999999E-4},{"$f":"IF(O9=\"\",\"\",((('BDE data'!$K9/100)*O9)))","v":6.9749999999999988E-5},{"$f":"IF(P9=\"\",\"\",((('BDE data'!$K9/100)*P9)))","v":6.9749999999999988E-5},{"$f":"IF(Q9=\"\",\"\",((('BDE data'!$K9/100)*Q9)))","v":2.9852999999999998E-4},{"$f":"IF(R9=\"\",\"\",((('BDE data'!$K9/100)*R9)))","v":6.6374099999999991E-2},{"$f":"IF(S9=\"\",\"\",((('BDE data'!$K9/100)*S9)))","v":6.9749999999999988E-5},{"$f":"IF(T9=\"\",\"\",((('BDE data'!$K9/100)*T9)))","v":2.9294999999999994E-4},{"$f":"IF(U9=\"\",\"\",((('BDE data'!$K9/100)*U9)))","v":6.9749999999999988E-5},{"$f":"IF(V9=\"\",\"\",((('BDE data'!$K9/100)*V9)))","v":6.9749999999999988E-5},{"$f":"IF(W9=\"\",\"\",((('BDE data'!$K9/100)*W9)))","v":2.7063E-4}]
[null,null,null,null,null,null,null,"MAR02481.003","","",3,{"$f":"IF(L10=\"\",\"\",((('BDE data'!$K10/100)*L10)))","v":9.5099999999999994E-5},{"$f":"IF(M10=\"\",\"\",((('BDE data'!$K10/100)*M10)))","v":7.9250000000000002E-5},{"$f":"IF(N10=\"\",\"\",((('BDE data'!$K10/100)*N10)))","v":1.1729E-4},{"$f":"IF(O10=\"\",\"\",((('BDE data'!$K10/100)*O10)))","v":7.9250000000000002E-5},{"$f":"IF(P10=\"\",\"\",((('BDE data'!$K10/100)*P10)))","v":7.9250000000000002E-5},{"$f":"IF(Q10=\"\",\"\",((('BDE data'!$K10/100)*Q10)))","v":1.7118E-4},{"$f":"IF(R10=\"\",\"\",((('BDE data'!$K10/100)*R10)))","v":7.9598699999999994E-2},{"$f":"IF(S10=\"\",\"\",((('BDE data'!$K10/100)*S10)))","v":7.9250000000000002E-5},{"$f":"IF(T10=\"\",\"\",((('BDE data'!$K10/100)*T10)))","v":3.7089000000000002E-4},{"$f":"IF(U10=\"\",\"\",((('BDE data'!$K10/100)*U10)))","v":7.9250000000000002E-5},{"$f":"IF(V10=\"\",\"\",((('BDE data'!$K10/100)*V10)))","v":7.9250000000000002E-5},{"$f":"IF(W10=\"\",\"\",((('BDE data'!$K10/100)*W10)))","v":2.1556000000000003E-4}]
[null,null,null,null,null,null,null,"MAR02481.004","","",4,{"$f":"IF(L11=\"\",\"\",((('BDE data'!$K11/100)*L11)))","v":1.1700000000000001E-4},{"$f":"IF(M11=\"\",\"\",((('BDE data'!$K11/100)*M11)))","v":8.125000000000001E-5},{"$f":"IF(N11=\"\",\"\",((('BDE data'!$K11/100)*N11)))","v":1.2025000000000001E-4},{"$f":"IF(O11=\"\",\"\",((('BDE data'!$K11/100)*O11)))","v":1.0400000000000001E-4},{"$f":"IF(P11=\"\",\"\",((('BDE data'!$K11/100)*P11)))","v":8.125000000000001E-5},{"$f":"IF(Q11=\"\",\"\",((('BDE data'!$K11/100)*Q11)))","v":1.6899999999999999E-4},{"$f":"IF(R11=\"\",\"\",((('BDE data'!$K11/100)*R11)))","v":7.2702500000000003E-2},{"$f":"IF(S11=\"\",\"\",((('BDE data'!$K11/100)*S11)))","v":9.4250000000000001E-5},{"$f":"IF(T11=\"\",\"\",((('BDE data'!$K11/100)*T11)))","v":5.5900000000000004E-4},{"$f":"IF(U11=\"\",\"\",((('BDE data'!$K11/100)*U11)))","v":8.125000000000001E-5},{"$f":"IF(V11=\"\",\"\",((('BDE data'!$K11/100)*V11)))","v":8.125000000000001E-5},{"$f":"IF(W11=\"\",\"\",((('BDE data'!$K11/100)*W11)))","v":3.3799999999999998E-4}]
[null,null,null,null,null,null,null,"MAR02481.005","","",5,{"$f":"IF(L12=\"\",\"\",((('BDE data'!$K12/100)*L12)))","v":2.2735999999999996E-4},{"$f":"IF(M12=\"\",\"\",((('BDE data'!$K12/100)*M12)))","v":1.16E-4},{"$f":"IF(N12=\"\",\"\",((('BDE data'!$K12/100)*N12)))","v":2.4127999999999997E-4},{"$f":"IF(O12=\"\",\"\",((('BDE data'!$K12/100)*O12)))","v":2.1807999999999997E-4},{"$f":"IF(P12=\"\",\"\",((('BDE data'!$K12/100)*P12)))","v":1.4848000000000001E-4},{"$f":"IF(Q12=\"\",\"\",((('BDE data'!$K12/100)*Q12)))","v":8.398399999999999E-4},{"$f":"IF(R12=\"\",\"\",((('BDE data'!$K12/100)*R12)))","v":0.1562288},{"$f":"IF(S12=\"\",\"\",((('BDE data'!$K12/100)*S12)))","v":1.4383999999999998E-4},{"$f":"IF(T12=\"\",\"\",((('BDE data'!$K12/100)*T12)))","v":8.4911999999999997E-4},{"$f":"IF(U12=\"\",\"\",((('BDE data'!$K12/100)*U12)))","v":1.16E-4},{"$f":"IF(V12=\"\",\"\",((('BDE data'!$K12/100)*V12)))","v":1.16E-4},{"$f":"IF(W12=\"\",\"\",((('BDE data'!$K12/100)*W12)))","v":6.6816E-4}]
[null,null,null,null,null,null,null,"MAR02481.006","","",6,{"$f":"IF(L13=\"\",\"\",((('BDE data'!$K13/100)*L13)))","v":1.6145999999999999E-4},{"$f":"IF(M13=\"\",\"\",((('BDE data'!$K13/100)*M13)))","v":1.0349999999999999E-4},{"$f":"IF(N13=\"\",\"\",((('BDE data'!$K13/100)*N13)))","v":1.3662E-4},{"$f":"IF(O13=\"\",\"\",((('BDE data'!$K13/100)*O13)))","v":1.1591999999999999E-4},{"$f":"IF(P13=\"\",\"\",((('BDE data'!$K13/100)*P13)))","v":1.3248000000000001E-4},{"$f":"IF(Q13=\"\",\"\",((('BDE data'!$K13/100)*Q13)))","v":2.2770000000000001E-4},{"$f":"IF(R13=\"\",\"\",((('BDE data'!$K13/100)*R13)))","v":8.9755199999999993E-2},{"$f":"IF(S13=\"\",\"\",((('BDE data'!$K13/100)*S13)))","v":1.3662E-4},{"$f":"IF(T13=\"\",\"\",((('BDE data'!$K13/100)*T13)))","v":7.7831999999999999E-4},{"$f":"IF(U13=\"\",\"\",((('BDE data'!$K13/100)*U13)))","v":1.0349999999999999E-4},{"$f":"IF(V13=\"\",\"\",((('BDE data'!$K13/100)*V13)))","v":1.0349999999999999E-4},{"$f":"IF(W13=\"\",\"\",((('BDE data'!$K13/100)*W13)))","v":4.8437999999999997E-4}]
[null,null,null,null,null,null,null,"MAR02481.007","","",7,{"$f":"IF(L14=\"\",\"\",((('BDE data'!$K14/100)*L14)))","v":3.0792999999999999E-4},{"$f":"IF(M14=\"\",\"\",((('BDE data'!$K14/100)*M14)))","v":9.2750000000000005E-5},{"$f":"IF(N14=\"\",\"\",((('BDE data'!$K14/100)*N14)))","v":1.8178999999999998E-4},{"$f":"IF(O14=\"\",\"\",((('BDE data'!$K14/100)*O14)))","v":1.3726999999999999E-4},{"$f":"IF(P14=\"\",\"\",((('BDE data'!$K14/100)*P14)))","v":9.2750000000000005E-5},{"$f":"IF(Q14=\"\",\"\",((('BDE data'!$K14/100)*Q14)))","v":2.4486000000000001E-4},{"$f":"IF(R14=\"\",\"\",((('BDE data'!$K14/100)*R14)))","v":5.1383500000000006E-2},{"$f":"IF(S14=\"\",\"\",((('BDE data'!$K14/100)*S14)))","v":1.0759E-4},{"$f":"IF(T14=\"\",\"\",((('BDE data'!$K14/100)*T14)))","v":1.0499299999999999E-3},{"$f":"IF(U14=\"\",\"\",((('BDE data'!$K14/100)*U14)))","v":9.2750000000000005E-5},{"$f":"IF(V14=\"\",\"\",((('BDE data'!$K14/100)*V14)))","v":9.2750000000000005E-5},{"$f":"IF(W14=\"\",\"\",((('BDE data'!$K14/100)*W14)))","v":1.0313799999999999E-3}]
[null,null,null,null,null,null,null,"MAR02481.008","","",8,{"$f":"IF(L15=\"\",\"\",((('BDE data'!$K15/100)*L15)))","v":1.3047999999999998E-4},{"$f":"IF(M15=\"\",\"\",((('BDE data'!$K15/100)*M15)))","v":1.1650000000000001E-4},{"$f":"IF(N15=\"\",\"\",((('BDE data'!$K15/100)*N15)))","v":1.3979999999999998E-4},{"$f":"IF(O15=\"\",\"\",((('BDE data'!$K15/100)*O15)))","v":1.5378000000000001E-4},{"$f":"IF(P15=\"\",\"\",((('BDE data'!$K15/100)*P15)))","v":1.5844000000000001E-4},{"$f":"IF(Q15=\"\",\"\",((('BDE data'!$K15/100)*Q15)))","v":4.7066000000000002E-4},{"$f":"IF(R15=\"\",\"\",((('BDE data'!$K15/100)*R15)))","v":9.9537600000000018E-2},{"$f":"IF(S15=\"\",\"\",((('BDE data'!$K15/100)*S15)))","v":1.3514000000000001E-4},{"$f":"IF(T15=\"\",\"\",((('BDE data'!$K15/100)*T15)))","v":7.6424000000000001E-4},{"$f":"IF(U15=\"\",\"\",((('BDE data'!$K15/100)*U15)))","v":1.1650000000000001E-4},{"$f":"IF(V15=\"\",\"\",((('BDE data'!$K15/100)*V15)))","v":1.1650000000000001E-4},{"$f":"IF(W15=\"\",\"\",((('BDE data'!$K15/100)*W15)))","v":7.4094000000000004E-4}]
[null,null,null,null,null,null,null,"MAR02481.009","","",9,{"$f":"IF(L16=\"\",\"\",((('BDE data'!$K16/100)*L16)))","v":1.5200000000000001E-4},{"$f":"IF(M16=\"\",\"\",((('BDE data'!$K16/100)*M16)))","v":1.5200000000000001E-4},{"$f":"IF(N16=\"\",\"\",((('BDE data'!$K16/100)*N16)))","v":1.5200000000000001E-4},{"$f":"IF(O16=\"\",\"\",((('BDE data'!$K16/100)*O16)))","v":1.5200000000000001E-4},{"$f":"IF(P16=\"\",\"\",((('BDE data'!$K16/100)*P16)))","v":1.5200000000000001E-4},{"$f":"IF(Q16=\"\",\"\",((('BDE data'!$K16/100)*Q16)))","v":1.5200000000000001E-4},{"$f":"IF(R16=\"\",\"\",((('BDE data'!$K16/100)*R16)))","v":1.39232E-2},{"$f":"IF(S16=\"\",\"\",((('BDE data'!$K16/100)*S16)))","v":1.5200000000000001E-4},{"$f":"IF(T16=\"\",\"\",((('BDE data'!$K16/100)*T16)))","v":3.2224E-4},{"$f":"IF(U16=\"\",\"\",((('BDE data'!$K16/100)*U16)))","v":1.5200000000000001E-4},{"$f":"IF(V16=\"\",\"\",((('BDE data'!$K16/100)*V16)))","v":1.5200000000000001E-4},{"$f":"IF(W16=\"\",\"\",((('BDE data'!$K16/100)*W16)))","v":2.6143999999999999E-4}]
[null,null,null,null,null,null,null,"MAR02481.010","","",10,{"$f":"IF(L17=\"\",\"\",((('BDE data'!$K17/100)*L17)))","v":2.1067999999999998E-4},{"$f":"IF(M17=\"\",\"\",((('BDE data'!$K17/100)*M17)))","v":1.1449999999999999E-4},{"$f":"IF(N17=\"\",\"\",((('BDE data'!$K17/100)*N17)))","v":1.5572000000000001E-4},{"$f":"IF(O17=\"\",\"\",((('BDE data'!$K17/100)*O17)))","v":1.2823999999999998E-4},{"$f":"IF(P17=\"\",\"\",((('BDE data'!$K17/100)*P17)))","v":1.1907999999999998E-4},{"$f":"IF(Q17=\"\",\"\",((('BDE data'!$K17/100)*Q17)))","v":1.5113999999999999E-4},{"$f":"IF(R17=\"\",\"\",((('BDE data'!$K17/100)*R17)))","v":3.1143999999999998E-2},{"$f":"IF(S17=\"\",\"\",((('BDE data'!$K17/100)*S17)))","v":1.6488000000000001E-4},{"$f":"IF(T17=\"\",\"\",((('BDE data'!$K17/100)*T17)))","v":9.9843999999999996E-4},{"$f":"IF(U17=\"\",\"\",((('BDE data'!$K17/100)*U17)))","v":1.1449999999999999E-4},{"$f":"IF(V17=\"\",\"\",((('BDE data'!$K17/100)*V17)))","v":1.1449999999999999E-4},{"$f":"IF(W17=\"\",\"\",((('BDE data'!$K17/100)*W17)))","v":7.6943999999999992E-4}]
[null,null,null,null,null,null,null,"MAR02481.011","","",11,{"$f":"IF(L18=\"\",\"\",((('BDE data'!$K18/100)*L18)))","v":6.0705999999999998E-4},{"$f":"IF(M18=\"\",\"\",((('BDE data'!$K18/100)*M18)))","v":1.6252000000000001E-4},{"$f":"IF(N18=\"\",\"\",((('BDE data'!$K18/100)*N18)))","v":5.4013999999999993E-4},{"$f":"IF(O18=\"\",\"\",((('BDE data'!$K18/100)*O18)))","v":3.9195999999999995E-4},{"$f":"IF(P18=\"\",\"\",((('BDE data'!$K18/100)*P18)))","v":4.7322E-4},{"$f":"IF(Q18=\"\",\"\",((('BDE data'!$K18/100)*Q18)))","v":3.2981999999999998E-4},{"$f":"IF(R18=\"\",\"\",((('BDE data'!$K18/100)*R18)))","v":6.663319999999999E-2},{"$f":"IF(S18=\"\",\"\",((('BDE data'!$K18/100)*S18)))","v":6.0705999999999998E-4},{"$f":"IF(T18=\"\",\"\",((('BDE data'!$K18/100)*T18)))","v":2.8536599999999996E-3},{"$f":"IF(U18=\"\",\"\",((('BDE data'!$K18/100)*U18)))","v":5.8794000000000001E-4},{"$f":"IF(V18=\"\",\"\",((('BDE data'!$K18/100)*V18)))","v":1.9597999999999998E-4},{"$f":"IF(W18=\"\",\"\",((('BDE data'!$K18/100)*W18)))","v":2.8775599999999999E-3}]
[null,null,null,null,null,null,null,"MAR02481.012","","",12,{"$f":"IF(L19=\"\",\"\",((('BDE data'!$K19/100)*L19)))","v":2.1756E-4},{"$f":"IF(M19=\"\",\"\",((('BDE data'!$K19/100)*M19)))","v":1.11E-4},{"$f":"IF(N19=\"\",\"\",((('BDE data'!$K19/100)*N19)))","v":1.9091999999999999E-4},{"$f":"IF(O19=\"\",\"\",((('BDE data'!$K19/100)*O19)))","v":1.4652E-4},{"$f":"IF(P19=\"\",\"\",((('BDE data'!$K19/100)*P19)))","v":1.9091999999999999E-4},{"$f":"IF(Q19=\"\",\"\",((('BDE data'!$K19/100)*Q19)))","v":2.0424000000000001E-4},{"$f":"IF(R19=\"\",\"\",((('BDE data'!$K19/100)*R19)))","v":5.6876399999999994E-2},{"$f":"IF(S19=\"\",\"\",((('BDE data'!$K19/100)*S19)))","v":2.4420000000000003E-4},{"$f":"IF(T19=\"\",\"\",((('BDE data'!$K19/100)*T19)))","v":1.18548E-3},{"$f":"IF(U19=\"\",\"\",((('BDE data'!$K19/100)*U19)))","v":2.2644000000000001E-4},{"$f":"IF(V19=\"\",\"\",((('BDE data'!$K19/100)*V19)))","v":1.11E-4},{"$f":"IF(W19=\"\",\"\",((('BDE data'!$K19/100)*W19)))","v":8.7912000000000005E-4}]
[null,null,null,null,null,null,null,"MAR02481.013","","",13,{"$f":"IF(L20=\"\",\"\",((('BDE data'!$K20/100)*L20)))","v":2.352E-4},{"$f":"IF(M20=\"\",\"\",((('BDE data'!$K20/100)*M20)))","v":1.225E-4},{"$f":"IF(N20=\"\",\"\",((('BDE data'!$K20/100)*N20)))","v":1.9109999999999998E-4},{"$f":"IF(O20=\"\",\"\",((('BDE data'!$K20/100)*O20)))","v":1.617E-4},{"$f":"IF(P20=\"\",\"\",((('BDE data'!$K20/100)*P20)))","v":2.009E-4},{"$f":"IF(Q20=\"\",\"\",((('BDE data'!$K20/100)*Q20)))","v":1.6660000000000001E-4},{"$f":"IF(R20=\"\",\"\",((('BDE data'!$K20/100)*R20)))","v":4.5226999999999996E-2},{"$f":"IF(S20=\"\",\"\",((('BDE data'!$K20/100)*S20)))","v":2.4499999999999999E-4},{"$f":"IF(T20=\"\",\"\",((('BDE data'!$K20/100)*T20)))","v":1.0535E-3},{"$f":"IF(U20=\"\",\"\",((('BDE data'!$K20/100)*U20)))","v":1.7149999999999999E-4},{"$f":"IF(V20=\"\",\"\",((('BDE data'!$K20/100)*V20)))","v":1.225E-4},{"$f":"IF(W20=\"\",\"\",((('BDE data'!$K20/100)*W20)))","v":9.3590000000000003E-4}]
[null,null,null,null,null,null,null,"MAR02481.014","","",15,{"$f":"IF(L21=\"\",\"\",((('BDE data'!$K21/100)*L21)))","v":1.5875000000000001E-4},{"$f":"IF(M21=\"\",\"\",((('BDE data'!$K21/100)*M21)))","v":1.5875000000000001E-4},{"$f":"IF(N21=\"\",\"\",((('BDE data'!$K21/100)*N21)))","v":2.0320000000000001E-4},{"$f":"IF(O21=\"\",\"\",((('BDE data'!$K21/100)*O21)))","v":1.5875000000000001E-4},{"$f":"IF(P21=\"\",\"\",((('BDE data'!$K21/100)*P21)))","v":1.8415E-4},{"$f":"IF(Q21=\"\",\"\",((('BDE data'!$K21/100)*Q21)))","v":1.8415E-4},{"$f":"IF(R21=\"\",\"\",((('BDE data'!$K21/100)*R21)))","v":3.2258000000000002E-2},{"$f":"IF(S21=\"\",\"\",((('BDE data'!$K21/100)*S21)))","v":2.3494999999999999E-4},{"$f":"IF(T21=\"\",\"\",((('BDE data'!$K21/100)*T21)))","v":1.1176000000000001E-3},{"$f":"IF(U21=\"\",\"\",((('BDE data'!$K21/100)*U21)))","v":2.3494999999999999E-4},{"$f":"IF(V21=\"\",\"\",((('BDE data'!$K21/100)*V21)))","v":1.5875000000000001E-4},{"$f":"IF(W21=\"\",\"\",((('BDE data'!$K21/100)*W21)))","v":9.4614999999999999E-4}]
[null,null,null,null,null,null,null,"MAR02481.015","","",17,{"$f":"IF(L22=\"\",\"\",((('BDE data'!$K22/100)*L22)))","v":1.7604E-4},{"$f":"IF(M22=\"\",\"\",((('BDE data'!$K22/100)*M22)))","v":1.2224999999999999E-4},{"$f":"IF(N22=\"\",\"\",((('BDE data'!$K22/100)*N22)))","v":2.4449999999999998E-4},{"$f":"IF(O22=\"\",\"\",((('BDE data'!$K22/100)*O22)))","v":1.4669999999999999E-4},{"$f":"IF(P22=\"\",\"\",((('BDE data'!$K22/100)*P22)))","v":1.2224999999999999E-4},{"$f":"IF(Q22=\"\",\"\",((('BDE data'!$K22/100)*Q22)))","v":8.4107999999999991E-4},{"$f":"IF(R22=\"\",\"\",((('BDE data'!$K22/100)*R22)))","v":3.06114E-2},{"$f":"IF(S22=\"\",\"\",((('BDE data'!$K22/100)*S22)))","v":1.2224999999999999E-4},{"$f":"IF(T22=\"\",\"\",((('BDE data'!$K22/100)*T22)))","v":7.9217999999999997E-4},{"$f":"IF(U22=\"\",\"\",((('BDE data'!$K22/100)*U22)))","v":1.2224999999999999E-4},{"$f":"IF(V22=\"\",\"\",((('BDE data'!$K22/100)*V22)))","v":1.2224999999999999E-4},{"$f":"IF(W22=\"\",\"\",((('BDE data'!$K22/100)*W22)))","v":6.4548000000000003E-4}]
[null,null,null,null,null,null,null,"MAR02481.016","","",18,{"$f":"IF(L23=\"\",\"\",((('BDE data'!$K23/100)*L23)))","v":2.0475000000000002E-4},{"$f":"IF(M23=\"\",\"\",((('BDE data'!$K23/100)*M23)))","v":1.3125000000000002E-4},{"$f":"IF(N23=\"\",\"\",((('BDE data'!$K23/100)*N23)))","v":1.6800000000000002E-4},{"$f":"IF(O23=\"\",\"\",((('BDE data'!$K23/100)*O23)))","v":1.3125000000000002E-4},{"$f":"IF(P23=\"\",\"\",((('BDE data'!$K23/100)*P23)))","v":1.3125000000000002E-4},{"$f":"IF(Q23=\"\",\"\",((('BDE data'!$K23/100)*Q23)))","v":1.3649999999999998E-4},{"$f":"IF(R23=\"\",\"\",((('BDE data'!$K23/100)*R23)))","v":2.8980000000000002E-2},{"$f":"IF(S23=\"\",\"\",((('BDE data'!$K23/100)*S23)))","v":1.3125000000000002E-4},{"$f":"IF(T23=\"\",\"\",((('BDE data'!$K23/100)*T23)))","v":9.2400000000000013E-4},{"$f":"IF(U23=\"\",\"\",((('BDE data'!$K23/100)*U23)))","v":1.3125000000000002E-4},{"$f":"IF(V23=\"\",\"\",((('BDE data'!$K23/100)*V23)))","v":1.3125000000000002E-4},{"$f":"IF(W23=\"\",\"\",((('BDE data'!$K23/100)*W23)))","v":8.4525000000000008E-4}]
[null,null,null,null,null,null,null,{"$f":"IF(H24=\"\",\"\",H24)","v":"MAR02481.017"},"","",19,{"$f":"IF(L24=\"\",\"\",((('BDE data'!$K24/100)*L24)))","v":1.92E-4},{"$f":"IF(M24=\"\",\"\",((('BDE data'!$K24/100)*M24)))","v":1.2E-4},{"$f":"IF(N24=\"\",\"\",((('BDE data'!$K24/100)*N24)))","v":1.5360000000000002E-4},{"$f":"IF(O24=\"\",\"\",((('BDE data'!$K24/100)*O24)))","v":1.392E-4},{"$f":"IF(P24=\"\",\"\",((('BDE data'!$K24/100)*P24)))","v":1.2E-4},{"$f":"IF(Q24=\"\",\"\",((('BDE data'!$K24/100)*Q24)))","v":1.248E-4},{"$f":"IF(R24=\"\",\"\",((('BDE data'!$K24/100)*R24)))","v":2.2800000000000001E-2},{"$f":"IF(S24=\"\",\"\",((('BDE data'!$K24/100)*S24)))","v":1.2E-4},{"$f":"IF(T24=\"\",\"\",((('BDE data'!$K24/100)*T24)))","v":8.0639999999999998E-4},{"$f":"IF(U24=\"\",\"\",((('BDE data'!$K24/100)*U24)))","v":1.2E-4},{"$f":"IF(V24=\"\",\"\",((('BDE data'!$K24/100)*V24)))","v":1.2E-4},{"$f":"IF(W24=\"\",\"\",((('BDE data'!$K24/100)*W24)))","v":6.8159999999999998E-4}]
[null,null,null,null,null,null,null,"MAR02481.018","","",20,{"$f":"IF(L25=\"\",\"\",((('BDE data'!$K25/100)*L25)))","v":4.7472000000000004E-4},{"$f":"IF(M25=\"\",\"\",((('BDE data'!$K25/100)*M25)))","v":1.2900000000000002E-4},{"$f":"IF(N25=\"\",\"\",((('BDE data'!$K25/100)*N25)))","v":4.0247999999999998E-4},{"$f":"IF(O25=\"\",\"\",((('BDE data'!$K25/100)*O25)))","v":2.9928000000000002E-4},{"$f":"IF(P25=\"\",\"\",((('BDE data'!$K25/100)*P25)))","v":1.8576000000000001E-4},{"$f":"IF(Q25=\"\",\"\",((('BDE data'!$K25/100)*Q25)))","v":2.4252E-4},{"$f":"IF(R25=\"\",\"\",((('BDE data'!$K25/100)*R25)))","v":2.8586400000000001E-2},{"$f":"IF(S25=\"\",\"\",((('BDE data'!$K25/100)*S25)))","v":3.2508E-4},{"$f":"IF(T25=\"\",\"\",((('BDE data'!$K25/100)*T25)))","v":2.2807200000000004E-3},{"$f":"IF(U25=\"\",\"\",((('BDE data'!$K25/100)*U25)))","v":3.3539999999999997E-4},{"$f":"IF(V25=\"\",\"\",((('BDE data'!$K25/100)*V25)))","v":1.2900000000000002E-4},{"$f":"IF(W25=\"\",\"\",((('BDE data'!$K25/100)*W25)))","v":2.2342799999999999E-3}]
[null,null,null,null,null,null,null,"MAR02481.019","","",21,{"$f":"IF(L26=\"\",\"\",((('BDE data'!$K26/100)*L26)))","v":2.5109999999999998E-4},{"$f":"IF(M26=\"\",\"\",((('BDE data'!$K26/100)*M26)))","v":1.3949999999999998E-4},{"$f":"IF(N26=\"\",\"\",((('BDE data'!$K26/100)*N26)))","v":1.8413999999999998E-4},{"$f":"IF(O26=\"\",\"\",((('BDE data'!$K26/100)*O26)))","v":1.4507999999999996E-4},{"$f":"IF(P26=\"\",\"\",((('BDE data'!$K26/100)*P26)))","v":1.3949999999999998E-4},{"$f":"IF(Q26=\"\",\"\",((('BDE data'!$K26/100)*Q26)))","v":1.5623999999999998E-4},{"$f":"IF(R26=\"\",\"\",((('BDE data'!$K26/100)*R26)))","v":0.1638288},{"$f":"IF(S26=\"\",\"\",((('BDE data'!$K26/100)*S26)))","v":1.3949999999999998E-4},{"$f":"IF(T26=\"\",\"\",((('BDE data'!$K26/100)*T26)))","v":1.0378799999999999E-3},{"$f":"IF(U26=\"\",\"\",((('BDE data'!$K26/100)*U26)))","v":1.3949999999999998E-4},{"$f":"IF(V26=\"\",\"\",((('BDE data'!$K26/100)*V26)))","v":1.3949999999999998E-4},{"$f":"IF(W26=\"\",\"\",((('BDE data'!$K26/100)*W26)))","v":1.1439E-3}]
[null,null,null,null,null,null,null,"MAR02481.020","","",22,{"$f":"IF(L27=\"\",\"\",((('BDE data'!$K27/100)*L27)))","v":1.8919999999999999E-4},{"$f":"IF(M27=\"\",\"\",((('BDE data'!$K27/100)*M27)))","v":1.1E-4},{"$f":"IF(N27=\"\",\"\",((('BDE data'!$K27/100)*N27)))","v":1.584E-4},{"$f":"IF(O27=\"\",\"\",((('BDE data'!$K27/100)*O27)))","v":1.3640000000000001E-4},{"$f":"IF(P27=\"\",\"\",((('BDE data'!$K27/100)*P27)))","v":1.1E-4},{"$f":"IF(Q27=\"\",\"\",((('BDE data'!$K27/100)*Q27)))","v":2.1120000000000001E-4},{"$f":"IF(R27=\"\",\"\",((('BDE data'!$K27/100)*R27)))","v":1.8172000000000001E-2},{"$f":"IF(S27=\"\",\"\",((('BDE data'!$K27/100)*S27)))","v":1.1E-4},{"$f":"IF(T27=\"\",\"\",((('BDE data'!$K27/100)*T27)))","v":8.0080000000000006E-4},{"$f":"IF(U27=\"\",\"\",((('BDE data'!$K27/100)*U27)))","v":1.1E-4},{"$f":"IF(V27=\"\",\"\",((('BDE data'!$K27/100)*V27)))","v":1.1E-4},{"$f":"IF(W27=\"\",\"\",((('BDE data'!$K27/100)*W27)))","v":7.2159999999999998E-4}]
[null,null,null,null,null,null,null,"MAR02481.021","","",23,{"$f":"IF(L28=\"\",\"\",((('BDE data'!$K28/100)*L28)))","v":1.47E-4},{"$f":"IF(M28=\"\",\"\",((('BDE data'!$K28/100)*M28)))","v":1.47E-4},{"$f":"IF(N28=\"\",\"\",((('BDE data'!$K28/100)*N28)))","v":1.47E-4},{"$f":"IF(O28=\"\",\"\",((('BDE data'!$K28/100)*O28)))","v":1.47E-4},{"$f":"IF(P28=\"\",\"\",((('BDE data'!$K28/100)*P28)))","v":1.47E-4},{"$f":"IF(Q28=\"\",\"\",((('BDE data'!$K28/100)*Q28)))","v":1.47E-4},{"$f":"IF(R28=\"\",\"\",((('BDE data'!$K28/100)*R28)))","v":4.3100399999999997E-2},{"$f":"IF(S28=\"\",\"\",((('BDE data'!$K28/100)*S28)))","v":1.47E-4},{"$f":"IF(T28=\"\",\"\",((('BDE data'!$K28/100)*T28)))","v":5.1155999999999999E-4},{"$f":"IF(U28=\"\",\"\",((('BDE data'!$K28/100)*U28)))","v":1.47E-4},{"$f":"IF(V28=\"\",\"\",((('BDE data'!$K28/100)*V28)))","v":1.47E-4},{"$f":"IF(W28=\"\",\"\",((('BDE data'!$K28/100)*W28)))","v":4.7627999999999993E-4}]
[null,null,null,null,null,null,null,"MAR02481.022","","",24,{"$f":"IF(L29=\"\",\"\",((('BDE data'!$K29/100)*L29)))","v":1.6524999999999998E-4},{"$f":"IF(M29=\"\",\"\",((('BDE data'!$K29/100)*M29)))","v":1.6524999999999998E-4},{"$f":"IF(N29=\"\",\"\",((('BDE data'!$K29/100)*N29)))","v":1.6524999999999998E-4},{"$f":"IF(O29=\"\",\"\",((('BDE data'!$K29/100)*O29)))","v":1.6524999999999998E-4},{"$f":"IF(P29=\"\",\"\",((('BDE data'!$K29/100)*P29)))","v":1.6524999999999998E-4},{"$f":"IF(Q29=\"\",\"\",((('BDE data'!$K29/100)*Q29)))","v":1.6524999999999998E-4},{"$f":"IF(R29=\"\",\"\",((('BDE data'!$K29/100)*R29)))","v":2.3134999999999999E-2},{"$f":"IF(S29=\"\",\"\",((('BDE data'!$K29/100)*S29)))","v":1.6524999999999998E-4},{"$f":"IF(T29=\"\",\"\",((('BDE data'!$K29/100)*T29)))","v":2.6439999999999998E-4},{"$f":"IF(U29=\"\",\"\",((('BDE data'!$K29/100)*U29)))","v":1.6524999999999998E-4},{"$f":"IF(V29=\"\",\"\",((('BDE data'!$K29/100)*V29)))","v":1.6524999999999998E-4},{"$f":"IF(W29=\"\",\"\",((('BDE data'!$K29/100)*W29)))","v":2.3134999999999996E-4}]
[null,null,null,null,null,null,null,"MAR02481.023","","",25,{"$f":"IF(L30=\"\",\"\",((('BDE data'!$K30/100)*L30)))","v":1.5775000000000001E-4},{"$f":"IF(M30=\"\",\"\",((('BDE data'!$K30/100)*M30)))","v":1.5775000000000001E-4},{"$f":"IF(N30=\"\",\"\",((('BDE data'!$K30/100)*N30)))","v":1.5775000000000001E-4},{"$f":"IF(O30=\"\",\"\",((('BDE data'!$K30/100)*O30)))","v":1.5775000000000001E-4},{"$f":"IF(P30=\"\",\"\",((('BDE data'!$K30/100)*P30)))","v":1.5775000000000001E-4},{"$f":"IF(Q30=\"\",\"\",((('BDE data'!$K30/100)*Q30)))","v":1.5775000000000001E-4},{"$f":"IF(R30=\"\",\"\",((('BDE data'!$K30/100)*R30)))","v":4.1015000000000001E-3},{"$f":"IF(S30=\"\",\"\",((('BDE data'!$K30/100)*S30)))","v":1.5775000000000001E-4},{"$f":"IF(T30=\"\",\"\",((('BDE data'!$K30/100)*T30)))","v":1.8299000000000001E-4},{"$f":"IF(U30=\"\",\"\",((('BDE data'!$K30/100)*U30)))","v":1.5775000000000001E-4},{"$f":"IF(V30=\"\",\"\",((('BDE data'!$K30/100)*V30)))","v":1.5775000000000001E-4},{"$f":"IF(W30=\"\",\"\",((('BDE data'!$K30/100)*W30)))","v":1.5775000000000001E-4}]
[null,null,null,null,null,null,null,"","","","",{"$f":"IF(L31=\"\",\"\",((('BDE data'!$K31/100)*L31)))","v":""},{"$f":"IF(M31=\"\",\"\",((('BDE data'!$K31/100)*M31)))","v":""},{"$f":"IF(N31=\"\",\"\",((('BDE data'!$K31/100)*N31)))","v":""},{"$f":"IF(O31=\"\",\"\",((('BDE data'!$K31/100)*O31)))","v":""},{"$f":"IF(P31=\"\",\"\",((('BDE data'!$K31/100)*P31)))","v":""},{"$f":"IF(Q31=\"\",\"\",((('BDE data'!$K31/100)*Q31)))","v":""},{"$f":"IF(R31=\"\",\"\",((('BDE data'!$K31/100)*R31)))","v":""},{"$f":"IF(S31=\"\",\"\",((('BDE data'!$K31/100)*S31)))","v":""},{"$f":"IF(T31=\"\",\"\",((('BDE data'!$K31/100)*T31)))","v":""},{"$f":"IF(U31=\"\",\"\",((('BDE data'!$K31/100)*U31)))","v":""},{"$f":"IF(V31=\"\",\"\",((('BDE data'!$K31/100)*V31)))","v":""},{"$f":"IF(W31=\"\",\"\",((('BDE data'!$K31/100)*W31)))","v":""}]
[null,null,null,null,null,null,null,"","","","",{"$f":"IF(L32=\"\",\"\",((('BDE data'!$K32/100)*L32)))","v":""},{"$f":"IF(M32=\"\",\"\",((('BDE data'!$K32/100)*M32)))","v":""},{"$f":"IF(N32=\"\",\"\",((('BDE data'!$K32/100)*N32)))","v":""},{"$f":"IF(O32=\"\",\"\",((('BDE data'!$K32/100)*O32)))","v":""},{"$f":"IF(P32=\"\",\"\",((('BDE data'!$K32/100)*P32)))","v":""},{"$f":"IF(Q32=\"\",\"\",((('BDE data'!$K32/100)*Q32)))","v":""},{"$f":"IF(R32=\"\",\"\",((('BDE data'!$K32/100)*R32)))","v":""},{"$f":"IF(S32=\"\",\"\",((('BDE data'!$K32/100)*S32)))","v":""},{"$f":"IF(T32=\"\",\"\",((('BDE data'!$K32/100)*T32)))","v":""},{"$f":"IF(U32=\"\",\"\",((('BDE data'!$K32/100)*U32)))","v":""},{"$f":"IF(V32=\"\",\"\",((('BDE data'!$K32/100)*V32)))","v":""},{"$f":"IF(W32=\"\",\"\",((('BDE data'!$K32/100)*W32)))","v":""}]
[null,null,null,null,null,null,null,"","","","",{"$f":"IF(L33=\"\",\"\",((('BDE data'!$K33/100)*L33)))","v":""},{"$f":"IF(M33=\"\",\"\",((('BDE data'!$K33/100)*M33)))","v":""},{"$f":"IF(N33=\"\",\"\",((('BDE data'!$K33/100)*N33)))","v":""},{"$f":"IF(O33=\"\",\"\",((('BDE data'!$K33/100)*O33)))","v":""},{"$f":"IF(P33=\"\",\"\",((('BDE data'!$K33/100)*P33)))","v":""},{"$f":"IF(Q33=\"\",\"\",((('BDE data'!$K33/100)*Q33)))","v":""},{"$f":"IF(R33=\"\",\"\",((('BDE data'!$K33/100)*R33)))","v":""},{"$f":"IF(S33=\"\",\"\",((('BDE data'!$K33/100)*S33)))","v":""},{"$f":"IF(T33=\"\",\"\",((('BDE data'!$K33/100)*T33)))","v":""},{"$f":"IF(U33=\"\",\"\",((('BDE data'!$K33/100)*U33)))","v":""},{"$f":"IF(V33=\"\",\"\",((('BDE data'!$K33/100)*V33)))","v":""},{"$f":"IF(W33=\"\",\"\",((('BDE data'!$K33/100)*W33)))","v":""}]
[null,null,null,null,null,null,null,"","","","",{"$f":"IF(L34=\"\",\"\",((('BDE data'!$K34/100)*L34)))","v":""},{"$f":"IF(M34=\"\",\"\",((('BDE data'!$K34/100)*M34)))","v":""},{"$f":"IF(N34=\"\",\"\",((('BDE data'!$K34/100)*N34)))","v":""},{"$f":"IF(O34=\"\",\"\",((('BDE data'!$K34/100)*O34)))","v":""},{"$f":"IF(P34=\"\",\"\",((('BDE data'!$K34/100)*P34)))","v":""},{"$f":"IF(Q34=\"\",\"\",((('BDE data'!$K34/100)*Q34)))","v":""},{"$f":"IF(R34=\"\",\"\",((('BDE data'!$K34/100)*R34)))","v":""},{"$f":"IF(S34=\"\",\"\",((('BDE data'!$K34/100)*S34)))","v":""},{"$f":"IF(T34=\"\",\"\",((('BDE data'!$K34/100)*T34)))","v":""},{"$f":"IF(U34=\"\",\"\",((('BDE data'!$K34/100)*U34)))","v":""},{"$f":"IF(V34=\"\",\"\",((('BDE data'!$K34/100)*V34)))","v":""},{"$f":"IF(W34=\"\",\"\",((('BDE data'!$K34/100)*W34)))","v":""}]
[null,null,null,null,null,null,null,"","","","",{"$f":"IF(L35=\"\",\"\",((('BDE data'!$K35/100)*L35)))","v":""},{"$f":"IF(M35=\"\",\"\",((('BDE data'!$K35/100)*M35)))","v":""},{"$f":"IF(N35=\"\",\"\",((('BDE data'!$K35/100)*N35)))","v":""},{"$f":"IF(O35=\"\",\"\",((('BDE data'!$K35/100)*O35)))","v":""},{"$f":"IF(P35=\"\",\"\",((('BDE data'!$K35/100)*P35)))","v":""},{"$f":"IF(Q35=\"\",\"\",((('BDE data'!$K35/100)*Q35)))","v":""},{"$f":"IF(R35=\"\",\"\",((('BDE data'!$K35/100)*R35)))","v":""},{"$f":"IF(S35=\"\",\"\",((('BDE data'!$K35/100)*S35)))","v":""},{"$f":"IF(T35=\"\",\"\",((('BDE data'!$K35/100)*T35)))","v":""},{"$f":"IF(U35=\"\",\"\",((('BDE data'!$K35/100)*U35)))","v":""},{"$f":"IF(V35=\"\",\"\",((('BDE data'!$K35/100)*V35)))","v":""},{"$f":"IF(W35=\"\",\"\",((('BDE data'!$K35/100)*W35)))","v":""}]
[null,null,null,null,null,null,null,"","","","",{"$f":"IF(L36=\"\",\"\",((('BDE data'!$K36/100)*L36)))","v":""},{"$f":"IF(M36=\"\",\"\",((('BDE data'!$K36/100)*M36)))","v":""},{"$f":"IF(N36=\"\",\"\",((('BDE data'!$K36/100)*N36)))","v":""},{"$f":"IF(O36=\"\",\"\",((('BDE data'!$K36/100)*O36)))","v":""},{"$f":"IF(P36=\"\",\"\",((('BDE data'!$K36/100)*P36)))","v":""},{"$f":"IF(Q36=\"\",\"\",((('BDE data'!$K36/100)*Q36)))","v":""},{"$f":"IF(R36=\"\",\"\",((('BDE data'!$K36/100)*R36)))","v":""},{"$f":"IF(S36=\"\",\"\",((('BDE data'!$K36/100)*S36)))","v":""},{"$f":"IF(T36=\"\",\"\",((('BDE data'!$K36/100)*T36)))","v":""},{"$f":"IF(U36=\"\",\"\",((('BDE data'!$K36/100)*U36)))","v":""},{"$f":"IF(V36=\"\",\"\",((('BDE data'!$K36/100)*V36)))","v":""},{"$f":"IF(W36=\"\",\"\",((('BDE data'!$K36/100)*W36)))","v":""}]
[null,null,null,null,null,null,null,"","","","",{"$f":"IF(L37=\"\",\"\",((('BDE data'!$K37/100)*L37)))","v":""},{"$f":"IF(M37=\"\",\"\",((('BDE data'!$K37/100)*M37)))","v":""},{"$f":"IF(N37=\"\",\"\",((('BDE data'!$K37/100)*N37)))","v":""},{"$f":"IF(O37=\"\",\"\",((('BDE data'!$K37/100)*O37)))","v":""},{"$f":"IF(P37=\"\",\"\",((('BDE data'!$K37/100)*P37)))","v":""},{"$f":"IF(Q37=\"\",\"\",((('BDE data'!$K37/100)*Q37)))","v":""},{"$f":"IF(R37=\"\",\"\",((('BDE data'!$K37/100)*R37)))","v":""},{"$f":"IF(S37=\"\",\"\",((('BDE data'!$K37/100)*S37)))","v":""},{"$f":"IF(T37=\"\",\"\",((('BDE data'!$K37/100)*T37)))","v":""},{"$f":"IF(U37=\"\",\"\",((('BDE data'!$K37/100)*U37)))","v":""},{"$f":"IF(V37=\"\",\"\",((('BDE data'!$K37/100)*V37)))","v":""},{"$f":"IF(W37=\"\",\"\",((('BDE data'!$K37/100)*W37)))","v":""}]
[null,null,null,null,null,null,null,null,null,"Averages:",null,{"$f":"IF(COUNT(L48:L77)<1,\"\", AVERAGE(L48:L77))","v":2.0674304347826082E-4},1.2065304347826087E-4,1.9355391304347826E-4,1.5646173913043477E-4,1.4931217391304347E-4,2.8004304347826092E-4,5.61702956521739E-2,1.6979826086956521E-4,8.7361391304347847E-4,1.5858608695652168E-4,1.2210782608695651E-4,7.7482434782608696E-4]
[]
[]
[]
[null,null,null,null,null,null,null,"Removal of excluded areas"]
[]
[null,null,null,null,null,null,null,"Laboratory sample number","Dredge Area","Excluded (y if yes)","Sample ID","Brominated flame retardants as mg/kg wet weight"]
[null,null,null,null,null,null,null,null,null,null,null,"2,2′,4,4′,6-penta-\n bromodiphenyl ether (BDE100)","Hexabromodiphenyl ether (BDE138) ","2,2′,4,4′,5,5′-hexa-\n bromodiphenyl ether (BDE153)","2,2′,4,4′,5,6′-hexa-bromodiphenyl ether (BDE154)","2,2´,4-tri-bromodiphenylether (BDE17)","2,2′,3,4,4′,5′,6-heptabromodiphenyl ether (BDE183)","2,2',3,3',4,4',5,5',6,6'-decabrominated diphenyl ether (BDE 209)","2,4,4'-tribromodiphenyl ether (BDE28)","2,2′,4,4′-Tetrabromodiphenyl ether (BDE47) ","2,3',4,4'-Tetrabromodiphenyl ether (BDE66)","2,2',3,4,4'-Pentabromodiphenyl ether  (BDE85)","2,2',4,4',5-pentabromodiphenyl ether   (BDE99)"]
[null,null,null,null,null,null,null,{"$f":"IF(H48=\"\",\"\",H48)","v":"MAR02481.001"},{"$f":"IF($J48=\"y\",\"\",I48)","v":""},"",{"$f":"IF($J48=\"y\",\"\",K48)","v":1},{"$f":"IF($J48=\"y\",\"\",L48)","v":9.0210000000000005E-5},{"$f":"IF($J48=\"y\",\"\",M48)","v":7.2750000000000007E-5},1.8333000000000002E-4,1.1349000000000001E-4,7.2750000000000007E-5,6.4893000000000014E-4,6.6959100000000008E-2,7.2750000000000007E-5,2.9682000000000005E-4,7.2750000000000007E-5,7.2750000000000007E-5,2.6481000000000003E-4]
[null,null,null,null,null,null,null,"MAR02481.002","","",2,{"$f":"IF($J49=\"y\",\"\",L49)","v":8.6489999999999994E-5},6.9749999999999988E-5,1.1717999999999999E-4,6.9749999999999988E-5,6.9749999999999988E-5,2.9852999999999998E-4,6.6374099999999991E-2,6.9749999999999988E-5,2.9294999999999994E-4,6.9749999999999988E-5,6.9749999999999988E-5,2.7063E-4]
[null,null,null,null,null,null,null,"MAR02481.003","","",3,{"$f":"IF($J50=\"y\",\"\",L50)","v":9.5099999999999994E-5},7.9250000000000002E-5,1.1729E-4,7.9250000000000002E-5,7.9250000000000002E-5,1.7118E-4,7.9598699999999994E-2,7.9250000000000002E-5,3.7089000000000002E-4,7.9250000000000002E-5,7.9250000000000002E-5,2.1556000000000003E-4]
[null,null,null,null,null,null,null,"MAR02481.004","","",4,{"$f":"IF($J51=\"y\",\"\",L51)","v":1.1700000000000001E-4},8.125000000000001E-5,1.2025000000000001E-4,1.0400000000000001E-4,8.125000000000001E-5,1.6899999999999999E-4,7.2702500000000003E-2,9.4250000000000001E-5,5.5900000000000004E-4,8.125000000000001E-5,8.125000000000001E-5,3.3799999999999998E-4]
[null,null,null,null,null,null,null,"MAR02481.005","","",5,{"$f":"IF($J52=\"y\",\"\",L52)","v":2.2735999999999996E-4},1.16E-4,2.4127999999999997E-4,2.1807999999999997E-4,1.4848000000000001E-4,8.398399999999999E-4,0.1562288,1.4383999999999998E-4,8.4911999999999997E-4,1.16E-4,1.16E-4,6.6816E-4]
[null,null,null,null,null,null,null,"MAR02481.006","","",6,{"$f":"IF($J53=\"y\",\"\",L53)","v":1.6145999999999999E-4},1.0349999999999999E-4,1.3662E-4,1.1591999999999999E-4,1.3248000000000001E-4,2.2770000000000001E-4,8.9755199999999993E-2,1.3662E-4,7.7831999999999999E-4,1.0349999999999999E-4,1.0349999999999999E-4,4.8437999999999997E-4]
[null,null,null,null,null,null,null,"MAR02481.007","","",7,{"$f":"IF($J54=\"y\",\"\",L54)","v":3.0792999999999999E-4},9.2750000000000005E-5,1.8178999999999998E-4,1.3726999999999999E-4,9.2750000000000005E-5,2.4486000000000001E-4,5.1383500000000006E-2,1.0759E-4,1.0499299999999999E-3,9.2750000000000005E-5,9.2750000000000005E-5,1.0313799999999999E-3]
[null,null,null,null,null,null,null,"MAR02481.008","","",8,{"$f":"IF($J55=\"y\",\"\",L55)","v":1.3047999999999998E-4},1.1650000000000001E-4,1.3979999999999998E-4,1.5378000000000001E-4,1.5844000000000001E-4,4.7066000000000002E-4,9.9537600000000018E-2,1.3514000000000001E-4,7.6424000000000001E-4,1.1650000000000001E-4,1.1650000000000001E-4,7.4094000000000004E-4]
[null,null,null,null,null,null,null,"MAR02481.009","","",9,{"$f":"IF($J56=\"y\",\"\",L56)","v":1.5200000000000001E-4},1.5200000000000001E-4,1.5200000000000001E-4,1.5200000000000001E-4,1.5200000000000001E-4,1.5200000000000001E-4,1.39232E-2,1.5200000000000001E-4,3.2224E-4,1.5200000000000001E-4,1.5200000000000001E-4,2.6143999999999999E-4]
[null,null,null,null,null,null,null,"MAR02481.010","","",10,{"$f":"IF($J57=\"y\",\"\",L57)","v":2.1067999999999998E-4},1.1449999999999999E-4,1.5572000000000001E-4,1.2823999999999998E-4,1.1907999999999998E-4,1.5113999999999999E-4,3.1143999999999998E-2,1.6488000000000001E-4,9.9843999999999996E-4,1.1449999999999999E-4,1.1449999999999999E-4,7.6943999999999992E-4]
[null,null,null,null,null,null,null,"MAR02481.011","","",11,{"$f":"IF($J58=\"y\",\"\",L58)","v":6.0705999999999998E-4},1.6252000000000001E-4,5.4013999999999993E-4,3.9195999999999995E-4,4.7322E-4,3.2981999999999998E-4,6.663319999999999E-2,6.0705999999999998E-4,2.8536599999999996E-3,5.8794000000000001E-4,1.9597999999999998E-4,2.8775599999999999E-3]
[null,null,null,null,null,null,null,"MAR02481.012","","",12,{"$f":"IF($J59=\"y\",\"\",L59)","v":2.1756E-4},1.11E-4,1.9091999999999999E-4,1.4652E-4,1.9091999999999999E-4,2.0424000000000001E-4,5.6876399999999994E-2,2.4420000000000003E-4,1.18548E-3,2.2644000000000001E-4,1.11E-4,8.7912000000000005E-4]
[null,null,null,null,null,null,null,"MAR02481.013","","",13,{"$f":"IF($J60=\"y\",\"\",L60)","v":2.352E-4},1.225E-4,1.9109999999999998E-4,1.617E-4,2.009E-4,1.6660000000000001E-4,4.5226999999999996E-2,2.4499999999999999E-4,1.0535E-3,1.7149999999999999E-4,1.225E-4,9.3590000000000003E-4]
[null,null,null,null,null,null,null,"MAR02481.014","","",15,{"$f":"IF($J61=\"y\",\"\",L61)","v":1.5875000000000001E-4},1.5875000000000001E-4,2.0320000000000001E-4,1.5875000000000001E-4,1.8415E-4,1.8415E-4,3.2258000000000002E-2,2.3494999999999999E-4,1.1176000000000001E-3,2.3494999999999999E-4,1.5875000000000001E-4,9.4614999999999999E-4]
[null,null,null,null,null,null,null,"MAR02481.015","","",17,{"$f":"IF($J62=\"y\",\"\",L62)","v":1.7604E-4},1.2224999999999999E-4,2.4449999999999998E-4,1.4669999999999999E-4,1.2224999999999999E-4,8.4107999999999991E-4,3.06114E-2,1.2224999999999999E-4,7.9217999999999997E-4,1.2224999999999999E-4,1.2224999999999999E-4,6.4548000000000003E-4]
[null,null,null,null,null,null,null,"MAR02481.016","","",18,{"$f":"IF($J63=\"y\",\"\",L63)","v":2.0475000000000002E-4},1.3125000000000002E-4,1.6800000000000002E-4,1.3125000000000002E-4,1.3125000000000002E-4,1.3649999999999998E-4,2.8980000000000002E-2,1.3125000000000002E-4,9.2400000000000013E-4,1.3125000000000002E-4,1.3125000000000002E-4,8.4525000000000008E-4]
[null,null,null,null,null,null,null,{"$f":"IF(H64=\"\",\"\",H64)","v":"MAR02481.017"},"","",19,{"$f":"IF($J64=\"y\",\"\",L64)","v":1.92E-4},1.2E-4,1.5360000000000002E-4,1.392E-4,1.2E-4,1.248E-4,2.2800000000000001E-2,1.2E-4,8.0639999999999998E-4,1.2E-4,1.2E-4,6.8159999999999998E-4]
[null,null,null,null,null,null,null,"MAR02481.018","","",20,{"$f":"IF($J65=\"y\",\"\",L65)","v":4.7472000000000004E-4},1.2900000000000002E-4,4.0247999999999998E-4,2.9928000000000002E-4,1.8576000000000001E-4,2.4252E-4,2.8586400000000001E-2,3.2508E-4,2.2807200000000004E-3,3.3539999999999997E-4,1.2900000000000002E-4,2.2342799999999999E-3]
[null,null,null,null,null,null,null,"MAR02481.019","","",21,{"$f":"IF($J66=\"y\",\"\",L66)","v":2.5109999999999998E-4},1.3949999999999998E-4,1.8413999999999998E-4,1.4507999999999996E-4,1.3949999999999998E-4,1.5623999999999998E-4,0.1638288,1.3949999999999998E-4,1.0378799999999999E-3,1.3949999999999998E-4,1.3949999999999998E-4,1.1439E-3]
[null,null,null,null,null,null,null,"MAR02481.020","","",22,{"$f":"IF($J67=\"y\",\"\",L67)","v":1.8919999999999999E-4},1.1E-4,1.584E-4,1.3640000000000001E-4,1.1E-4,2.1120000000000001E-4,1.8172000000000001E-2,1.1E-4,8.0080000000000006E-4,1.1E-4,1.1E-4,7.2159999999999998E-4]
[null,null,null,null,null,null,null,"MAR02481.021","","",23,{"$f":"IF($J68=\"y\",\"\",L68)","v":1.47E-4},1.47E-4,1.47E-4,1.47E-4,1.47E-4,1.47E-4,4.3100399999999997E-2,1.47E-4,5.1155999999999999E-4,1.47E-4,1.47E-4,4.7627999999999993E-4]
[null,null,null,null,null,null,null,"MAR02481.022","","",24,{"$f":"IF($J69=\"y\",\"\",L69)","v":1.6524999999999998E-4},1.6524999999999998E-4,1.6524999999999998E-4,1.6524999999999998E-4,1.6524999999999998E-4,1.6524999999999998E-4,2.3134999999999999E-2,1.6524999999999998E-4,2.6439999999999998E-4,1.6524999999999998E-4,1.6524999999999998E-4,2.3134999999999996E-4]
[null,null,null,null,null,null,null,"MAR02481.023","","",25,{"$f":"IF($J70=\"y\",\"\",L70)","v":1.5775000000000001E-4},1.5775000000000001E-4,1.5775000000000001E-4,1.5775000000000001E-4,1.5775000000000001E-4,1.5775000000000001E-4,4.1015000000000001E-3,1.5775000000000001E-4,1.8299000000000001E-4,1.5775000000000001E-4,1.5775000000000001E-4,1.5775000000000001E-4]
[null,null,null,null,null,null,null,"","","","",{"$f":"IF($J71=\"y\",\"\",L71)","v":""},"","","","","","","","","","",""]
[null,null,null,null,null,null,null,"","","","",{"$f":"IF($J72=\"y\",\"\",L72)","v":""},"","","","","","","","","","",""]
[null,null,null,null,null,null,null,"","","","",{"$f":"IF($J73=\"y\",\"\",L73)","v":""},"","","","","","","","","","",""]
[null,null,null,null,null,null,null,"","","","",{"$f":"IF($J74=\"y\",\"\",L74)","v":""},"","","","","","","","","","",""]
[null,null,null,null,null,null,null,"","","","",{"$f":"IF($J75=\"y\",\"\",L75)","v":""},"","","","","","","","","","",""]
[null,null,null,null,null,null,null,"","","","",{"$f":"IF($J76=\"y\",\"\",L76)","v":""},"","","","","","","","","","",""]
[null,null,null,null,null,null,null,"","","","",{"$f":"IF($J77=\"y\",\"\",L77)","v":""},"","","","","","","","","","",""]
[null,null,null,null,null,null,null,null,null,"Averages:",null,{"$f":"IF(COUNT(L86:L115)<1,\"\", AVERAGE(L86:L115))","v":2.0674304347826082E-4},{"$f":"IF(COUNT(M86:M115)<1,\"\", AVERAGE(M86:M115))","v":1.2065304347826087E-4},1.9355391304347826E-4,1.5646173913043477E-4,1.4931217391304347E-4,2.8004304347826092E-4,5.61702956521739E-2,1.6979826086956521E-4,8.7361391304347847E-4,1.5858608695652168E-4,1.2210782608695651E-4,7.7482434782608696E-4]
[]
[]
[]
[null,null,null,null,null,null,null,"Force significant figures"]
[]
[null,null,null,null,null,null,null,"Laboratory sample number","Dredge Area","Excluded (y if yes)","Sample ID","Brominated flame retardants as mg/kg wet weight"]
[null,null,null,null,null,null,null,null,null,null,null,"2,2′,4,4′,6-penta-\n bromodiphenyl ether (BDE100)","Hexabromodiphenyl ether (BDE138) ","2,2′,4,4′,5,5′-hexa-\n bromodiphenyl ether (BDE153)","2,2′,4,4′,5,6′-hexa-bromodiphenyl ether (BDE154)","2,2´,4-tri-bromodiphenylether (BDE17)","2,2′,3,4,4′,5′,6-heptabromodiphenyl ether (BDE183)","2,2',3,3',4,4',5,5',6,6'-decabrominated diphenyl ether (BDE 209)","2,4,4'-tribromodiphenyl ether (BDE28)","2,2′,4,4′-Tetrabromodiphenyl ether (BDE47) ","2,3',4,4'-Tetrabromodiphenyl ether (BDE66)","2,2',3,4,4'-Pentabromodiphenyl ether  (BDE85)","2,2',4,4',5-pentabromodiphenyl ether   (BDE99)"]
[null,null,null,null,null,null,null,{"$f":"IF(H86=\"\",\"\",H86)","v":"MAR02481.001"},"","",1,{"$f":"IF(L86=\"\",\"\",IF(L86=0,0,(ROUND(L86,3-1-INT(LOG10(ABS(L86)))))))","v":9.0199999999999997E-5},{"$f":"IF(M86=\"\",\"\",IF(M86=0,0,(ROUND(M86,3-1-INT(LOG10(ABS(M86)))))))","v":7.2799999999999994E-5},1.83E-4,1.13E-4,7.2799999999999994E-5,6.4899999999999995E-4,6.7000000000000004E-2,7.2799999999999994E-5,2.9700000000000001E-4,7.2799999999999994E-5,7.2799999999999994E-5,2.6499999999999999E-4]
[null,null,null,null,null,null,null,{"$f":"IF(H87=\"\",\"\",H87)","v":"MAR02481.002"},"","",2,{"$f":"IF(L87=\"\",\"\",IF(L87=0,0,(ROUND(L87,3-1-INT(LOG10(ABS(L87)))))))","v":8.6500000000000002E-5},6.9800000000000003E-5,1.17E-4,6.9800000000000003E-5,6.9800000000000003E-5,2.99E-4,6.6400000000000001E-2,6.9800000000000003E-5,2.9300000000000002E-4,6.9800000000000003E-5,6.9800000000000003E-5,2.7099999999999997E-4]
[null,null,null,null,null,null,null,{"$f":"IF(H88=\"\",\"\",H88)","v":"MAR02481.003"},"","",3,{"$f":"IF(L88=\"\",\"\",IF(L88=0,0,(ROUND(L88,3-1-INT(LOG10(ABS(L88)))))))","v":9.5099999999999994E-5},7.9300000000000003E-5,1.17E-4,7.9300000000000003E-5,7.9300000000000003E-5,1.7100000000000001E-4,7.9600000000000004E-2,7.9300000000000003E-5,3.7100000000000002E-4,7.9300000000000003E-5,7.9300000000000003E-5,2.1599999999999999E-4]
[null,null,null,null,null,null,null,{"$f":"IF(H89=\"\",\"\",H89)","v":"MAR02481.004"},"","",4,{"$f":"IF(L89=\"\",\"\",IF(L89=0,0,(ROUND(L89,3-1-INT(LOG10(ABS(L89)))))))","v":1.17E-4},8.1299999999999997E-5,1.2E-4,1.0399999999999999E-4,8.1299999999999997E-5,1.6899999999999999E-4,7.2700000000000001E-2,9.4300000000000002E-5,5.5900000000000004E-4,8.1299999999999997E-5,8.1299999999999997E-5,3.3799999999999998E-4]
[null,null,null,null,null,null,null,{"$f":"IF(H90=\"\",\"\",H90)","v":"MAR02481.005"},"","",5,{"$f":"IF(L90=\"\",\"\",IF(L90=0,0,(ROUND(L90,3-1-INT(LOG10(ABS(L90)))))))","v":2.2699999999999999E-4},1.16E-4,2.41E-4,2.1800000000000001E-4,1.4799999999999999E-4,8.4000000000000003E-4,0.156,1.44E-4,8.4900000000000004E-4,1.16E-4,1.16E-4,6.6799999999999997E-4]
[null,null,null,null,null,null,null,{"$f":"IF(H91=\"\",\"\",H91)","v":"MAR02481.006"},"","",6,{"$f":"IF(L91=\"\",\"\",IF(L91=0,0,(ROUND(L91,3-1-INT(LOG10(ABS(L91)))))))","v":1.6100000000000001E-4},1.0399999999999999E-4,1.37E-4,1.16E-4,1.3200000000000001E-4,2.2800000000000001E-4,8.9800000000000005E-2,1.37E-4,7.7800000000000005E-4,1.0399999999999999E-4,1.0399999999999999E-4,4.84E-4]
[null,null,null,null,null,null,null,{"$f":"IF(H92=\"\",\"\",H92)","v":"MAR02481.007"},"","",7,{"$f":"IF(L92=\"\",\"\",IF(L92=0,0,(ROUND(L92,3-1-INT(LOG10(ABS(L92)))))))","v":3.0800000000000001E-4},9.2800000000000006E-5,1.8200000000000001E-4,1.37E-4,9.2800000000000006E-5,2.4499999999999999E-4,5.1400000000000001E-2,1.08E-4,1.0499999999999999E-3,9.2800000000000006E-5,9.2800000000000006E-5,1.0300000000000001E-3]
[null,null,null,null,null,null,null,{"$f":"IF(H93=\"\",\"\",H93)","v":"MAR02481.008"},"","",8,{"$f":"IF(L93=\"\",\"\",IF(L93=0,0,(ROUND(L93,3-1-INT(LOG10(ABS(L93)))))))","v":1.2999999999999999E-4},1.17E-4,1.3999999999999999E-4,1.54E-4,1.5799999999999999E-4,4.7100000000000001E-4,9.9500000000000005E-2,1.35E-4,7.6400000000000003E-4,1.17E-4,1.17E-4,7.4100000000000001E-4]
[null,null,null,null,null,null,null,{"$f":"IF(H94=\"\",\"\",H94)","v":"MAR02481.009"},"","",9,{"$f":"IF(L94=\"\",\"\",IF(L94=0,0,(ROUND(L94,3-1-INT(LOG10(ABS(L94)))))))","v":1.5200000000000001E-4},1.5200000000000001E-4,1.5200000000000001E-4,1.5200000000000001E-4,1.5200000000000001E-4,1.5200000000000001E-4,1.3899999999999999E-2,1.5200000000000001E-4,3.2200000000000002E-4,1.5200000000000001E-4,1.5200000000000001E-4,2.61E-4]
[null,null,null,null,null,null,null,{"$f":"IF(H95=\"\",\"\",H95)","v":"MAR02481.010"},"","",10,{"$f":"IF(L95=\"\",\"\",IF(L95=0,0,(ROUND(L95,3-1-INT(LOG10(ABS(L95)))))))","v":2.1100000000000001E-4},1.15E-4,1.56E-4,1.2799999999999999E-4,1.1900000000000001E-4,1.5100000000000001E-4,3.1099999999999999E-2,1.65E-4,9.9799999999999997E-4,1.15E-4,1.15E-4,7.6900000000000004E-4]
[null,null,null,null,null,null,null,{"$f":"IF(H96=\"\",\"\",H96)","v":"MAR02481.011"},"","",11,{"$f":"IF(L96=\"\",\"\",IF(L96=0,0,(ROUND(L96,3-1-INT(LOG10(ABS(L96)))))))","v":6.0700000000000001E-4},1.63E-4,5.4000000000000001E-4,3.9199999999999999E-4,4.73E-4,3.3E-4,6.6600000000000006E-2,6.0700000000000001E-4,2.8500000000000001E-3,5.8799999999999998E-4,1.9599999999999999E-4,2.8800000000000002E-3]
[null,null,null,null,null,null,null,{"$f":"IF(H97=\"\",\"\",H97)","v":"MAR02481.012"},"","",12,{"$f":"IF(L97=\"\",\"\",IF(L97=0,0,(ROUND(L97,3-1-INT(LOG10(ABS(L97)))))))","v":2.1800000000000001E-4},1.11E-4,1.9100000000000001E-4,1.47E-4,1.9100000000000001E-4,2.04E-4,5.6899999999999999E-2,2.4399999999999999E-4,1.1900000000000001E-3,2.2599999999999999E-4,1.11E-4,8.7900000000000001E-4]
[null,null,null,null,null,null,null,{"$f":"IF(H98=\"\",\"\",H98)","v":"MAR02481.013"},"","",13,{"$f":"IF(L98=\"\",\"\",IF(L98=0,0,(ROUND(L98,3-1-INT(LOG10(ABS(L98)))))))","v":2.3499999999999999E-4},1.2300000000000001E-4,1.9100000000000001E-4,1.6200000000000001E-4,2.0100000000000001E-4,1.6699999999999999E-4,4.5199999999999997E-2,2.4499999999999999E-4,1.0499999999999999E-3,1.7200000000000001E-4,1.2300000000000001E-4,9.3599999999999998E-4]
[null,null,null,null,null,null,null,{"$f":"IF(H99=\"\",\"\",H99)","v":"MAR02481.014"},"","",15,{"$f":"IF(L99=\"\",\"\",IF(L99=0,0,(ROUND(L99,3-1-INT(LOG10(ABS(L99)))))))","v":1.5899999999999999E-4},1.5899999999999999E-4,2.03E-4,1.5899999999999999E-4,1.84E-4,1.84E-4,3.2300000000000002E-2,2.3499999999999999E-4,1.1199999999999999E-3,2.3499999999999999E-4,1.5899999999999999E-4,9.4600000000000001E-4]
[null,null,null,null,null,null,null,{"$f":"IF(H100=\"\",\"\",H100)","v":"MAR02481.015"},"","",17,{"$f":"IF(L100=\"\",\"\",IF(L100=0,0,(ROUND(L100,3-1-INT(LOG10(ABS(L100)))))))","v":1.76E-4},1.22E-4,2.4499999999999999E-4,1.47E-4,1.22E-4,8.4099999999999995E-4,3.0599999999999999E-2,1.22E-4,7.9199999999999995E-4,1.22E-4,1.22E-4,6.4499999999999996E-4]
[null,null,null,null,null,null,null,{"$f":"IF(H101=\"\",\"\",H101)","v":"MAR02481.016"},"","",18,{"$f":"IF(L101=\"\",\"\",IF(L101=0,0,(ROUND(L101,3-1-INT(LOG10(ABS(L101)))))))","v":2.05E-4},1.3100000000000001E-4,1.6799999999999999E-4,1.3100000000000001E-4,1.3100000000000001E-4,1.37E-4,2.9000000000000001E-2,1.3100000000000001E-4,9.2400000000000002E-4,1.3100000000000001E-4,1.3100000000000001E-4,8.4500000000000005E-4]
[null,null,null,null,null,null,null,{"$f":"IF(H102=\"\",\"\",H102)","v":"MAR02481.017"},"","",19,{"$f":"IF(L102=\"\",\"\",IF(L102=0,0,(ROUND(L102,3-1-INT(LOG10(ABS(L102)))))))","v":1.92E-4},1.2E-4,1.54E-4,1.3899999999999999E-4,1.2E-4,1.25E-4,2.2800000000000001E-2,1.2E-4,8.0599999999999997E-4,1.2E-4,1.2E-4,6.8199999999999999E-4]
[null,null,null,null,null,null,null,{"$f":"IF(H103=\"\",\"\",H103)","v":"MAR02481.018"},"","",20,{"$f":"IF(L103=\"\",\"\",IF(L103=0,0,(ROUND(L103,3-1-INT(LOG10(ABS(L103)))))))","v":4.75E-4},1.2899999999999999E-4,4.0200000000000001E-4,2.99E-4,1.8599999999999999E-4,2.43E-4,2.86E-2,3.2499999999999999E-4,2.2799999999999999E-3,3.3500000000000001E-4,1.2899999999999999E-4,2.2300000000000002E-3]
[null,null,null,null,null,null,null,{"$f":"IF(H104=\"\",\"\",H104)","v":"MAR02481.019"},"","",21,{"$f":"IF(L104=\"\",\"\",IF(L104=0,0,(ROUND(L104,3-1-INT(LOG10(ABS(L104)))))))","v":2.5099999999999998E-4},1.3999999999999999E-4,1.84E-4,1.45E-4,1.3999999999999999E-4,1.56E-4,0.16400000000000001,1.3999999999999999E-4,1.0399999999999999E-3,1.3999999999999999E-4,1.3999999999999999E-4,1.14E-3]
[null,null,null,null,null,null,null,{"$f":"IF(H105=\"\",\"\",H105)","v":"MAR02481.020"},"","",22,{"$f":"IF(L105=\"\",\"\",IF(L105=0,0,(ROUND(L105,3-1-INT(LOG10(ABS(L105)))))))","v":1.8900000000000001E-4},1.1E-4,1.5799999999999999E-4,1.36E-4,1.1E-4,2.1100000000000001E-4,1.8200000000000001E-2,1.1E-4,8.0099999999999995E-4,1.1E-4,1.1E-4,7.2199999999999999E-4]
[null,null,null,null,null,null,null,{"$f":"IF(H106=\"\",\"\",H106)","v":"MAR02481.021"},"","",23,{"$f":"IF(L106=\"\",\"\",IF(L106=0,0,(ROUND(L106,3-1-INT(LOG10(ABS(L106)))))))","v":1.47E-4},1.47E-4,1.47E-4,1.47E-4,1.47E-4,1.47E-4,4.3099999999999999E-2,1.47E-4,5.1199999999999998E-4,1.47E-4,1.47E-4,4.7600000000000002E-4]
[null,null,null,null,null,null,null,{"$f":"IF(H107=\"\",\"\",H107)","v":"MAR02481.022"},"","",24,{"$f":"IF(L107=\"\",\"\",IF(L107=0,0,(ROUND(L107,3-1-INT(LOG10(ABS(L107)))))))","v":1.65E-4},1.65E-4,1.65E-4,1.65E-4,1.65E-4,1.65E-4,2.3099999999999999E-2,1.65E-4,2.6400000000000002E-4,1.65E-4,1.65E-4,2.31E-4]
[null,null,null,null,null,null,null,{"$f":"IF(H108=\"\",\"\",H108)","v":"MAR02481.023"},"","",25,{"$f":"IF(L108=\"\",\"\",IF(L108=0,0,(ROUND(L108,3-1-INT(LOG10(ABS(L108)))))))","v":1.5799999999999999E-4},1.5799999999999999E-4,1.5799999999999999E-4,1.5799999999999999E-4,1.5799999999999999E-4,1.5799999999999999E-4,4.1000000000000003E-3,1.5799999999999999E-4,1.83E-4,1.5799999999999999E-4,1.5799999999999999E-4,1.5799999999999999E-4]
[null,null,null,null,null,null,null,{"$f":"IF(H109=\"\",\"\",H109)","v":""},"","","",{"$f":"IF(L109=\"\",\"\",IF(L109=0,0,(ROUND(L109,3-1-INT(LOG10(ABS(L109)))))))","v":""},"","","","","","","","","","",""]
[null,null,null,null,null,null,null,{"$f":"IF(H110=\"\",\"\",H110)","v":""},"","","",{"$f":"IF(L110=\"\",\"\",IF(L110=0,0,(ROUND(L110,3-1-INT(LOG10(ABS(L110)))))))","v":""},"","","","","","","","","","",""]
[null,null,null,null,null,null,null,{"$f":"IF(H111=\"\",\"\",H111)","v":""},"","","",{"$f":"IF(L111=\"\",\"\",IF(L111=0,0,(ROUND(L111,3-1-INT(LOG10(ABS(L111)))))))","v":""},"","","","","","","","","","",""]
[null,null,null,null,null,null,null,{"$f":"IF(H112=\"\",\"\",H112)","v":""},"","","",{"$f":"IF(L112=\"\",\"\",IF(L112=0,0,(ROUND(L112,3-1-INT(LOG10(ABS(L112)))))))","v":""},"","","","","","","","","","",""]
[null,null,null,null,null,null,null,{"$f":"IF(H113=\"\",\"\",H113)","v":""},"","","",{"$f":"IF(L113=\"\",\"\",IF(L113=0,0,(ROUND(L113,3-1-INT(LOG10(ABS(L113)))))))","v":""},"","","","","","","","","","",""]
[null,null,null,null,null,null,null,{"$f":"IF(H114=\"\",\"\",H114)","v":""},"","","",{"$f":"IF(L114=\"\",\"\",IF(L114=0,0,(ROUND(L114,3-1-INT(LOG10(ABS(L114)))))))","v":""},"","","","","","","","","","",""]
[null,null,null,null,null,null,null,{"$f":"IF(H115=\"\",\"\",H115)","v":""},"","","",{"$f":"IF(L115=\"\",\"\",IF(L115=0,0,(ROUND(L115,3-1-INT(LOG10(ABS(L115)))))))","v":""},"","","","","","","","","","",""]
[null,null,null,null,null,null,null,null,null,"Averages:",null,{"$f":"IF(COUNT(L124:L153)<1,\"\", AVERAGE(L124:L153))","v":2.067304347826087E-4},{"$f":"IF(COUNT(M124:M153)<1,\"\", AVERAGE(M124:M153))","v":1.2078260869565217E-4},1.9352173913043486E-4,1.564391304347826E-4,1.492608695652174E-4,2.8013043478260875E-4,5.616956521739129E-2,1.6983478260869568E-4,8.7360869565217378E-4,1.5865217391304348E-4,1.2221739130434782E-4,7.7447826086956498E-4]
[]
[]
[]
[null,null,null,null,null,null,null,"Average of dredge areas"]
[]
[null,null,null,null,null,null,null,null,null,null,"Dredge Area","Brominated flame retardants as mg/kg wet weight"]
[null,null,null,null,null,null,null,null,null,null,null,"2,2′,4,4′,6-penta-\n bromodiphenyl ether (BDE100)","Hexabromodiphenyl ether (BDE138) ","2,2′,4,4′,5,5′-hexa-\n bromodiphenyl ether (BDE153)","2,2′,4,4′,5,6′-hexa-bromodiphenyl ether (BDE154)","2,2´,4-tri-bromodiphenylether (BDE17)","2,2′,3,4,4′,5′,6-heptabromodiphenyl ether (BDE183)","2,2',3,3',4,4',5,5',6,6'-decabrominated diphenyl ether (BDE 209)","2,4,4'-tribromodiphenyl ether (BDE28)","2,2′,4,4′-Tetrabromodiphenyl ether (BDE47) ","2,3',4,4'-Tetrabromodiphenyl ether (BDE66)","2,2',3,4,4'-Pentabromodiphenyl ether  (BDE85)","2,2',4,4',5-pentabromodiphenyl ether   (BDE99)"]
[null,null,null,null,null,null,null,null,null,null,"Area i",{"$f":"IF(COUNTIF($I$124:$I$153,\"Area i\")<1,\"\",AVERAGEIF($I$124:$I$153,\"Area i\",L$124:L$153))","v":""},{"$f":"IF(COUNTIF($I$124:$I$153,\"Area i\")<1,\"\",AVERAGEIF($I$124:$I$153,\"Area i\",M$124:M$153))","v":""},"","","","","","","","","",""]
[null,null,null,null,null,null,null,null,null,null,"Area ii",{"$f":"IF(COUNTIF($I$124:$I$153,\"Area ii\")<1,\"\",AVERAGEIF($I$124:$I$153,\"Area ii\",L$124:L$153))","v":""},{"$f":"IF(COUNTIF($I$124:$I$153,\"Area ii\")<1,\"\",AVERAGEIF($I$124:$I$153,\"Area ii\",M$124:M$153))","v":""},"","","","","","","","","",""]
[null,null,null,null,null,null,null,null,null,null,"Area iii",{"$f":"IF(COUNTIF($I$124:$I$153,\"Area iii\")<1,\"\",AVERAGEIF($I$124:$I$153,\"Area iii\",L$124:L$153))","v":""},{"$f":"IF(COUNTIF($I$124:$I$153,\"Area iii\")<1,\"\",AVERAGEIF($I$124:$I$153,\"Area iii\",M$124:M$153))","v":""},"","","","","","","","","",""]
[null,null,null,null,null,null,null,null,null,null,"Area iv",{"$f":"IF(COUNTIF($I$124:$I$153,\"Area iv\")<1,\"\",AVERAGEIF($I$124:$I$153,\"Area iv\",L$124:L$153))","v":""},{"$f":"IF(COUNTIF($I$124:$I$153,\"Area iv\")<1,\"\",AVERAGEIF($I$124:$I$153,\"Area iv\",M$124:M$153))","v":""},"","","","","","","","","",""]
[null,null,null,null,null,null,null,null,null,null,"Area v",{"$f":"IF(COUNTIF($I$124:$I$153,\"Area v\")<1,\"\",AVERAGEIF($I$124:$I$153,\"Area v\",L$124:L$153))","v":""},{"$f":"IF(COUNTIF($I$124:$I$153,\"Area v\")<1,\"\",AVERAGEIF($I$124:$I$153,\"Area v\",M$124:M$153))","v":""},"","","","","","","","","",""]
[null,null,null,null,null,null,null,null,null,null,"Area vi",{"$f":"IF(COUNTIF($I$124:$I$153,\"Area vi\")<1,\"\",AVERAGEIF($I$124:$I$153,\"Area vi\",L$124:L$153))","v":""},{"$f":"IF(COUNTIF($I$124:$I$153,\"Area vi\")<1,\"\",AVERAGEIF($I$124:$I$153,\"Area vi\",M$124:M$153))","v":""},"","","","","","","","","",""]
[null,null,null,null,null,null,null,null,null,null,"Averages:",{"$f":"IF(COUNT(L162:L167)<1,\"\", AVERAGE(L162:L167))","v":""},{"$f":"IF(COUNT(M162:M167)<1,\"\", AVERAGE(M162:M167))","v":""},"","","","","","","","","",""]
[]
[]
[null,null,null,null,null,null,null,null,null,null,null,null,null,null,null," "]
[null,null,null,null,null,null,null,"PR weightings (dredge area averages multiplied by dredge area tonnage)"]
[]
[null,null,null,null,null,null,null,null,null,null,"Dredge Area","Brominated flame retardants as mg/kg wet weight"]
[null,null,null,null,null,null,null,null,null,null,null,"2,2′,4,4′,6-penta-\n bromodiphenyl ether (BDE100)","Hexabromodiphenyl ether (BDE138) ","2,2′,4,4′,5,5′-hexa-\n bromodiphenyl ether (BDE153)","2,2′,4,4′,5,6′-hexa-bromodiphenyl ether (BDE154)","2,2´,4-tri-bromodiphenylether (BDE17)","2,2′,3,4,4′,5′,6-heptabromodiphenyl ether (BDE183)","2,2',3,3',4,4',5,5',6,6'-decabrominated diphenyl ether (BDE 209)","2,4,4'-tribromodiphenyl ether (BDE28)","2,2′,4,4′-Tetrabromodiphenyl ether (BDE47) ","2,3',4,4'-Tetrabromodiphenyl ether (BDE66)","2,2',3,4,4'-Pentabromodiphenyl ether  (BDE85)","2,2',4,4',5-pentabromodiphenyl ether   (BDE99)"]
[null,null,null,null,null,null,null,null,null,null,{"$f":"K162","v":"Area i"},{"$f":"IF(L162=\"\",\"\",L162*'PR details'!$G4)","v":""},{"$f":"IF(M162=\"\",\"\",M162*'PR details'!$G4)","v":""},{"$f":"IF(N162=\"\",\"\",N162*'PR details'!$G4)","v":""},{"$f":"IF(O162=\"\",\"\",O162*'PR details'!$G4)","v":""},{"$f":"IF(P162=\"\",\"\",P162*'PR details'!$G4)","v":""},{"$f":"IF(Q162=\"\",\"\",Q162*'PR details'!$G4)","v":""},{"$f":"IF(R162=\"\",\"\",R162*'PR details'!$G4)","v":""},{"$f":"IF(S162=\"\",\"\",S162*'PR details'!$G4)","v":""},{"$f":"IF(T162=\"\",\"\",T162*'PR details'!$G4)","v":""},{"$f":"IF(U162=\"\",\"\",U162*'PR details'!$G4)","v":""},{"$f":"IF(V162=\"\",\"\",V162*'PR details'!$G4)","v":""},{"$f":"IF(W162=\"\",\"\",W162*'PR details'!$G4)","v":""}]
[null,null,null,null,null,null,null,null,null,null,"Area ii",{"$f":"IF(L163=\"\",\"\",L163*'PR details'!$G5)","v":""},{"$f":"IF(M163=\"\",\"\",M163*'PR details'!$G5)","v":""},{"$f":"IF(N163=\"\",\"\",N163*'PR details'!$G5)","v":""},{"$f":"IF(O163=\"\",\"\",O163*'PR details'!$G5)","v":""},{"$f":"IF(P163=\"\",\"\",P163*'PR details'!$G5)","v":""},{"$f":"IF(Q163=\"\",\"\",Q163*'PR details'!$G5)","v":""},{"$f":"IF(R163=\"\",\"\",R163*'PR details'!$G5)","v":""},{"$f":"IF(S163=\"\",\"\",S163*'PR details'!$G5)","v":""},{"$f":"IF(T163=\"\",\"\",T163*'PR details'!$G5)","v":""},{"$f":"IF(U163=\"\",\"\",U163*'PR details'!$G5)","v":""},{"$f":"IF(V163=\"\",\"\",V163*'PR details'!$G5)","v":""},{"$f":"IF(W163=\"\",\"\",W163*'PR details'!$G5)","v":""}]
[null,null,null,null,null,null,null,null,null,null,"Area iii",{"$f":"IF(L164=\"\",\"\",L164*'PR details'!$G6)","v":""},{"$f":"IF(M164=\"\",\"\",M164*'PR details'!$G6)","v":""},{"$f":"IF(N164=\"\",\"\",N164*'PR details'!$G6)","v":""},{"$f":"IF(O164=\"\",\"\",O164*'PR details'!$G6)","v":""},{"$f":"IF(P164=\"\",\"\",P164*'PR details'!$G6)","v":""},{"$f":"IF(Q164=\"\",\"\",Q164*'PR details'!$G6)","v":""},{"$f":"IF(R164=\"\",\"\",R164*'PR details'!$G6)","v":""},{"$f":"IF(S164=\"\",\"\",S164*'PR details'!$G6)","v":""},{"$f":"IF(T164=\"\",\"\",T164*'PR details'!$G6)","v":""},{"$f":"IF(U164=\"\",\"\",U164*'PR details'!$G6)","v":""},{"$f":"IF(V164=\"\",\"\",V164*'PR details'!$G6)","v":""},{"$f":"IF(W164=\"\",\"\",W164*'PR details'!$G6)","v":""}]
[null,null,null,null,null,null,null,null,null,null,"Area iv",{"$f":"IF(L165=\"\",\"\",L165*'PR details'!$G7)","v":""},{"$f":"IF(M165=\"\",\"\",M165*'PR details'!$G7)","v":""},{"$f":"IF(N165=\"\",\"\",N165*'PR details'!$G7)","v":""},{"$f":"IF(O165=\"\",\"\",O165*'PR details'!$G7)","v":""},{"$f":"IF(P165=\"\",\"\",P165*'PR details'!$G7)","v":""},{"$f":"IF(Q165=\"\",\"\",Q165*'PR details'!$G7)","v":""},{"$f":"IF(R165=\"\",\"\",R165*'PR details'!$G7)","v":""},{"$f":"IF(S165=\"\",\"\",S165*'PR details'!$G7)","v":""},{"$f":"IF(T165=\"\",\"\",T165*'PR details'!$G7)","v":""},{"$f":"IF(U165=\"\",\"\",U165*'PR details'!$G7)","v":""},{"$f":"IF(V165=\"\",\"\",V165*'PR details'!$G7)","v":""},{"$f":"IF(W165=\"\",\"\",W165*'PR details'!$G7)","v":""}]
[null,null,null,null,null,null,null,null,null,null,"Area v",{"$f":"IF(L166=\"\",\"\",L166*'PR details'!$G8)","v":""},{"$f":"IF(M166=\"\",\"\",M166*'PR details'!$G8)","v":""},{"$f":"IF(N166=\"\",\"\",N166*'PR details'!$G8)","v":""},{"$f":"IF(O166=\"\",\"\",O166*'PR details'!$G8)","v":""},{"$f":"IF(P166=\"\",\"\",P166*'PR details'!$G8)","v":""},{"$f":"IF(Q166=\"\",\"\",Q166*'PR details'!$G8)","v":""},{"$f":"IF(R166=\"\",\"\",R166*'PR details'!$G8)","v":""},{"$f":"IF(S166=\"\",\"\",S166*'PR details'!$G8)","v":""},{"$f":"IF(T166=\"\",\"\",T166*'PR details'!$G8)","v":""},{"$f":"IF(U166=\"\",\"\",U166*'PR details'!$G8)","v":""},{"$f":"IF(V166=\"\",\"\",V166*'PR details'!$G8)","v":""},{"$f":"IF(W166=\"\",\"\",W166*'PR details'!$G8)","v":""}]
[null,null,null,null,null,null,null,null,null,null,"Area vi",{"$f":"IF(L167=\"\",\"\",L167*'PR details'!$G9)","v":""},{"$f":"IF(M167=\"\",\"\",M167*'PR details'!$G9)","v":""},{"$f":"IF(N167=\"\",\"\",N167*'PR details'!$G9)","v":""},{"$f":"IF(O167=\"\",\"\",O167*'PR details'!$G9)","v":""},{"$f":"IF(P167=\"\",\"\",P167*'PR details'!$G9)","v":""},{"$f":"IF(Q167=\"\",\"\",Q167*'PR details'!$G9)","v":""},{"$f":"IF(R167=\"\",\"\",R167*'PR details'!$G9)","v":""},{"$f":"IF(S167=\"\",\"\",S167*'PR details'!$G9)","v":""},{"$f":"IF(T167=\"\",\"\",T167*'PR details'!$G9)","v":""},{"$f":"IF(U167=\"\",\"\",U167*'PR details'!$G9)","v":""},{"$f":"IF(V167=\"\",\"\",V167*'PR details'!$G9)","v":""},{"$f":"IF(W167=\"\",\"\",W167*'PR details'!$G9)","v":""}]
[]
[]
[]
[null,null,null,null,null,null,null,"PR average"]
[]
[null,null,null,null,null,null,null,null,null,null,null,"Brominated flame retardants as mg/kg wet weight"]
[null,null,null,null,null,null,null,null,null,null,null,"2,2′,4,4′,6-penta-\n bromodiphenyl ether (BDE100)","Hexabromodiphenyl ether (BDE138) ","2,2′,4,4′,5,5′-hexa-\n bromodiphenyl ether (BDE153)","2,2′,4,4′,5,6′-hexa-bromodiphenyl ether (BDE154)","2,2´,4-tri-bromodiphenylether (BDE17)","2,2′,3,4,4′,5′,6-heptabromodiphenyl ether (BDE183)","2,2',3,3',4,4',5,5',6,6'-decabrominated diphenyl ether (BDE 209)","2,4,4'-tribromodiphenyl ether (BDE28)","2,2′,4,4′-Tetrabromodiphenyl ether (BDE47) ","2,3',4,4'-Tetrabromodiphenyl ether (BDE66)","2,2',3,4,4'-Pentabromodiphenyl ether  (BDE85)","2,2',4,4',5-pentabromodiphenyl ether   (BDE99)"]
[null,null,null,null,null,null,null,null,null,null,null,{"$f":"IF(COUNT(L176:L181)<1,\"\",SUM(L176:L181))","v":""},"","","","","","","","","","",""]

{"sheet":"PR details","index":17,"n_rows":52,"n_cols":14,"rows_kept":52,"cut":false,"hidden":true,"merged":[[2,7,2,8],[3,7,8,8]]}
[]
[null,"PR details:",null,null,"Dredge area tonnages:"]
[null,"Application number:",{"$f":"IF('Application info'!E17=\"\",\"\",'Application info'!E17)","v":""},null,"Dredge Area","Dredging tonnages","% total dredged material","Total dredged material"]
[null,"Date sampled:",{"$f":"IF('Application info'!E19=\"\",\"\",'Application info'!E19)","v":""},null,{"$f":"IF('Application info'!C26=\"\",\"\",'Application info'!C26)","v":"Area i"},{"$f":"IF('Application info'!D26=\"\",\"\",'Application info'!D26)","v":""},{"$f":"IF('Application info'!E26=\"\",\"\",'Application info'!E26)","v":""},{"$f":"IF('Application info'!F26=\"\",\"\",'Application info'!F26)","v":0},{"$f":"IF('Application info'!G26=\"\",\"\",'Application info'!G26)","v":""}]
[null,"Application title:",{"$f":"IF('Application info'!E18=\"\",\"\",'Application info'!E18)","v":"Mid licence sampling - year 9"},null,{"$f":"IF('Application info'!C27=\"\",\"\",'Application info'!C27)","v":"Area ii"},{"$f":"IF('Application info'!D27=\"\",\"\",'Application info'!D27)","v":""},{"$f":"IF('Application info'!E27=\"\",\"\",'Application info'!E27)","v":""},{"$f":"IF('Application info'!F27=\"\",\"\",'Application info'!F27)","v":""},{"$f":"IF('Application info'!G27=\"\",\"\",'Application info'!G27)","v":""}]
[null,"Applicant:",{"$f":"IF('Application info'!E16=\"\",\"\",'Application info'!E16)","v":"PD Ports"},null,{"$f":"IF('Application info'!C28=\"\",\"\",'Application info'!C28)","v":"Area iii"},{"$f":"IF('Application info'!D28=\"\",\"\",'Application info'!D28)","v":""},{"$f":"IF('Application info'!E28=\"\",\"\",'Application info'!E28)","v":""},{"$f":"IF('Application info'!F28=\"\",\"\",'Application info'!F28)","v":""},{"$f":"IF('Application info'!G28=\"\",\"\",'Application info'!G28)","v":""}]
[null,null,null,null,{"$f":"IF('Application info'!C29=\"\",\"\",'Application info'!C29)","v":"Area iv"},{"$f":"IF('Application info'!D29=\"\",\"\",'Application info'!D29)","v":""},{"$f":"IF('Application info'!E29=\"\",\"\",'Application info'!E29)","v":""},{"$f":"IF('Application info'!F29=\"\",\"\",'Application info'!F29)","v":""},{"$f":"IF('Application info'!G29=\"\",\"\",'Application info'!G29)","v":""}]
[null,null,null,null,{"$f":"IF('Application info'!C30=\"\",\"\",'Application info'!C30)","v":"Area v"},{"$f":"IF('Application info'!D30=\"\",\"\",'Application info'!D30)","v":""},{"$f":"IF('Application info'!E30=\"\",\"\",'Application info'!E30)","v":""},{"$f":"IF('Application info'!F30=\"\",\"\",'Application info'!F30)","v":""},{"$f":"IF('Application info'!G30=\"\",\"\",'Application info'!G30)","v":""}]
[null,null,null,null,{"$f":"IF('Application info'!C31=\"\",\"\",'Application info'!C31)","v":"Area vi"},{"$f":"IF('Application info'!D31=\"\",\"\",'Application info'!D31)","v":""},{"$f":"IF('Application info'!E31=\"\",\"\",'Application info'!E31)","v":""},{"$f":"IF('Application info'!F31=\"\",\"\",'Application info'!F31)","v":""},{"$f":"IF('Application info'!G31=\"\",\"\",'Application info'!G31)","v":""}]
[]
[]
[]
[null,"PPM (mg/kg wet weight)"]
[null,"Metals & Tins","TS%","AS","CD","CR","CU","HG","NI","PB","ZN","DBT","TBT"]
[null,null,{"$f":"IFERROR(IF('Physical Stats'!L117=\"\",\"\",IF('Physical Stats'!L117=0,0,(ROUND('Physical Stats'!L117,2-1-INT(LOG10(ABS('Physical Stats'!L117))))))),\"\")","v":""},{"$f":"IFERROR(IF('Metals Calcs'!L151=\"\",\"\",IF('Metals Calcs'!L151=0,0,(ROUND('Metals Calcs'!L151,4-1-INT(LOG10(ABS('Metals Calcs'!L151))))))),\"\")","v":""},{"$f":"IFERROR(IF('Metals Calcs'!M151=\"\",\"\",IF('Metals Calcs'!M151=0,0,(ROUND('Metals Calcs'!M151,3-1-INT(LOG10(ABS('Metals Calcs'!M151))))))),\"\")","v":""},{"$f":"IFERROR(IF('Metals Calcs'!N151=\"\",\"\",IF('Metals Calcs'!N151=0,0,(ROUND('Metals Calcs'!N151,4-1-INT(LOG10(ABS('Metals Calcs'!N151))))))),\"\")","v":""},{"$f":"IFERROR(IF('Metals Calcs'!O151=\"\",\"\",IF('Metals Calcs'!O151=0,0,(ROUND('Metals Calcs'!O151,4-1-INT(LOG10(ABS('Metals Calcs'!O151))))))),\"\")","v":""},{"$f":"IFERROR(IF('Metals Calcs'!P151=\"\",\"\",IF('Metals Calcs'!P151=0,0,(ROUND('Metals Calcs'!P151,3-1-INT(LOG10(ABS('Metals Calcs'!P151))))))),\"\")","v":""},{"$f":"IFERROR(IF('Metals Calcs'!Q151=\"\",\"\",IF('Metals Calcs'!Q151=0,0,(ROUND('Metals Calcs'!Q151,4-1-INT(LOG10(ABS('Metals Calcs'!Q151))))))),\"\")","v":""},{"$f":"IFERROR(IF('Metals Calcs'!R151=\"\",\"\",IF('Metals Calcs'!R151=0,0,(ROUND('Metals Calcs'!R151,4-1-INT(LOG10(ABS('Metals Calcs'!R151))))))),\"\")","v":""},{"$f":"IFERROR(IF('Metals Calcs'!S151=\"\",\"\",IF('Metals Calcs'!S151=0,0,(ROUND('Metals Calcs'!S151,4-1-INT(LOG10(ABS('Metals Calcs'!S151))))))),\"\")","v":""},{"$f":"IFERROR(IF('Organotin calcs'!L153=\"\",\"\",IF('Organotin calcs'!L153=0,0,(ROUND('Organotin calcs'!L153,3-1-INT(LOG10(ABS('Organotin calcs'!L153))))))),\"\")","v":""},{"$f":"IFERROR(IF('Organotin calcs'!M153=\"\",\"\",IF('Organotin calcs'!M153=0,0,(ROUND('Organotin calcs'!M153,3-1-INT(LOG10(ABS('Organotin calcs'!M153))))))),\"\")","v":""}]
[]
[]
[]
[null,"PPB (ug/kg wet weight)"]
[null,"Hydrocarbons",null,"ACENAPH","ACENAPT","ANTHRAC","BAA","BAP","BBF","BENZGHI","BEP","BKF","C1N","C1PHEN"]
[null,null,null,{"$f":"IFERROR(IF('PAH calcs'!L189=\"\",\"\",IF('PAH calcs'!L189=0,0,(ROUND('PAH calcs'!L189,3-1-INT(LOG10(ABS('PAH calcs'!L189))))))),\"\")","v":""},{"$f":"IFERROR(IF('PAH calcs'!M189=\"\",\"\",IF('PAH calcs'!M189=0,0,(ROUND('PAH calcs'!M189,3-1-INT(LOG10(ABS('PAH calcs'!M189))))))),\"\")","v":""},{"$f":"IFERROR(IF('PAH calcs'!N189=\"\",\"\",IF('PAH calcs'!N189=0,0,(ROUND('PAH calcs'!N189,3-1-INT(LOG10(ABS('PAH calcs'!N189))))))),\"\")","v":""},{"$f":"IFERROR(IF('PAH calcs'!O189=\"\",\"\",IF('PAH calcs'!O189=0,0,(ROUND('PAH calcs'!O189,3-1-INT(LOG10(ABS('PAH calcs'!O189))))))),\"\")","v":""},{"$f":"IFERROR(IF('PAH calcs'!P189=\"\",\"\",IF('PAH calcs'!P189=0,0,(ROUND('PAH calcs'!P189,3-1-INT(LOG10(ABS('PAH calcs'!P189))))))),\"\")","v":""},{"$f":"IFERROR(IF('PAH calcs'!Q189=\"\",\"\",IF('PAH calcs'!Q189=0,0,(ROUND('PAH calcs'!Q189,3-1-INT(LOG10(ABS('PAH calcs'!Q189))))))),\"\")","v":""},{"$f":"IFERROR(IF('PAH calcs'!R189=\"\",\"\",IF('PAH calcs'!R189=0,0,(ROUND('PAH calcs'!R189,3-1-INT(LOG10(ABS('PAH calcs'!R189))))))),\"\")","v":""},{"$f":"IFERROR(IF('PAH calcs'!S189=\"\",\"\",IF('PAH calcs'!S189=0,0,(ROUND('PAH calcs'!S189,3-1-INT(LOG10(ABS('PAH calcs'!S189))))))),\"\")","v":""},{"$f":"IFERROR(IF('PAH calcs'!T189=\"\",\"\",IF('PAH calcs'!T189=0,0,(ROUND('PAH calcs'!T189,3-1-INT(LOG10(ABS('PAH calcs'!T189))))))),\"\")","v":""},{"$f":"IFERROR(IF('PAH calcs'!U189=\"\",\"\",IF('PAH calcs'!U189=0,0,(ROUND('PAH calcs'!U189,3-1-INT(LOG10(ABS('PAH calcs'!U189))))))),\"\")","v":""},{"$f":"IFERROR(IF('PAH calcs'!V189=\"\",\"\",IF('PAH calcs'!V189=0,0,(ROUND('PAH calcs'!V189,3-1-INT(LOG10(ABS('PAH calcs'!V189))))))),\"\")","v":""}]
[]
[null,"Hydrocarbons","C2N","C3N","CHRYSEN","DBENZAH","FLUORAN","FLUOREN","INDPYR","NAPTH","PERYLEN","PHENANT","PYRENE","THC (ppm)"]
[null,null,{"$f":"IFERROR(IF('PAH calcs'!W189=\"\",\"\",IF('PAH calcs'!W189=0,0,(ROUND('PAH calcs'!W189,3-1-INT(LOG10(ABS('PAH calcs'!W189))))))),\"\")","v":""},{"$f":"IFERROR(IF('PAH calcs'!X189=\"\",\"\",IF('PAH calcs'!X189=0,0,(ROUND('PAH calcs'!X189,3-1-INT(LOG10(ABS('PAH calcs'!X189))))))),\"\")","v":""},{"$f":"IFERROR(IF('PAH calcs'!Y189=\"\",\"\",IF('PAH calcs'!Y189=0,0,(ROUND('PAH calcs'!Y189,3-1-INT(LOG10(ABS('PAH calcs'!Y189))))))),\"\")","v":""},{"$f":"IFERROR(IF('PAH calcs'!Z189=\"\",\"\",IF('PAH calcs'!Z189=0,0,(ROUND('PAH calcs'!Z189,3-1-INT(LOG10(ABS('PAH calcs'!Z189))))))),\"\")","v":""},{"$f":"IFERROR(IF('PAH calcs'!AA189=\"\",\"\",IF('PAH calcs'!AA189=0,0,(ROUND('PAH calcs'!AA189,3-1-INT(LOG10(ABS('PAH calcs'!AA189))))))),\"\")","v":""},{"$f":"IFERROR(IF('PAH calcs'!AB189=\"\",\"\",IF('PAH calcs'!AB189=0,0,(ROUND('PAH calcs'!AB189,3-1-INT(LOG10(ABS('PAH calcs'!AB189))))))),\"\")","v":""},{"$f":"IFERROR(IF('PAH calcs'!AC189=\"\",\"\",IF('PAH calcs'!AC189=0,0,(ROUND('PAH calcs'!AC189,3-1-INT(LOG10(ABS('PAH calcs'!AC189))))))),\"\")","v":""},{"$f":"IFERROR(IF('PAH calcs'!AD189=\"\",\"\",IF('PAH calcs'!AD189=0,0,(ROUND('PAH calcs'!AD189,3-1-INT(LOG10(ABS('PAH calcs'!AD189))))))),\"\")","v":""},{"$f":"IFERROR(IF('PAH calcs'!AE189=\"\",\"\",IF('PAH calcs'!AE189=0,0,(ROUND('PAH calcs'!AE189,3-1-INT(LOG10(ABS('PAH calcs'!AE189))))))),\"\")","v":""},{"$f":"IFERROR(IF('PAH calcs'!AF189=\"\",\"\",IF('PAH calcs'!AF189=0,0,(ROUND('PAH calcs'!AF189,3-1-INT(LOG10(ABS('PAH calcs'!AF189))))))),\"\")","v":""},{"$f":"IFERROR(IF('PAH calcs'!AG189=\"\",\"\",IF('PAH calcs'!AG189=0,0,(ROUND('PAH calcs'!AG189,3-1-INT(LOG10(ABS('PAH calcs'!AG189))))))),\"\")","v":""},{"$f":"IFERROR(IF('PAH calcs'!AH189=\"\",\"\",IF('PAH calcs'!AH189=0,0,(ROUND('PAH calcs'!AH189,3-1-INT(LOG10(ABS('PAH calcs'!AH189))))))),\"\")","v":""}]
[]
[null,null,null," "]
[]
[null,"PPM (mg/kg wet weight)"]
[null,"Polychlorinated biphenyls","CB#101","CB#105","CB#110","CB#118","CB#128","CB#138","CB#141","CB#149","CB#151"]
[null,null,{"$f":"IFERROR(IF('PCB calcs'!L197=\"\",\"\",IF('PCB calcs'!L197=0,0,(ROUND('PCB calcs'!L197,3-1-INT(LOG10(ABS('PCB calcs'!L197))))))),\"\")","v":""},{"$f":"IFERROR(IF('PCB calcs'!M197=\"\",\"\",IF('PCB calcs'!M197=0,0,(ROUND('PCB calcs'!M197,3-1-INT(LOG10(ABS('PCB calcs'!M197))))))),\"\")","v":""},{"$f":"IFERROR(IF('PCB calcs'!N197=\"\",\"\",IF('PCB calcs'!N197=0,0,(ROUND('PCB calcs'!N197,3-1-INT(LOG10(ABS('PCB calcs'!N197))))))),\"\")","v":""},{"$f":"IFERROR(IF('PCB calcs'!O197=\"\",\"\",IF('PCB calcs'!O197=0,0,(ROUND('PCB calcs'!O197,3-1-INT(LOG10(ABS('PCB calcs'!O197))))))),\"\")","v":""},{"$f":"IFERROR(IF('PCB calcs'!P197=\"\",\"\",IF('PCB calcs'!P197=0,0,(ROUND('PCB calcs'!P197,3-1-INT(LOG10(ABS('PCB calcs'!P197))))))),\"\")","v":""},{"$f":"IFERROR(IF('PCB calcs'!Q197=\"\",\"\",IF('PCB calcs'!Q197=0,0,(ROUND('PCB calcs'!Q197,3-1-INT(LOG10(ABS('PCB calcs'!Q197))))))),\"\")","v":""},{"$f":"IFERROR(IF('PCB calcs'!R197=\"\",\"\",IF('PCB calcs'!R197=0,0,(ROUND('PCB calcs'!R197,3-1-INT(LOG10(ABS('PCB calcs'!R197))))))),\"\")","v":""},{"$f":"IFERROR(IF('PCB calcs'!S197=\"\",\"\",IF('PCB calcs'!S197=0,0,(ROUND('PCB calcs'!S197,3-1-INT(LOG10(ABS('PCB calcs'!S197))))))),\"\")","v":""},{"$f":"IFERROR(IF('PCB calcs'!T197=\"\",\"\",IF('PCB calcs'!T197=0,0,(ROUND('PCB calcs'!T197,3-1-INT(LOG10(ABS('PCB calcs'!T197))))))),\"\")","v":""}]
[]
[null,"Polychlorinated biphenyls","CB#153","CB#156","CB#158","CB#170","CB#18","CB#180","CB#183","CB#187","CB#194"]
[null,null,{"$f":"IFERROR(IF('PCB calcs'!U197=\"\",\"\",IF('PCB calcs'!U197=0,0,(ROUND('PCB calcs'!U197,3-1-INT(LOG10(ABS('PCB calcs'!U197))))))),\"\")","v":""},{"$f":"IFERROR(IF('PCB calcs'!V197=\"\",\"\",IF('PCB calcs'!V197=0,0,(ROUND('PCB calcs'!V197,3-1-INT(LOG10(ABS('PCB calcs'!V197))))))),\"\")","v":""},{"$f":"IFERROR(IF('PCB calcs'!W197=\"\",\"\",IF('PCB calcs'!W197=0,0,(ROUND('PCB calcs'!W197,3-1-INT(LOG10(ABS('PCB calcs'!W197))))))),\"\")","v":""},{"$f":"IFERROR(IF('PCB calcs'!X197=\"\",\"\",IF('PCB calcs'!X197=0,0,(ROUND('PCB calcs'!X197,3-1-INT(LOG10(ABS('PCB calcs'!X197))))))),\"\")","v":""},{"$f":"IFERROR(IF('PCB calcs'!Y197=\"\",\"\",IF('PCB calcs'!Y197=0,0,(ROUND('PCB calcs'!Y197,3-1-INT(LOG10(ABS('PCB calcs'!Y197))))))),\"\")","v":""},{"$f":"IFERROR(IF('PCB calcs'!Z197=\"\",\"\",IF('PCB calcs'!Z197=0,0,(ROUND('PCB calcs'!Z197,3-1-INT(LOG10(ABS('PCB calcs'!Z197))))))),\"\")","v":""},{"$f":"IFERROR(IF('PCB calcs'!AA197=\"\",\"\",IF('PCB calcs'!AA197=0,0,(ROUND('PCB calcs'!AA197,3-1-INT(LOG10(ABS('PCB calcs'!AA197))))))),\"\")","v":""},{"$f":"IFERROR(IF('PCB calcs'!AB197=\"\",\"\",IF('PCB calcs'!AB197=0,0,(ROUND('PCB calcs'!AB197,3-1-INT(LOG10(ABS('PCB calcs'!AB197))))))),\"\")","v":""},{"$f":"IFERROR(IF('PCB calcs'!AC197=\"\",\"\",IF('PCB calcs'!AC197=0,0,(ROUND('PCB calcs'!AC197,3-1-INT(LOG10(ABS('PCB calcs'!AC197))))))),\"\")","v":""}]
[]
[null,"Polychlorinated biphenyls","CB#28","CB#31","CB#44","CB#47","CB#49","CB#52","CB#66","TOT25CBS","TOTICES7"]
[null,null,{"$f":"IFERROR(IF('PCB calcs'!AD197=\"\",\"\",IF('PCB calcs'!AD197=0,0,(ROUND('PCB calcs'!AD197,3-1-INT(LOG10(ABS('PCB calcs'!AD197))))))),\"\")","v":""},{"$f":"IFERROR(IF('PCB calcs'!AE197=\"\",\"\",IF('PCB calcs'!AE197=0,0,(ROUND('PCB calcs'!AE197,3-1-INT(LOG10(ABS('PCB calcs'!AE197))))))),\"\")","v":""},{"$f":"IFERROR(IF('PCB calcs'!AF197=\"\",\"\",IF('PCB calcs'!AF197=0,0,(ROUND('PCB calcs'!AF197,3-1-INT(LOG10(ABS('PCB calcs'!AF197))))))),\"\")","v":""},{"$f":"IFERROR(IF('PCB calcs'!AG197=\"\",\"\",IF('PCB calcs'!AG197=0,0,(ROUND('PCB calcs'!AG197,3-1-INT(LOG10(ABS('PCB calcs'!AG197))))))),\"\")","v":""},{"$f":"IFERROR(IF('PCB calcs'!AH197=\"\",\"\",IF('PCB calcs'!AH197=0,0,(ROUND('PCB calcs'!AH197,3-1-INT(LOG10(ABS('PCB calcs'!AH197))))))),\"\")","v":""},{"$f":"IFERROR(IF('PCB calcs'!AI197=\"\",\"\",IF('PCB calcs'!AI197=0,0,(ROUND('PCB calcs'!AI197,3-1-INT(LOG10(ABS('PCB calcs'!AI197))))))),\"\")","v":""},{"$f":"IFERROR(IF('PCB calcs'!AJ197=\"\",\"\",IF('PCB calcs'!AJ197=0,0,(ROUND('PCB calcs'!AJ197,3-1-INT(LOG10(ABS('PCB calcs'!AJ197))))))),\"\")","v":""},{"$f":"IFERROR(IF('PCB calcs'!AL197=\"\",\"\",IF('PCB calcs'!AL197=0,0,(ROUND('PCB calcs'!AL197,3-1-INT(LOG10(ABS('PCB calcs'!AL197))))))),\"\")","v":""},{"$f":"IFERROR(IF('PCB calcs'!AK197=\"\",\"\",IF('PCB calcs'!AK197=0,0,(ROUND('PCB calcs'!AK197,3-1-INT(LOG10(ABS('PCB calcs'!AK197))))))),\"\")","v":""}]
[]
[]
[]
[null,"PPM (mg/kg wet weight)"]
[null,"Organochlorine pesticides","AHCH","BHCH","GHCH","DIELDRIN","HCB","PPDDE","PPDDT","PPTDE"]
[null,null,{"$f":"IFERROR(IF('Organochlorine calcs'!L189=\"\",\"\",IF('Organochlorine calcs'!L189=0,0,(ROUND('Organochlorine calcs'!L189,3-1-INT(LOG10(ABS('Organochlorine calcs'!L189))))))),\"\")","v":""},{"$f":"IFERROR(IF('Organochlorine calcs'!M189=\"\",\"\",IF('Organochlorine calcs'!M189=0,0,(ROUND('Organochlorine calcs'!M189,3-1-INT(LOG10(ABS('Organochlorine calcs'!M189))))))),\"\")","v":""},{"$f":"IFERROR(IF('Organochlorine calcs'!N189=\"\",\"\",IF('Organochlorine calcs'!N189=0,0,(ROUND('Organochlorine calcs'!N189,3-1-INT(LOG10(ABS('Organochlorine calcs'!N189))))))),\"\")","v":""},{"$f":"IFERROR(IF('Organochlorine calcs'!O189=\"\",\"\",IF('Organochlorine calcs'!O189=0,0,(ROUND('Organochlorine calcs'!O189,3-1-INT(LOG10(ABS('Organochlorine calcs'!O189))))))),\"\")","v":""},{"$f":"IFERROR(IF('Organochlorine calcs'!P189=\"\",\"\",IF('Organochlorine calcs'!P189=0,0,(ROUND('Organochlorine calcs'!P189,3-1-INT(LOG10(ABS('Organochlorine calcs'!P189))))))),\"\")","v":""},{"$f":"IFERROR(IF('Organochlorine calcs'!Q189=\"\",\"\",IF('Organochlorine calcs'!Q189=0,0,(ROUND('Organochlorine calcs'!Q189,3-1-INT(LOG10(ABS('Organochlorine calcs'!Q189))))))),\"\")","v":""},{"$f":"IFERROR(IF('Organochlorine calcs'!R189=\"\",\"\",IF('Organochlorine calcs'!R189=0,0,(ROUND('Organochlorine calcs'!R189,3-1-INT(LOG10(ABS('Organochlorine calcs'!R189))))))),\"\")","v":""},{"$f":"IFERROR(IF('Organochlorine calcs'!S189=\"\",\"\",IF('Organochlorine calcs'!S189=0,0,(ROUND('Organochlorine calcs'!S189,3-1-INT(LOG10(ABS('Organochlorine calcs'!S189))))))),\"\")","v":""}]
[]
[null,"Brominated flame retardants","BDE100","BDE138","BDE153","BDE154","BDE17","BDE183","BDE28","BDE47"]
[null,null,{"$f":"IFERROR(IF('BDE calcs'!L189=\"\",\"\",IF('BDE calcs'!L189=0,0,(ROUND('BDE calcs'!L189,3-1-INT(LOG10(ABS('BDE calcs'!L189))))))),\"\")","v":""},{"$f":"IFERROR(IF('BDE calcs'!M189=\"\",\"\",IF('BDE calcs'!M189=0,0,(ROUND('BDE calcs'!M189,3-1-INT(LOG10(ABS('BDE calcs'!M189))))))),\"\")","v":""},{"$f":"IFERROR(IF('BDE calcs'!N189=\"\",\"\",IF('BDE calcs'!N189=0,0,(ROUND('BDE calcs'!N189,3-1-INT(LOG10(ABS('BDE calcs'!N189))))))),\"\")","v":""},{"$f":"IFERROR(IF('BDE calcs'!O189=\"\",\"\",IF('BDE calcs'!O189=0,0,(ROUND('BDE calcs'!O189,3-1-INT(LOG10(ABS('BDE calcs'!O189))))))),\"\")","v":""},{"$f":"IFERROR(IF('BDE calcs'!P189=\"\",\"\",IF('BDE calcs'!P189=0,0,(ROUND('BDE calcs'!P189,3-1-INT(LOG10(ABS('BDE calcs'!P189))))))),\"\")","v":""},{"$f":"IFERROR(IF('BDE calcs'!Q189=\"\",\"\",IF('BDE calcs'!Q189=0,0,(ROUND('BDE calcs'!Q189,3-1-INT(LOG10(ABS('BDE calcs'!Q189))))))),\"\")","v":""},{"$f":"IFERROR(IF('BDE calcs'!S189=\"\",\"\",IF('BDE calcs'!S189=0,0,(ROUND('BDE calcs'!S189,3-1-INT(LOG10(ABS('BDE calcs'!S189))))))),\"\")","v":""},{"$f":"IFERROR(IF('BDE calcs'!T189=\"\",\"\",IF('BDE calcs'!T189=0,0,(ROUND('BDE calcs'!T189,3-1-INT(LOG10(ABS('BDE calcs'!T189))))))),\"\")","v":""}]
[]
[null,"Brominated flame retardants","BDE66","BDE85","BDE99",null,null,"BDE209"]
[null,null,{"$f":"IFERROR(IF('BDE calcs'!U189=\"\",\"\",IF('BDE calcs'!U189=0,0,(ROUND('BDE calcs'!U189,3-1-INT(LOG10(ABS('BDE calcs'!U189))))))),\"\")","v":""},{"$f":"IFERROR(IF('BDE calcs'!V189=\"\",\"\",IF('BDE calcs'!V189=0,0,(ROUND('BDE calcs'!V189,3-1-INT(LOG10(ABS('BDE calcs'!V189))))))),\"\")","v":""},{"$f":"IFERROR(IF('BDE calcs'!W189=\"\",\"\",IF('BDE calcs'!W189=0,0,(ROUND('BDE calcs'!W189,3-1-INT(LOG10(ABS('BDE calcs'!W189))))))),\"\")","v":""},null,null,{"$f":"IFERROR(IF('BDE calcs'!R189=\"\",\"\",IF('BDE calcs'!R189=0,0,(ROUND('BDE calcs'!R189,3-1-INT(LOG10(ABS('BDE calcs'!R189))))))),\"\")","v":""}]
[]
[]
[null,"PSA","% Gravel","% Sand","% Silt/Clay"]
[null,null,{"$f":"IF('Physical Stats'!N117=\"\",\"\",'Physical Stats'!N117)","v":""},{"$f":"IF('Physical Stats'!O117=\"\",\"\",'Physical Stats'!O117)","v":""},{"$f":"IF('Physical Stats'!P117=\"\",\"\",'Physical Stats'!P117)","v":""}]

{"sheet":"Import","index":18,"n_rows":2,"n_cols":87,"rows_kept":2,"cut":false,"hidden":true,"merged":[]}
["ApplicationNo","TS","Gravel","Sand","Silt","As","Cd","Cr","Cu","Hg","Ni","Pb","Zn","DBT","TBT","Acenapth","Acenapthylene","Antracn","BAA","BAP","BBF","BEP","Benzghip","BKF","C1N","C1PHEN","C2N","C3N","Chrysene","Debenzah","Flurant","Fluorene","Indypr","napth","perylene","phenant","pyrene","THC","PCB28","PCB52","PCB101","PCB118","PCB138","PCB153","PCB18","PCB105","PCB110","PCB128","PCB141","PCB149","PCB151","PCB156","PCB158","PCB170","PCB180","PCB183","PCB187","PCB194","PCB31","PCB44","PCB47","PCB49","PCB66","ICES7","AHCH","BHCH","GHCH","DIELDRIN","HCB","DDE","DDT","TDE","BDE100","BDE138","BDE153","BDE154","BDE17","BDE183","BDE209","BDE28","BDE47","BDE66","BDE85","BDE99","Ag","No. exempt from chemical analysis ","Tonnes exempt"]
[{"$f":"'PR details'!C3","v":""},{"$f":"'PR details'!C15","v":""},{"$f":"'PR details'!C52","v":""},{"$f":"'PR details'!D52","v":""},{"$f":"'PR details'!E52","v":""},{"$f":"'PR details'!D15","v":""},{"$f":"'PR details'!E15","v":""},{"$f":"'PR details'!F15","v":""},{"$f":"'PR details'!G15","v":""},{"$f":"'PR details'!H15","v":""},{"$f":"'PR details'!I15","v":""},{"$f":"'PR details'!J15","v":""},{"$f":"'PR details'!K15","v":""},{"$f":"'PR details'!L15","v":""},{"$f":"'PR details'!M15","v":""},{"$f":"'PR details'!D21","v":""},{"$f":"'PR details'!E21","v":""},{"$f":"'PR details'!F21","v":""},{"$f":"'PR details'!G21","v":""},{"$f":"'PR details'!H21","v":""},{"$f":"'PR details'!I21","v":""},{"$f":"'PR details'!K21","v":""},{"$f":"'PR details'!J21","v":""},{"$f":"'PR details'!L21","v":""},{"$f":"'PR details'!M21","v":""},{"$f":"'PR details'!N21","v":""},{"$f":"'PR details'!C24","v":""},{"$f":"'PR details'!D24","v":""},{"$f":"'PR details'!E24","v":""},{"$f":"'PR details'!F24","v":""},{"$f":"'PR details'!G24","v":""},{"$f":"'PR details'!H24","v":""},{"$f":"'PR details'!I24","v":""},{"$f":"'PR details'!J24","v":""},{"$f":"'PR details'!K24","v":""},{"$f":"'PR details'!L24","v":""},{"$f":"'PR details'!M24","v":""},{"$f":"'PR details'!N24","v":""},{"$f":"'PR details'!C36","v":""},{"$f":"'PR details'!H36","v":""},{"$f":"'PR details'!C30","v":""},{"$f":"'PR details'!F30","v":""},{"$f":"'PR details'!H30","v":""},{"$f":"'PR details'!C33","v":""},{"$f":"'PR details'!G33","v":""},{"$f":"'PR details'!D30","v":""},{"$f":"'PR details'!E30","v":""},{"$f":"'PR details'!G30","v":""},{"$f":"'PR details'!I30","v":""},{"$f":"'PR details'!J30","v":""},{"$f":"'PR details'!K30","v":""},{"$f":"'PR details'!D33","v":""},{"$f":"'PR details'!E33","v":""},{"$f":"'PR details'!F33","v":""},{"$f":"'PR details'!H33","v":""},{"$f":"'PR details'!I33","v":""},{"$f":"'PR details'!J33","v":""},{"$f":"'PR details'!K33","v":""},{"$f":"'PR details'!D36","v":""},{"$f":"'PR details'!E36","v":""},{"$f":"'PR details'!F36","v":""},{"$f":"'PR details'!G36","v":""},{"$f":"'PR details'!I36","v":""},{"$f":"'PR details'!K36","v":""},{"$f":"'PR details'!C42","v":""},{"$f":"'PR details'!D42","v":""},{"$f":"'PR details'!E42","v":""},{"$f":"'PR details'!F42","v":""},{"$f":"'PR details'!G42","v":""},{"$f":"'PR details'!H42","v":""},{"$f":"'PR details'!I42","v":""},{"$f":"'PR details'!J42","v":""},{"$f":"'PR details'!C45","v":""},{"$f":"'PR details'!D45","v":""},{"$f":"'PR details'!E45","v":""},{"$f":"'PR details'!F45","v":""},{"$f":"'PR details'!G45","v":""},{"$f":"'PR details'!H45","v":""},{"$f":"'PR details'!H48","v":""},{"$f":"'PR details'!I45","v":""},{"$f":"'PR details'!J45","v":""},{"$f":"'PR details'!C48","v":""},{"$f":"'PR details'!D48","v":""},{"$f":"'PR details'!E48","v":""},null,{"$f":"'Exempt Samples'!J54","v":0},{"$f":"'Exempt Samples'!M54","v":0}]